BOTTLE,20180830PRINUNIVRMK
EXPOCODE,SECT_ID,STNNBR,CASTNO,SAMPNO,BTLNBR,BTLNBR_FLAG_W,DATE,TIME,LATITUDE,LONGITUDE,DEPTH,CTDPRS,CTDTMP,SBE35,CTDSAL,CTDSAL_FLAG_W,SALNTY,SALNTY_FLAG_W,OXYGEN,OXYGEN_FLAG_W,SILCAT,SILCAT_FLAG_W,NITRAT,NITRAT_FLAG_W,NITRIT,NITRIT_FLAG_W,PHSPHT,PHSPHT_FLAG_W,CFC-11,CFC-11_FLAG_W,CFC-12,CFC-12_FLAG_W,TCARBN,TCARBN_FLAG_W,ALKALI,ALKALI_FLAG_W,PH_TOT,PH_TOT_FLAG_W,PH_TMP,CHLORA,CHLORA_FLAG_W,PPHYTN,PPHYTN_FLAG_W,SBE35,BTL_TIME
,,,,,,,,,,,METERS,DBAR,ITS-90,,PSS-78,,PSS-78,,UMOL/KG,,UMOL/KG,,UMOL/KG,,UMOL/KG,,UMOL/KG,,PMOL/KG,,PMOL/KG,,UMOL/KG,,UMOL/KG,,,,DEG C,UG/KG,,UG/KG,,,
  49UP20130619,  P03W,   117,  1,      0,   -999,0,20130906,0234, 28.5070, 178.9982, 5368,      0.0,  28.0452,-999.0000,  35.3490,2,-999.0000,9,    201.4,2,     1.22,2,     0.00,2,     0.00,2,     0.03,2, -999.000,9, -999.000,9,   -999.0,9,   -999.0,9,-999.0000,9,  -999.00,  -999.00,9,  -999.00,9,-999.0000,      430
  49UP20130619,  P03W,   117,  1,     36,    109,2,20130906,0234, 28.5070, 178.9982, 5368,     10.8,  27.5341,  27.5345,  35.3522,2,-999.0000,9,    201.2,2,     1.24,2,     0.00,2,     0.00,2,     0.02,2, -999.000,9, -999.000,9,   -999.0,9,   -999.0,9,-999.0000,9,  -999.00,  -999.00,9,  -999.00,9,  27.5345,      438
  49UP20130619,  P03W,   117,  1,     35,    112,2,20130906,0234, 28.5070, 178.9982, 5368,     50.5,  26.2820,  26.3796,  35.2856,2,-999.0000,9,    213.3,2,     1.35,2,     0.00,2,     0.00,2,     0.02,2, -999.000,9, -999.000,9,   -999.0,9,   -999.0,9,-999.0000,9,  -999.00,  -999.00,9,  -999.00,9,  26.3796,      435
  49UP20130619,  P03W,   117,  1,     34,     83,2,20130906,0234, 28.5070, 178.9982, 5368,    103.7,  18.6758,  18.6761,  34.7680,2,-999.0000,9,    233.9,2,     2.29,2,     0.00,2,     0.00,2,     0.06,2, -999.000,9, -999.000,9,   -999.0,9,   -999.0,9,-999.0000,9,  -999.00,  -999.00,9,  -999.00,9,  18.6761,      433
  49UP20130619,  P03W,   117,  1,     33,    517,2,20130906,0234, 28.5070, 178.9982, 5368,    149.9,  17.1154,  17.1150,  34.6932,2,-999.0000,9,    218.2,2,     3.27,2,     2.90,2,     0.03,2,     0.22,2, -999.000,9, -999.000,9,   -999.0,9,   -999.0,9,-999.0000,9,  -999.00,  -999.00,9,  -999.00,9,  17.1150,      432
  49UP20130619,  P03W,   117,  1,     32,    105,2,20130906,0234, 28.5070, 178.9982, 5368,    200.8,  16.2251,  16.2245,  34.6201,2,-999.0000,9,    215.6,2,     4.99,2,     5.15,2,     0.01,2,     0.36,2, -999.000,9, -999.000,9,   -999.0,9,   -999.0,9,-999.0000,9,  -999.00,  -999.00,9,  -999.00,9,  16.2245,      430
  49UP20130619,  P03W,   117,  1,     31,     76,2,20130906,0234, 28.5070, 178.9982, 5368,    251.2,  15.2788,  15.2755,  34.5493,2,-999.0000,9,    216.2,2,     6.65,2,     6.44,2,     0.01,2,     0.45,2, -999.000,9, -999.000,9,   -999.0,9,   -999.0,9,-999.0000,9,  -999.00,  -999.00,9,  -999.00,9,  15.2755,      429
  49UP20130619,  P03W,   117,  1,     30,     97,2,20130906,0234, 28.5070, 178.9982, 5368,    302.3,  14.3246,  14.3173,  34.4900,2,-999.0000,9,    218.2,2,     8.84,2,     8.01,2,     0.00,2,     0.56,2, -999.000,9, -999.000,9,   -999.0,9,   -999.0,9,-999.0000,9,  -999.00,  -999.00,9,  -999.00,9,  14.3173,      427
  49UP20130619,  P03W,   117,  1,     29,    102,2,20130906,0234, 28.5070, 178.9982, 5368,    402.4,  12.0727,  12.0604,  34.3259,2,-999.0000,9,    207.0,2,    15.52,2,    12.89,2,     0.00,2,     0.92,2, -999.000,9, -999.000,9,   -999.0,9,   -999.0,9,-999.0000,9,  -999.00,  -999.00,9,  -999.00,9,  12.0604,      424
  49UP20130619,  P03W,   117,  1,     28,     91,2,20130906,0234, 28.5070, 178.9982, 5368,    504.5,   9.6085,   9.6067,  34.1561,2,-999.0000,9,    188.1,6,    26.95,6,    19.04,6,     0.00,6,     1.35,6, -999.000,9, -999.000,9,   -999.0,9,   -999.0,9,-999.0000,9,  -999.00,  -999.00,9,  -999.00,9,   9.6067,      422
  49UP20130619,  P03W,   117,  1,     27,    998,2,20130906,0234, 28.5070, 178.9982, 5368,    605.8,   7.5801,   7.5681,  34.0592,2,-999.0000,9,    150.4,2,    44.70,2,    26.29,2,     0.00,2,     1.89,2, -999.000,9, -999.000,9,   -999.0,9,   -999.0,9,-999.0000,9,  -999.00,  -999.00,9,  -999.00,9,   7.5681,      420
  49UP20130619,  P03W,   117,  1,     26,     84,2,20130906,0234, 28.5070, 178.9982, 5368,    706.5,   5.5851,   5.5828,  34.0429,2,-999.0000,9,    103.0,2,    71.13,2,    34.00,2,     0.00,2,     2.46,2, -999.000,9, -999.000,9,   -999.0,9,   -999.0,9,-999.0000,9,  -999.00,  -999.00,9,  -999.00,9,   5.5828,      417
  49UP20130619,  P03W,   117,  1,     25,     98,2,20130906,0234, 28.5070, 178.9982, 5368,    807.9,   4.6864,   4.6911,  34.1227,2,-999.0000,9,     65.2,2,    91.54,2,    38.69,2,     0.00,2,     2.78,2, -999.000,9, -999.000,9,   -999.0,9,   -999.0,9,-999.0000,9,  -999.00,  -999.00,9,  -999.00,9,   4.6911,      415
  49UP20130619,  P03W,   117,  1,     24,    110,2,20130906,0234, 28.5070, 178.9982, 5368,    908.3,   4.1502,   4.1466,  34.2302,2,-999.0000,9,     39.4,2,   107.26,2,    41.59,2,     0.00,2,     2.99,2, -999.000,9, -999.000,9,   -999.0,9,   -999.0,9,-999.0000,9,  -999.00,  -999.00,9,  -999.00,9,   4.1466,      412
  49UP20130619,  P03W,   117,  1,     23,     96,2,20130906,0234, 28.5070, 178.9982, 5368,   1009.7,   3.6690,   3.6687,  34.3050,2,-999.0000,9,     30.1,2,   121.00,2,    42.75,2,     0.00,2,     3.07,2, -999.000,9, -999.000,9,   -999.0,9,   -999.0,9,-999.0000,9,  -999.00,  -999.00,9,  -999.00,9,   3.6687,      410
  49UP20130619,  P03W,   117,  1,     22,    111,3,20130906,0234, 28.5070, 178.9982, 5368,   1213.2,   3.1655,   3.1658,  34.4248,2,  34.4265,2,     31.8,2,   135.15,2,    43.31,2,     0.00,2,     3.10,2, -999.000,9, -999.000,9,   -999.0,9,   -999.0,9,-999.0000,9,  -999.00,  -999.00,9,  -999.00,9,   3.1658,      405
  49UP20130619,  P03W,   117,  1,     21,     78,2,20130906,0234, 28.5070, 178.9982, 5368,   1213.2,   3.1655,   3.1658,  34.4248,2,  34.4268,2,     31.6,2,   135.09,2,    43.22,2,     0.00,2,     3.10,2, -999.000,9, -999.000,9,   -999.0,9,   -999.0,9,-999.0000,9,  -999.00,  -999.00,9,  -999.00,9,   3.1658,      405
  49UP20130619,  P03W,   117,  1,     20,     93,2,20130906,0234, 28.5070, 178.9982, 5368,   1414.4,   2.7168,   2.7170,  34.5010,2,-999.0000,9,     42.2,2,   146.63,2,    42.86,3,     0.00,2,     3.06,2, -999.000,9, -999.000,9,   -999.0,9,   -999.0,9,-999.0000,9,  -999.00,  -999.00,9,  -999.00,9,   2.7170,      401
  49UP20130619,  P03W,   117,  1,     19,     92,2,20130906,0234, 28.5070, 178.9982, 5368,   1617.1,   2.3602,   2.3601,  34.5549,2,-999.0000,9,     59.8,6,   153.02,6,    41.98,6,     0.00,6,     2.98,6, -999.000,9, -999.000,9,   -999.0,9,   -999.0,9,-999.0000,9,  -999.00,  -999.00,9,  -999.00,9,   2.3601,      356
  49UP20130619,  P03W,   117,  1,     18,    101,2,20130906,0234, 28.5070, 178.9982, 5368,   1819.5,   2.1226,   2.1223,  34.5853,2,-999.0000,9,     72.6,2,   156.97,2,    41.27,2,     0.00,2,     2.92,2, -999.000,9, -999.000,9,   -999.0,9,   -999.0,9,-999.0000,9,  -999.00,  -999.00,9,  -999.00,9,   2.1223,      352
  49UP20130619,  P03W,   117,  1,     17,     90,2,20130906,0234, 28.5070, 178.9982, 5368,   2022.7,   1.9245,   1.9246,  34.6100,2,  34.6101,2,     86.2,2,   159.10,2,    40.44,2,     0.00,2,     2.86,2, -999.000,9, -999.000,9,   -999.0,9,   -999.0,9,-999.0000,9,  -999.00,  -999.00,9,  -999.00,9,   1.9246,      348
  49UP20130619,  P03W,   117,  1,     16,     89,2,20130906,0234, 28.5070, 178.9982, 5368,   2227.1,   1.7966,   1.7964,  34.6264,2,-999.0000,9,     96.9,2,   159.85,2,    39.69,2,     0.00,2,     2.80,2, -999.000,9, -999.000,9,   -999.0,9,   -999.0,9,-999.0000,9,  -999.00,  -999.00,9,  -999.00,9,   1.7964,      344
  49UP20130619,  P03W,   117,  1,     15,     88,2,20130906,0234, 28.5070, 178.9982, 5368,   2429.5,   1.6938,   1.6937,  34.6398,2,  34.6397,6,    106.7,6,   159.49,6,    39.09,6,     0.00,6,     2.76,6, -999.000,9, -999.000,9,   -999.0,9,   -999.0,9,-999.0000,9,  -999.00,  -999.00,9,  -999.00,9,   1.6937,      339
  49UP20130619,  P03W,   117,  1,     14,    999,3,20130906,0234, 28.5070, 178.9982, 5368,   2633.5,   1.6251,   1.6249,  34.6495,2,  34.6511,2,    115.1,2,   158.81,2,    38.52,2,     0.00,2,     2.71,2, -999.000,9, -999.000,9,   -999.0,9,   -999.0,9,-999.0000,9,  -999.00,  -999.00,9,  -999.00,9,   1.6249,      335
  49UP20130619,  P03W,   117,  1,     13,    667,2,20130906,0234, 28.5070, 178.9982, 5368,   2838.8,   1.5660,   1.5659,  34.6581,2,  34.6580,2,    122.9,2,   158.24,2,    38.12,2,     0.00,2,     2.67,2, -999.000,9, -999.000,9,   -999.0,9,   -999.0,9,-999.0000,9,  -999.00,  -999.00,9,  -999.00,9,   1.5659,      331
  49UP20130619,  P03W,   117,  1,     12,     74,2,20130906,0234, 28.5070, 178.9982, 5368,   3041.5,   1.5286,   1.5285,  34.6642,2,  34.6637,2,    129.4,2,   156.81,2,    37.64,2,     0.00,2,     2.64,2, -999.000,9, -999.000,9,   -999.0,9,   -999.0,9,-999.0000,9,  -999.00,  -999.00,9,  -999.00,9,   1.5285,      326
  49UP20130619,  P03W,   117,  1,     11,    996,2,20130906,0234, 28.5070, 178.9982, 5368,   3297.6,   1.4875,   1.4873,  34.6710,2,  34.6706,2,    135.5,2,   156.00,2,    37.30,2,     0.00,2,     2.61,2, -999.000,9, -999.000,9,   -999.0,9,   -999.0,9,-999.0000,9,  -999.00,  -999.00,9,  -999.00,9,   1.4873,      321
  49UP20130619,  P03W,   117,  1,     10,    107,3,20130906,0234, 28.5070, 178.9982, 5368,   3553.1,   1.4673,   1.4674,  34.6761,2,  34.6761,2,    142.4,2,   153.85,2,    36.87,2,     0.00,2,     2.57,2, -999.000,9, -999.000,9,   -999.0,9,   -999.0,9,-999.0000,9,  -999.00,  -999.00,9,  -999.00,9,   1.4674,      316
  49UP20130619,  P03W,   117,  1,      9,    108,2,20130906,0234, 28.5070, 178.9982, 5368,   3809.3,   1.4549,   1.4549,  34.6801,2,  34.6800,2,    147.8,2,   151.93,2,    36.45,2,     0.00,2,     2.54,2, -999.000,9, -999.000,9,   -999.0,9,   -999.0,9,-999.0000,9,  -999.00,  -999.00,9,  -999.00,9,   1.4549,      310
  49UP20130619,  P03W,   117,  1,      8,     81,2,20130906,0234, 28.5070, 178.9982, 5368,   3809.3,   1.4549,   1.4549,  34.6801,2,  34.6804,2,    147.9,2,   151.89,2,    36.47,2,     0.00,2,     2.54,2, -999.000,9, -999.000,9,   -999.0,9,   -999.0,9,-999.0000,9,  -999.00,  -999.00,9,  -999.00,9,   1.4549,      310
  49UP20130619,  P03W,   117,  1,      7,    106,3,20130906,0234, 28.5070, 178.9982, 5368,   4064.8,   1.4546,   1.4544,  34.6828,2,  34.6838,2,    150.4,2,   151.87,2,    36.25,2,     0.00,2,     2.53,2, -999.000,9, -999.000,9,   -999.0,9,   -999.0,9,-999.0000,9,  -999.00,  -999.00,9,  -999.00,9,   1.4544,      305
  49UP20130619,  P03W,   117,  1,      6,    113,2,20130906,0234, 28.5070, 178.9982, 5368,   4322.8,   1.4556,   1.4556,  34.6857,2,  34.6849,2,    154.8,2,   149.84,2,    36.06,2,     0.00,2,     2.51,2, -999.000,9, -999.000,9,   -999.0,9,   -999.0,9,-999.0000,9,  -999.00,  -999.00,9,  -999.00,9,   1.4556,      259
  49UP20130619,  P03W,   117,  1,      5,     94,2,20130906,0234, 28.5070, 178.9982, 5368,   4580.3,   1.4635,   1.4634,  34.6877,2,  34.6882,2,    158.5,2,   147.10,2,    35.70,2,     0.00,2,     2.48,2, -999.000,9, -999.000,9,   -999.0,9,   -999.0,9,-999.0000,9,  -999.00,  -999.00,9,  -999.00,9,   1.4634,      254
  49UP20130619,  P03W,   117,  1,      4,     77,2,20130906,0234, 28.5070, 178.9982, 5368,   4837.2,   1.4677,   1.4678,  34.6901,2,  34.6899,2,    163.3,2,   143.44,2,    35.32,2,     0.00,2,     2.46,2, -999.000,9, -999.000,9,   -999.0,9,   -999.0,9,-999.0000,9,  -999.00,  -999.00,9,  -999.00,9,   1.4678,      249
  49UP20130619,  P03W,   117,  1,      3,    104,2,20130906,0234, 28.5070, 178.9982, 5368,   5093.3,   1.4763,   1.4762,  34.6922,2,  34.6925,6,    167.4,2,   140.19,2,    35.08,2,     0.00,2,     2.44,2, -999.000,9, -999.000,9,   -999.0,9,   -999.0,9,-999.0000,9,  -999.00,  -999.00,9,  -999.00,9,   1.4762,      243
  49UP20130619,  P03W,   117,  1,      2,     75,2,20130906,0234, 28.5070, 178.9982, 5368,   5352.2,   1.4786,   1.4786,  34.6947,2,  34.6945,2,    172.7,2,   135.96,2,    34.60,2,     0.00,2,     2.40,2, -999.000,9, -999.000,9,   -999.0,9,   -999.0,9,-999.0000,9,  -999.00,  -999.00,9,  -999.00,9,   1.4786,      238
  49UP20130619,  P03W,   117,  1,      1,    997,2,20130906,0234, 28.5070, 178.9982, 5368,   5487.3,   1.4815,   1.4817,  34.6958,2,  34.6956,2,    174.8,6,   134.37,6,    34.51,6,     0.00,6,     2.40,6, -999.000,9, -999.000,9,   -999.0,9,   -999.0,9,-999.0000,9,  -999.00,  -999.00,9,  -999.00,9,   1.4817,      235