BOTTLE,20180830PRINUNIVRMK
EXPOCODE,SECT_ID,STNNBR,CASTNO,SAMPNO,BTLNBR,BTLNBR_FLAG_W,DATE,TIME,LATITUDE,LONGITUDE,DEPTH,CTDPRS,CTDTMP,SBE35,CTDSAL,CTDSAL_FLAG_W,SALNTY,SALNTY_FLAG_W,OXYGEN,OXYGEN_FLAG_W,SILCAT,SILCAT_FLAG_W,NITRAT,NITRAT_FLAG_W,NITRIT,NITRIT_FLAG_W,PHSPHT,PHSPHT_FLAG_W,CFC-11,CFC-11_FLAG_W,CFC-12,CFC-12_FLAG_W,TCARBN,TCARBN_FLAG_W,ALKALI,ALKALI_FLAG_W,PH_TOT,PH_TOT_FLAG_W,PH_TMP,CHLORA,CHLORA_FLAG_W,PPHYTN,PPHYTN_FLAG_W,SBE35,BTL_TIME
,,,,,,,,,,,METERS,DBAR,ITS-90,,PSS-78,,PSS-78,,UMOL/KG,,UMOL/KG,,UMOL/KG,,UMOL/KG,,UMOL/KG,,PMOL/KG,,PMOL/KG,,UMOL/KG,,UMOL/KG,,,,DEG C,UG/KG,,UG/KG,,,
  49UP20130619,  P03W,    50,  1,      0,   -999,0,20130804,1814, 23.9878, 137.0040, 3940,      0.0,  30.3200,-999.0000,  34.7955,2,  34.7916,2,    194.0,2,     0.92,2,     0.00,2,     0.00,2,     0.02,2, -999.000,9, -999.000,9,   1943.6,2,   2281.6,2,   8.1262,2,    25.00,     0.06,2,     0.02,2,-999.0000,     1935
  49UP20130619,  P03W,    50,  1,     36,    109,2,20130804,1814, 23.9878, 137.0040, 3940,     10.2,  30.3268,  30.3264,  34.7938,2,  34.7819,4,    195.0,2,     0.96,2,     0.00,2,     0.00,2,     0.01,2,    1.853,3,    0.872,3,   1944.6,2,   2281.6,2,   8.1276,2,    25.00,     0.06,2,     0.02,2,  30.3264,     2001
  49UP20130619,  P03W,    50,  1,     35,    112,2,20130804,1814, 23.9878, 137.0040, 3940,     50.5,  28.5233,  28.5229,  34.7026,2,  34.7053,6,    204.0,2,     0.80,2,     0.00,2,     0.00,2,     0.02,2,    2.223,3,    0.937,3,   1940.8,2,   2276.3,2,   8.1270,2,    25.00,     0.06,2,     0.02,2,  28.5229,     1955
  49UP20130619,  P03W,    50,  1,     34,     83,2,20130804,1814, 23.9878, 137.0040, 3940,    103.5,  24.6076,  24.6210,  34.8426,2,  34.8200,4,    212.7,2,     0.98,2,     0.00,2,     0.00,2,     0.01,2,    2.293,3,    1.074,3,   1967.4,2,   2285.3,2,   8.0933,2,    25.00,  -999.00,9,  -999.00,9,  24.6210,     1953
  49UP20130619,  P03W,    50,  1,     33,     86,2,20130804,1814, 23.9878, 137.0040, 3940,    103.5,  24.6076,  24.6210,  34.8426,2,  34.8229,4,    212.9,2,     1.10,2,     0.00,2,     0.00,2,     0.01,2,    2.293,3,    1.074,3,   1967.4,2,   2284.3,2,   8.0924,2,    25.00,     0.17,2,     0.10,2,  24.6210,     1953
  49UP20130619,  P03W,    50,  1,     32,    105,2,20130804,1814, 23.9878, 137.0040, 3940,    151.7,  21.7201,  21.7205,  34.9299,2,  34.9298,2,    219.3,2,     1.51,2,     0.00,2,     0.00,2,     0.02,2,    2.269,2,    1.180,2,   1998.5,2,   2295.0,2,   8.0566,2,    25.00,     0.21,2,     0.16,2,  21.7205,     1951
  49UP20130619,  P03W,    50,  1,     31,     76,2,20130804,1814, 23.9878, 137.0040, 3940,    202.9,  19.3053,  19.3058,  34.8068,2,  34.8121,2,    208.9,2,     2.12,2,     1.30,2,     0.03,2,     0.11,2,    2.256,2,    1.302,2,   2012.9,2,   2285.1,2,   8.0061,2,    25.00,     0.06,2,     0.20,2,  19.3058,     1949
  49UP20130619,  P03W,    50,  1,     30,     97,2,20130804,1814, 23.9878, 137.0040, 3940,    251.6,  18.2909,  18.2894,  34.7762,2,  34.7766,2,    208.8,2,     2.84,2,     2.82,2,     0.01,2,     0.20,2,    2.278,2,    1.336,2,   2027.3,6,   2283.1,6,   7.9872,2,    25.00,  -999.00,9,  -999.00,9,  18.2894,     1947
  49UP20130619,  P03W,    50,  1,     29,    102,2,20130804,1814, 23.9878, 137.0040, 3940,    280.6,  17.8449,  17.8423,  34.7505,2,  34.7489,2,    207.9,2,     3.31,2,     3.54,2,     0.01,2,     0.25,2,    2.324,6,    1.368,6,   2029.6,2,   2285.7,2,   7.9747,6,    25.00,  -999.00,9,  -999.00,9,  17.8423,     1946
  49UP20130619,  P03W,    50,  1,     28,     91,2,20130804,1814, 23.9878, 137.0040, 3940,    374.2,  16.2396,  16.2423,  34.6421,2,  34.6425,2,    196.0,2,     6.75,2,     7.19,2,     0.00,2,     0.50,2,    2.485,2,    1.428,2,   2055.0,2,   2277.7,2,   7.9172,2,    25.00,  -999.00,9,  -999.00,9,  16.2423,     1943
  49UP20130619,  P03W,    50,  1,     27,    998,2,20130804,1814, 23.9878, 137.0040, 3940,    374.2,  16.2396,  16.2423,  34.6421,2,  34.6417,2,    196.2,2,     6.75,2,     7.20,2,     0.00,2,     0.49,2,    2.396,2,    1.378,2,   2052.7,2,   2276.7,2,   7.9217,2,    25.00,  -999.00,9,  -999.00,9,  16.2423,     1943
  49UP20130619,  P03W,    50,  1,     26,     84,2,20130804,1814, 23.9878, 137.0040, 3940,    472.8,  13.3825,  13.3821,  34.4326,2,  34.4326,2,    183.8,6,    13.55,6,    12.54,6,     0.00,6,     0.89,6,    2.626,2,    1.436,2,   2097.6,2,   2271.3,2,   7.8251,2,    25.00,  -999.00,9,  -999.00,9,  13.3821,     1940
  49UP20130619,  P03W,    50,  1,     25,     98,2,20130804,1814, 23.9878, 137.0040, 3940,    574.1,   9.9949,   9.9942,  34.2082,2,  34.2055,2,    171.0,2,    27.54,2,    19.68,2,     0.00,2,     1.42,2,    2.757,2,    1.469,2,   2146.1,2,   2273.7,2,   7.7089,2,    25.00,  -999.00,9,  -999.00,9,   9.9942,     1937
  49UP20130619,  P03W,    50,  1,     24,    110,2,20130804,1814, 23.9878, 137.0040, 3940,    574.1,   9.9949,   9.9942,  34.2082,2,  34.2060,2,    171.2,2,    27.54,2,    19.67,2,     0.00,2,     1.42,2,    2.757,2,    1.453,2,   2143.9,2,   2274.0,2,   7.7091,2,    25.00,  -999.00,9,  -999.00,9,   9.9942,     1937
  49UP20130619,  P03W,    50,  1,     23,     96,2,20130804,1814, 23.9878, 137.0040, 3940,    676.0,   7.1968,   7.1925,  34.0979,2,  34.0982,2,    129.1,2,    51.97,2,    28.51,2,     0.00,2,     2.08,2,    2.111,2,    1.050,2,   2212.7,2,   2290.0,2,   7.5674,2,    25.00,  -999.00,9,  -999.00,9,   7.1925,     1934
  49UP20130619,  P03W,    50,  1,     22,    111,2,20130804,1814, 23.9878, 137.0040, 3940,    778.6,   5.8555,   5.8610,  34.1342,2,  34.1353,2,     97.9,2,    72.73,2,    33.58,2,     0.00,2,     2.44,2,    1.496,2,    0.753,2,   2261.1,2,   2313.6,2,   7.4862,2,    25.00,  -999.00,9,  -999.00,9,   5.8610,     1931
  49UP20130619,  P03W,    50,  1,     21,     78,2,20130804,1814, 23.9878, 137.0040, 3940,    877.3,   4.8416,   4.8419,  34.2190,2,  34.2189,2,     69.2,2,    92.70,2,    37.75,2,     0.00,2,     2.74,2,    0.817,2,    0.419,2,   2302.3,2,   2331.1,2,   7.4272,2,    25.00,  -999.00,9,  -999.00,9,   4.8419,     1928
  49UP20130619,  P03W,    50,  1,     20,     93,2,20130804,1814, 23.9878, 137.0040, 3940,    979.3,   4.2414,   4.2416,  34.2977,2,  34.2972,2,     56.3,2,   106.32,2,    39.69,2,     0.00,2,     2.88,2,    0.441,6,    0.232,6,   2324.1,2,   2349.2,2,   7.4060,2,    25.00,  -999.00,9,  -999.00,9,   4.2416,     1925
  49UP20130619,  P03W,    50,  1,     19,     92,2,20130804,1814, 23.9878, 137.0040, 3940,   1140.6,   3.4009,   3.4000,  34.3888,2,  34.3891,6,     51.3,2,   126.65,2,    41.17,2,     0.00,2,     2.97,2,    0.203,2,    0.094,2,   2350.5,2,   2368.5,2,   7.3917,2,    25.00,  -999.00,9,  -999.00,9,   3.4000,     1921
  49UP20130619,  P03W,    50,  1,     18,    101,2,20130804,1814, 23.9878, 137.0040, 3940,   1344.4,   2.9755,   2.9777,  34.4693,2,  34.4690,2,     63.2,2,   134.27,2,    40.81,2,     0.00,2,     2.93,2,    0.075,2,    0.040,2,   2356.2,6,   2385.0,6,   7.4201,2,    25.00,  -999.00,9,  -999.00,9,   2.9777,     1916
  49UP20130619,  P03W,    50,  1,     17,     90,2,20130804,1814, 23.9878, 137.0040, 3940,   1544.6,   2.5397,   2.5396,  34.5361,2,  34.5365,2,     82.0,2,   139.88,2,    39.85,2,     0.00,2,     2.85,2,    0.027,2,    0.009,2,   2355.6,2,   2399.0,2,   7.4602,6,    25.00,  -999.00,9,  -999.00,9,   2.5396,     1911
  49UP20130619,  P03W,    50,  1,     16,     89,2,20130804,1814, 23.9878, 137.0040, 3940,   1748.1,   2.2574,   2.2577,  34.5774,2,  34.5778,2,     97.7,6,   141.57,6,    39.00,6,     0.00,6,     2.78,6,    0.006,2,    0.007,2,   2347.2,3,   2405.0,2,   7.4913,2,    25.00,  -999.00,9,  -999.00,9,   2.2577,     1906
  49UP20130619,  P03W,    50,  1,     15,     88,2,20130804,1814, 23.9878, 137.0040, 3940,   1950.4,   2.0930,   2.0927,  34.6012,2,  34.6019,2,    107.9,2,   142.37,2,    38.44,2,     0.00,2,     2.74,2,    0.000,2,    0.003,2,   2350.5,2,   2406.8,2,   7.5101,2,    25.00,  -999.00,9,  -999.00,9,   2.0927,     1902
  49UP20130619,  P03W,    50,  1,     14,    999,2,20130804,1814, 23.9878, 137.0040, 3940,   2153.4,   1.9472,   1.9471,  34.6222,2,  34.6221,2,    117.4,2,   142.54,2,    37.93,2,     0.00,2,     2.69,2,    0.000,2,    0.000,2,   2343.0,2,   2408.9,2,   7.5264,2,    25.00,  -999.00,9,  -999.00,9,   1.9471,     1857
  49UP20130619,  P03W,    50,  1,     13,    667,2,20130804,1814, 23.9878, 137.0040, 3940,   2359.3,   1.8625,   1.8626,  34.6349,2,  34.6359,2,    123.6,2,   142.61,2,    37.62,2,     0.00,2,     2.67,2, -999.000,9, -999.000,9,   2343.7,2,   2411.1,2,   7.5369,2,    25.00,  -999.00,9,  -999.00,9,   1.8626,     1852
  49UP20130619,  P03W,    50,  1,     12,     74,2,20130804,1814, 23.9878, 137.0040, 3940,   2562.6,   1.7803,   1.7807,  34.6440,2,  34.6450,2,    129.0,2,   142.80,2,    37.31,2,     0.00,2,     2.64,2,    0.000,2,    0.000,2,   2341.8,2,   2413.6,2,   7.5481,2,    25.00,  -999.00,9,  -999.00,9,   1.7807,     1847
  49UP20130619,  P03W,    50,  1,     11,    996,2,20130804,1814, 23.9878, 137.0040, 3940,   2765.2,   1.6990,   1.6989,  34.6534,2,  34.6536,2,    134.8,2,   142.68,2,    36.86,2,     0.00,2,     2.61,2, -999.000,9, -999.000,9,   2336.2,2,   2415.4,2,   7.5534,2,    25.00,  -999.00,9,  -999.00,9,   1.6989,     1842
  49UP20130619,  P03W,    50,  1,     10,    107,2,20130804,1814, 23.9878, 137.0040, 3940,   2765.2,   1.6990,   1.6989,  34.6534,2,  34.6534,2,    134.3,2,   142.75,2,    36.96,2,     0.00,2,     2.62,2, -999.000,9, -999.000,9,   2335.5,2,   2414.4,2,   7.5558,2,    25.00,  -999.00,9,  -999.00,9,   1.6989,     1842
  49UP20130619,  P03W,    50,  1,      8,     81,2,20130804,1814, 23.9878, 137.0040, 3940,   2968.0,   1.6461,   1.6462,  34.6602,2,  34.6597,2,    138.9,2,   142.58,2,    36.68,2,     0.00,2,     2.59,2, -999.000,9, -999.000,9,   -999.0,9,   -999.0,9,-999.0000,9,  -999.00,  -999.00,9,  -999.00,9,   1.6462,     1837
  49UP20130619,  P03W,    50,  1,      7,    106,2,20130804,1814, 23.9878, 137.0040, 3940,   2968.0,   1.6461,   1.6462,  34.6602,2,  34.6608,2,    139.1,2,   142.79,2,    36.67,2,     0.00,2,     2.59,2,    0.000,2,    0.004,2,   2333.3,6,   2414.0,6,   7.5651,2,    25.00,  -999.00,9,  -999.00,9,   1.6462,     1837
  49UP20130619,  P03W,    50,  1,      6,    113,2,20130804,1814, 23.9878, 137.0040, 3940,   3210.7,   1.6232,   1.6233,  34.6646,2,  34.6652,2,    142.2,2,   142.52,2,    36.51,2,     0.00,2,     2.58,2, -999.000,9, -999.000,9,   2331.9,2,   2410.8,2,   7.5740,2,    25.00,  -999.00,9,  -999.00,9,   1.6233,     1832
  49UP20130619,  P03W,    50,  1,      4,     77,2,20130804,1814, 23.9878, 137.0040, 3940,   3471.0,   1.5748,   1.5747,  34.6717,2,  34.6721,2,    147.5,2,   141.86,2,    36.16,2,     0.00,2,     2.55,2, -999.000,9, -999.000,9,   -999.0,9,   -999.0,9,-999.0000,9,  -999.00,  -999.00,9,  -999.00,9,   1.5747,     1826
  49UP20130619,  P03W,    50,  1,      3,    104,2,20130804,1814, 23.9878, 137.0040, 3940,   3471.0,   1.5748,   1.5747,  34.6717,2,  34.6717,2,    147.1,2,   141.67,2,    36.14,2,     0.00,2,     2.55,2, -999.000,9, -999.000,9,   2328.2,2,   2413.8,2,   7.5778,2,    25.00,  -999.00,9,  -999.00,9,   1.5747,     1826
  49UP20130619,  P03W,    50,  1,      2,     75,2,20130804,1814, 23.9878, 137.0040, 3940,   3725.6,   1.5300,   1.5299,  34.6783,2,  34.6778,2,    152.6,6,   140.98,6,    35.82,6,     0.00,6,     2.52,6, -999.000,9, -999.000,9,   -999.0,9,   -999.0,9,-999.0000,9,  -999.00,  -999.00,9,  -999.00,9,   1.5299,     1820
  49UP20130619,  P03W,    50,  1,      1,    997,2,20130804,1814, 23.9878, 137.0040, 3940,   3995.7,   1.5302,   1.5301,  34.6808,2,  34.6808,6,    154.8,2,   140.62,2,    35.72,2,     0.00,2,     2.51,2,    0.000,2,    0.000,2,   2324.9,2,   2416.7,2,   7.5889,2,    25.00,  -999.00,9,  -999.00,9,   1.5301,     1814