BOTTLE,20180830PRINUNIVRMK
EXPOCODE,SECT_ID,STNNBR,CASTNO,SAMPNO,BTLNBR,BTLNBR_FLAG_W,DATE,TIME,LATITUDE,LONGITUDE,DEPTH,CTDPRS,CTDTMP,SBE35,CTDSAL,CTDSAL_FLAG_W,SALNTY,SALNTY_FLAG_W,OXYGEN,OXYGEN_FLAG_W,SILCAT,SILCAT_FLAG_W,NITRAT,NITRAT_FLAG_W,NITRIT,NITRIT_FLAG_W,PHSPHT,PHSPHT_FLAG_W,CFC-11,CFC-11_FLAG_W,CFC-12,CFC-12_FLAG_W,TCARBN,TCARBN_FLAG_W,ALKALI,ALKALI_FLAG_W,PH_TOT,PH_TOT_FLAG_W,PH_TMP,CHLORA,CHLORA_FLAG_W,PPHYTN,PPHYTN_FLAG_W,SBE35,BTL_TIME
,,,,,,,,,,,METERS,DBAR,ITS-90,,PSS-78,,PSS-78,,UMOL/KG,,UMOL/KG,,UMOL/KG,,UMOL/KG,,UMOL/KG,,PMOL/KG,,PMOL/KG,,UMOL/KG,,UMOL/KG,,,,DEG C,UG/KG,,UG/KG,,,
  49UP20130619,  P03W,    43,  1,      0,   -999,0,20130708,1023, 23.7508, 131.9852, 3328,      0.0,  30.0795,-999.0000,  34.6101,2,  34.6329,2,    195.4,2,     1.33,2,     0.01,2,     0.00,2,     0.04,2, -999.000,9, -999.000,9,   1957.1,2,   2273.0,2,   8.0867,2,    25.00,     0.04,2,     0.02,2,-999.0000,     1126
  49UP20130619,  P03W,    43,  1,     36,    109,2,20130708,1023, 23.7508, 131.9852, 3328,     10.0,  30.0806,  30.0759,  34.6071,2,  34.6096,2,    195.6,2,     1.34,2,     0.00,2,     0.00,2,     0.01,2,    1.775,3,    0.767,3,   1962.2,2,   2273.5,2,   8.0860,2,    25.00,     0.04,2,     0.02,2,  30.0759,     1148
  49UP20130619,  P03W,    43,  1,     35,    112,2,20130708,1023, 23.7508, 131.9852, 3328,     50.5,  23.8850,  23.8829,  34.6852,2,  34.6957,4,    224.0,2,     1.51,2,     0.02,2,     0.00,2,     0.01,2,    2.468,3,    1.069,3,   1971.3,2,   2279.9,2,   8.0679,2,    25.00,     0.08,2,     0.02,2,  23.8829,     1146
  49UP20130619,  P03W,    43,  1,     34,     83,2,20130708,1023, 23.7508, 131.9852, 3328,    100.3,  20.6224,  20.6289,  34.8050,2,  34.8051,2,    215.8,6,     1.74,6,     0.01,6,     0.01,6,     0.03,6,    2.291,2,    1.186,2,   1997.2,6,   2287.3,6,   8.0331,2,    25.00,     0.25,2,     0.22,2,  20.6289,     1141
  49UP20130619,  P03W,    43,  1,     33,     86,2,20130708,1023, 23.7508, 131.9852, 3328,    150.4,  19.2075,  19.2071,  34.8073,2,  34.8059,2,    194.6,2,     2.90,2,     3.29,2,     0.03,2,     0.22,2,    2.226,2,    1.250,2,   2026.8,2,   2286.8,2,   7.9743,6,    25.00,     0.10,2,     0.21,2,  19.2071,     1139
  49UP20130619,  P03W,    43,  1,     32,    105,2,20130708,1023, 23.7508, 131.9852, 3328,    201.7,  18.0232,  18.0236,  34.7499,2,  34.7504,2,    196.1,2,     3.78,2,     4.58,2,     0.01,2,     0.30,2,    2.325,2,    1.329,2,   2037.0,2,   2281.1,2,   7.9580,2,    25.00,     0.01,2,     0.02,2,  18.0236,     1137
  49UP20130619,  P03W,    43,  1,     31,     76,2,20130708,1023, 23.7508, 131.9852, 3328,    251.7,  17.2470,  17.2453,  34.7075,2,  34.7050,2,    198.9,2,     4.91,2,     5.50,2,     0.01,2,     0.37,2,    2.377,2,    1.353,2,   2038.9,2,   2282.5,2,   7.9456,2,    25.00,  -999.00,9,  -999.00,9,  17.2453,     1136
  49UP20130619,  P03W,    43,  1,     28,     91,2,20130708,1023, 23.7508, 131.9852, 3328,    333.3,  15.5880,  15.5912,  34.5954,2,  34.5961,2,    185.4,2,     8.86,2,     9.16,2,     0.01,2,     0.63,2,    2.536,6,    1.409,6,   2065.1,2,   2282.0,2,   7.8798,2,    25.00,  -999.00,9,  -999.00,9,  15.5912,     1134
  49UP20130619,  P03W,    43,  1,     27,    998,2,20130708,1023, 23.7508, 131.9852, 3328,    432.9,  12.5623,  12.5685,  34.3934,2,  34.3928,2,    178.4,2,    18.36,2,    14.69,2,     0.00,2,     1.03,2,    2.689,2,    1.437,2,   2107.5,2,   2274.5,2,   7.7944,2,    25.00,  -999.00,9,  -999.00,9,  12.5685,     1131
  49UP20130619,  P03W,    43,  1,     26,     84,2,20130708,1023, 23.7508, 131.9852, 3328,    432.9,  12.5623,  12.5685,  34.3934,2,  34.3926,6,    178.5,2,    18.33,2,    14.69,2,     0.00,2,     1.04,2,    2.695,2,    1.439,2,   2105.7,2,   2275.7,2,   7.7938,2,    25.00,  -999.00,9,  -999.00,9,  12.5685,     1131
  49UP20130619,  P03W,    43,  1,     22,    111,2,20130708,1023, 23.7508, 131.9852, 3328,    533.8,   9.7696,   9.7725,  34.2190,2,  34.2225,2,    160.0,2,    31.15,2,    21.04,2,     0.00,2,     1.52,2,    2.550,2,    1.304,2,   2149.8,6,   2283.0,6,   7.6892,2,    25.00,  -999.00,9,  -999.00,9,   9.7725,     1128
  49UP20130619,  P03W,    43,  1,     21,     78,2,20130708,1023, 23.7508, 131.9852, 3328,    636.8,   7.5270,   7.5304,  34.1548,2,  34.1559,2,    127.8,2,    52.99,2,    27.97,2,     0.00,2,     2.03,2,    1.998,2,    1.000,2,   2214.4,2,   2298.5,2,   7.5810,6,    25.00,  -999.00,9,  -999.00,9,   7.5304,     1125
  49UP20130619,  P03W,    43,  1,     20,     93,2,20130708,1023, 23.7508, 131.9852, 3328,    737.4,   5.6787,   5.6846,  34.1674,2,  34.1686,2,     91.2,2,    78.17,2,    34.50,2,     0.00,2,     2.50,2,    1.309,2,    0.622,2,   2268.1,2,   2316.8,2,   7.4776,2,    25.00,  -999.00,9,  -999.00,9,   5.6846,     1122
  49UP20130619,  P03W,    43,  1,     19,     92,2,20130708,1023, 23.7508, 131.9852, 3328,    837.7,   4.6832,   4.6864,  34.2462,2,  34.2466,2,     67.6,2,    97.18,2,    38.16,2,     0.00,2,     2.76,2,    0.707,6,    0.343,6,   2304.4,2,   2340.5,2,   7.4235,2,    25.00,  -999.00,9,  -999.00,9,   4.6864,     1119
  49UP20130619,  P03W,    43,  1,     18,    101,2,20130708,1023, 23.7508, 131.9852, 3328,    938.7,   4.1510,   4.1510,  34.3171,2,  34.3178,2,     59.6,6,   109.36,6,    39.64,6,     0.00,6,     2.86,6,    0.410,2,    0.197,2,   2321.5,2,   2354.6,2,   7.4099,2,    25.00,  -999.00,9,  -999.00,9,   4.1510,     1116
  49UP20130619,  P03W,    43,  1,     17,     90,2,20130708,1023, 23.7508, 131.9852, 3328,   1079.0,   3.5113,   3.5109,  34.4129,2,  34.4138,2,     58.8,2,   122.92,2,    40.66,2,     0.00,2,     2.92,2,    0.131,2,    0.058,2,   2340.7,2,   2373.2,2,   7.4145,2,    25.00,  -999.00,9,  -999.00,9,   3.5109,     1113
  49UP20130619,  P03W,    43,  1,     16,     89,2,20130708,1023, 23.7508, 131.9852, 3328,   1282.2,   2.9149,   2.9147,  34.5030,2,  34.5040,2,     74.7,2,   133.51,2,    40.10,2,     0.00,2,     2.87,2,    0.027,2,    0.001,2,   2346.1,2,   2397.9,2,   7.4494,2,    25.00,  -999.00,9,  -999.00,9,   2.9147,     1109
  49UP20130619,  P03W,    43,  1,     15,     88,2,20130708,1023, 23.7508, 131.9852, 3328,   1484.6,   2.4421,   2.4419,  34.5519,2,  34.5516,2,     89.4,2,   140.20,2,    39.51,2,     0.00,2,     2.81,2,    0.017,2,    0.008,2,   2342.9,2,   2406.3,2,   7.4751,2,    25.00,  -999.00,9,  -999.00,9,   2.4419,     1104
  49UP20130619,  P03W,    43,  1,     13,    667,2,20130708,1023, 23.7508, 131.9852, 3328,   1687.5,   2.2312,   2.2311,  34.5803,2,  34.5803,6,    100.1,2,   141.88,2,    38.95,2,     0.00,2,     2.77,2, -999.000,9, -999.000,9,   2346.4,2,   2404.8,2,   7.4944,2,    25.00,  -999.00,9,  -999.00,9,   2.2311,     1100
  49UP20130619,  P03W,    43,  1,     12,     74,2,20130708,1023, 23.7508, 131.9852, 3328,   1687.5,   2.2312,   2.2311,  34.5803,2,  34.5803,2,     99.9,2,   141.93,2,    38.94,2,     0.00,2,     2.77,2, -999.000,9, -999.000,9,   2348.0,2,   2408.7,2,   7.4953,2,    25.00,  -999.00,9,  -999.00,9,   2.2311,     1100
  49UP20130619,  P03W,    43,  1,     11,    996,2,20130708,1023, 23.7508, 131.9852, 3328,   1889.4,   2.0438,   2.0437,  34.6070,2,  34.6068,2,    111.5,2,   142.47,2,    38.35,2,     0.00,2,     2.72,2,    0.011,2,    0.000,2,   2344.0,2,   2405.0,2,   7.5160,2,    25.00,  -999.00,9,  -999.00,9,   2.0437,     1056
  49UP20130619,  P03W,    43,  1,     10,    107,2,20130708,1023, 23.7508, 131.9852, 3328,   2092.2,   1.9152,   1.9152,  34.6243,2,  34.6230,2,    119.1,2,   142.52,2,    37.87,2,     0.00,2,     2.68,2, -999.000,9, -999.000,9,   2335.6,6,   2408.1,2,   7.5294,2,    25.00,  -999.00,9,  -999.00,9,   1.9152,     1052
  49UP20130619,  P03W,    43,  1,      9,    108,2,20130708,1023, 23.7508, 131.9852, 3328,   2297.1,   1.8144,   1.8143,  34.6364,2,  34.6359,2,    125.4,2,   142.87,2,    37.50,2,     0.00,2,     2.65,2,    0.000,2,    0.000,2,   2333.3,2,   2411.0,2,   7.5401,6,    25.00,  -999.00,9,  -999.00,9,   1.8143,     1047
  49UP20130619,  P03W,    43,  1,      8,     81,2,20130708,1023, 23.7508, 131.9852, 3328,   2501.2,   1.7380,   1.7383,  34.6458,2,  34.6459,2,    131.1,2,   143.25,2,    37.24,2,     0.00,2,     2.63,2, -999.000,9, -999.000,9,   2330.8,2,   2412.4,2,   7.5489,2,    25.00,  -999.00,9,  -999.00,9,   1.7383,     1043
  49UP20130619,  P03W,    43,  1,      7,    106,2,20130708,1023, 23.7508, 131.9852, 3328,   2703.5,   1.6833,   1.6832,  34.6531,2,  34.6533,2,    135.3,2,   143.02,6,    36.99,6,     0.00,6,     2.60,6,    0.031,2,    0.000,2,   2330.4,2,   2417.6,2,   7.5578,2,    25.00,  -999.00,9,  -999.00,9,   1.6832,     1039
  49UP20130619,  P03W,    43,  1,      6,    113,2,20130708,1023, 23.7508, 131.9852, 3328,   2907.0,   1.6523,   1.6524,  34.6582,2,  34.6581,2,    138.8,6,   142.47,2,    36.79,2,     0.00,2,     2.59,2, -999.000,9, -999.000,9,   2330.7,2,   2421.5,2,   7.5635,2,    25.00,  -999.00,9,  -999.00,9,   1.6524,     1035
  49UP20130619,  P03W,    43,  1,      4,     77,2,20130708,1023, 23.7508, 131.9852, 3328,   3121.1,   1.6136,   1.6135,  34.6641,2,  34.6640,6,    142.5,2,   142.91,2,    36.57,2,     0.00,2,     2.58,2,    0.022,2,    0.001,2,   2326.0,2,   2417.1,2,   7.5644,2,    25.00,  -999.00,9,  -999.00,9,   1.6135,     1030
  49UP20130619,  P03W,    43,  1,      3,    104,2,20130708,1023, 23.7508, 131.9852, 3328,   3379.1,   1.5854,   1.5854,  34.6696,2,  34.6695,2,    146.3,4,   142.32,2,    36.34,2,     0.00,2,     2.55,2,    0.000,2,    0.000,2,   2327.4,2,   2421.1,2,   7.5733,2,    25.00,  -999.00,9,  -999.00,9,   1.5854,     1025
  49UP20130619,  P03W,    43,  1,      2,     75,2,20130708,1023, 23.7508, 131.9852, 3328,   3398.8,   1.5850,   1.5849,  34.6697,2,  34.6692,2,    146.2,2,   142.32,2,    36.45,2,     0.00,2,     2.55,2,    0.000,2,    0.000,2,   2327.1,2,   2415.8,3,   7.5722,2,    25.00,  -999.00,9,  -999.00,9,   1.5849,     1024
  49UP20130619,  P03W,    43,  1,      1,    997,2,20130708,1023, 23.7508, 131.9852, 3328,   3398.8,   1.5850,   1.5849,  34.6697,2,  34.6696,6,    146.2,2,   142.35,2,    36.40,2,     0.00,2,     2.55,2,    0.000,2,    0.000,2,   2321.7,3,   2420.8,2,   7.5742,2,    25.00,  -999.00,9,  -999.00,9,   1.5849,     1024