BOTTLE,20180830PRINUNIVRMK
EXPOCODE,SECT_ID,STNNBR,CASTNO,SAMPNO,BTLNBR,BTLNBR_FLAG_W,DATE,TIME,LATITUDE,LONGITUDE,DEPTH,CTDPRS,CTDTMP,SBE35,CTDSAL,CTDSAL_FLAG_W,SALNTY,SALNTY_FLAG_W,OXYGEN,OXYGEN_FLAG_W,SILCAT,SILCAT_FLAG_W,NITRAT,NITRAT_FLAG_W,NITRIT,NITRIT_FLAG_W,PHSPHT,PHSPHT_FLAG_W,CFC-11,CFC-11_FLAG_W,CFC-12,CFC-12_FLAG_W,TCARBN,TCARBN_FLAG_W,ALKALI,ALKALI_FLAG_W,PH_TOT,PH_TOT_FLAG_W,PH_TMP,CHLORA,CHLORA_FLAG_W,PPHYTN,PPHYTN_FLAG_W,SBE35,BTL_TIME
,,,,,,,,,,,METERS,DBAR,ITS-90,,PSS-78,,PSS-78,,UMOL/KG,,UMOL/KG,,UMOL/KG,,UMOL/KG,,UMOL/KG,,PMOL/KG,,PMOL/KG,,UMOL/KG,,UMOL/KG,,,,DEG C,UG/KG,,UG/KG,,,
  49UP20130619,  P03W,   119,  1,      0,   -999,0,20130906,1555, 29.4963, 179.0197, 5047,      0.0,  27.0937,-999.0000,  35.2446,2,-999.0000,9,    203.4,2,     1.56,2,     0.00,2,     0.00,2,     0.03,2, -999.000,9, -999.000,9,   -999.0,9,   -999.0,9,-999.0000,9,  -999.00,  -999.00,9,  -999.00,9,-999.0000,     1737
  49UP20130619,  P03W,   119,  1,     36,    109,2,20130906,1555, 29.4963, 179.0197, 5047,     11.1,  27.1087,  27.1075,  35.2523,2,-999.0000,9,    203.5,2,     1.54,2,     0.00,2,     0.00,2,     0.02,2, -999.000,9, -999.000,9,   -999.0,9,   -999.0,9,-999.0000,9,  -999.00,  -999.00,9,  -999.00,9,  27.1075,     1754
  49UP20130619,  P03W,   119,  1,     35,    112,2,20130906,1555, 29.4963, 179.0197, 5047,     50.4,  19.4233,  19.4272,  34.7560,2,-999.0000,9,    247.5,2,     2.32,2,     0.00,2,     0.00,2,     0.03,2, -999.000,9, -999.000,9,   -999.0,9,   -999.0,9,-999.0000,9,  -999.00,  -999.00,9,  -999.00,9,  19.4272,     1751
  49UP20130619,  P03W,   119,  1,     34,     83,2,20130906,1555, 29.4963, 179.0197, 5047,    100.4,  17.4366,  17.4352,  34.7027,2,-999.0000,9,    216.2,2,     3.74,2,     3.13,2,     0.09,2,     0.24,2, -999.000,9, -999.000,9,   -999.0,9,   -999.0,9,-999.0000,9,  -999.00,  -999.00,9,  -999.00,9,  17.4352,     1749
  49UP20130619,  P03W,   119,  1,     33,    517,2,20130906,1555, 29.4963, 179.0197, 5047,    151.1,  16.5115,  16.5099,  34.6651,2,-999.0000,9,    217.8,2,     4.82,2,     4.85,2,     0.01,2,     0.33,2, -999.000,9, -999.000,9,   -999.0,9,   -999.0,9,-999.0000,9,  -999.00,  -999.00,9,  -999.00,9,  16.5099,     1747
  49UP20130619,  P03W,   119,  1,     32,    105,2,20130906,1555, 29.4963, 179.0197, 5047,    202.1,  15.5928,  15.5939,  34.5791,2,-999.0000,9,    224.7,2,     5.40,2,     4.95,2,     0.01,2,     0.36,2, -999.000,9, -999.000,9,   -999.0,9,   -999.0,9,-999.0000,9,  -999.00,  -999.00,9,  -999.00,9,  15.5939,     1746
  49UP20130619,  P03W,   119,  1,     31,     76,2,20130906,1555, 29.4963, 179.0197, 5047,    252.1,  15.0445,  15.0446,  34.5422,2,  34.5430,2,    233.6,2,     5.57,2,     4.79,2,     0.01,2,     0.35,2, -999.000,9, -999.000,9,   -999.0,9,   -999.0,9,-999.0000,9,  -999.00,  -999.00,9,  -999.00,9,  15.0446,     1744
  49UP20130619,  P03W,   119,  1,     30,     97,2,20130906,1555, 29.4963, 179.0197, 5047,    252.1,  15.0445,  15.0446,  34.5422,2,  34.5433,2,    233.7,2,     5.57,2,     4.77,2,     0.01,2,     0.35,2, -999.000,9, -999.000,9,   -999.0,9,   -999.0,9,-999.0000,9,  -999.00,  -999.00,9,  -999.00,9,  15.0446,     1744
  49UP20130619,  P03W,   119,  1,     29,    102,2,20130906,1555, 29.4963, 179.0197, 5047,    282.7,  14.6966,  14.6950,  34.5174,2,-999.0000,9,    213.2,2,     8.61,2,     7.90,2,     0.01,2,     0.55,2, -999.000,9, -999.000,9,   -999.0,9,   -999.0,9,-999.0000,9,  -999.00,  -999.00,9,  -999.00,9,  14.6950,     1743
  49UP20130619,  P03W,   119,  1,     28,     91,2,20130906,1555, 29.4963, 179.0197, 5047,    373.6,  12.5564,  12.5694,  34.3583,2,-999.0000,9,    205.4,2,    13.52,2,    11.94,2,     0.00,2,     0.83,2, -999.000,9, -999.000,9,   -999.0,9,   -999.0,9,-999.0000,9,  -999.00,  -999.00,9,  -999.00,9,  12.5694,     1740
  49UP20130619,  P03W,   119,  1,     27,    998,2,20130906,1555, 29.4963, 179.0197, 5047,    474.5,  10.3099,  10.3084,  34.2031,2,-999.0000,9,    195.6,6,    23.07,6,    17.11,6,     0.00,6,     1.21,6, -999.000,9, -999.000,9,   -999.0,9,   -999.0,9,-999.0000,9,  -999.00,  -999.00,9,  -999.00,9,  10.3084,     1737
  49UP20130619,  P03W,   119,  1,     26,     84,2,20130906,1555, 29.4963, 179.0197, 5047,    574.3,   7.6675,   7.6703,  34.0565,2,-999.0000,9,    160.8,2,    42.37,2,    25.13,2,     0.00,2,     1.80,2, -999.000,9, -999.000,9,   -999.0,9,   -999.0,9,-999.0000,9,  -999.00,  -999.00,9,  -999.00,9,   7.6703,     1735
  49UP20130619,  P03W,   119,  1,     25,     98,2,20130906,1555, 29.4963, 179.0197, 5047,    676.2,   6.1742,   6.1752,  34.0416,2,-999.0000,9,    118.3,2,    61.73,2,    31.51,2,     0.00,2,     2.27,2, -999.000,9, -999.000,9,   -999.0,9,   -999.0,9,-999.0000,9,  -999.00,  -999.00,9,  -999.00,9,   6.1752,     1732
  49UP20130619,  P03W,   119,  1,     24,    110,2,20130906,1555, 29.4963, 179.0197, 5047,    777.7,   5.0960,   5.0961,  34.0938,2,-999.0000,9,     79.1,2,    82.08,2,    36.87,2,     0.00,2,     2.65,2, -999.000,9, -999.000,9,   -999.0,9,   -999.0,9,-999.0000,9,  -999.00,  -999.00,9,  -999.00,9,   5.0961,     1729
  49UP20130619,  P03W,   119,  1,     23,     96,2,20130906,1555, 29.4963, 179.0197, 5047,    879.0,   4.3728,   4.3716,  34.1800,2,-999.0000,9,     50.8,2,   100.38,2,    40.25,2,     0.00,2,     2.90,2, -999.000,9, -999.000,9,   -999.0,9,   -999.0,9,-999.0000,9,  -999.00,  -999.00,9,  -999.00,9,   4.3716,     1726
  49UP20130619,  P03W,   119,  1,     22,    111,2,20130906,1555, 29.4963, 179.0197, 5047,    980.8,   3.8485,   3.8482,  34.2580,2,-999.0000,9,     33.9,2,   115.40,2,    42.32,2,     0.00,2,     3.03,2, -999.000,9, -999.000,9,   -999.0,9,   -999.0,9,-999.0000,9,  -999.00,  -999.00,9,  -999.00,9,   3.8482,     1724
  49UP20130619,  P03W,   119,  1,     21,     78,2,20130906,1555, 29.4963, 179.0197, 5047,   1142.5,   3.2634,   3.2639,  34.3788,2,-999.0000,9,     24.9,6,   133.44,6,    43.59,6,     0.00,6,     3.12,6, -999.000,9, -999.000,9,   -999.0,9,   -999.0,9,-999.0000,9,  -999.00,  -999.00,9,  -999.00,9,   3.2639,     1720
  49UP20130619,  P03W,   119,  1,     20,     93,3,20130906,1555, 29.4963, 179.0197, 5047,   1344.3,   2.8196,   2.8206,  34.4690,2,  34.4656,2,     31.0,2,   145.32,2,    43.53,2,     0.00,2,     3.10,2, -999.000,9, -999.000,9,   -999.0,9,   -999.0,9,-999.0000,9,  -999.00,  -999.00,9,  -999.00,9,   2.8206,     1715
  49UP20130619,  P03W,   119,  1,     19,     92,2,20130906,1555, 29.4963, 179.0197, 5047,   1344.3,   2.8196,   2.8206,  34.4690,2,  34.4677,2,     30.6,2,   145.84,2,    43.54,2,     0.00,2,     3.11,2, -999.000,9, -999.000,9,   -999.0,9,   -999.0,9,-999.0000,9,  -999.00,  -999.00,9,  -999.00,9,   2.8206,     1715
  49UP20130619,  P03W,   119,  1,     18,    101,2,20130906,1555, 29.4963, 179.0197, 5047,   1545.8,   2.4600,   2.4599,  34.5332,2,-999.0000,9,     47.4,2,   153.41,2,    42.79,2,     0.00,2,     3.03,2, -999.000,9, -999.000,9,   -999.0,9,   -999.0,9,-999.0000,9,  -999.00,  -999.00,9,  -999.00,9,   2.4599,     1711
  49UP20130619,  P03W,   119,  1,     17,     90,2,20130906,1555, 29.4963, 179.0197, 5047,   1750.6,   2.2281,   2.2282,  34.5687,2,-999.0000,9,     62.5,2,   157.11,2,    41.85,2,     0.00,2,     2.97,2, -999.000,9, -999.000,9,   -999.0,9,   -999.0,9,-999.0000,9,  -999.00,  -999.00,9,  -999.00,9,   2.2282,     1707
  49UP20130619,  P03W,   119,  1,     16,     89,2,20130906,1555, 29.4963, 179.0197, 5047,   1952.7,   2.0012,   2.0012,  34.5964,2,-999.0000,9,     73.6,2,   161.79,2,    41.21,2,     0.00,2,     2.92,2, -999.000,9, -999.000,9,   -999.0,9,   -999.0,9,-999.0000,9,  -999.00,  -999.00,9,  -999.00,9,   2.0012,     1702
  49UP20130619,  P03W,   119,  1,     15,     88,2,20130906,1555, 29.4963, 179.0197, 5047,   2156.4,   1.8455,   1.8458,  34.6178,2,-999.0000,9,     88.0,2,   161.66,2,    40.29,2,     0.00,2,     2.84,2, -999.000,9, -999.000,9,   -999.0,9,   -999.0,9,-999.0000,9,  -999.00,  -999.00,9,  -999.00,9,   1.8458,     1658
  49UP20130619,  P03W,   119,  1,     14,    999,2,20130906,1555, 29.4963, 179.0197, 5047,   2359.6,   1.7436,   1.7436,  34.6317,2,  34.6320,2,     98.5,2,   161.89,2,    39.67,2,     0.00,2,     2.79,2, -999.000,9, -999.000,9,   -999.0,9,   -999.0,9,-999.0000,9,  -999.00,  -999.00,9,  -999.00,9,   1.7436,     1654
  49UP20130619,  P03W,   119,  1,     13,    667,2,20130906,1555, 29.4963, 179.0197, 5047,   2563.2,   1.6621,   1.6621,  34.6428,2,  34.6429,2,    107.4,2,   161.52,2,    39.02,2,     0.00,2,     2.74,2, -999.000,9, -999.000,9,   -999.0,9,   -999.0,9,-999.0000,9,  -999.00,  -999.00,9,  -999.00,9,   1.6621,     1649
  49UP20130619,  P03W,   119,  1,     12,     74,2,20130906,1555, 29.4963, 179.0197, 5047,   2766.2,   1.5942,   1.5943,  34.6527,2,  34.6525,6,    116.4,6,   160.62,6,    38.48,6,     0.00,6,     2.70,6, -999.000,9, -999.000,9,   -999.0,9,   -999.0,9,-999.0000,9,  -999.00,  -999.00,9,  -999.00,9,   1.5943,     1645
  49UP20130619,  P03W,   119,  1,     11,    996,2,20130906,1555, 29.4963, 179.0197, 5047,   2971.6,   1.5411,   1.5411,  34.6611,2,  34.6596,2,    124.7,2,   158.74,2,    37.91,2,     0.00,2,     2.66,2, -999.000,9, -999.000,9,   -999.0,9,   -999.0,9,-999.0000,9,  -999.00,  -999.00,9,  -999.00,9,   1.5411,     1640
  49UP20130619,  P03W,   119,  1,     10,    107,2,20130906,1555, 29.4963, 179.0197, 5047,   2971.6,   1.5411,   1.5411,  34.6611,2,  34.6611,2,    125.2,2,   158.46,2,    37.92,2,     0.00,2,     2.66,2, -999.000,9, -999.000,9,   -999.0,9,   -999.0,9,-999.0000,9,  -999.00,  -999.00,9,  -999.00,9,   1.5411,     1640
  49UP20130619,  P03W,   119,  1,      9,    108,2,20130906,1555, 29.4963, 179.0197, 5047,   3214.4,   1.5013,   1.5013,  34.6682,2,  34.6679,2,    132.2,2,   157.27,2,    37.44,2,     0.00,2,     2.62,2, -999.000,9, -999.000,9,   -999.0,9,   -999.0,9,-999.0000,9,  -999.00,  -999.00,9,  -999.00,9,   1.5013,     1635
  49UP20130619,  P03W,   119,  1,      8,     81,2,20130906,1555, 29.4963, 179.0197, 5047,   3472.1,   1.4729,   1.4728,  34.6740,2,  34.6744,2,    139.2,2,   156.03,2,    37.02,2,     0.00,2,     2.59,2, -999.000,9, -999.000,9,   -999.0,9,   -999.0,9,-999.0000,9,  -999.00,  -999.00,9,  -999.00,9,   1.4728,     1630
  49UP20130619,  P03W,   119,  1,      7,    106,3,20130906,1555, 29.4963, 179.0197, 5047,   3727.0,   1.4608,   1.4609,  34.6784,2,  34.6779,2,    144.1,2,   154.63,2,    36.62,2,     0.00,2,     2.56,2, -999.000,9, -999.000,9,   -999.0,9,   -999.0,9,-999.0000,9,  -999.00,  -999.00,9,  -999.00,9,   1.4609,     1625
  49UP20130619,  P03W,   119,  1,      6,    113,2,20130906,1555, 29.4963, 179.0197, 5047,   3982.9,   1.4547,   1.4546,  34.6818,2,  34.6819,6,    149.1,2,   153.31,2,    36.36,2,     0.00,2,     2.54,2, -999.000,9, -999.000,9,   -999.0,9,   -999.0,9,-999.0000,9,  -999.00,  -999.00,9,  -999.00,9,   1.4546,     1620
  49UP20130619,  P03W,   119,  1,      5,     94,2,20130906,1555, 29.4963, 179.0197, 5047,   4241.0,   1.4605,   1.4607,  34.6844,2,  34.6845,2,    151.6,2,   153.53,2,    36.18,2,     0.00,2,     2.53,2, -999.000,9, -999.000,9,   -999.0,9,   -999.0,9,-999.0000,9,  -999.00,  -999.00,9,  -999.00,9,   1.4607,     1615
  49UP20130619,  P03W,   119,  1,      4,     77,2,20130906,1555, 29.4963, 179.0197, 5047,   4496.9,   1.4605,   1.4606,  34.6873,2,  34.6872,2,    157.0,2,   149.02,2,    35.83,2,     0.00,2,     2.49,2, -999.000,9, -999.000,9,   -999.0,9,   -999.0,9,-999.0000,9,  -999.00,  -999.00,9,  -999.00,9,   1.4606,     1609
  49UP20130619,  P03W,   119,  1,      3,    104,2,20130906,1555, 29.4963, 179.0197, 5047,   4754.2,   1.4663,   1.4663,  34.6895,2,  34.6899,2,    161.5,6,   145.11,6,    35.45,6,     0.00,6,     2.47,6, -999.000,9, -999.000,9,   -999.0,9,   -999.0,9,-999.0000,9,  -999.00,  -999.00,9,  -999.00,9,   1.4663,     1604
  49UP20130619,  P03W,   119,  1,      2,     75,2,20130906,1555, 29.4963, 179.0197, 5047,   5010.9,   1.4702,   1.4702,  34.6919,2,  34.6913,2,    166.5,2,   141.05,2,    35.14,2,     0.00,2,     2.44,2, -999.000,9, -999.000,9,   -999.0,9,   -999.0,9,-999.0000,9,  -999.00,  -999.00,9,  -999.00,9,   1.4702,     1559
  49UP20130619,  P03W,   119,  1,      1,    997,2,20130906,1555, 29.4963, 179.0197, 5047,   5188.7,   1.4771,   1.4769,  34.6932,2,  34.6918,2,    168.8,2,   138.90,2,    34.95,2,     0.00,2,     2.43,2, -999.000,9, -999.000,9,   -999.0,9,   -999.0,9,-999.0000,9,  -999.00,  -999.00,9,  -999.00,9,   1.4769,     1555