BOTTLE,20180830PRINUNIVRMK
EXPOCODE,SECT_ID,STNNBR,CASTNO,SAMPNO,BTLNBR,BTLNBR_FLAG_W,DATE,TIME,LATITUDE,LONGITUDE,DEPTH,CTDPRS,CTDTMP,SBE35,CTDSAL,CTDSAL_FLAG_W,SALNTY,SALNTY_FLAG_W,OXYGEN,OXYGEN_FLAG_W,SILCAT,SILCAT_FLAG_W,NITRAT,NITRAT_FLAG_W,NITRIT,NITRIT_FLAG_W,PHSPHT,PHSPHT_FLAG_W,CFC-11,CFC-11_FLAG_W,CFC-12,CFC-12_FLAG_W,TCARBN,TCARBN_FLAG_W,ALKALI,ALKALI_FLAG_W,PH_TOT,PH_TOT_FLAG_W,PH_TMP,CHLORA,CHLORA_FLAG_W,PPHYTN,PPHYTN_FLAG_W,SBE35,BTL_TIME
,,,,,,,,,,,METERS,DBAR,ITS-90,,PSS-78,,PSS-78,,UMOL/KG,,UMOL/KG,,UMOL/KG,,UMOL/KG,,UMOL/KG,,PMOL/KG,,PMOL/KG,,UMOL/KG,,UMOL/KG,,,,DEG C,UG/KG,,UG/KG,,,
  49UP20130619,  P03W,   109,  1,      0,   -999,0,20130903,1536, 24.5107, 178.9780, 5684,      0.0,  28.3200,-999.0000,  35.5946,2,-999.0000,9,    198.4,2,     0.86,2,     0.01,2,     0.00,2,     0.03,2, -999.000,9, -999.000,9,   -999.0,9,   -999.0,9,-999.0000,9,  -999.00,  -999.00,9,  -999.00,9,-999.0000,     1735
  49UP20130619,  P03W,   109,  1,     36,    109,2,20130903,1536, 24.5107, 178.9780, 5684,     10.9,  28.3327,  28.3318,  35.5942,2,-999.0000,9,    198.2,2,     0.90,2,     0.00,2,     0.00,2,     0.02,2, -999.000,9, -999.000,9,   -999.0,9,   -999.0,9,-999.0000,9,  -999.00,  -999.00,9,  -999.00,9,  28.3318,     1752
  49UP20130619,  P03W,   109,  1,     35,    112,2,20130903,1536, 24.5107, 178.9780, 5684,     50.9,  27.3832,  27.3683,  35.5407,2,-999.0000,9,    213.1,2,     0.97,2,     0.00,2,     0.00,2,     0.02,2, -999.000,9, -999.000,9,   -999.0,9,   -999.0,9,-999.0000,9,  -999.00,  -999.00,9,  -999.00,9,  27.3683,     1749
  49UP20130619,  P03W,   109,  1,     34,     83,2,20130903,1536, 24.5107, 178.9780, 5684,    101.1,  21.9485,  21.9454,  35.2320,2,-999.0000,9,    221.8,2,     1.51,2,     0.00,2,     0.00,2,     0.03,2, -999.000,9, -999.000,9,   -999.0,9,   -999.0,9,-999.0000,9,  -999.00,  -999.00,9,  -999.00,9,  21.9454,     1747
  49UP20130619,  P03W,   109,  1,     33,    517,2,20130903,1536, 24.5107, 178.9780, 5684,    150.9,  19.3871,  19.3756,  34.9550,2,-999.0000,9,    197.6,2,     2.66,2,     2.33,2,     0.02,2,     0.21,2, -999.000,9, -999.000,9,   -999.0,9,   -999.0,9,-999.0000,9,  -999.00,  -999.00,9,  -999.00,9,  19.3756,     1745
  49UP20130619,  P03W,   109,  1,     32,    105,3,20130903,1536, 24.5107, 178.9780, 5684,    201.9,  16.6903,  16.6903,  34.6636,2,-999.0000,9,    202.6,2,     4.68,2,     5.41,2,     0.00,2,     0.38,2, -999.000,9, -999.000,9,   -999.0,9,   -999.0,9,-999.0000,9,  -999.00,  -999.00,9,  -999.00,9,  16.6903,     1744
  49UP20130619,  P03W,   109,  1,     31,     76,3,20130903,1536, 24.5107, 178.9780, 5684,    252.4,  15.3666,  15.3683,  34.5522,2,-999.0000,9,    202.7,2,     6.91,2,     7.40,2,     0.00,2,     0.52,2, -999.000,9, -999.000,9,   -999.0,9,   -999.0,9,-999.0000,9,  -999.00,  -999.00,9,  -999.00,9,  15.3683,     1742
  49UP20130619,  P03W,   109,  1,     30,     97,2,20130903,1536, 24.5107, 178.9780, 5684,    333.2,  12.9388,  12.9365,  34.3567,2,-999.0000,9,    200.8,2,    11.59,2,    11.22,2,     0.00,2,     0.80,2, -999.000,9, -999.000,9,   -999.0,9,   -999.0,9,-999.0000,9,  -999.00,  -999.00,9,  -999.00,9,  12.9365,     1740
  49UP20130619,  P03W,   109,  1,     29,    102,2,20130903,1536, 24.5107, 178.9780, 5684,    434.4,  10.1762,  10.1798,  34.1815,2,-999.0000,9,    181.0,2,    22.98,2,    18.23,2,     0.00,2,     1.30,2, -999.000,9, -999.000,9,   -999.0,9,   -999.0,9,-999.0000,9,  -999.00,  -999.00,9,  -999.00,9,  10.1798,     1737
  49UP20130619,  P03W,   109,  1,     28,     91,2,20130903,1536, 24.5107, 178.9780, 5684,    534.2,   7.9485,   7.9441,  34.0833,2,-999.0000,9,    141.7,6,    40.89,6,    26.09,6,     0.00,6,     1.87,6, -999.000,9, -999.000,9,   -999.0,9,   -999.0,9,-999.0000,9,  -999.00,  -999.00,9,  -999.00,9,   7.9441,     1732
  49UP20130619,  P03W,   109,  1,     27,    998,2,20130903,1536, 24.5107, 178.9780, 5684,    634.7,   6.2148,   6.2144,  34.0729,2,-999.0000,9,    100.3,2,    63.47,2,    32.98,2,     0.00,2,     2.38,2, -999.000,9, -999.000,9,   -999.0,9,   -999.0,9,-999.0000,9,  -999.00,  -999.00,9,  -999.00,9,   6.2144,     1730
  49UP20130619,  P03W,   109,  1,     26,     84,2,20130903,1536, 24.5107, 178.9780, 5684,    736.1,   5.0728,   5.0751,  34.1581,2,-999.0000,9,     58.1,2,    85.60,2,    38.58,2,     0.00,2,     2.79,2, -999.000,9, -999.000,9,   -999.0,9,   -999.0,9,-999.0000,9,  -999.00,  -999.00,9,  -999.00,9,   5.0751,     1727
  49UP20130619,  P03W,   109,  1,     25,     98,2,20130903,1536, 24.5107, 178.9780, 5684,    837.2,   4.4280,   4.4285,  34.2488,2,-999.0000,9,     39.9,2,   101.27,2,    41.13,2,     0.00,2,     2.97,2, -999.000,9, -999.000,9,   -999.0,9,   -999.0,9,-999.0000,9,  -999.00,  -999.00,9,  -999.00,9,   4.4285,     1725
  49UP20130619,  P03W,   109,  1,     24,    110,2,20130903,1536, 24.5107, 178.9780, 5684,    938.9,   3.9291,   3.9285,  34.3604,2,-999.0000,9,     37.3,2,   113.91,2,    42.03,2,     0.00,2,     3.04,2, -999.000,9, -999.000,9,   -999.0,9,   -999.0,9,-999.0000,9,  -999.00,  -999.00,9,  -999.00,9,   3.9285,     1722
  49UP20130619,  P03W,   109,  1,     23,     96,3,20130903,1536, 24.5107, 178.9780, 5684,   1080.1,   3.5337,   3.5330,  34.4542,2,-999.0000,9,     48.5,2,   121.97,2,    41.77,2,     0.00,2,     3.00,2, -999.000,9, -999.000,9,   -999.0,9,   -999.0,9,-999.0000,9,  -999.00,  -999.00,9,  -999.00,9,   3.5330,     1719
  49UP20130619,  P03W,   109,  1,     22,    111,2,20130903,1536, 24.5107, 178.9780, 5684,   1282.5,   3.1610,   3.1606,  34.5304,2,-999.0000,9,     67.2,2,   127.82,2,    40.80,2,     0.00,2,     2.92,2, -999.000,9, -999.000,9,   -999.0,9,   -999.0,9,-999.0000,9,  -999.00,  -999.00,9,  -999.00,9,   3.1606,     1714
  49UP20130619,  P03W,   109,  1,     21,     78,2,20130903,1536, 24.5107, 178.9780, 5684,   1485.8,   2.7139,   2.7136,  34.5563,2,-999.0000,9,     71.8,2,   138.39,2,    40.79,2,     0.00,2,     2.91,2, -999.000,9, -999.000,9,   -999.0,9,   -999.0,9,-999.0000,9,  -999.00,  -999.00,9,  -999.00,9,   2.7136,     1710
  49UP20130619,  P03W,   109,  1,     20,     93,2,20130903,1536, 24.5107, 178.9780, 5684,   1688.0,   2.3908,   2.3905,  34.5853,2,-999.0000,9,     81.2,2,   145.03,2,    40.35,2,     0.00,2,     2.87,2, -999.000,9, -999.000,9,   -999.0,9,   -999.0,9,-999.0000,9,  -999.00,  -999.00,9,  -999.00,9,   2.3905,     1705
  49UP20130619,  P03W,   109,  1,     19,     92,2,20130903,1536, 24.5107, 178.9780, 5684,   1891.5,   2.1205,   2.1203,  34.6064,2,  34.6063,6,     90.2,6,   150.82,6,    39.92,6,     0.00,6,     2.83,6, -999.000,9, -999.000,9,   -999.0,9,   -999.0,9,-999.0000,9,  -999.00,  -999.00,9,  -999.00,9,   2.1203,     1701
  49UP20130619,  P03W,   109,  1,     18,    101,2,20130903,1536, 24.5107, 178.9780, 5684,   2094.9,   1.9363,   1.9364,  34.6229,2,-999.0000,9,     98.8,2,   153.93,2,    39.46,2,     0.00,2,     2.78,2, -999.000,9, -999.000,9,   -999.0,9,   -999.0,9,-999.0000,9,  -999.00,  -999.00,9,  -999.00,9,   1.9364,     1657
  49UP20130619,  P03W,   109,  1,     17,     90,2,20130903,1536, 24.5107, 178.9780, 5684,   2297.4,   1.8059,   1.8058,  34.6346,2,  34.6348,2,    106.2,2,   155.81,2,    39.01,2,     0.00,2,     2.75,2, -999.000,9, -999.000,9,   -999.0,9,   -999.0,9,-999.0000,9,  -999.00,  -999.00,9,  -999.00,9,   1.8058,     1652
  49UP20130619,  P03W,   109,  1,     16,     89,2,20130903,1536, 24.5107, 178.9780, 5684,   2501.6,   1.6968,   1.6966,  34.6466,2,  34.6467,2,    114.7,2,   156.07,2,    38.46,2,     0.00,2,     2.70,2, -999.000,9, -999.000,9,   -999.0,9,   -999.0,9,-999.0000,9,  -999.00,  -999.00,9,  -999.00,9,   1.6966,     1648
  49UP20130619,  P03W,   109,  1,     15,     88,2,20130903,1536, 24.5107, 178.9780, 5684,   2704.2,   1.6250,   1.6249,  34.6551,2,  34.6552,2,    121.6,2,   156.02,2,    38.11,2,     0.00,2,     2.67,2, -999.000,9, -999.000,9,   -999.0,9,   -999.0,9,-999.0000,9,  -999.00,  -999.00,9,  -999.00,9,   1.6249,     1643
  49UP20130619,  P03W,   109,  1,     14,    999,2,20130903,1536, 24.5107, 178.9780, 5684,   2908.9,   1.5687,   1.5685,  34.6619,2,  34.6620,2,    128.1,2,   155.22,2,    37.64,2,     0.00,2,     2.63,2, -999.000,9, -999.000,9,   -999.0,9,   -999.0,9,-999.0000,9,  -999.00,  -999.00,9,  -999.00,9,   1.5685,     1639
  49UP20130619,  P03W,   109,  1,     13,    667,2,20130903,1536, 24.5107, 178.9780, 5684,   3123.2,   1.5281,   1.5280,  34.6678,2,  34.6677,2,    133.1,3,   153.87,2,    37.28,2,     0.00,2,     2.60,2, -999.000,9, -999.000,9,   -999.0,9,   -999.0,9,-999.0000,9,  -999.00,  -999.00,9,  -999.00,9,   1.5280,     1634
  49UP20130619,  P03W,   109,  1,     12,     74,2,20130903,1536, 24.5107, 178.9780, 5684,   3123.2,   1.5281,   1.5280,  34.6678,2,  34.6681,2,    134.0,2,   153.93,2,    37.22,2,     0.00,2,     2.61,2, -999.000,9, -999.000,9,   -999.0,9,   -999.0,9,-999.0000,9,  -999.00,  -999.00,9,  -999.00,9,   1.5280,     1634
  49UP20130619,  P03W,   109,  1,     11,    996,2,20130903,1536, 24.5107, 178.9780, 5684,   3379.1,   1.4834,   1.4833,  34.6743,2,  34.6737,2,    140.5,3,   152.27,2,    36.87,2,     0.00,2,     2.57,2, -999.000,9, -999.000,9,   -999.0,9,   -999.0,9,-999.0000,9,  -999.00,  -999.00,9,  -999.00,9,   1.4833,     1628
  49UP20130619,  P03W,   109,  1,     10,    107,2,20130903,1536, 24.5107, 178.9780, 5684,   3634.7,   1.4639,   1.4638,  34.6787,2,  34.6792,2,    147.0,2,   149.84,2,    36.39,2,     0.00,2,     2.54,2, -999.000,9, -999.000,9,   -999.0,9,   -999.0,9,-999.0000,9,  -999.00,  -999.00,9,  -999.00,9,   1.4638,     1623
  49UP20130619,  P03W,   109,  1,      9,    108,2,20130903,1536, 24.5107, 178.9780, 5684,   3889.7,   1.4472,   1.4472,  34.6825,2,  34.6825,2,    151.9,2,   148.63,2,    36.06,2,     0.00,2,     2.51,2, -999.000,9, -999.000,9,   -999.0,9,   -999.0,9,-999.0000,9,  -999.00,  -999.00,9,  -999.00,9,   1.4472,     1617
  49UP20130619,  P03W,   109,  1,      8,     81,3,20130903,1536, 24.5107, 178.9780, 5684,   4146.6,   1.4396,   1.4396,  34.6856,2,  34.6864,2,    156.4,6,   146.97,6,    35.79,6,     0.00,6,     2.49,6, -999.000,9, -999.000,9,   -999.0,9,   -999.0,9,-999.0000,9,  -999.00,  -999.00,9,  -999.00,9,   1.4396,     1612
  49UP20130619,  P03W,   109,  1,      7,    106,2,20130903,1536, 24.5107, 178.9780, 5684,   4403.9,   1.4361,   1.4360,  34.6885,2,  34.6887,2,    161.5,2,   143.28,2,    35.45,2,     0.00,2,     2.47,2, -999.000,9, -999.000,9,   -999.0,9,   -999.0,9,-999.0000,9,  -999.00,  -999.00,9,  -999.00,9,   1.4360,     1607
  49UP20130619,  P03W,   109,  1,      6,    113,2,20130903,1536, 24.5107, 178.9780, 5684,   4661.1,   1.4383,   1.4381,  34.6906,2,  34.6909,2,    166.0,2,   140.52,2,    35.10,2,     0.00,2,     2.44,2, -999.000,9, -999.000,9,   -999.0,9,   -999.0,9,-999.0000,9,  -999.00,  -999.00,9,  -999.00,9,   1.4381,     1601
  49UP20130619,  P03W,   109,  1,      5,     94,2,20130903,1536, 24.5107, 178.9780, 5684,   4917.7,   1.4414,   1.4414,  34.6931,2,  34.6932,6,    170.1,2,   137.42,2,    34.77,2,     0.00,2,     2.42,2, -999.000,9, -999.000,9,   -999.0,9,   -999.0,9,-999.0000,9,  -999.00,  -999.00,9,  -999.00,9,   1.4414,     1556
  49UP20130619,  P03W,   109,  1,      4,     77,2,20130903,1536, 24.5107, 178.9780, 5684,   5173.9,   1.4528,   1.4528,  34.6950,2,  34.6952,2,    173.4,2,   135.01,2,    34.51,2,     0.00,2,     2.40,2, -999.000,9, -999.000,9,   -999.0,9,   -999.0,9,-999.0000,9,  -999.00,  -999.00,9,  -999.00,9,   1.4528,     1550
  49UP20130619,  P03W,   109,  1,      3,    104,2,20130903,1536, 24.5107, 178.9780, 5684,   5431.4,   1.4739,   1.4737,  34.6960,2,  34.6965,2,    175.3,2,   133.88,2,    34.41,2,     0.00,2,     2.39,2, -999.000,9, -999.000,9,   -999.0,9,   -999.0,9,-999.0000,9,  -999.00,  -999.00,9,  -999.00,9,   1.4737,     1545
  49UP20130619,  P03W,   109,  1,      2,     75,2,20130903,1536, 24.5107, 178.9780, 5684,   5690.4,   1.4974,   1.4973,  34.6968,2,  34.6976,2,    176.9,2,   132.92,2,    34.27,2,     0.00,2,     2.37,2, -999.000,9, -999.000,9,   -999.0,9,   -999.0,9,-999.0000,9,  -999.00,  -999.00,9,  -999.00,9,   1.4973,     1540
  49UP20130619,  P03W,   109,  1,      1,    997,4,20130903,1536, 24.5107, 178.9780, 5684,   5820.9,   1.5098,   1.5097,  34.6972,2,  34.5015,4,     59.5,4,   123.54,4,    41.18,4,     0.00,4,     2.96,4, -999.000,9, -999.000,9,   -999.0,9,   -999.0,9,-999.0000,9,  -999.00,  -999.00,9,  -999.00,9,   1.5097,     1536