BOTTLE,20180830PRINUNIVRMK
EXPOCODE,SECT_ID,STNNBR,CASTNO,SAMPNO,BTLNBR,BTLNBR_FLAG_W,DATE,TIME,LATITUDE,LONGITUDE,DEPTH,CTDPRS,CTDTMP,SBE35,CTDSAL,CTDSAL_FLAG_W,SALNTY,SALNTY_FLAG_W,OXYGEN,OXYGEN_FLAG_W,SILCAT,SILCAT_FLAG_W,NITRAT,NITRAT_FLAG_W,NITRIT,NITRIT_FLAG_W,PHSPHT,PHSPHT_FLAG_W,CFC-11,CFC-11_FLAG_W,CFC-12,CFC-12_FLAG_W,TCARBN,TCARBN_FLAG_W,ALKALI,ALKALI_FLAG_W,PH_TOT,PH_TOT_FLAG_W,PH_TMP,CHLORA,CHLORA_FLAG_W,PPHYTN,PPHYTN_FLAG_W,SBE35,BTL_TIME
,,,,,,,,,,,METERS,DBAR,ITS-90,,PSS-78,,PSS-78,,UMOL/KG,,UMOL/KG,,UMOL/KG,,UMOL/KG,,UMOL/KG,,PMOL/KG,,PMOL/KG,,UMOL/KG,,UMOL/KG,,,,DEG C,UG/KG,,UG/KG,,,
  49UP20130619,  P03W,   114,  1,      0,   -999,0,20130905,0530, 27.0188, 178.9918, 5356,      0.0,  27.7785,-999.0000,  35.6068,2,  35.6098,2,    201.1,2,     0.88,4,     0.00,2,     0.00,2,     0.04,2, -999.000,9, -999.000,9,   2004.3,2,   2340.6,2,   8.0950,2,    25.00,     0.05,2,     0.01,2,-999.0000,      719
  49UP20130619,  P03W,   114,  1,     36,    109,2,20130905,0530, 27.0188, 178.9918, 5356,     10.5,  27.7720,  27.7745,  35.6064,2,  35.5989,2,    201.2,6,     0.93,4,     0.00,6,     0.00,6,     0.03,6,    1.862,3,    0.878,3,   2008.1,2,   2338.8,2,   8.0934,2,    25.00,     0.04,2,     0.01,2,  27.7745,      738
  49UP20130619,  P03W,   114,  1,     35,    112,2,20130905,0530, 27.0188, 178.9918, 5356,     50.2,  24.5483,  24.5446,  35.4270,2,  35.4243,2,    229.7,2,     1.09,4,     0.00,2,     0.00,2,     0.02,2,    2.570,3,    1.129,3,   1998.4,2,   2328.4,2,   8.0875,2,    25.00,     0.08,2,     0.03,2,  24.5446,      734
  49UP20130619,  P03W,   114,  1,     34,     83,2,20130905,0530, 27.0188, 178.9918, 5356,    100.8,  22.1309,  22.1261,  35.3169,2,  35.3186,2,    220.9,2,     1.26,4,     0.00,2,     0.00,2,     0.03,2,    2.271,3,    1.121,3,   2012.8,2,   2321.9,2,   8.0582,2,    25.00,     0.20,2,     0.16,2,  22.1261,      732
  49UP20130619,  P03W,   114,  1,     33,    517,2,20130905,0530, 27.0188, 178.9918, 5356,    151.2,  20.5103,  20.5233,  35.1114,2,  35.1211,4,    213.0,2,     1.77,4,     0.01,2,     0.13,2,     0.05,2,    2.122,2,    1.171,2,   2032.9,2,   2308.3,2,   8.0206,2,    25.00,     0.08,2,     0.20,2,  20.5233,      731
  49UP20130619,  P03W,   114,  1,     32,    105,2,20130905,0530, 27.0188, 178.9918, 5356,    202.8,  18.4572,  18.4685,  34.8202,2,  34.8077,4,    215.0,2,     2.66,4,     1.52,2,     0.01,2,     0.15,2,    2.304,2,    1.300,2,   2029.8,2,   2286.5,2,   7.9788,2,    25.00,     0.02,2,     0.04,2,  18.4685,      729
  49UP20130619,  P03W,   114,  1,     31,     76,2,20130905,0530, 27.0188, 178.9918, 5356,    252.1,  17.0308,  17.0300,  34.6836,2,  34.6797,2,    204.5,2,     4.29,4,     4.59,2,     0.00,2,     0.34,2,    2.415,2,    1.401,2,   2048.7,2,   2277.8,2,   7.9362,2,    25.00,  -999.00,9,  -999.00,9,  17.0300,      727
  49UP20130619,  P03W,   114,  1,     30,     97,2,20130905,0530, 27.0188, 178.9918, 5356,    302.6,  15.4800,  15.4782,  34.5496,2,  34.5491,2,    204.7,2,     6.43,4,     6.85,2,     0.00,2,     0.50,2,    2.598,6,    1.504,6,   2057.8,2,   2273.7,2,   7.9028,2,    25.00,  -999.00,9,  -999.00,9,  15.4782,      725
  49UP20130619,  P03W,   114,  1,     29,    102,2,20130905,0530, 27.0188, 178.9918, 5356,    403.4,  12.5707,  12.5571,  34.3376,2,  34.3361,2,    204.5,2,    12.83,4,    11.85,2,     0.00,2,     0.85,2,    2.877,2,    1.627,2,   2091.7,2,   2268.0,2,   7.8280,2,    25.00,  -999.00,9,  -999.00,9,  12.5571,      723
  49UP20130619,  P03W,   114,  1,     28,     91,2,20130905,0530, 27.0188, 178.9918, 5356,    503.6,  10.2469,  10.2478,  34.1885,2,  34.1891,2,    190.3,2,    22.51,4,    17.44,2,     0.00,2,     1.25,2,    2.990,2,    1.605,2,   2128.8,2,   2266.9,2,   7.7443,2,    25.00,  -999.00,9,  -999.00,9,  10.2478,      720
  49UP20130619,  P03W,   114,  1,     27,    998,2,20130905,0530, 27.0188, 178.9918, 5356,    605.0,   8.1002,   8.0995,  34.0888,2,  34.0891,2,    147.6,6,    39.75,4,    25.42,6,     0.00,6,     1.82,6,    2.585,2,    1.334,2,   2182.8,2,   2277.4,2,   7.6136,2,    25.00,  -999.00,9,  -999.00,9,   8.0995,      718
  49UP20130619,  P03W,   114,  1,     26,     84,2,20130905,0530, 27.0188, 178.9918, 5356,    706.1,   6.2933,   6.2997,  34.0776,2,  34.0794,6,     99.5,2,    62.71,4,    32.98,2,     0.00,2,     2.38,2,    1.704,6,    0.809,6,   2248.1,2,   2296.4,2,   7.4899,2,    25.00,  -999.00,9,  -999.00,9,   6.2997,      715
  49UP20130619,  P03W,   114,  1,     25,     98,2,20130905,0530, 27.0188, 178.9918, 5356,    807.1,   5.1078,   5.1073,  34.1587,2,  34.1594,2,     57.4,2,    85.44,4,    38.73,2,     0.00,2,     2.80,2,    0.739,2,    0.366,2,   2296.0,6,   2318.6,6,   7.3972,2,    25.00,  -999.00,9,  -999.00,9,   5.1073,      713
  49UP20130619,  P03W,   114,  1,     24,    110,2,20130905,0530, 27.0188, 178.9918, 5356,    909.4,   4.4314,   4.4297,  34.2327,2,  34.2314,2,     40.7,2,   101.25,4,    41.08,2,     0.00,2,     2.96,2,    0.374,2,    0.184,2,   2332.6,2,   2336.7,2,   7.3639,6,    25.00,  -999.00,9,  -999.00,9,   4.4297,      710
  49UP20130619,  P03W,   114,  1,     23,     96,2,20130905,0530, 27.0188, 178.9918, 5356,   1009.3,   3.9385,   3.9377,  34.3026,2,  34.3029,2,     33.0,2,   113.65,4,    42.42,2,     0.00,2,     3.05,2,    0.179,2,    0.080,2,   2345.4,2,   2352.9,2,   7.3525,2,    25.00,  -999.00,9,  -999.00,9,   3.9377,      708
  49UP20130619,  P03W,   114,  1,     22,    111,2,20130905,0530, 27.0188, 178.9918, 5356,   1211.8,   3.3015,   3.3005,  34.4379,2,  34.4389,2,     38.6,2,   129.97,4,    42.70,2,     0.00,2,     3.06,2,    0.041,2,    0.025,2,   2365.6,2,   2378.8,2,   7.3745,2,    25.00,  -999.00,9,  -999.00,9,   3.3005,      703
  49UP20130619,  P03W,   114,  1,     21,     78,2,20130905,0530, 27.0188, 178.9918, 5356,   1414.9,   2.8158,   2.8154,  34.5093,2,  34.5099,6,     51.0,2,   140.95,4,    42.37,2,     0.00,2,     3.01,2,    0.000,2,    0.000,2,   2374.5,2,   2393.3,2,   7.3999,2,    25.00,  -999.00,9,  -999.00,9,   2.8154,      659
  49UP20130619,  P03W,   114,  1,     20,     93,2,20130905,0530, 27.0188, 178.9918, 5356,   1617.7,   2.4765,   2.4766,  34.5545,2,  34.5545,2,     65.0,2,   146.86,4,    41.47,2,     0.00,2,     2.95,2,    0.000,2,    0.000,2,   2367.9,2,   2401.3,2,   7.4285,2,    25.00,  -999.00,9,  -999.00,9,   2.4766,      654
  49UP20130619,  P03W,   114,  1,     19,     92,3,20130905,0530, 27.0188, 178.9918, 5356,   1821.4,   2.2204,   2.2204,  34.5842,2,  34.5848,2,     77.2,2,   151.74,4,    40.79,2,     0.00,2,     2.90,2,    0.012,2,    0.021,2,   2360.9,3,   2409.0,2,   7.4522,2,    25.00,  -999.00,9,  -999.00,9,   2.2204,      649
  49UP20130619,  P03W,   114,  1,     18,    101,2,20130905,0530, 27.0188, 178.9918, 5356,   2024.9,   2.0024,   2.0025,  34.6071,2,  34.6074,2,     87.4,6,   154.90,4,    40.28,6,     0.00,6,     2.85,6,    0.000,2,    0.000,2,   2363.2,2,   2412.5,2,   7.4694,2,    25.00,  -999.00,9,  -999.00,9,   2.0025,      645
  49UP20130619,  P03W,   114,  1,     17,     90,2,20130905,0530, 27.0188, 178.9918, 5356,   2228.2,   1.8385,   1.8388,  34.6252,2,  34.6252,2,     98.0,2,   157.15,4,    39.59,2,     0.00,2,     2.79,2,    0.000,2,    0.000,2,   2362.8,6,   2415.4,6,   7.4893,2,    25.00,  -999.00,9,  -999.00,9,   1.8388,      640
  49UP20130619,  P03W,   114,  1,     16,     89,2,20130905,0530, 27.0188, 178.9918, 5356,   2429.9,   1.7375,   1.7375,  34.6383,2,  34.6385,2,    107.0,2,   157.15,4,    39.05,2,     0.00,2,     2.75,2, -999.000,9, -999.000,9,   2356.4,2,   2418.8,2,   7.5065,6,    25.00,  -999.00,9,  -999.00,9,   1.7375,      636
  49UP20130619,  P03W,   114,  1,     15,     88,2,20130905,0530, 27.0188, 178.9918, 5356,   2635.0,   1.6541,   1.6541,  34.6491,2,  34.6505,2,    115.8,2,   156.82,4,    38.50,2,     0.00,2,     2.70,2, -999.000,9, -999.000,9,   2354.1,2,   2418.1,2,   7.5236,2,    25.00,  -999.00,9,  -999.00,9,   1.6541,      631
  49UP20130619,  P03W,   114,  1,     14,    999,2,20130905,0530, 27.0188, 178.9918, 5356,   2635.0,   1.6541,   1.6541,  34.6491,2,  34.6497,2,    116.2,2,   156.86,4,    38.53,2,     0.00,2,     2.71,2, -999.000,9, -999.000,9,   2351.8,2,   2418.9,2,   7.5231,2,    25.00,  -999.00,9,  -999.00,9,   1.6541,      631
  49UP20130619,  P03W,   114,  1,     13,    667,2,20130905,0530, 27.0188, 178.9918, 5356,   2837.7,   1.6023,   1.6024,  34.6567,2,  34.6567,6,    122.5,2,   156.18,4,    38.05,2,     0.00,2,     2.68,2, -999.000,9, -999.000,9,   2348.5,2,   2419.0,2,   7.5366,2,    25.00,  -999.00,9,  -999.00,9,   1.6024,      627
  49UP20130619,  P03W,   114,  1,     12,     74,2,20130905,0530, 27.0188, 178.9918, 5356,   3042.4,   1.5589,   1.5590,  34.6627,2,  34.6629,2,    128.5,2,   155.85,4,    37.73,2,     0.00,2,     2.64,2, -999.000,9, -999.000,9,   2342.9,6,   2419.7,6,   7.5454,2,    25.00,  -999.00,9,  -999.00,9,   1.5590,      622
  49UP20130619,  P03W,   114,  1,     11,    996,2,20130905,0530, 27.0188, 178.9918, 5356,   3297.4,   1.5125,   1.5127,  34.6688,2,  34.6687,2,    133.4,2,   155.55,4,    37.36,2,     0.00,2,     2.62,2, -999.000,9, -999.000,9,   2342.4,2,   2420.4,2,   7.5511,6,    25.00,  -999.00,9,  -999.00,9,   1.5127,      617
  49UP20130619,  P03W,   114,  1,     10,    107,2,20130905,0530, 27.0188, 178.9918, 5356,   3553.2,   1.4824,   1.4824,  34.6748,2,  34.6752,2,    141.0,2,   153.78,4,    36.83,2,     0.00,2,     2.58,2,    0.000,2,    0.000,2,   2335.8,2,   2419.2,2,   7.5634,2,    25.00,  -999.00,9,  -999.00,9,   1.4824,      612
  49UP20130619,  P03W,   114,  1,      9,    108,2,20130905,0530, 27.0188, 178.9918, 5356,   3810.9,   1.4668,   1.4670,  34.6790,2,  34.6791,2,    145.4,6,   152.97,4,    36.45,6,     0.00,6,     2.55,6, -999.000,9, -999.000,9,   2330.3,2,   2418.6,2,   7.5725,2,    25.00,  -999.00,9,  -999.00,9,   1.4670,      606
  49UP20130619,  P03W,   114,  1,      8,     81,2,20130905,0530, 27.0188, 178.9918, 5356,   4066.6,   1.4596,   1.4598,  34.6826,2,  34.6827,6,    150.1,2,   151.67,4,    36.25,2,     0.00,2,     2.53,2, -999.000,9, -999.000,9,   2329.1,2,   2419.8,2,   7.5792,2,    25.00,  -999.00,9,  -999.00,9,   1.4598,      601
  49UP20130619,  P03W,   114,  1,      7,    106,2,20130905,0530, 27.0188, 178.9918, 5356,   4322.3,   1.4622,   1.4623,  34.6853,2,  34.6850,2,    153.8,2,   149.85,4,    35.99,2,     0.00,2,     2.51,2, -999.000,9, -999.000,9,   2322.1,2,   2417.4,2,   7.5854,2,    25.00,  -999.00,9,  -999.00,9,   1.4623,      556
  49UP20130619,  P03W,   114,  1,      6,    113,2,20130905,0530, 27.0188, 178.9918, 5356,   4579.2,   1.4668,   1.4669,  34.6877,2,  34.6873,2,    157.7,2,   147.64,4,    35.78,2,     0.00,2,     2.49,2, -999.000,9, -999.000,9,   2324.4,2,   2416.0,2,   7.5897,2,    25.00,  -999.00,9,  -999.00,9,   1.4669,      550
  49UP20130619,  P03W,   114,  1,      5,     94,2,20130905,0530, 27.0188, 178.9918, 5356,   4834.9,   1.4693,   1.4695,  34.6900,2,  34.6901,2,    162.8,2,   144.38,4,    35.31,2,     0.00,2,     2.46,2, -999.000,9, -999.000,9,   2315.2,2,   2413.0,2,   7.5957,2,    25.00,  -999.00,9,  -999.00,9,   1.4695,      545
  49UP20130619,  P03W,   114,  1,      4,     77,2,20130905,0530, 27.0188, 178.9918, 5356,   5093.0,   1.4766,   1.4766,  34.6921,2,  34.6921,2,    167.6,2,   138.80,4,    34.93,2,     0.00,2,     2.43,2,    0.000,2,    0.000,2,   2311.7,2,   2409.9,2,   7.6024,2,    25.00,  -999.00,9,  -999.00,9,   1.4766,      539
  49UP20130619,  P03W,   114,  1,      3,    104,2,20130905,0530, 27.0188, 178.9918, 5356,   5351.0,   1.4775,   1.4776,  34.6949,2,  34.6947,2,    172.5,2,   135.10,4,    34.60,2,     0.00,2,     2.40,2, -999.000,9, -999.000,9,   2302.2,2,   2404.0,2,   7.6029,3,    25.00,  -999.00,9,  -999.00,9,   1.4776,      534
  49UP20130619,  P03W,   114,  1,      2,     75,2,20130905,0530, 27.0188, 178.9918, 5356,   5351.0,   1.4775,   1.4776,  34.6949,2,  34.6946,2,    173.1,2,   134.97,4,    34.59,2,     0.00,2,     2.40,2, -999.000,9, -999.000,9,   2305.0,2,   2404.4,2,   7.6069,2,    25.00,  -999.00,9,  -999.00,9,   1.4776,      534
  49UP20130619,  P03W,   114,  1,      1,    997,2,20130905,0530, 27.0188, 178.9918, 5356,   5503.0,   1.4894,   1.4895,  34.6955,2,  34.6957,2,    174.2,2,   135.19,4,    34.50,2,     0.00,2,     2.42,4,    0.028,2,    0.008,2,   2304.0,2,   2402.9,2,   7.6062,2,    25.00,  -999.00,9,  -999.00,9,   1.4895,      530