BOTTLE,20180830PRINUNIVRMK
EXPOCODE,SECT_ID,STNNBR,CASTNO,SAMPNO,BTLNBR,BTLNBR_FLAG_W,DATE,TIME,LATITUDE,LONGITUDE,DEPTH,CTDPRS,CTDTMP,SBE35,CTDSAL,CTDSAL_FLAG_W,SALNTY,SALNTY_FLAG_W,OXYGEN,OXYGEN_FLAG_W,SILCAT,SILCAT_FLAG_W,NITRAT,NITRAT_FLAG_W,NITRIT,NITRIT_FLAG_W,PHSPHT,PHSPHT_FLAG_W,CFC-11,CFC-11_FLAG_W,CFC-12,CFC-12_FLAG_W,TCARBN,TCARBN_FLAG_W,ALKALI,ALKALI_FLAG_W,PH_TOT,PH_TOT_FLAG_W,PH_TMP,CHLORA,CHLORA_FLAG_W,PPHYTN,PPHYTN_FLAG_W,SBE35,BTL_TIME
,,,,,,,,,,,METERS,DBAR,ITS-90,,PSS-78,,PSS-78,,UMOL/KG,,UMOL/KG,,UMOL/KG,,UMOL/KG,,UMOL/KG,,PMOL/KG,,PMOL/KG,,UMOL/KG,,UMOL/KG,,,,DEG C,UG/KG,,UG/KG,,,
  49UP20130619,  P03W,    41,  1,      0,   -999,0,20130707,2057, 23.9837, 130.9830, 3331,      0.0,  29.5234,-999.0000,  34.7029,2,  34.6951,2,    196.4,2,     1.06,2,     0.00,2,     0.00,2,     0.04,2, -999.000,9, -999.000,9,   1953.4,2,   2279.9,2,   8.0964,2,    25.00,     0.05,2,     0.01,2,-999.0000,     2203
  49UP20130619,  P03W,    41,  1,     36,    109,2,20130707,2057, 23.9837, 130.9830, 3331,     10.2,  29.5655,  29.5696,  34.7018,2,  34.7016,2,    196.3,2,     1.04,2,     0.00,2,     0.00,2,     0.02,2, -999.000,9, -999.000,9,   1951.0,2,   2274.0,2,   8.0911,2,    25.00,     0.05,2,     0.01,2,  29.5696,     2225
  49UP20130619,  P03W,    41,  1,     35,    112,2,20130707,2057, 23.9837, 130.9830, 3331,     49.4,  24.6606,  24.6544,  34.6332,2,  34.6463,4,    219.8,2,     1.27,2,     0.00,2,     0.00,2,     0.01,2, -999.000,9, -999.000,9,   1966.6,2,   2275.4,2,   8.0689,2,    25.00,     0.08,2,     0.03,2,  24.6544,     2220
  49UP20130619,  P03W,    41,  1,     34,     83,2,20130707,2057, 23.9837, 130.9830, 3331,    100.9,  20.4527,  20.4606,  34.8493,2,  34.8487,2,    211.3,2,     1.82,2,     0.03,2,     0.02,2,     0.04,2, -999.000,9, -999.000,9,   2010.7,2,   2293.0,2,   8.0191,2,    25.00,     0.25,2,     0.20,2,  20.4606,     2219
  49UP20130619,  P03W,    41,  1,     30,     97,2,20130707,2057, 23.9837, 130.9830, 3331,    150.6,  18.9022,  18.8980,  34.8055,2,  34.7975,4,    196.2,2,     2.86,2,     3.34,2,     0.02,2,     0.22,2, -999.000,9, -999.000,9,   2031.6,2,   2287.9,2,   7.9673,2,    25.00,  -999.00,9,  -999.00,9,  18.8980,     2217
  49UP20130619,  P03W,    41,  1,     29,    102,2,20130707,2057, 23.9837, 130.9830, 3331,    150.6,  18.9022,  18.8980,  34.8055,2,  34.7975,4,    196.3,2,     2.90,2,     3.33,2,     0.02,2,     0.23,2, -999.000,9, -999.000,9,   2030.8,2,   2281.4,2,   7.9637,2,    25.00,     0.08,2,     0.23,2,  18.8980,     2217
  49UP20130619,  P03W,    41,  1,     25,     98,2,20130707,2057, 23.9837, 130.9830, 3331,    201.8,  17.6831,  17.6887,  34.7387,2,  34.7380,2,    206.8,6,     3.54,6,     4.00,6,     0.01,6,     0.28,6, -999.000,9, -999.000,9,   2029.7,2,   2281.0,2,   7.9674,2,    25.00,     0.00,2,     0.03,2,  17.6887,     2215
  49UP20130619,  P03W,    41,  1,     24,    110,2,20130707,2057, 23.9837, 130.9830, 3331,    251.1,  17.0982,  17.0992,  34.7065,2,  34.7047,2,    206.8,2,     4.39,2,     4.96,2,     0.00,2,     0.34,2, -999.000,9, -999.000,9,   2035.3,2,   2282.9,2,   7.9475,2,    25.00,  -999.00,9,  -999.00,9,  17.0992,     2213
  49UP20130619,  P03W,    41,  1,     23,     96,2,20130707,2057, 23.9837, 130.9830, 3331,    282.3,  16.6104,  16.6100,  34.6687,2,  34.6676,2,    199.2,2,     5.73,2,     6.37,2,     0.00,2,     0.44,2, -999.000,9, -999.000,9,   2046.2,6,   2282.3,6,   7.9269,2,    25.00,  -999.00,9,  -999.00,9,  16.6100,     2211
  49UP20130619,  P03W,    41,  1,     22,    111,2,20130707,2057, 23.9837, 130.9830, 3331,    372.6,  14.5243,  14.5246,  34.5228,2,  34.5223,2,    180.9,2,    11.58,2,    11.19,2,     0.00,2,     0.79,2, -999.000,9, -999.000,9,   2083.2,2,   2272.2,2,   7.8465,6,    25.00,  -999.00,9,  -999.00,9,  14.5246,     2208
  49UP20130619,  P03W,    41,  1,     21,     78,2,20130707,2057, 23.9837, 130.9830, 3331,    473.5,  11.0118,  11.0105,  34.2849,2,  34.2836,2,    172.9,2,    23.58,2,    17.75,2,     0.00,2,     1.28,2, -999.000,9, -999.000,9,   2127.1,2,   2276.3,2,   7.7522,2,    25.00,  -999.00,9,  -999.00,9,  11.0105,     2206
  49UP20130619,  P03W,    41,  1,     20,     93,2,20130707,2057, 23.9837, 130.9830, 3331,    574.0,   8.2596,   8.2548,  34.1624,2,  34.1623,2,    131.9,2,    42.78,2,    26.36,2,     0.00,2,     1.91,2, -999.000,9, -999.000,9,   2195.0,2,   2290.8,2,   7.6019,2,    25.00,  -999.00,9,  -999.00,9,   8.2548,     2203
  49UP20130619,  P03W,    41,  1,     19,     92,2,20130707,2057, 23.9837, 130.9830, 3331,    676.1,   6.2936,   6.2946,  34.1489,2,  34.1489,2,    104.6,2,    68.15,2,    32.24,2,     0.00,2,     2.34,2, -999.000,9, -999.000,9,   2247.4,2,   2310.8,2,   7.5126,2,    25.00,  -999.00,9,  -999.00,9,   6.2946,     2159
  49UP20130619,  P03W,    41,  1,     17,     90,2,20130707,2057, 23.9837, 130.9830, 3331,    777.3,   5.0026,   5.0027,  34.2050,2,  34.2040,6,     70.1,2,    88.81,2,    37.53,2,     0.00,2,     2.72,2, -999.000,9, -999.000,9,   2296.2,2,   2328.1,2,-999.0000,5,    25.00,  -999.00,9,  -999.00,9,   5.0027,     2156
  49UP20130619,  P03W,    41,  1,     16,     89,2,20130707,2057, 23.9837, 130.9830, 3331,    777.3,   5.0026,   5.0027,  34.2050,2,  34.2041,2,     70.2,2,    88.90,2,    37.51,2,     0.00,2,     2.73,2, -999.000,9, -999.000,9,   2293.5,2,   2332.5,2,   7.4269,2,    25.00,  -999.00,9,  -999.00,9,   5.0027,     2156
  49UP20130619,  P03W,    41,  1,     15,     88,2,20130707,2057, 23.9837, 130.9830, 3331,    878.3,   4.4558,   4.4560,  34.2728,2,  34.2724,2,     60.5,6,   101.51,6,    39.19,6,     0.00,6,     2.83,2, -999.000,9, -999.000,9,   2315.1,2,   2345.3,2,   7.4114,2,    25.00,  -999.00,9,  -999.00,9,   4.4560,     2153
  49UP20130619,  P03W,    41,  1,     14,    999,2,20130707,2057, 23.9837, 130.9830, 3331,    980.0,   3.9159,   3.9161,  34.3600,2,  34.3586,2,     56.5,2,   113.90,2,    40.29,2,     0.00,2,     2.90,2, -999.000,9, -999.000,9,   2333.9,2,   2363.9,2,   7.4090,2,    25.00,  -999.00,9,  -999.00,9,   3.9161,     2150
  49UP20130619,  P03W,    41,  1,     13,    667,2,20130707,2057, 23.9837, 130.9830, 3331,   1140.8,   3.4163,   3.4166,  34.4384,2,  34.4382,2,     62.0,2,   124.52,2,    40.58,2,     0.00,2,     2.92,2, -999.000,9, -999.000,9,   2344.2,2,   2378.5,2,   7.4203,3,    25.00,  -999.00,9,  -999.00,9,   3.4166,     2146
  49UP20130619,  P03W,    41,  1,     12,     74,2,20130707,2057, 23.9837, 130.9830, 3331,   1343.6,   2.8562,   2.8562,  34.5149,2,  34.5152,2,     78.2,2,   134.17,2,    39.84,2,     0.00,2,     2.85,2, -999.000,9, -999.000,9,   2342.9,2,   2387.2,2,   7.4568,2,    25.00,  -999.00,9,  -999.00,9,   2.8562,     2142
  49UP20130619,  P03W,    41,  1,     11,    996,2,20130707,2057, 23.9837, 130.9830, 3331,   1545.1,   2.4748,   2.4748,  34.5546,2,  34.5541,2,     90.3,2,  -999.00,5,  -999.00,5,  -999.00,5,  -999.00,5, -999.000,9, -999.000,9,   2349.5,6,   2396.5,2,   7.4803,2,    25.00,  -999.00,9,  -999.00,9,   2.4748,     2137
  49UP20130619,  P03W,    41,  1,     10,    107,2,20130707,2057, 23.9837, 130.9830, 3331,   1748.7,   2.1459,   2.1459,  34.5910,2,  34.5889,4,    104.4,6,   141.51,6,    38.60,6,     0.00,6,     2.74,6, -999.000,9, -999.000,9,   2346.6,2,   2407.1,2,   7.5037,6,    25.00,  -999.00,9,  -999.00,9,   2.1459,     2133
  49UP20130619,  P03W,    41,  1,      9,    108,2,20130707,2057, 23.9837, 130.9830, 3331,   1951.0,   1.9881,   1.9879,  34.6139,2,  34.6138,2,    114.5,2,   142.56,2,    38.13,2,     0.00,2,     2.70,2, -999.000,9, -999.000,9,   2342.7,2,   2415.6,2,   7.5222,2,    25.00,  -999.00,9,  -999.00,9,   1.9879,     2128
  49UP20130619,  P03W,    41,  1,      8,     81,2,20130707,2057, 23.9837, 130.9830, 3331,   2154.6,   1.8686,   1.8686,  34.6297,2,  34.6296,2,    121.8,2,   142.60,2,    37.75,2,     0.00,2,     2.67,2, -999.000,9, -999.000,9,   2339.2,2,   2416.8,2,   7.5347,2,    25.00,  -999.00,9,  -999.00,9,   1.8686,     2124
  49UP20130619,  P03W,    41,  1,      7,    106,2,20130707,2057, 23.9837, 130.9830, 3331,   2357.6,   1.7903,   1.7903,  34.6403,2,  34.6403,6,    127.2,2,   143.11,2,    37.42,2,     0.00,2,     2.64,2, -999.000,9, -999.000,9,   2337.1,2,   2417.0,2,   7.5420,2,    25.00,  -999.00,9,  -999.00,9,   1.7903,     2120
  49UP20130619,  P03W,    41,  1,      6,    113,2,20130707,2057, 23.9837, 130.9830, 3331,   2561.9,   1.7110,   1.7112,  34.6495,2,  34.6522,4,    132.6,2,   142.90,2,    37.12,2,     0.00,2,     2.62,2, -999.000,9, -999.000,9,   2331.1,2,   2416.6,2,   7.5531,2,    25.00,  -999.00,9,  -999.00,9,   1.7112,     2115
  49UP20130619,  P03W,    41,  1,      5,     94,2,20130707,2057, 23.9837, 130.9830, 3331,   2561.9,   1.7110,   1.7112,  34.6495,2,  34.6496,6,    132.6,2,   143.01,2,    37.12,2,     0.00,2,     2.62,2, -999.000,9, -999.000,9,   2333.9,2,   2416.9,2,-999.0000,5,    25.00,  -999.00,9,  -999.00,9,   1.7112,     2115
  49UP20130619,  P03W,    41,  1,      4,     77,2,20130707,2057, 23.9837, 130.9830, 3331,   2765.2,   1.6663,   1.6664,  34.6557,2,  34.6555,2,    136.6,2,   142.78,2,    36.91,2,     0.00,2,     2.59,2, -999.000,9, -999.000,9,   2334.4,2,   2417.0,2,   7.5604,2,    25.00,  -999.00,9,  -999.00,9,   1.6664,     2111
  49UP20130619,  P03W,    41,  1,      3,    104,2,20130707,2057, 23.9837, 130.9830, 3331,   2969.3,   1.6134,   1.6133,  34.6628,2,  34.6628,2,    141.7,2,   142.52,2,    36.61,2,     0.00,2,     2.57,2, -999.000,9, -999.000,9,   2335.8,2,   2415.2,2,   7.5680,2,    25.00,  -999.00,9,  -999.00,9,   1.6133,     2107
  49UP20130619,  P03W,    41,  1,      2,     75,2,20130707,2057, 23.9837, 130.9830, 3331,   3215.5,   1.5726,   1.5725,  34.6693,2,  34.6696,2,    145.8,2,   142.24,2,    36.32,2,     0.00,2,     2.55,2, -999.000,9, -999.000,9,   2333.0,6,   2417.5,6,   7.5762,2,    25.00,  -999.00,9,  -999.00,9,   1.5725,     2102
  49UP20130619,  P03W,    41,  1,      1,    997,2,20130707,2057, 23.9837, 130.9830, 3331,   3409.4,   1.5833,   1.5833,  34.6702,2,  34.6706,2,    146.2,2,   142.34,2,    36.31,2,     0.00,2,     2.55,2, -999.000,9, -999.000,9,   2332.1,2,   2417.9,2,   7.5745,6,    25.00,  -999.00,9,  -999.00,9,   1.5833,     2057