BOTTLE,20180830PRINUNIVRMK
EXPOCODE,SECT_ID,STNNBR,CASTNO,SAMPNO,BTLNBR,BTLNBR_FLAG_W,DATE,TIME,LATITUDE,LONGITUDE,DEPTH,CTDPRS,CTDTMP,SBE35,CTDSAL,CTDSAL_FLAG_W,SALNTY,SALNTY_FLAG_W,OXYGEN,OXYGEN_FLAG_W,SILCAT,SILCAT_FLAG_W,NITRAT,NITRAT_FLAG_W,NITRIT,NITRIT_FLAG_W,PHSPHT,PHSPHT_FLAG_W,CFC-11,CFC-11_FLAG_W,CFC-12,CFC-12_FLAG_W,TCARBN,TCARBN_FLAG_W,ALKALI,ALKALI_FLAG_W,PH_TOT,PH_TOT_FLAG_W,PH_TMP,CHLORA,CHLORA_FLAG_W,PPHYTN,PPHYTN_FLAG_W,SBE35,BTL_TIME
,,,,,,,,,,,METERS,DBAR,ITS-90,,PSS-78,,PSS-78,,UMOL/KG,,UMOL/KG,,UMOL/KG,,UMOL/KG,,UMOL/KG,,PMOL/KG,,PMOL/KG,,UMOL/KG,,UMOL/KG,,,,DEG C,UG/KG,,UG/KG,,,
  49UP20130619,  P03W,   116,  1,      0,   -999,0,20130905,1940, 27.9980, 179.0112, 5258,      0.0,  27.5523,-999.0000,  35.3338,2,  35.3336,2,    201.9,2,     1.09,2,     0.01,2,     0.00,2,     0.02,2, -999.000,9, -999.000,9,   1992.9,2,   2321.3,2,   8.0935,2,    25.00,     0.05,2,     0.02,2,-999.0000,     2122
  49UP20130619,  P03W,   116,  1,     36,    109,2,20130905,1940, 27.9980, 179.0112, 5258,      9.8,  27.4318,  27.4271,  35.3288,2,  35.3304,2,    201.2,2,     1.12,2,     0.00,2,     0.00,2,     0.02,2, -999.000,9, -999.000,9,   1995.4,2,   2320.6,2,   8.0942,2,    25.00,     0.05,2,     0.02,2,  27.4271,     2141
  49UP20130619,  P03W,   116,  1,     35,    112,2,20130905,1940, 27.9980, 179.0112, 5258,     50.3,  23.3663,  23.3329,  35.1870,2,  35.1916,2,    235.0,2,     1.40,2,     0.00,2,     0.00,2,     0.01,2, -999.000,9, -999.000,9,   1997.4,2,   2311.6,2,   8.0739,2,    25.00,     0.09,2,     0.03,2,  23.3329,     2137
  49UP20130619,  P03W,   116,  1,     34,     83,2,20130905,1940, 27.9980, 179.0112, 5258,    100.6,  20.3479,  20.3979,  35.0157,2,  35.0144,2,    222.1,6,     1.90,6,     0.01,6,     0.00,6,     0.04,6, -999.000,9, -999.000,9,   2018.4,2,   2302.3,2,   8.0263,2,    25.00,     0.17,2,     0.20,2,  20.3979,     2136
  49UP20130619,  P03W,   116,  1,     33,    517,2,20130905,1940, 27.9980, 179.0112, 5258,    150.8,  17.7066,  17.7116,  34.7309,2,  34.7310,2,    218.7,2,     2.88,2,     1.79,2,     0.02,2,     0.17,2, -999.000,9, -999.000,9,   2031.5,2,   2282.9,2,   7.9733,2,    25.00,     0.06,2,     0.17,2,  17.7116,     2134
  49UP20130619,  P03W,   116,  1,     32,    105,2,20130905,1940, 27.9980, 179.0112, 5258,    201.8,  16.4518,  16.4322,  34.6348,2,  34.6359,2,    212.7,2,     4.71,2,     5.05,2,     0.01,2,     0.35,2, -999.000,9, -999.000,9,   2043.6,2,   2276.6,2,   7.9400,2,    25.00,     0.01,2,     0.01,2,  16.4322,     2133
  49UP20130619,  P03W,   116,  1,     31,     76,2,20130905,1940, 27.9980, 179.0112, 5258,    252.0,  15.5982,  15.5923,  34.5662,2,  34.5617,2,    219.0,2,     5.86,2,     5.69,2,     0.00,2,     0.40,2, -999.000,9, -999.000,9,   2045.5,2,   2273.8,2,   7.9289,2,    25.00,  -999.00,9,  -999.00,9,  15.5923,     2131
  49UP20130619,  P03W,   116,  1,     30,     97,2,20130905,1940, 27.9980, 179.0112, 5258,    282.2,  15.0121,  15.0072,  34.5297,2,  34.5245,6,    212.3,2,     7.56,2,     7.32,2,     0.00,2,     0.52,2, -999.000,9, -999.000,9,   2061.5,2,   2274.7,2,   7.9042,2,    25.00,  -999.00,9,  -999.00,9,  15.0072,     2129
  49UP20130619,  P03W,   116,  1,     29,    102,2,20130905,1940, 27.9980, 179.0112, 5258,    372.7,  12.9453,  12.9437,  34.3854,2,  34.3825,2,    207.0,2,    12.89,2,    11.28,2,     0.00,2,     0.80,2, -999.000,9, -999.000,9,   2086.2,2,   2271.9,2,   7.8432,2,    25.00,  -999.00,9,  -999.00,9,  12.9437,     2127
  49UP20130619,  P03W,   116,  1,     28,     91,4,20130905,1940, 27.9980, 179.0112, 5258,    473.9,  10.5765,  10.5667,  34.2168,2,  34.6954,4,    174.0,4,   134.70,4,    34.49,4,     0.00,4,     2.40,4, -999.000,9, -999.000,9,   2306.6,4,   2406.2,4,   7.6099,4,    25.00,  -999.00,9,  -999.00,9,  10.5667,     2124
  49UP20130619,  P03W,   116,  1,     27,    998,2,20130905,1940, 27.9980, 179.0112, 5258,    575.3,   8.2084,   8.1904,  34.0851,2,  34.0832,2,    160.8,2,    38.76,2,    24.16,2,     0.00,2,     1.74,2, -999.000,9, -999.000,9,   2176.6,6,   2279.4,6,   7.6368,2,    25.00,  -999.00,9,  -999.00,9,   8.1904,     2122
  49UP20130619,  P03W,   116,  1,     26,     84,2,20130905,1940, 27.9980, 179.0112, 5258,    675.3,   6.1953,   6.1802,  34.0435,2,  34.0384,4,    116.6,2,    62.98,2,    31.86,2,     0.00,2,     2.31,2, -999.000,9, -999.000,9,   2241.5,2,   2296.5,2,   7.5078,6,    25.00,  -999.00,9,  -999.00,9,   6.1802,     2119
  49UP20130619,  P03W,   116,  1,     25,     98,2,20130905,1940, 27.9980, 179.0112, 5258,    776.5,   4.9808,   4.9788,  34.1099,2,  34.1142,4,     69.8,6,    86.22,6,    37.85,6,     0.00,6,     2.74,6, -999.000,9, -999.000,9,   2292.4,2,   2319.3,2,   7.4079,2,    25.00,  -999.00,9,  -999.00,9,   4.9788,     2117
  49UP20130619,  P03W,   116,  1,     24,    110,2,20130905,1940, 27.9980, 179.0112, 5258,    877.8,   4.3173,   4.3163,  34.2034,2,  34.2072,4,     44.4,2,   103.14,2,    40.92,2,     0.00,2,     2.95,2, -999.000,9, -999.000,9,   2329.1,2,   2338.8,2,   7.3661,2,    25.00,  -999.00,9,  -999.00,9,   4.3163,     2114
  49UP20130619,  P03W,   116,  1,     23,     96,2,20130905,1940, 27.9980, 179.0112, 5258,    978.4,   3.8061,   3.8010,  34.2988,2,  34.3002,2,     32.0,2,   117.26,2,    42.53,2,     0.00,2,     3.07,2, -999.000,9, -999.000,9,   2352.2,2,   2357.7,2,   7.3477,2,    25.00,  -999.00,9,  -999.00,9,   3.8010,     2112
  49UP20130619,  P03W,   116,  1,     22,    111,2,20130905,1940, 27.9980, 179.0112, 5258,   1142.3,   3.2637,   3.2637,  34.3910,2,  34.3913,2,     26.9,2,   133.37,2,    43.43,2,     0.00,2,     3.12,2, -999.000,9, -999.000,9,   2373.9,6,   2378.1,6,   7.3440,2,    25.00,  -999.00,9,  -999.00,9,   3.2637,     2108
  49UP20130619,  P03W,   116,  1,     21,     78,2,20130905,1940, 27.9980, 179.0112, 5258,   1344.6,   2.8104,   2.8128,  34.4820,2,  34.4816,2,     35.9,2,   144.81,2,    43.23,2,     0.00,2,     3.09,2, -999.000,9, -999.000,9,   2382.3,2,   2392.2,2,   7.3692,6,    25.00,  -999.00,9,  -999.00,9,   2.8128,     2104
  49UP20130619,  P03W,   116,  1,     20,     93,2,20130905,1940, 27.9980, 179.0112, 5258,   1547.2,   2.4640,   2.4641,  34.5377,2,  34.5380,2,     51.4,2,   152.07,2,    42.45,2,     0.00,2,     3.02,2, -999.000,9, -999.000,9,   2380.9,2,   2405.3,2,   7.3993,2,    25.00,  -999.00,9,  -999.00,9,   2.4641,     2100
  49UP20130619,  P03W,   116,  1,     19,     92,2,20130905,1940, 27.9980, 179.0112, 5258,   1748.8,   2.1876,   2.1876,  34.5722,2,  34.5723,2,     60.5,2,   159.01,2,    42.12,2,     0.00,2,     2.98,2, -999.000,9, -999.000,9,   2381.5,2,   2412.5,2,   7.4187,2,    25.00,  -999.00,9,  -999.00,9,   2.1876,     2055
  49UP20130619,  P03W,   116,  1,     18,    101,2,20130905,1940, 27.9980, 179.0112, 5258,   1748.8,   2.1876,   2.1876,  34.5722,2,  34.5723,2,     60.6,2,   159.15,2,    42.01,2,     0.00,2,     2.98,2, -999.000,9, -999.000,9,   2382.3,2,   2414.1,2,   7.4179,2,    25.00,  -999.00,9,  -999.00,9,   2.1876,     2055
  49UP20130619,  P03W,   116,  1,     17,     90,2,20130905,1940, 27.9980, 179.0112, 5258,   1952.5,   1.9641,   1.9638,  34.6023,2,  34.6028,2,     78.6,2,   160.56,2,    40.89,3,     0.00,2,     2.90,2, -999.000,9, -999.000,9,   2374.1,2,   2416.6,2,   7.4510,2,    25.00,  -999.00,9,  -999.00,9,   1.9638,     2051
  49UP20130619,  P03W,   116,  1,     16,     89,2,20130905,1940, 27.9980, 179.0112, 5258,   2154.5,   1.8312,   1.8316,  34.6218,2,  34.6212,2,     93.1,6,   159.75,6,    39.89,6,     0.00,6,     2.83,6, -999.000,9, -999.000,9,   2366.0,2,   2418.0,2,   7.4791,2,    25.00,  -999.00,9,  -999.00,9,   1.8316,     2047
  49UP20130619,  P03W,   116,  1,     15,     88,2,20130905,1940, 27.9980, 179.0112, 5258,   2359.4,   1.7330,   1.7330,  34.6348,2,  34.6352,2,    102.7,2,   159.72,2,    39.36,2,     0.00,2,     2.78,2, -999.000,9, -999.000,9,   2361.9,2,   2420.6,2,   7.4969,2,    25.00,  -999.00,9,  -999.00,9,   1.7330,     2042
  49UP20130619,  P03W,   116,  1,     14,    999,2,20130905,1940, 27.9980, 179.0112, 5258,   2563.6,   1.6577,   1.6577,  34.6456,2,  34.6460,2,    111.9,2,   159.00,2,    38.80,2,     0.00,2,     2.73,2, -999.000,9, -999.000,9,   2355.2,2,   2421.0,2,   7.5119,2,    25.00,  -999.00,9,  -999.00,9,   1.6577,     2038
  49UP20130619,  P03W,   116,  1,     13,    667,2,20130905,1940, 27.9980, 179.0112, 5258,   2766.8,   1.5950,   1.5949,  34.6546,2,  34.6549,2,    119.6,2,   158.12,2,    38.26,2,     0.00,2,     2.69,2, -999.000,9, -999.000,9,   2348.1,2,   2421.7,2,   7.5274,2,    25.00,  -999.00,9,  -999.00,9,   1.5949,     2034
  49UP20130619,  P03W,   116,  1,     12,     74,2,20130905,1940, 27.9980, 179.0112, 5258,   2970.1,   1.5421,   1.5422,  34.6624,2,  34.6631,6,    127.6,2,   156.64,2,    37.68,2,     0.00,2,     2.65,2, -999.000,9, -999.000,9,   2343.2,2,   2421.8,2,   7.5407,2,    25.00,  -999.00,9,  -999.00,9,   1.5422,     2030
  49UP20130619,  P03W,   116,  1,     11,    996,2,20130905,1940, 27.9980, 179.0112, 5258,   3216.4,   1.5002,   1.5004,  34.6693,2,  34.6696,2,    134.0,2,   155.58,2,    37.28,2,     0.00,2,     2.62,2, -999.000,9, -999.000,9,   2346.3,3,   2422.0,2,   7.5535,2,    25.00,  -999.00,9,  -999.00,9,   1.5004,     2025
  49UP20130619,  P03W,   116,  1,     10,    107,2,20130905,1940, 27.9980, 179.0112, 5258,   3472.3,   1.4703,   1.4702,  34.6749,2,  34.6751,6,    140.6,2,   154.16,2,    36.85,2,     0.00,2,     2.59,2, -999.000,9, -999.000,9,   2340.1,2,   2421.9,2,   7.5628,2,    25.00,  -999.00,9,  -999.00,9,   1.4702,     2019
  49UP20130619,  P03W,   116,  1,      9,    108,2,20130905,1940, 27.9980, 179.0112, 5258,   3727.6,   1.4603,   1.4604,  34.6790,2,  34.6792,2,    145.8,2,   152.45,2,    36.55,2,     0.00,2,     2.56,2, -999.000,9, -999.000,9,   2333.7,2,   2421.2,2,   7.5743,2,    25.00,  -999.00,9,  -999.00,9,   1.4604,     2014
  49UP20130619,  P03W,   116,  1,      8,     81,2,20130905,1940, 27.9980, 179.0112, 5258,   3727.6,   1.4603,   1.4604,  34.6790,2,  34.6795,2,    146.4,2,   152.35,2,    36.47,2,     0.00,2,     2.56,2, -999.000,9, -999.000,9,   2330.2,2,   2420.8,2,   7.5698,3,    25.00,  -999.00,9,  -999.00,9,   1.4604,     2014
  49UP20130619,  P03W,   116,  1,      7,    106,2,20130905,1940, 27.9980, 179.0112, 5258,   3983.9,   1.4529,   1.4530,  34.6823,2,  34.6822,2,    148.9,6,   152.60,6,    36.30,6,     0.00,6,     2.54,6, -999.000,9, -999.000,9,   2331.2,2,   2421.2,2,   7.5772,2,    25.00,  -999.00,9,  -999.00,9,   1.4530,     2009
  49UP20130619,  P03W,   116,  1,      6,    113,2,20130905,1940, 27.9980, 179.0112, 5258,   4240.1,   1.4546,   1.4546,  34.6850,2,  34.6858,2,    153.3,2,   151.18,2,    35.96,2,     0.00,2,     2.53,2, -999.000,9, -999.000,9,   2326.6,2,   2418.7,2,   7.5851,2,    25.00,  -999.00,9,  -999.00,9,   1.4546,     2004
  49UP20130619,  P03W,   116,  1,      5,     94,3,20130905,1940, 27.9980, 179.0112, 5258,   4497.0,   1.4576,   1.4577,  34.6876,2,  34.6878,6,    157.5,2,   148.06,2,    35.59,2,     0.00,2,     2.50,2, -999.000,9, -999.000,9,   2325.2,2,   2417.7,2,   7.5895,2,    25.00,  -999.00,9,  -999.00,9,   1.4577,     1958
  49UP20130619,  P03W,   116,  1,      4,     77,2,20130905,1940, 27.9980, 179.0112, 5258,   4753.8,   1.4602,   1.4602,  34.6899,2,  34.6903,2,    162.7,2,   143.82,2,    35.32,2,     0.00,2,     2.47,2, -999.000,9, -999.000,9,   2318.7,2,   2414.7,2,   7.5971,2,    25.00,  -999.00,9,  -999.00,9,   1.4602,     1953
  49UP20130619,  P03W,   116,  1,      3,    104,2,20130905,1940, 27.9980, 179.0112, 5258,   5010.1,   1.4654,   1.4654,  34.6922,2,  34.6921,2,    167.3,2,   140.27,2,    34.92,2,     0.00,2,     2.46,2, -999.000,9, -999.000,9,   2313.8,6,   2410.8,6,   7.6008,2,    25.00,  -999.00,9,  -999.00,9,   1.4654,     1948
  49UP20130619,  P03W,   116,  1,      2,     75,2,20130905,1940, 27.9980, 179.0112, 5258,   5267.3,   1.4695,   1.4696,  34.6947,2,  34.6949,2,    172.6,2,   136.04,2,    34.56,2,     0.00,2,     2.42,2, -999.000,9, -999.000,9,   2307.1,2,   2406.3,2,   7.6058,6,    25.00,  -999.00,9,  -999.00,9,   1.4696,     1943
  49UP20130619,  P03W,   116,  1,      1,    997,2,20130905,1940, 27.9980, 179.0112, 5258,   5371.6,   1.4667,   1.4667,  34.6958,2,  34.6955,2,    173.4,3,   134.99,2,    34.51,2,     0.00,2,     2.41,2, -999.000,9, -999.000,9,   2307.1,2,   2404.0,2,   7.6051,2,    25.00,  -999.00,9,  -999.00,9,   1.4667,     1940