BOTTLE,20180830PRINUNIVRMK
EXPOCODE,SECT_ID,STNNBR,CASTNO,SAMPNO,BTLNBR,BTLNBR_FLAG_W,DATE,TIME,LATITUDE,LONGITUDE,DEPTH,CTDPRS,CTDTMP,SBE35,CTDSAL,CTDSAL_FLAG_W,SALNTY,SALNTY_FLAG_W,OXYGEN,OXYGEN_FLAG_W,SILCAT,SILCAT_FLAG_W,NITRAT,NITRAT_FLAG_W,NITRIT,NITRIT_FLAG_W,PHSPHT,PHSPHT_FLAG_W,CFC-11,CFC-11_FLAG_W,CFC-12,CFC-12_FLAG_W,TCARBN,TCARBN_FLAG_W,ALKALI,ALKALI_FLAG_W,PH_TOT,PH_TOT_FLAG_W,PH_TMP,CHLORA,CHLORA_FLAG_W,PPHYTN,PPHYTN_FLAG_W,SBE35,BTL_TIME
,,,,,,,,,,,METERS,DBAR,ITS-90,,PSS-78,,PSS-78,,UMOL/KG,,UMOL/KG,,UMOL/KG,,UMOL/KG,,UMOL/KG,,PMOL/KG,,PMOL/KG,,UMOL/KG,,UMOL/KG,,,,DEG C,UG/KG,,UG/KG,,,
  49UP20130619,  P03W,   100,  1,      0,   -999,0,20130831,1758, 24.2680, 172.7497, 5812,      0.0,  28.2658,-999.0000,  35.3068,2,  35.2903,2,    197.3,2,     0.90,2,     0.00,2,     0.00,2,     0.03,2, -999.000,9, -999.000,9,   1983.6,2,   2318.5,2,   8.1132,2,    25.00,     0.08,2,     0.03,2,-999.0000,     1957
  49UP20130619,  P03W,   100,  1,     36,    109,2,20130831,1758, 24.2680, 172.7497, 5812,     10.2,  28.2739,  28.2740,  35.3084,2,  35.3076,2,    197.7,2,     0.92,2,     0.01,2,     0.00,2,     0.02,2, -999.000,9, -999.000,9,   1981.0,2,   2320.1,2,   8.1121,2,    25.00,     0.07,2,     0.02,2,  28.2740,     2033
  49UP20130619,  P03W,   100,  1,     35,    112,2,20130831,1758, 24.2680, 172.7497, 5812,     50.5,  26.5379,  26.5363,  35.4057,2,  35.3970,2,    214.8,2,     0.80,2,     0.00,2,     0.00,2,     0.02,2, -999.000,9, -999.000,9,   1989.2,2,   2328.2,2,   8.1097,2,    25.00,     0.16,2,     0.07,2,  26.5363,     2031
  49UP20130619,  P03W,   100,  1,     34,     83,2,20130831,1758, 24.2680, 172.7497, 5812,    102.5,  23.5979,  23.5937,  35.3489,2,  35.3675,4,    199.4,2,     1.09,2,     0.02,2,     0.08,2,     0.06,2, -999.000,9, -999.000,9,   2018.3,2,   2327.7,2,   8.0571,2,    25.00,     0.15,2,     0.31,2,  23.5937,     2029
  49UP20130619,  P03W,   100,  1,     33,    517,2,20130831,1758, 24.2680, 172.7497, 5812,    150.9,  20.6570,  20.6543,  35.0493,2,  35.0484,2,    184.3,2,     2.30,2,     2.26,2,     0.02,2,     0.22,2, -999.000,9, -999.000,9,   2051.8,2,   2305.5,2,   7.9740,2,    25.00,     0.03,2,     0.10,2,  20.6543,     2026
  49UP20130619,  P03W,   100,  1,     32,    105,2,20130831,1758, 24.2680, 172.7497, 5812,    200.7,  17.8159,  17.8099,  34.7925,2,  34.7927,2,    192.4,2,     3.90,2,     4.52,2,     0.01,2,     0.35,2, -999.000,9, -999.000,9,   2057.8,2,   2288.2,2,   7.9272,2,    25.00,     0.01,2,     0.01,2,  17.8099,     2022
  49UP20130619,  P03W,   100,  1,     31,     76,2,20130831,1758, 24.2680, 172.7497, 5812,    254.7,  16.2662,  16.2789,  34.6412,2,  34.6496,4,    196.4,2,     5.44,2,     6.24,2,     0.00,2,     0.45,2, -999.000,9, -999.000,9,   2062.0,2,   2279.5,2,   7.9146,2,    25.00,  -999.00,9,  -999.00,9,  16.2789,     2014
  49UP20130619,  P03W,   100,  1,     30,     97,2,20130831,1758, 24.2680, 172.7497, 5812,    333.4,  14.0898,  14.0948,  34.4532,2,  34.4584,2,    199.7,2,     9.34,2,     9.40,2,     0.01,2,     0.67,2, -999.000,9, -999.000,9,   2076.1,2,   2271.1,2,   7.8635,2,    25.00,  -999.00,9,  -999.00,9,  14.0948,     2011
  49UP20130619,  P03W,   100,  1,     29,    102,2,20130831,1758, 24.2680, 172.7497, 5812,    435.4,  10.9024,  10.9245,  34.2248,2,  34.2282,2,    185.3,6,    19.10,6,    16.23,6,     0.00,6,     1.17,6, -999.000,9, -999.000,9,   2121.4,2,   2267.8,2,   7.7532,2,    25.00,  -999.00,9,  -999.00,9,  10.9245,     2002
  49UP20130619,  P03W,   100,  1,     28,     91,2,20130831,1758, 24.2680, 172.7497, 5812,    537.7,   8.6571,   8.6603,  34.1158,2,  34.1169,2,    153.4,2,    34.61,2,    23.62,2,     0.00,2,     1.71,2, -999.000,9, -999.000,9,   2170.2,2,   2276.3,2,   7.6377,2,    25.00,  -999.00,9,  -999.00,9,   8.6603,     1958
  49UP20130619,  P03W,   100,  1,     27,    998,2,20130831,1758, 24.2680, 172.7497, 5812,    635.8,   6.7218,   6.7222,  34.0975,2,  34.0902,4,    106.0,2,    56.20,2,    31.49,2,     0.00,2,     2.28,2, -999.000,9, -999.000,9,   2230.9,2,   2292.3,2,   7.5114,2,    25.00,  -999.00,9,  -999.00,9,   6.7222,     1954
  49UP20130619,  P03W,   100,  1,     26,     84,2,20130831,1758, 24.2680, 172.7497, 5812,    736.2,   5.4179,   5.4182,  34.1339,2,  34.1340,2,     67.5,2,    78.52,2,    37.23,2,     0.00,2,     2.70,2, -999.000,9, -999.000,9,   2285.1,6,   2314.2,6,   7.4226,2,    25.00,  -999.00,9,  -999.00,9,   5.4182,     1951
  49UP20130619,  P03W,   100,  1,     25,     98,2,20130831,1758, 24.2680, 172.7497, 5812,    836.2,   4.5831,   4.5837,  34.2298,2,  34.2291,2,     44.0,2,    97.26,2,    40.63,2,     0.00,2,     2.93,2, -999.000,9, -999.000,9,   2324.1,2,   2336.6,2,   7.3726,6,    25.00,  -999.00,9,  -999.00,9,   4.5837,     1948
  49UP20130619,  P03W,   100,  1,     24,    110,2,20130831,1758, 24.2680, 172.7497, 5812,    936.9,   4.1351,   4.1359,  34.3331,2,  34.3320,6,     38.2,2,   108.63,2,    41.77,2,     0.00,2,     3.02,2, -999.000,9, -999.000,9,   2341.0,2,   2354.4,2,   7.3747,2,    25.00,  -999.00,9,  -999.00,9,   4.1359,     1945
  49UP20130619,  P03W,   100,  1,     23,     96,2,20130831,1758, 24.2680, 172.7497, 5812,   1079.5,   3.7216,   3.7215,  34.4432,2,  34.4413,2,     49.7,2,   117.60,2,    41.56,2,     0.00,2,     2.99,2, -999.000,9, -999.000,9,   2348.1,2,   2371.0,2,   7.4016,2,    25.00,  -999.00,9,  -999.00,9,   3.7215,     1942
  49UP20130619,  P03W,   100,  1,     22,    111,2,20130831,1758, 24.2680, 172.7497, 5812,   1283.1,   3.1731,   3.1730,  34.5158,2,  34.5160,2,     65.5,2,   128.22,2,    40.96,2,     0.00,2,     2.93,2, -999.000,9, -999.000,9,   2349.4,2,   2388.2,2,   7.4367,2,    25.00,  -999.00,9,  -999.00,9,   3.1730,     1936
  49UP20130619,  P03W,   100,  1,     21,     78,2,20130831,1758, 24.2680, 172.7497, 5812,   1485.1,   2.7447,   2.7443,  34.5480,2,  34.5464,2,     73.0,2,   137.27,2,    40.66,2,     0.00,2,     2.90,2, -999.000,9, -999.000,9,   2356.2,2,   2397.6,2,   7.4465,2,    25.00,  -999.00,9,  -999.00,9,   2.7443,     1932
  49UP20130619,  P03W,   100,  1,     20,     93,3,20130831,1758, 24.2680, 172.7497, 5812,   1685.2,   2.3771,   2.3775,  34.5795,2,  34.5765,4,     82.2,6,   144.62,6,    40.38,6,     0.00,6,     2.87,6, -999.000,9, -999.000,9,   2357.9,2,   2404.7,2,   7.4638,2,    25.00,  -999.00,9,  -999.00,9,   2.3775,     1928
  49UP20130619,  P03W,   100,  1,     19,     92,2,20130831,1758, 24.2680, 172.7497, 5812,   1890.1,   2.1221,   2.1220,  34.6046,2,  34.6043,6,     90.6,2,   149.82,2,    39.91,2,     0.00,2,     2.83,2, -999.000,9, -999.000,9,   2361.0,2,   2413.3,2,   7.4766,2,    25.00,  -999.00,9,  -999.00,9,   2.1220,     1924
  49UP20130619,  P03W,   100,  1,     18,    101,2,20130831,1758, 24.2680, 172.7497, 5812,   2093.5,   1.9472,   1.9472,  34.6215,2,  34.6211,2,     99.8,2,   152.91,2,    39.31,3,     0.00,2,     2.79,2, -999.000,9, -999.000,9,   2359.4,2,   2415.8,2,   7.4961,2,    25.00,  -999.00,9,  -999.00,9,   1.9472,     1920
  49UP20130619,  P03W,   100,  1,     17,     90,2,20130831,1758, 24.2680, 172.7497, 5812,   2293.2,   1.8117,   1.8118,  34.6355,2,  34.6359,2,    108.0,2,   153.61,2,    38.87,2,     0.00,2,     2.75,2, -999.000,9, -999.000,9,   2356.5,2,   2418.5,2,   7.5091,2,    25.00,  -999.00,9,  -999.00,9,   1.8118,     1916
  49UP20130619,  P03W,   100,  1,     16,     89,2,20130831,1758, 24.2680, 172.7497, 5812,   2500.3,   1.7180,   1.7180,  34.6460,2,  34.6460,2,    116.0,2,   154.04,2,    38.44,2,     0.00,2,     2.71,2, -999.000,9, -999.000,9,   2352.3,6,   2419.4,6,   7.5209,2,    25.00,  -999.00,9,  -999.00,9,   1.7180,     1912
  49UP20130619,  P03W,   100,  1,     15,     88,2,20130831,1758, 24.2680, 172.7497, 5812,   2703.6,   1.6554,   1.6554,  34.6539,2,  34.6535,2,    121.8,2,   153.69,2,    38.04,2,     0.00,2,     2.67,2, -999.000,9, -999.000,9,   2346.6,2,   2420.7,2,   7.5318,6,    25.00,  -999.00,9,  -999.00,9,   1.6554,     1908
  49UP20130619,  P03W,   100,  1,     14,    999,2,20130831,1758, 24.2680, 172.7497, 5812,   2907.4,   1.6072,   1.6071,  34.6600,2,  34.6607,2,    127.3,2,   153.54,2,    37.64,2,     0.00,2,     2.65,2, -999.000,9, -999.000,9,   2343.1,2,   2421.4,2,   7.5436,2,    25.00,  -999.00,9,  -999.00,9,   1.6071,     1905
  49UP20130619,  P03W,   100,  1,     13,    667,2,20130831,1758, 24.2680, 172.7497, 5812,   3120.2,   1.5669,   1.5668,  34.6656,2,  34.6666,2,    132.5,2,   152.70,2,    37.29,2,     0.00,2,     2.62,2, -999.000,9, -999.000,9,   2341.9,2,   2420.8,2,   7.5521,2,    25.00,  -999.00,9,  -999.00,9,   1.5668,     1901
  49UP20130619,  P03W,   100,  1,     12,     74,2,20130831,1758, 24.2680, 172.7497, 5812,   3377.3,   1.5251,   1.5251,  34.6720,2,  34.6721,6,    139.4,2,   151.15,2,    36.87,2,     0.00,2,     2.59,2, -999.000,9, -999.000,9,   2337.2,2,   2420.9,2,   7.5646,2,    25.00,  -999.00,9,  -999.00,9,   1.5251,     1856
  49UP20130619,  P03W,   100,  1,     11,    996,2,20130831,1758, 24.2680, 172.7497, 5812,   3635.0,   1.4956,   1.4956,  34.6770,2,  34.6758,2,    144.6,3,   149.28,6,    36.51,6,     0.00,6,     2.56,6, -999.000,9, -999.000,9,   2330.9,2,   2420.5,2,   7.5695,2,    25.00,  -999.00,9,  -999.00,9,   1.4956,     1851
  49UP20130619,  P03W,   100,  1,     10,    107,2,20130831,1758, 24.2680, 172.7497, 5812,   3890.0,   1.4772,   1.4772,  34.6810,2,  34.6797,2,    150.6,2,   146.90,2,    36.11,2,     0.00,2,     2.53,2, -999.000,9, -999.000,9,   2328.6,2,   2416.3,2,   7.5775,2,    25.00,  -999.00,9,  -999.00,9,   1.4772,     1845
  49UP20130619,  P03W,   100,  1,      9,    108,2,20130831,1758, 24.2680, 172.7497, 5812,   4146.5,   1.4612,   1.4611,  34.6843,2,  34.6850,2,    155.9,2,   144.74,2,    35.73,2,     0.00,2,     2.50,2, -999.000,9, -999.000,9,   2323.2,6,   2415.6,6,   7.5861,2,    25.00,  -999.00,9,  -999.00,9,   1.4611,     1840
  49UP20130619,  P03W,   100,  1,      8,     81,2,20130831,1758, 24.2680, 172.7497, 5812,   4403.1,   1.4485,   1.4486,  34.6881,2,  34.6882,2,    161.4,2,   141.45,2,    35.27,2,     0.00,2,     2.47,2, -999.000,9, -999.000,9,   2316.1,2,   2412.3,2,   7.5953,6,    25.00,  -999.00,9,  -999.00,9,   1.4486,     1834
  49UP20130619,  P03W,   100,  1,      7,    106,2,20130831,1758, 24.2680, 172.7497, 5812,   4659.7,   1.4443,   1.4444,  34.6907,2,  34.6913,2,    166.1,2,   139.20,2,    34.88,2,     0.00,2,     2.44,2, -999.000,9, -999.000,9,   2325.6,3,   2409.2,2,   7.5965,2,    25.00,  -999.00,9,  -999.00,9,   1.4444,     1829
  49UP20130619,  P03W,   100,  1,      6,    113,2,20130831,1758, 24.2680, 172.7497, 5812,   4918.5,   1.4443,   1.4444,  34.6932,2,  34.6934,6,    170.6,2,   136.50,2,    34.65,2,     0.00,2,     2.42,2, -999.000,9, -999.000,9,   2308.2,2,   2406.0,2,   7.6034,2,    25.00,  -999.00,9,  -999.00,9,   1.4444,     1823
  49UP20130619,  P03W,   100,  1,      5,     94,2,20130831,1758, 24.2680, 172.7497, 5812,   5174.0,   1.4453,   1.4452,  34.6955,2,  34.6952,2,    174.9,2,   134.19,2,    34.29,2,     0.00,2,     2.40,2, -999.000,9, -999.000,9,   2302.6,2,   2402.9,2,   7.6060,2,    25.00,  -999.00,9,  -999.00,9,   1.4452,     1818
  49UP20130619,  P03W,   100,  1,      4,     77,2,20130831,1758, 24.2680, 172.7497, 5812,   5432.9,   1.4566,   1.4566,  34.6971,2,  34.6973,2,    178.0,2,   132.48,2,    34.19,2,     0.00,2,     2.38,2, -999.000,9, -999.000,9,   2302.1,2,   2401.5,2,   7.6085,2,    25.00,  -999.00,9,  -999.00,9,   1.4566,     1811
  49UP20130619,  P03W,   100,  1,      3,    104,2,20130831,1758, 24.2680, 172.7497, 5812,   5690.1,   1.4767,   1.4767,  34.6979,2,  34.6981,2,    179.6,2,   131.36,2,    34.06,2,     0.00,2,     2.37,2, -999.000,9, -999.000,9,   2299.7,2,   2399.2,2,   7.6092,2,    25.00,  -999.00,9,  -999.00,9,   1.4767,     1805
  49UP20130619,  P03W,   100,  1,      2,     75,2,20130831,1758, 24.2680, 172.7497, 5812,   5947.5,   1.5084,   1.5085,  34.6984,2,  34.6990,2,    179.9,6,   131.10,6,    33.92,6,     0.00,6,     2.37,6, -999.000,9, -999.000,9,   2296.7,2,   2398.8,2,   7.6108,2,    25.00,  -999.00,9,  -999.00,9,   1.5085,     1800
  49UP20130619,  P03W,   100,  1,      1,    997,2,20130831,1758, 24.2680, 172.7497, 5812,   5961.3,   1.5106,   1.5106,  34.6984,2,  34.6982,2,    178.5,3,   131.48,2,    34.12,2,     0.00,2,     2.38,2, -999.000,9, -999.000,9,   2296.4,2,   2400.6,2,   7.6099,2,    25.00,  -999.00,9,  -999.00,9,   1.5106,     1758