BOTTLE,20180830PRINUNIVRMK
EXPOCODE,SECT_ID,STNNBR,CASTNO,SAMPNO,BTLNBR,BTLNBR_FLAG_W,DATE,TIME,LATITUDE,LONGITUDE,DEPTH,CTDPRS,CTDTMP,SBE35,CTDSAL,CTDSAL_FLAG_W,SALNTY,SALNTY_FLAG_W,OXYGEN,OXYGEN_FLAG_W,SILCAT,SILCAT_FLAG_W,NITRAT,NITRAT_FLAG_W,NITRIT,NITRIT_FLAG_W,PHSPHT,PHSPHT_FLAG_W,CFC-11,CFC-11_FLAG_W,CFC-12,CFC-12_FLAG_W,TCARBN,TCARBN_FLAG_W,ALKALI,ALKALI_FLAG_W,PH_TOT,PH_TOT_FLAG_W,PH_TMP,CHLORA,CHLORA_FLAG_W,PPHYTN,PPHYTN_FLAG_W,SBE35,BTL_TIME
,,,,,,,,,,,METERS,DBAR,ITS-90,,PSS-78,,PSS-78,,UMOL/KG,,UMOL/KG,,UMOL/KG,,UMOL/KG,,UMOL/KG,,PMOL/KG,,PMOL/KG,,UMOL/KG,,UMOL/KG,,,,DEG C,UG/KG,,UG/KG,,,
  49UP20130619,  P03W,    69,  1,      0,   -999,0,20130808,1307, 24.2412, 149.0243, 5742,      0.0,  29.2517,-999.0000,  34.9222,2,  34.9254,2,    196.5,2,     1.49,2,     0.00,2,     0.00,2,     0.02,2, -999.000,9, -999.000,9,   1967.0,2,   2291.6,2,   8.0978,2,    25.00,     0.04,2,     0.01,2,-999.0000,     1457
  49UP20130619,  P03W,    69,  1,     36,    109,2,20130808,1307, 24.2412, 149.0243, 5742,     11.4,  29.1879,  29.1848,  34.9108,2,  34.9145,2,    196.9,2,     1.37,2,     0.00,2,     0.00,2,     0.01,2,    1.945,3,    0.898,3,   1968.6,2,   2295.5,2,   8.0941,2,    25.00,     0.04,2,     0.01,2,  29.1848,     1521
  49UP20130619,  P03W,    69,  1,     35,    112,2,20130808,1307, 24.2412, 149.0243, 5742,     50.1,  23.3509,  23.3616,  34.9477,2,  34.9489,2,    229.0,2,     1.54,2,     0.00,2,     0.00,2,     0.01,2,    2.753,3,    1.163,3,   1980.0,2,   2299.8,2,   8.0780,2,    25.00,     0.09,2,     0.03,2,  23.3616,     1517
  49UP20130619,  P03W,    69,  1,     34,     83,2,20130808,1307, 24.2412, 149.0243, 5742,    100.8,  19.9960,  19.9929,  34.8792,2,  34.8790,2,    224.2,2,     2.06,2,     0.00,2,     0.00,2,     0.03,2,    2.565,3,    1.315,3,   2005.1,2,   2296.7,2,   8.0310,2,    25.00,     0.21,2,     0.19,2,  19.9929,     1516
  49UP20130619,  P03W,    69,  1,     33,     86,2,20130808,1307, 24.2412, 149.0243, 5742,    151.2,  18.0459,  18.0448,  34.7615,2,  34.7611,2,    211.5,2,     3.11,2,     2.46,2,     0.11,2,     0.19,2,    2.403,2,    1.363,2,   2030.1,2,   2283.9,2,   7.9817,2,    25.00,     0.09,2,     0.23,2,  18.0448,     1514
  49UP20130619,  P03W,    69,  1,     32,    105,2,20130808,1307, 24.2412, 149.0243, 5742,    201.8,  17.3203,  17.3201,  34.7163,2,  34.7160,2,    217.3,2,     3.61,2,     3.55,2,     0.02,2,     0.24,2,    2.324,6,    1.407,6,   2026.0,2,   2285.7,2,   7.9750,2,    25.00,     0.03,2,     0.06,2,  17.3201,     1512
  49UP20130619,  P03W,    69,  1,     31,     76,2,20130808,1307, 24.2412, 149.0243, 5742,    252.7,  16.8622,  16.8620,  34.6929,2,  34.6937,2,    209.6,2,     4.68,2,     4.95,2,     0.01,2,     0.34,2,    2.386,2,    1.424,2,   2037.3,2,   2283.1,2,   7.9562,2,    25.00,  -999.00,9,  -999.00,9,  16.8620,     1510
  49UP20130619,  P03W,    69,  1,     30,     97,2,20130808,1307, 24.2412, 149.0243, 5742,    333.1,  15.3380,  15.3371,  34.5751,2,  34.5755,2,    193.7,6,     9.19,6,     8.74,6,     0.00,6,     0.62,6,    2.525,2,    1.481,2,   2064.2,2,   2280.5,2,   7.8676,2,    25.00,  -999.00,9,  -999.00,9,  15.3371,     1508
  49UP20130619,  P03W,    69,  1,     29,    102,2,20130808,1307, 24.2412, 149.0243, 5742,    432.8,  12.6563,  12.6565,  34.3827,2,  34.3833,2,    188.5,2,    15.93,2,    13.38,2,     0.00,2,     0.97,2,    2.778,6,    1.569,6,   2103.4,2,   2271.3,2,   7.8118,2,    25.00,  -999.00,9,  -999.00,9,  12.6565,     1505
  49UP20130619,  P03W,    69,  1,     28,     91,2,20130808,1307, 24.2412, 149.0243, 5742,    535.1,   9.7098,   9.7172,  34.1925,2,  34.1938,6,    173.4,2,    30.09,2,    19.92,2,     0.00,2,     1.45,2,    2.743,2,    1.505,2,   2148.2,6,   2277.7,6,   7.7117,2,    25.00,  -999.00,9,  -999.00,9,   9.7172,     1502
  49UP20130619,  P03W,    69,  1,     27,    998,2,20130808,1307, 24.2412, 149.0243, 5742,    635.8,   7.1551,   7.1544,  34.0746,2,  34.0762,2,    140.2,2,    51.46,2,    27.53,2,     0.00,2,     2.02,2,    2.294,2,    1.189,2,   2204.6,2,   2293.0,2,   7.5846,6,    25.00,  -999.00,9,  -999.00,9,   7.1544,     1500
  49UP20130619,  P03W,    69,  1,     26,     84,2,20130808,1307, 24.2412, 149.0243, 5742,    737.0,   5.5594,   5.5651,  34.1010,2,  34.1018,2,     99.8,2,    75.34,2,    34.48,2,     0.00,2,     2.52,2,    1.446,2,    0.750,2,   2263.6,2,   2312.9,2,   7.4697,2,    25.00,  -999.00,9,  -999.00,9,   5.5651,     1457
  49UP20130619,  P03W,    69,  1,     25,     98,2,20130808,1307, 24.2412, 149.0243, 5742,    837.9,   4.5911,   4.5909,  34.1989,2,  34.2011,2,     60.2,2,    96.70,2,    38.89,2,     0.00,2,     2.83,2,    0.713,2,    0.388,2,   2310.3,2,   2336.9,2,   7.4014,2,    25.00,  -999.00,9,  -999.00,9,   4.5909,     1454
  49UP20130619,  P03W,    69,  1,     24,    110,2,20130808,1307, 24.2412, 149.0243, 5742,    939.1,   4.2313,   4.2312,  34.3190,2,  34.3189,2,     47.1,2,   106.65,2,    40.70,2,     0.00,2,     2.96,2,    0.217,2,    0.127,2,   2329.9,2,   2355.3,2,   7.3873,2,    25.00,  -999.00,9,  -999.00,9,   4.2312,     1451
  49UP20130619,  P03W,    69,  1,     23,     96,2,20130808,1307, 24.2412, 149.0243, 5742,   1080.8,   3.5391,   3.5389,  34.3819,2,  34.3830,2,     45.9,2,   123.75,2,    41.54,2,     0.00,2,     3.00,2,    0.170,6,    0.107,6,   2348.4,2,   2374.3,2,   7.3873,2,    25.00,  -999.00,9,  -999.00,9,   3.5389,     1448
  49UP20130619,  P03W,    69,  1,     22,    111,3,20130808,1307, 24.2412, 149.0243, 5742,   1283.6,   2.9671,   2.9664,  34.4724,2,  34.4735,2,     55.4,2,   136.92,2,    41.44,2,     0.00,2,     2.98,2,    0.047,2,    0.038,2,   2360.3,2,   2391.1,2,   7.4070,2,    25.00,  -999.00,9,  -999.00,9,   2.9664,     1443
  49UP20130619,  P03W,    69,  1,     21,     78,2,20130808,1307, 24.2412, 149.0243, 5742,   1484.9,   2.5457,   2.5450,  34.5281,2,  34.5272,2,     65.7,6,   145.51,6,    41.18,6,     0.00,6,     2.95,6,    0.006,2,    0.031,2,   2364.8,2,   2402.6,2,   7.4300,2,    25.00,  -999.00,9,  -999.00,9,   2.5450,     1439
  49UP20130619,  P03W,    69,  1,     20,     93,2,20130808,1307, 24.2412, 149.0243, 5742,   1688.4,   2.2043,   2.2048,  34.5724,2,  34.5712,2,     79.5,2,   150.56,2,    40.38,2,     0.00,2,     2.88,2,    0.003,2,    0.024,2,   2361.2,2,   2412.4,6,   7.4532,2,    25.00,  -999.00,9,  -999.00,9,   2.2048,     1435
  49UP20130619,  P03W,    69,  1,     19,     92,2,20130808,1307, 24.2412, 149.0243, 5742,   1891.2,   1.9793,   1.9792,  34.6033,2,  34.6047,2,     94.5,2,   152.35,2,    39.47,2,     0.00,2,     2.82,2,    0.000,2,    0.018,2,   2355.0,2,   2409.9,3,   7.4832,6,    25.00,  -999.00,9,  -999.00,9,   1.9792,     1431
  49UP20130619,  P03W,    69,  1,     18,    101,2,20130808,1307, 24.2412, 149.0243, 5742,   2093.8,   1.8590,   1.8579,  34.6209,2,  34.6212,2,    104.5,2,   152.20,2,    38.95,2,     0.00,2,     2.77,2,    0.000,2,    0.018,2,   2357.7,3,   2416.6,2,   7.5022,2,    25.00,  -999.00,9,  -999.00,9,   1.8579,     1427
  49UP20130619,  P03W,    69,  1,     17,     90,2,20130808,1307, 24.2412, 149.0243, 5742,   2297.3,   1.7564,   1.7564,  34.6358,2,  34.6358,2,    113.0,2,   152.31,2,    38.42,2,     0.00,2,     2.73,2, -999.000,9, -999.000,9,   2349.3,2,   2420.2,2,   7.5170,2,    25.00,  -999.00,9,  -999.00,9,   1.7564,     1422
  49UP20130619,  P03W,    69,  1,     16,     89,2,20130808,1307, 24.2412, 149.0243, 5742,   2501.1,   1.6748,   1.6747,  34.6472,2,  34.6475,2,    120.8,6,   151.78,6,    37.90,6,     0.00,6,     2.69,6, -999.000,9, -999.000,9,   2343.5,2,   2422.6,2,   7.5324,2,    25.00,  -999.00,9,  -999.00,9,   1.6747,     1418
  49UP20130619,  P03W,    69,  1,     15,     88,2,20130808,1307, 24.2412, 149.0243, 5742,   2704.3,   1.6184,   1.6183,  34.6557,2,  34.6554,2,    127.1,2,   151.62,2,    37.51,2,     0.00,2,     2.66,2, -999.000,9, -999.000,9,   2342.7,2,   2416.7,3,   7.5445,2,    25.00,  -999.00,9,  -999.00,9,   1.6183,     1414
  49UP20130619,  P03W,    69,  1,     14,    999,2,20130808,1307, 24.2412, 149.0243, 5742,   2909.0,   1.5647,   1.5649,  34.6635,2,  34.6639,2,    133.4,2,   150.78,2,    37.15,2,     0.00,2,     2.63,2, -999.000,9, -999.000,9,   2340.4,2,   2421.2,2,   7.5503,2,    25.00,  -999.00,9,  -999.00,9,   1.5649,     1409
  49UP20130619,  P03W,    69,  1,     13,    667,2,20130808,1307, 24.2412, 149.0243, 5742,   3122.3,   1.5414,   1.5412,  34.6676,2,  34.6684,2,    137.2,2,   150.12,2,    36.87,2,     0.00,2,     2.61,2,    0.000,2,    0.015,2,   2333.9,2,   2422.9,2,   7.5605,2,    25.00,  -999.00,9,  -999.00,9,   1.5412,     1405
  49UP20130619,  P03W,    69,  1,     12,     74,2,20130808,1307, 24.2412, 149.0243, 5742,   3378.5,   1.5106,   1.5105,  34.6733,2,  34.6744,2,    142.6,2,   149.00,2,    36.54,2,     0.00,2,     2.58,2, -999.000,9, -999.000,9,   2331.3,2,   2420.5,2,   7.5681,2,    25.00,  -999.00,9,  -999.00,9,   1.5105,     1400
  49UP20130619,  P03W,    69,  1,     11,    996,2,20130808,1307, 24.2412, 149.0243, 5742,   3634.3,   1.4925,   1.4926,  34.6781,2,  34.6780,2,    146.8,2,   147.90,2,    36.37,2,     0.00,2,     2.56,2,    0.000,2,    0.015,2,   2328.9,6,   2422.4,6,   7.5686,3,    25.00,  -999.00,9,  -999.00,9,   1.4926,     1354
  49UP20130619,  P03W,    69,  1,     10,    107,2,20130808,1307, 24.2412, 149.0243, 5742,   3891.2,   1.4814,   1.4815,  34.6817,2,  34.6819,2,    151.6,2,   145.93,2,    35.98,2,     0.00,2,     2.54,2, -999.000,9, -999.000,9,   -999.0,9,   -999.0,9,-999.0000,9,  -999.00,  -999.00,9,  -999.00,9,   1.4815,     1349
  49UP20130619,  P03W,    69,  1,      9,    108,2,20130808,1307, 24.2412, 149.0243, 5742,   4146.0,   1.4773,   1.4772,  34.6844,2,  34.6844,2,    155.2,2,   144.52,2,    35.68,2,     0.00,2,     2.52,2, -999.000,9, -999.000,9,   2322.3,2,   2418.2,2,   7.5839,6,    25.00,  -999.00,9,  -999.00,9,   1.4772,     1344
  49UP20130619,  P03W,    69,  1,      8,     81,2,20130808,1307, 24.2412, 149.0243, 5742,   4402.5,   1.4749,   1.4749,  34.6867,2,  34.6875,6,    159.0,2,   143.05,2,    35.44,2,     0.00,2,     2.50,2,    0.000,2,    0.019,2,   -999.0,9,   -999.0,9,-999.0000,9,  -999.00,  -999.00,9,  -999.00,9,   1.4749,     1339
  49UP20130619,  P03W,    69,  1,      7,    106,2,20130808,1307, 24.2412, 149.0243, 5742,   4660.4,   1.4823,   1.4822,  34.6888,2,  34.6890,2,    162.0,2,   141.52,2,    35.22,2,     0.00,2,     2.48,2, -999.000,9, -999.000,9,   2313.7,2,   2414.9,2,   7.5933,2,    25.00,  -999.00,9,  -999.00,9,   1.4822,     1333
  49UP20130619,  P03W,    69,  1,      6,    113,2,20130808,1307, 24.2412, 149.0243, 5742,   4916.9,   1.4926,   1.4927,  34.6907,2,  34.6909,6,    165.4,6,   139.57,6,    35.01,6,     0.00,6,     2.47,6, -999.000,9, -999.000,9,   -999.0,9,   -999.0,9,-999.0000,9,  -999.00,  -999.00,9,  -999.00,9,   1.4927,     1328
  49UP20130619,  P03W,    69,  1,      5,     94,4,20130808,1307, 24.2412, 149.0243, 5742,   5176.0,   1.5058,   1.5057,  34.6923,2,  34.3828,4,     48.4,4,   117.96,4,    41.22,4,     0.00,4,     2.98,4, -999.000,9, -999.000,9,   2342.3,4,   2366.4,4,   7.3964,4,    25.00,  -999.00,9,  -999.00,9,   1.5057,     1323
  49UP20130619,  P03W,    69,  1,      4,     77,2,20130808,1307, 24.2412, 149.0243, 5742,   5433.1,   1.5173,   1.5175,  34.6942,2,  34.6933,2,    171.7,2,   135.84,2,    34.54,2,     0.00,2,     2.43,2,    0.023,2,    0.033,2,   -999.0,9,   -999.0,9,-999.0000,9,  -999.00,  -999.00,9,  -999.00,9,   1.5175,     1317
  49UP20130619,  P03W,    69,  1,      3,    104,2,20130808,1307, 24.2412, 149.0243, 5742,   5690.8,   1.5274,   1.5275,  34.6959,2,  34.6963,6,    175.0,2,   133.32,2,    34.28,2,     0.00,2,     2.41,2, -999.000,9, -999.000,9,   2300.4,2,   2406.3,2,   7.5998,2,    25.00,  -999.00,9,  -999.00,9,   1.5275,     1312
  49UP20130619,  P03W,    69,  1,      2,     75,2,20130808,1307, 24.2412, 149.0243, 5742,   5888.2,   1.5382,   1.5381,  34.6967,2,  34.6970,2,    176.9,2,   132.16,2,    34.12,2,     0.00,2,     2.39,2, -999.000,9, -999.000,9,   -999.0,9,   -999.0,9,-999.0000,9,  -999.00,  -999.00,9,  -999.00,9,   1.5381,     1308
  49UP20130619,  P03W,    69,  1,      1,    997,2,20130808,1307, 24.2412, 149.0243, 5742,   5888.2,   1.5383,   1.5381,  34.6967,2,  34.6969,2,    176.4,2,   132.53,2,    34.17,2,     0.00,2,     2.40,2,    0.028,2,    0.042,2,   2302.2,2,   2404.7,2,   7.6038,2,    25.00,  -999.00,9,  -999.00,9,   1.5381,     1308