BOTTLE,20180830PRINUNIVRMK
EXPOCODE,SECT_ID,STNNBR,CASTNO,SAMPNO,BTLNBR,BTLNBR_FLAG_W,DATE,TIME,LATITUDE,LONGITUDE,DEPTH,CTDPRS,CTDTMP,SBE35,CTDSAL,CTDSAL_FLAG_W,SALNTY,SALNTY_FLAG_W,OXYGEN,OXYGEN_FLAG_W,SILCAT,SILCAT_FLAG_W,NITRAT,NITRAT_FLAG_W,NITRIT,NITRIT_FLAG_W,PHSPHT,PHSPHT_FLAG_W,CFC-11,CFC-11_FLAG_W,CFC-12,CFC-12_FLAG_W,TCARBN,TCARBN_FLAG_W,ALKALI,ALKALI_FLAG_W,PH_TOT,PH_TOT_FLAG_W,PH_TMP,CHLORA,CHLORA_FLAG_W,PPHYTN,PPHYTN_FLAG_W,SBE35,BTL_TIME
,,,,,,,,,,,METERS,DBAR,ITS-90,,PSS-78,,PSS-78,,UMOL/KG,,UMOL/KG,,UMOL/KG,,UMOL/KG,,UMOL/KG,,PMOL/KG,,PMOL/KG,,UMOL/KG,,UMOL/KG,,,,DEG C,UG/KG,,UG/KG,,,
  49UP20130619,  P03W,    75,  1,      0,   -999,0,20130810,1202, 24.2698, 153.5615, 5388,      0.0,  29.8242,-999.0000,  34.9441,2,  34.9290,2,    194.2,2,     0.87,2,     0.17,4,     0.00,2,     0.03,2, -999.000,9, -999.000,9,   1950.2,2,   2293.3,2,   8.1249,2,    25.00,     0.04,2,     0.00,2,-999.0000,     1355
  49UP20130619,  P03W,    75,  1,     36,    109,2,20130810,1202, 24.2698, 153.5615, 5388,     10.5,  29.8288,  29.8289,  34.9434,2,  34.9413,2,    194.7,2,     0.87,2,     0.17,4,     0.00,2,     0.01,2, -999.000,9, -999.000,9,   1950.9,2,   2292.6,2,   8.1245,2,    25.00,     0.03,2,     0.00,2,  29.8289,     1409
  49UP20130619,  P03W,    75,  1,     35,    112,2,20130810,1202, 24.2698, 153.5615, 5388,     49.3,  27.0585,  27.0523,  35.2539,2,  35.2558,2,    216.1,2,     0.89,2,     0.18,4,     0.00,2,     0.01,2, -999.000,9, -999.000,9,   1971.4,2,   2313.2,2,   8.1156,2,    25.00,     0.05,2,     0.01,2,  27.0523,     1404
  49UP20130619,  P03W,    75,  1,     34,     83,2,20130810,1202, 24.2698, 153.5615, 5388,     99.9,  23.8921,  23.8975,  35.2165,2,  35.2165,6,    213.6,2,     1.14,2,     0.16,4,     0.00,2,     0.02,2, -999.000,9, -999.000,9,   1993.0,2,   2312.0,2,   8.0844,2,    25.00,     0.10,2,     0.04,2,  23.8975,     1403
  49UP20130619,  P03W,    75,  1,     33,     86,2,20130810,1202, 24.2698, 153.5615, 5388,    153.1,  20.9081,  20.8979,  34.9994,2,  35.0014,2,    204.6,2,     1.73,2,     0.56,4,     0.05,2,     0.07,2, -999.000,9, -999.000,9,   2019.5,2,   2297.5,2,   8.0207,2,    25.00,  -999.00,9,  -999.00,9,  20.8979,     1401
  49UP20130619,  P03W,    75,  1,     32,    105,2,20130810,1202, 24.2698, 153.5615, 5388,    153.1,  20.9081,  20.8979,  34.9994,2,  35.0017,2,    204.5,2,     1.73,2,     0.54,4,     0.05,2,     0.07,2, -999.000,9, -999.000,9,   2013.3,2,   2298.0,2,   8.0241,2,    25.00,     0.10,2,     0.31,2,  20.8979,     1401
  49UP20130619,  P03W,    75,  1,     31,     76,2,20130810,1202, 24.2698, 153.5615, 5388,    204.7,  18.7269,  18.7165,  34.8177,2,  34.8237,2,    210.5,2,     2.44,2,     1.82,4,     0.01,2,     0.14,2, -999.000,9, -999.000,9,   2025.3,2,   2289.0,2,   7.9922,2,    25.00,     0.02,2,     0.03,2,  18.7165,     1400
  49UP20130619,  P03W,    75,  1,     30,     97,2,20130810,1202, 24.2698, 153.5615, 5388,    255.7,  17.3486,  17.3482,  34.7224,2,  34.7242,2,    200.1,2,     3.95,2,     4.98,4,     0.00,2,     0.33,2, -999.000,9, -999.000,9,   2043.3,2,   2280.3,2,   7.9483,2,    25.00,  -999.00,9,  -999.00,9,  17.3482,     1358
  49UP20130619,  P03W,    75,  1,     29,    102,2,20130810,1202, 24.2698, 153.5615, 5388,    333.4,  15.0378,  15.0393,  34.5437,2,  34.5446,2,    192.1,6,     8.57,6,     9.21,4,     0.00,6,     0.64,6, -999.000,9, -999.000,9,   2068.9,2,   2273.6,2,   7.8794,2,    25.00,  -999.00,9,  -999.00,9,  15.0393,     1356
  49UP20130619,  P03W,    75,  1,     28,     91,4,20130810,1202, 24.2698, 153.5615, 5388,    433.4,  12.1286,  12.1244,  34.3308,2,  34.6860,4,    157.8,4,   143.45,4,    35.70,4,     0.00,4,     2.49,4, -999.000,9, -999.000,9,   2320.4,4,   2412.8,4,   7.5961,4,    25.00,  -999.00,9,  -999.00,9,  12.1244,     1354
  49UP20130619,  P03W,    75,  1,     27,    998,2,20130810,1202, 24.2698, 153.5615, 5388,    534.8,   9.3450,   9.3449,  34.1646,2,  34.1640,2,    165.3,2,    30.58,2,    21.54,4,     0.00,2,     1.54,2, -999.000,9, -999.000,9,   2152.9,2,   2275.4,2,   7.6792,2,    25.00,  -999.00,9,  -999.00,9,   9.3449,     1351
  49UP20130619,  P03W,    75,  1,     26,     84,2,20130810,1202, 24.2698, 153.5615, 5388,    634.7,   7.2818,   7.2826,  34.0914,2,  34.0904,2,    125.0,2,    49.96,2,    29.03,4,     0.00,2,     2.10,2, -999.000,9, -999.000,9,   2211.2,2,   2284.9,2,   7.5539,2,    25.00,  -999.00,9,  -999.00,9,   7.2826,     1349
  49UP20130619,  P03W,    75,  1,     25,     98,2,20130810,1202, 24.2698, 153.5615, 5388,    736.3,   5.7077,   5.7068,  34.1131,2,  34.1154,2,     85.6,2,    72.88,2,    35.31,4,     0.00,2,     2.56,2, -999.000,9, -999.000,9,   2264.8,2,   2307.3,2,   7.4555,2,    25.00,  -999.00,9,  -999.00,9,   5.7068,     1347
  49UP20130619,  P03W,    75,  1,     24,    110,2,20130810,1202, 24.2698, 153.5615, 5388,    837.6,   4.6926,   4.6917,  34.2140,2,  34.2153,2,     54.8,2,    94.51,2,    39.73,4,     0.00,2,     2.87,2, -999.000,9, -999.000,9,   2310.4,6,   2332.5,6,   7.3952,2,    25.00,  -999.00,9,  -999.00,9,   4.6917,     1344
  49UP20130619,  P03W,    75,  1,     23,     96,2,20130810,1202, 24.2698, 153.5615, 5388,    938.8,   4.1952,   4.1946,  34.3114,2,  34.3117,2,     46.1,2,   106.84,2,    41.08,4,     0.00,2,     2.96,2, -999.000,9, -999.000,9,   2327.8,2,   2351.3,2,   7.3850,6,    25.00,  -999.00,9,  -999.00,9,   4.1946,     1342
  49UP20130619,  P03W,    75,  1,     22,    111,2,20130810,1202, 24.2698, 153.5615, 5388,   1080.0,   3.6702,   3.6692,  34.4179,2,  34.4186,2,     51.3,6,   119.12,6,    41.46,4,     0.00,6,     2.98,6, -999.000,9, -999.000,9,   2342.5,2,   2367.8,2,   7.4027,2,    25.00,  -999.00,9,  -999.00,9,   3.6692,     1338
  49UP20130619,  P03W,    75,  1,     21,     78,2,20130810,1202, 24.2698, 153.5615, 5388,   1283.1,   3.0945,   3.0944,  34.4859,2,  34.4859,2,     61.7,2,   131.58,2,    41.29,4,     0.00,2,     2.96,2, -999.000,9, -999.000,9,   2350.7,2,   2383.8,2,   7.4234,2,    25.00,  -999.00,9,  -999.00,9,   3.0944,     1334
  49UP20130619,  P03W,    75,  1,     20,     93,2,20130810,1202, 24.2698, 153.5615, 5388,   1485.3,   2.6721,   2.6715,  34.5295,2,  34.5298,2,     71.7,2,   139.88,2,    40.72,4,     0.00,2,     2.91,2, -999.000,9, -999.000,9,   2362.0,2,   2394.6,2,   7.4387,2,    25.00,  -999.00,9,  -999.00,9,   2.6715,     1330
  49UP20130619,  P03W,    75,  1,     19,     92,2,20130810,1202, 24.2698, 153.5615, 5388,   1688.2,   2.3367,   2.3366,  34.5698,2,  34.5700,2,     85.6,2,   144.07,2,    39.98,4,     0.00,2,     2.85,2, -999.000,9, -999.000,9,   2356.7,2,   2403.8,2,   7.4661,2,    25.00,  -999.00,9,  -999.00,9,   2.3366,     1325
  49UP20130619,  P03W,    75,  1,     18,    101,2,20130810,1202, 24.2698, 153.5615, 5388,   1891.4,   2.0812,   2.0811,  34.5977,2,  34.5973,2,     95.3,2,   148.17,2,    39.55,4,     0.00,2,     2.81,2, -999.000,9, -999.000,9,   2357.7,2,   2409.6,2,   7.4845,2,    25.00,  -999.00,9,  -999.00,9,   2.0811,     1321
  49UP20130619,  P03W,    75,  1,     17,     90,2,20130810,1202, 24.2698, 153.5615, 5388,   2093.6,   1.9298,   1.9297,  34.6150,2,  34.6151,2,    101.9,6,   150.59,6,    39.14,4,     0.00,6,     2.78,6, -999.000,9, -999.000,9,   2352.5,2,   2412.5,2,   7.4970,2,    25.00,  -999.00,9,  -999.00,9,   1.9297,     1317
  49UP20130619,  P03W,    75,  1,     16,     89,2,20130810,1202, 24.2698, 153.5615, 5388,   2297.8,   1.8071,   1.8075,  34.6292,2,  34.6290,2,    108.5,2,   152.14,2,    38.78,4,     0.00,2,     2.75,2, -999.000,9, -999.000,9,   2351.3,6,   2414.5,6,   7.5092,2,    25.00,  -999.00,9,  -999.00,9,   1.8075,     1312
  49UP20130619,  P03W,    75,  1,     15,     88,4,20130810,1202, 24.2698, 153.5615, 5388,   2500.6,   1.6956,   1.6956,  34.6440,2,  34.6097,4,    100.3,4,   150.27,4,    39.33,4,     0.00,4,     2.79,4, -999.000,9, -999.000,9,   2356.0,4,   2412.0,4,   7.4919,4,    25.00,  -999.00,9,  -999.00,9,   1.6956,     1308
  49UP20130619,  P03W,    75,  1,     14,    999,2,20130810,1202, 24.2698, 153.5615, 5388,   2704.9,   1.6278,   1.6277,  34.6546,2,  34.6547,2,    126.3,2,   150.67,2,    37.72,4,     0.00,2,     2.66,2, -999.000,9, -999.000,9,   2341.4,2,   2417.1,2,   7.5400,2,    25.00,  -999.00,9,  -999.00,9,   1.6277,     1304
  49UP20130619,  P03W,    75,  1,     13,    667,2,20130810,1202, 24.2698, 153.5615, 5388,   2704.9,   1.6278,   1.6277,  34.6546,2,  34.6540,2,    126.0,2,   150.79,2,    37.76,4,     0.00,2,     2.66,2, -999.000,9, -999.000,9,   2340.0,2,   2416.9,2,   7.5419,2,    25.00,  -999.00,9,  -999.00,9,   1.6277,     1304
  49UP20130619,  P03W,    75,  1,     12,     74,2,20130810,1202, 24.2698, 153.5615, 5388,   2909.5,   1.5822,   1.5824,  34.6614,2,  34.6613,6,    131.8,2,   150.45,2,    37.47,4,     0.00,2,     2.63,2, -999.000,9, -999.000,9,   2343.0,2,   2425.4,3,   7.5506,2,    25.00,  -999.00,9,  -999.00,9,   1.5824,     1259
  49UP20130619,  P03W,    75,  1,     11,    996,2,20130810,1202, 24.2698, 153.5615, 5388,   3123.6,   1.5491,   1.5491,  34.6668,2,  34.6642,4,    134.5,3,   149.88,2,    37.21,4,     0.00,2,     2.61,2, -999.000,9, -999.000,9,   2335.6,2,   2416.1,2,   7.5550,2,    25.00,  -999.00,9,  -999.00,9,   1.5491,     1254
  49UP20130619,  P03W,    75,  1,     10,    107,2,20130810,1202, 24.2698, 153.5615, 5388,   3378.9,   1.5196,   1.5195,  34.6719,2,  34.6711,6,    140.8,2,   148.99,2,    36.83,4,     0.00,2,     2.58,2, -999.000,9, -999.000,9,   -999.0,9,   -999.0,9,-999.0000,9,  -999.00,  -999.00,9,  -999.00,9,   1.5195,     1249
  49UP20130619,  P03W,    75,  1,      9,    108,2,20130810,1202, 24.2698, 153.5615, 5388,   3634.8,   1.4914,   1.4915,  34.6772,2,  34.6774,2,    146.6,2,   147.65,2,    36.39,4,     0.00,2,     2.55,2, -999.000,9, -999.000,9,   2325.5,2,   2415.4,2,   7.5759,2,    25.00,  -999.00,9,  -999.00,9,   1.4915,     1244
  49UP20130619,  P03W,    75,  1,      8,     81,2,20130810,1202, 24.2698, 153.5615, 5388,   3890.4,   1.4760,   1.4760,  34.6810,2,  34.6805,2,    151.4,6,   146.36,6,    36.12,4,     0.00,6,     2.53,6, -999.000,9, -999.000,9,   -999.0,9,   -999.0,9,-999.0000,9,  -999.00,  -999.00,9,  -999.00,9,   1.4760,     1238
  49UP20130619,  P03W,    75,  1,      7,    106,2,20130810,1202, 24.2698, 153.5615, 5388,   4144.2,   1.4674,   1.4674,  34.6844,2,  34.6837,2,    155.0,2,   144.84,2,    35.88,4,     0.00,2,     2.51,2, -999.000,9, -999.000,9,   2321.7,2,   2415.1,2,   7.5842,2,    25.00,  -999.00,9,  -999.00,9,   1.4674,     1233
  49UP20130619,  P03W,    75,  1,      6,    113,2,20130810,1202, 24.2698, 153.5615, 5388,   4403.5,   1.4692,   1.4692,  34.6868,2,  34.6866,2,    159.0,2,   143.24,2,    35.66,4,     0.00,2,     2.49,2, -999.000,9, -999.000,9,   -999.0,9,   -999.0,9,-999.0000,9,  -999.00,  -999.00,9,  -999.00,9,   1.4692,     1227
  49UP20130619,  P03W,    75,  1,      5,     94,2,20130810,1202, 24.2698, 153.5615, 5388,   4659.9,   1.4748,   1.4746,  34.6888,2,  34.6891,2,    162.3,2,   141.25,2,    35.39,4,     0.00,2,     2.46,3, -999.000,9, -999.000,9,   2317.9,2,   2411.8,2,   7.5950,2,    25.00,  -999.00,9,  -999.00,9,   1.4746,     1222
  49UP20130619,  P03W,    75,  1,      4,     77,2,20130810,1202, 24.2698, 153.5615, 5388,   4916.1,   1.4850,   1.4848,  34.6908,2,  34.6910,2,    165.4,2,   139.51,2,    35.15,4,     0.00,2,     2.46,2, -999.000,9, -999.000,9,   -999.0,9,   -999.0,9,-999.0000,9,  -999.00,  -999.00,9,  -999.00,9,   1.4848,     1216
  49UP20130619,  P03W,    75,  1,      3,    104,2,20130810,1202, 24.2698, 153.5615, 5388,   5173.8,   1.4951,   1.4950,  34.6928,2,  34.6930,2,    169.2,2,   136.63,2,    34.80,4,     0.00,2,     2.42,2, -999.000,9, -999.000,9,   2306.6,6,   2406.3,6,   7.6018,2,    25.00,  -999.00,9,  -999.00,9,   1.4950,     1211
  49UP20130619,  P03W,    75,  1,      2,     75,2,20130810,1202, 24.2698, 153.5615, 5388,   5432.7,   1.5124,   1.5125,  34.6943,2,  34.6946,6,    172.3,2,   134.96,2,    34.67,4,     0.00,2,     2.41,3, -999.000,9, -999.000,9,   -999.0,9,   -999.0,9,-999.0000,9,  -999.00,  -999.00,9,  -999.00,9,   1.5125,     1205
  49UP20130619,  P03W,    75,  1,      1,    997,2,20130810,1202, 24.2698, 153.5615, 5388,   5509.1,   1.5184,   1.5183,  34.6947,2,  34.6941,2,    172.2,2,   134.91,2,    34.68,4,     0.00,2,     2.42,2, -999.000,9, -999.000,9,   2303.7,2,   2404.4,2,   7.6035,6,    25.00,  -999.00,9,  -999.00,9,   1.5183,     1203