BOTTLE,20180830PRINUNIVRMK
EXPOCODE,SECT_ID,STNNBR,CASTNO,SAMPNO,BTLNBR,BTLNBR_FLAG_W,DATE,TIME,LATITUDE,LONGITUDE,DEPTH,CTDPRS,CTDTMP,SBE35,CTDSAL,CTDSAL_FLAG_W,SALNTY,SALNTY_FLAG_W,OXYGEN,OXYGEN_FLAG_W,SILCAT,SILCAT_FLAG_W,NITRAT,NITRAT_FLAG_W,NITRIT,NITRIT_FLAG_W,PHSPHT,PHSPHT_FLAG_W,CFC-11,CFC-11_FLAG_W,CFC-12,CFC-12_FLAG_W,TCARBN,TCARBN_FLAG_W,ALKALI,ALKALI_FLAG_W,PH_TOT,PH_TOT_FLAG_W,PH_TMP,CHLORA,CHLORA_FLAG_W,PPHYTN,PPHYTN_FLAG_W,SBE35,BTL_TIME
,,,,,,,,,,,METERS,DBAR,ITS-90,,PSS-78,,PSS-78,,UMOL/KG,,UMOL/KG,,UMOL/KG,,UMOL/KG,,UMOL/KG,,PMOL/KG,,PMOL/KG,,UMOL/KG,,UMOL/KG,,,,DEG C,UG/KG,,UG/KG,,,
  49UP20130619,  P03W,   106,  1,      0,   -999,0,20130902,1701, 24.2420, 177.5842, 5743,      0.0,  28.1882,-999.0000,  35.5242,2,  35.5251,2,    198.7,2,     0.67,2,     0.00,2,     0.00,2,     0.04,2, -999.000,9, -999.000,9,   1998.7,2,   2335.2,2,   8.1114,2,    25.00,     0.07,2,     0.02,2,-999.0000,     1854
  49UP20130619,  P03W,   106,  1,     36,    109,2,20130902,1701, 24.2420, 177.5842, 5743,     10.1,  28.1930,  28.1910,  35.5240,2,  35.5233,2,    198.4,2,     0.72,2,     0.00,2,     0.00,2,     0.04,2, -999.000,9, -999.000,9,   1993.3,2,   2334.3,2,   8.1123,2,    25.00,     0.07,2,     0.02,2,  28.1910,     1921
  49UP20130619,  P03W,   106,  1,     35,    112,2,20130902,1701, 24.2420, 177.5842, 5743,     50.7,  28.1310,  28.0963,  35.5132,2,  35.5192,2,    199.3,2,     0.68,2,     0.00,2,     0.00,2,     0.03,2, -999.000,9, -999.000,9,   1995.3,2,   2332.8,2,   8.1113,2,    25.00,     0.07,2,     0.02,2,  28.0963,     1918
  49UP20130619,  P03W,   106,  1,     34,     83,2,20130902,1701, 24.2420, 177.5842, 5743,    100.6,  24.4824,  24.4661,  35.4193,2,  35.4207,2,    215.0,6,     0.90,6,     0.00,6,     0.00,6,     0.02,6, -999.000,9, -999.000,9,   1998.3,2,   2326.0,2,   8.0907,2,    25.00,     0.18,2,     0.10,2,  24.4661,     1916
  49UP20130619,  P03W,   106,  1,     33,    517,2,20130902,1701, 24.2420, 177.5842, 5743,    151.4,  21.6018,  21.5737,  35.1538,2,  35.1413,4,    193.3,2,     1.75,2,     0.89,2,     0.05,2,     0.12,2, -999.000,9, -999.000,9,   2034.7,2,   2307.9,2,   8.0096,2,    25.00,     0.07,2,     0.21,2,  21.5737,     1915
  49UP20130619,  P03W,   106,  1,     32,    105,2,20130902,1701, 24.2420, 177.5842, 5743,    201.9,  18.8191,  18.7670,  34.8651,2,  34.8605,6,    201.1,2,     2.73,2,     2.28,2,     0.01,2,     0.20,2, -999.000,9, -999.000,9,   2039.1,2,   2288.7,2,   7.9704,2,    25.00,     0.02,2,     0.05,2,  18.7670,     1913
  49UP20130619,  P03W,   106,  1,     31,     76,2,20130902,1701, 24.2420, 177.5842, 5743,    252.2,  16.8936,  16.8773,  34.6843,2,  34.6895,2,    201.8,2,     4.40,2,     5.10,2,     0.01,2,     0.37,2, -999.000,9, -999.000,9,   2043.6,2,   2279.1,2,   7.9147,2,    25.00,  -999.00,9,  -999.00,9,  16.8773,     1906
  49UP20130619,  P03W,   106,  1,     30,     97,2,20130902,1701, 24.2420, 177.5842, 5743,    332.2,  14.1822,  14.1875,  34.4547,2,  34.4499,2,    199.6,2,     8.92,2,     9.29,2,     0.00,2,     0.67,2, -999.000,9, -999.000,9,   2076.5,2,   2267.8,2,   7.8617,2,    25.00,  -999.00,9,  -999.00,9,  14.1875,     1903
  49UP20130619,  P03W,   106,  1,     29,    102,2,20130902,1701, 24.2420, 177.5842, 5743,    432.4,  11.1209,  11.1206,  34.2523,2,  34.2522,2,    193.8,2,    18.59,2,    15.41,2,     0.00,2,     1.09,2, -999.000,9, -999.000,9,   2113.3,2,   2266.7,2,   7.7715,2,    25.00,  -999.00,9,  -999.00,9,  11.1206,     1901
  49UP20130619,  P03W,   106,  1,     28,     91,2,20130902,1701, 24.2420, 177.5842, 5743,    533.9,   8.5971,   8.5974,  34.1124,2,  34.1121,6,    151.9,2,    35.41,2,    23.91,2,     0.00,2,     1.72,2, -999.000,9, -999.000,9,   2175.7,2,   2273.7,2,   7.6333,2,    25.00,  -999.00,9,  -999.00,9,   8.5974,     1858
  49UP20130619,  P03W,   106,  1,     27,    998,2,20130902,1701, 24.2420, 177.5842, 5743,    634.9,   6.7897,   6.7928,  34.1013,2,  34.1023,2,     96.7,2,    57.20,2,    32.27,2,     0.00,2,     2.34,2, -999.000,9, -999.000,9,   2240.2,2,   2290.6,2,   7.4962,2,    25.00,  -999.00,9,  -999.00,9,   6.7928,     1855
  49UP20130619,  P03W,   106,  1,     26,     84,2,20130902,1701, 24.2420, 177.5842, 5743,    634.9,   6.7897,   6.7928,  34.1013,2,  34.1019,2,     97.0,2,    57.11,2,    32.21,2,     0.00,2,     2.34,2, -999.000,9, -999.000,9,   2241.3,2,   2290.6,2,   7.4924,2,    25.00,  -999.00,9,  -999.00,9,   6.7928,     1855
  49UP20130619,  P03W,   106,  1,     25,     98,2,20130902,1701, 24.2420, 177.5842, 5743,    735.5,   5.5710,   5.5705,  34.1642,2,  34.1673,4,     60.2,6,    77.67,6,    37.62,6,     0.00,6,     2.74,6, -999.000,9, -999.000,9,   2288.7,2,   2310.5,2,   7.4089,2,    25.00,  -999.00,9,  -999.00,9,   5.5705,     1853
  49UP20130619,  P03W,   106,  1,     24,    110,2,20130902,1701, 24.2420, 177.5842, 5743,    837.8,   4.7324,   4.7312,  34.2719,2,  34.2754,4,     41.6,2,    95.43,2,    40.60,2,     0.00,2,     2.95,2, -999.000,9, -999.000,9,   2324.6,6,   2337.1,6,   7.3792,2,    25.00,  -999.00,9,  -999.00,9,   4.7312,     1850
  49UP20130619,  P03W,   106,  1,     23,     96,2,20130902,1701, 24.2420, 177.5842, 5743,    938.7,   4.1834,   4.1831,  34.3603,2,  34.3657,4,     40.8,2,   107.07,2,    41.54,2,     0.00,2,     3.00,2, -999.000,9, -999.000,9,   2339.1,2,   2354.1,2,   7.3812,6,    25.00,  -999.00,9,  -999.00,9,   4.1831,     1847
  49UP20130619,  P03W,   106,  1,     22,    111,2,20130902,1701, 24.2420, 177.5842, 5743,   1079.7,   3.7776,   3.7795,  34.4538,2,  34.4552,2,     49.7,2,   116.08,2,    41.43,2,     0.00,2,     2.99,2, -999.000,9, -999.000,9,   2337.8,2,   2368.2,2,   7.4038,2,    25.00,  -999.00,9,  -999.00,9,   3.7795,     1844
  49UP20130619,  P03W,   106,  1,     21,     78,2,20130902,1701, 24.2420, 177.5842, 5743,   1283.6,   3.3237,   3.3227,  34.5188,2,  34.5193,2,     63.1,2,   124.60,2,    41.00,2,     0.00,2,     2.94,2, -999.000,9, -999.000,9,   2351.5,2,   2382.3,2,   7.4346,2,    25.00,  -999.00,9,  -999.00,9,   3.3227,     1840
  49UP20130619,  P03W,   106,  1,     20,     93,2,20130902,1701, 24.2420, 177.5842, 5743,   1485.2,   2.8701,   2.8701,  34.5517,2,  34.5517,2,     71.0,2,   134.45,2,    40.79,2,     0.00,2,     2.91,2, -999.000,9, -999.000,9,   2354.6,2,   2393.3,2,   7.4457,2,    25.00,  -999.00,9,  -999.00,9,   2.8701,     1835
  49UP20130619,  P03W,   106,  1,     19,     92,2,20130902,1701, 24.2420, 177.5842, 5743,   1688.2,   2.5143,   2.5176,  34.5816,2,  34.5817,2,     81.1,2,   141.13,2,    40.22,2,     0.00,2,     2.87,2, -999.000,9, -999.000,9,   2360.3,2,   2404.1,2,   7.4629,2,    25.00,  -999.00,9,  -999.00,9,   2.5176,     1831
  49UP20130619,  P03W,   106,  1,     18,    101,2,20130902,1701, 24.2420, 177.5842, 5743,   1891.6,   2.2362,   2.2370,  34.6022,2,  34.6021,2,     90.3,2,   146.77,2,    39.87,2,     0.00,2,     2.82,2, -999.000,9, -999.000,9,   2351.5,3,   2406.6,6,   7.4786,2,    25.00,  -999.00,9,  -999.00,9,   2.2370,     1826
  49UP20130619,  P03W,   106,  1,     17,     90,2,20130902,1701, 24.2420, 177.5842, 5743,   2094.0,   1.9805,   1.9797,  34.6219,2,  34.6217,2,     99.4,2,   151.81,2,    39.34,2,     0.00,2,     2.78,2, -999.000,9, -999.000,9,   2357.4,2,   2412.8,2,   7.4938,6,    25.00,  -999.00,9,  -999.00,9,   1.9797,     1822
  49UP20130619,  P03W,   106,  1,     16,     89,2,20130902,1701, 24.2420, 177.5842, 5743,   2297.5,   1.8418,   1.8405,  34.6349,2,  34.6478,4,    107.8,2,   153.43,2,    38.84,2,     0.00,2,     2.74,2, -999.000,9, -999.000,9,   2353.3,2,   2416.3,2,   7.5093,2,    25.00,  -999.00,9,  -999.00,9,   1.8405,     1817
  49UP20130619,  P03W,   106,  1,     15,     88,2,20130902,1701, 24.2420, 177.5842, 5743,   2501.5,   1.7162,   1.7153,  34.6456,2,  34.6461,6,    114.4,2,   155.39,2,    38.47,2,     0.00,2,     2.71,2, -999.000,9, -999.000,9,   2351.5,2,   2416.9,2,   7.5209,2,    25.00,  -999.00,9,  -999.00,9,   1.7153,     1813
  49UP20130619,  P03W,   106,  1,     14,    999,2,20130902,1701, 24.2420, 177.5842, 5743,   2705.9,   1.6531,   1.6531,  34.6529,2,  34.6533,2,    120.0,2,   155.47,2,    38.06,2,     0.00,2,     2.68,2, -999.000,9, -999.000,9,   2345.4,2,   2419.6,2,   7.5248,2,    25.00,  -999.00,9,  -999.00,9,   1.6531,     1809
  49UP20130619,  P03W,   106,  1,     13,    667,2,20130902,1701, 24.2420, 177.5842, 5743,   2908.7,   1.5990,   1.5988,  34.6596,2,  34.6602,2,    126.2,6,   154.93,6,    37.69,6,     0.00,6,     2.65,6, -999.000,9, -999.000,9,   2346.4,2,   2419.1,2,   7.5414,2,    25.00,  -999.00,9,  -999.00,9,   1.5988,     1804
  49UP20130619,  P03W,   106,  1,     12,     74,2,20130902,1701, 24.2420, 177.5842, 5743,   3123.8,   1.5489,   1.5489,  34.6660,2,  34.6667,2,    132.3,2,   153.94,2,    37.29,2,     0.00,2,     2.61,2, -999.000,9, -999.000,9,   2332.7,3,   2417.3,2,   7.5520,2,    25.00,  -999.00,9,  -999.00,9,   1.5489,     1759
  49UP20130619,  P03W,   106,  1,     11,    996,2,20130902,1701, 24.2420, 177.5842, 5743,   3379.5,   1.5067,   1.5066,  34.6723,2,  34.6730,2,    138.8,2,   152.21,2,    36.78,2,     0.00,2,     2.58,2, -999.000,9, -999.000,9,   2342.6,2,   2420.8,2,   7.5614,2,    25.00,  -999.00,9,  -999.00,9,   1.5066,     1754
  49UP20130619,  P03W,   106,  1,     10,    107,2,20130902,1701, 24.2420, 177.5842, 5743,   3634.0,   1.4796,   1.4799,  34.6772,2,  34.6772,2,    144.4,2,   150.32,2,    36.43,2,     0.00,2,     2.55,2, -999.000,9, -999.000,9,   2333.7,2,   2417.0,2,   7.5790,3,    25.00,  -999.00,9,  -999.00,9,   1.4799,     1748
  49UP20130619,  P03W,   106,  1,      9,    108,2,20130902,1701, 24.2420, 177.5842, 5743,   3891.0,   1.4628,   1.4628,  34.6812,2,  34.6816,2,    150.4,2,   148.26,2,    36.01,2,     0.00,2,     2.51,2, -999.000,9, -999.000,9,   2339.7,3,   2414.1,2,   7.5761,2,    25.00,  -999.00,9,  -999.00,9,   1.4628,     1743
  49UP20130619,  P03W,   106,  1,      8,     81,2,20130902,1701, 24.2420, 177.5842, 5743,   4146.9,   1.4503,   1.4501,  34.6845,2,  34.6856,2,    155.5,2,   145.91,2,    35.73,2,     0.00,2,     2.48,4, -999.000,9, -999.000,9,   2322.0,2,   2412.0,2,   7.5858,2,    25.00,  -999.00,9,  -999.00,9,   1.4501,     1738
  49UP20130619,  P03W,   106,  1,      7,    106,2,20130902,1701, 24.2420, 177.5842, 5743,   4403.0,   1.4409,   1.4409,  34.6880,2,  34.6888,2,    160.8,6,   142.96,6,    35.30,6,     0.00,6,     2.46,6, -999.000,9, -999.000,9,   2319.4,2,   2410.2,2,   7.5906,2,    25.00,  -999.00,9,  -999.00,9,   1.4409,     1732
  49UP20130619,  P03W,   106,  1,      6,    113,2,20130902,1701, 24.2420, 177.5842, 5743,   4659.7,   1.4360,   1.4359,  34.6908,2,  34.6914,2,    166.5,2,   139.25,2,    34.95,2,     0.00,2,     2.43,2, -999.000,9, -999.000,9,   2313.2,2,   2406.7,2,   7.5977,2,    25.00,  -999.00,9,  -999.00,9,   1.4359,     1727
  49UP20130619,  P03W,   106,  1,      5,     94,3,20130902,1701, 24.2420, 177.5842, 5743,   4916.5,   1.4345,   1.4346,  34.6937,2,  34.6940,2,    171.5,2,   136.10,2,    34.57,2,     0.00,2,     2.40,2, -999.000,9, -999.000,9,   2310.0,6,   2402.4,6,   7.6018,2,    25.00,  -999.00,9,  -999.00,9,   1.4346,     1722
  49UP20130619,  P03W,   106,  1,      4,     77,2,20130902,1701, 24.2420, 177.5842, 5743,   5174.6,   1.4473,   1.4472,  34.6953,2,  34.6955,2,    174.4,2,   134.34,2,    34.35,2,     0.00,2,     2.39,2, -999.000,9, -999.000,9,   2305.5,2,   2400.0,2,   7.6059,6,    25.00,  -999.00,9,  -999.00,9,   1.4472,     1716
  49UP20130619,  P03W,   106,  1,      3,    104,3,20130902,1701, 24.2420, 177.5842, 5743,   5432.8,   1.4656,   1.4655,  34.6964,2,  34.6969,2,    176.6,2,   132.89,2,    34.22,2,     0.00,2,     2.38,2, -999.000,9, -999.000,9,   2299.5,2,   2399.4,2,   7.6057,2,    25.00,  -999.00,9,  -999.00,9,   1.4655,     1711
  49UP20130619,  P03W,   106,  1,      2,     75,2,20130902,1701, 24.2420, 177.5842, 5743,   5690.7,   1.4883,   1.4882,  34.6974,2,  34.6983,2,    178.2,2,   131.98,2,    34.07,2,     0.00,2,     2.37,2, -999.000,9, -999.000,9,   2301.5,2,   2397.2,2,   7.6082,2,    25.00,  -999.00,9,  -999.00,9,   1.4882,     1706
  49UP20130619,  P03W,   106,  1,      1,    997,2,20130902,1701, 24.2420, 177.5842, 5743,   5889.6,   1.5132,   1.5132,  34.6977,2,  34.6974,2,    178.1,2,   132.12,2,    34.09,2,     0.00,2,     2.37,2, -999.000,9, -999.000,9,   2301.8,2,   2397.8,2,   7.6112,2,    25.00,  -999.00,9,  -999.00,9,   1.5132,     1701