BOTTLE,20180830PRINUNIVRMK
EXPOCODE,SECT_ID,STNNBR,CASTNO,SAMPNO,BTLNBR,BTLNBR_FLAG_W,DATE,TIME,LATITUDE,LONGITUDE,DEPTH,CTDPRS,CTDTMP,SBE35,CTDSAL,CTDSAL_FLAG_W,SALNTY,SALNTY_FLAG_W,OXYGEN,OXYGEN_FLAG_W,SILCAT,SILCAT_FLAG_W,NITRAT,NITRAT_FLAG_W,NITRIT,NITRIT_FLAG_W,PHSPHT,PHSPHT_FLAG_W,CFC-11,CFC-11_FLAG_W,CFC-12,CFC-12_FLAG_W,TCARBN,TCARBN_FLAG_W,ALKALI,ALKALI_FLAG_W,PH_TOT,PH_TOT_FLAG_W,PH_TMP,CHLORA,CHLORA_FLAG_W,PPHYTN,PPHYTN_FLAG_W,SBE35,BTL_TIME
,,,,,,,,,,,METERS,DBAR,ITS-90,,PSS-78,,PSS-78,,UMOL/KG,,UMOL/KG,,UMOL/KG,,UMOL/KG,,UMOL/KG,,PMOL/KG,,PMOL/KG,,UMOL/KG,,UMOL/KG,,,,DEG C,UG/KG,,UG/KG,,,
  49UP20130619,  P03W,    36,  1,      0,   -999,0,20130706,1402, 24.9908, 129.4897, 3967,      0.0,  29.6264,-999.0000,  34.6413,2,  34.6434,2,    196.1,2,     1.17,2,     0.00,2,     0.00,2,     0.03,2, -999.000,9, -999.000,9,   1954.9,2,   2275.8,2,   8.0902,2,    25.00,     0.04,2,     0.02,2,-999.0000,     1520
  49UP20130619,  P03W,    36,  1,     36,    109,2,20130706,1402, 24.9908, 129.4897, 3967,     10.4,  29.2581,  29.2258,  34.6202,2,  34.6244,2,    197.4,6,     1.15,6,     0.00,6,     0.00,6,     0.02,6, -999.000,9, -999.000,9,   1954.1,2,   2275.5,2,   8.0840,2,    25.00,     0.04,2,     0.02,2,  29.2258,     1543
  49UP20130619,  P03W,    36,  1,     35,    112,3,20130706,1402, 24.9908, 129.4897, 3967,     53.2,  23.3738,  23.3542,  34.8114,2,  34.8067,2,    227.2,2,     1.41,2,     0.01,2,     0.00,2,     0.02,2, -999.000,9, -999.000,9,   1978.6,2,   2287.8,2,   8.0636,3,    25.00,     0.07,2,     0.02,2,  23.3542,     1541
  49UP20130619,  P03W,    36,  1,     34,     83,2,20130706,1402, 24.9908, 129.4897, 3967,    100.7,  20.8198,  20.7942,  34.8111,2,  34.8120,2,    224.1,2,     1.67,2,     0.00,2,     0.00,2,     0.02,2, -999.000,9, -999.000,9,   1995.2,2,   2290.8,2,   8.0426,2,    25.00,     0.22,2,     0.15,2,  20.7942,     1537
  49UP20130619,  P03W,    36,  1,     33,     86,2,20130706,1402, 24.9908, 129.4897, 3967,    150.7,  19.4532,  19.4551,  34.7983,2,  34.7982,2,    206.6,2,     2.23,2,     1.01,2,     0.18,2,     0.10,2, -999.000,9, -999.000,9,   2015.7,2,   2288.3,2,   7.9986,2,    25.00,     0.17,2,     0.32,2,  19.4551,     1535
  49UP20130619,  P03W,    36,  1,     32,    105,2,20130706,1402, 24.9908, 129.4897, 3967,    201.4,  18.4029,  18.4039,  34.7696,2,  34.7684,2,    196.2,2,     3.20,2,     4.10,2,     0.01,2,     0.28,2, -999.000,9, -999.000,9,   2034.2,6,   2285.8,6,   7.9614,2,    25.00,     0.03,2,     0.07,2,  18.4039,     1533
  49UP20130619,  P03W,    36,  1,     31,     76,2,20130706,1402, 24.9908, 129.4897, 3967,    251.5,  17.3707,  17.3709,  34.7123,2,  34.7102,2,    195.1,2,     4.64,2,     5.65,2,     0.01,2,     0.39,2, -999.000,9, -999.000,9,   2042.4,2,   2284.8,2,   7.9402,2,    25.00,  -999.00,9,  -999.00,9,  17.3709,     1531
  49UP20130619,  P03W,    36,  1,     28,     91,2,20130706,1402, 24.9908, 129.4897, 3967,    331.5,  16.2364,  16.2348,  34.6392,2,  34.6367,6,    190.8,2,     7.02,2,     7.76,2,     0.00,2,     0.54,2, -999.000,9, -999.000,9,   2061.2,2,   2281.0,2,   7.9046,2,    25.00,  -999.00,9,  -999.00,9,  16.2348,     1529
  49UP20130619,  P03W,    36,  1,     27,    998,2,20130706,1402, 24.9908, 129.4897, 3967,    331.5,  16.2364,  16.2348,  34.6392,2,  34.6359,2,    190.6,2,     7.08,2,     7.78,2,     0.01,2,     0.54,2, -999.000,9, -999.000,9,   2059.3,2,   2280.8,2,   7.9087,2,    25.00,  -999.00,9,  -999.00,9,  16.2348,     1529
  49UP20130619,  P03W,    36,  1,     26,     84,2,20130706,1402, 24.9908, 129.4897, 3967,    433.3,  13.6771,  13.6742,  34.4726,2,  34.4704,2,    180.0,2,    15.46,2,    12.88,2,     0.00,2,     0.90,2, -999.000,9, -999.000,9,   2094.6,2,   2285.0,2,   7.8255,2,    25.00,  -999.00,9,  -999.00,9,  13.6742,     1526
  49UP20130619,  P03W,    36,  1,     25,     98,2,20130706,1402, 24.9908, 129.4897, 3967,    533.7,  10.4213,  10.4190,  34.2765,2,  34.2712,4,    161.8,2,    31.10,2,    20.03,2,     0.00,2,     1.45,2, -999.000,9, -999.000,9,   2154.3,2,   2285.2,2,   7.7113,2,    25.00,  -999.00,9,  -999.00,9,  10.4190,     1523
  49UP20130619,  P03W,    36,  1,     24,    110,2,20130706,1402, 24.9908, 129.4897, 3967,    635.8,   7.9765,   7.9874,  34.1644,2,  34.1641,2,    135.9,2,    49.55,2,    26.61,2,     0.00,2,     1.94,2, -999.000,9, -999.000,9,   2205.1,2,   2293.4,2,   7.6070,2,    25.00,  -999.00,9,  -999.00,9,   7.9874,     1520
  49UP20130619,  P03W,    36,  1,     23,     96,2,20130706,1402, 24.9908, 129.4897, 3967,    735.8,   6.1047,   6.1067,  34.1704,2,  34.1703,2,    100.9,2,    73.43,2,    32.91,2,     0.00,2,     2.39,2, -999.000,9, -999.000,9,   2261.1,2,   2316.3,2,   7.5048,2,    25.00,  -999.00,9,  -999.00,9,   6.1067,     1518
  49UP20130619,  P03W,    36,  1,     22,    111,2,20130706,1402, 24.9908, 129.4897, 3967,    837.6,   4.8716,   4.8713,  34.2341,2,  34.2339,2,     73.5,2,    94.22,2,    37.30,2,     0.00,2,     2.71,2, -999.000,9, -999.000,9,   2303.0,2,   2336.8,2,   7.4396,2,    25.00,  -999.00,9,  -999.00,9,   4.8713,     1515
  49UP20130619,  P03W,    36,  1,     21,     78,2,20130706,1402, 24.9908, 129.4897, 3967,    939.1,   4.2117,   4.2118,  34.3059,2,  34.3052,2,     62.4,6,   108.40,6,    39.30,6,     0.00,6,     2.84,6, -999.000,9, -999.000,9,   2329.0,2,   2353.8,2,-999.0000,5,    25.00,  -999.00,9,  -999.00,9,   4.2118,     1512
  49UP20130619,  P03W,    36,  1,     20,     93,2,20130706,1402, 24.9908, 129.4897, 3967,   1080.9,   3.5423,   3.5424,  34.4132,2,  34.4125,2,     62.7,2,   122.63,2,    40.24,2,     0.00,2,     2.89,2, -999.000,9, -999.000,9,   2344.8,6,   2371.9,6,   7.4238,2,    25.00,  -999.00,9,  -999.00,9,   3.5424,     1509
  49UP20130619,  P03W,    36,  1,     19,     92,2,20130706,1402, 24.9908, 129.4897, 3967,   1281.5,   2.8885,   2.8885,  34.4827,2,  34.4818,2,     70.1,2,   135.47,2,    40.41,2,     0.00,2,     2.90,2, -999.000,9, -999.000,9,   2358.6,2,   2393.1,2,   7.4338,2,    25.00,  -999.00,9,  -999.00,9,   2.8885,     1505
  49UP20130619,  P03W,    36,  1,     18,    101,2,20130706,1402, 24.9908, 129.4897, 3967,   1484.2,   2.5320,   2.5322,  34.5317,2,  34.5311,6,     81.8,2,   140.39,2,    39.95,2,     0.00,2,     2.85,2, -999.000,9, -999.000,9,   2354.5,2,   2399.5,2,   7.4570,2,    25.00,  -999.00,9,  -999.00,9,   2.5322,     1500
  49UP20130619,  P03W,    36,  1,     17,     90,2,20130706,1402, 24.9908, 129.4897, 3967,   1484.2,   2.5320,   2.5322,  34.5317,2,  34.5310,2,     82.0,2,   140.45,2,    39.94,2,     0.00,2,     2.86,2, -999.000,9, -999.000,9,   2353.9,2,   2399.9,2,   7.4606,2,    25.00,  -999.00,9,  -999.00,9,   2.5322,     1500
  49UP20130619,  P03W,    36,  1,     16,     89,2,20130706,1402, 24.9908, 129.4897, 3967,   1687.1,   2.2470,   2.2468,  34.5703,2,  34.5706,2,     95.1,2,   142.93,2,    39.24,2,     0.00,2,     2.80,2, -999.000,9, -999.000,9,   2352.6,2,   2406.7,2,   7.4821,2,    25.00,  -999.00,9,  -999.00,9,   2.2468,     1456
  49UP20130619,  P03W,    36,  1,     15,     88,2,20130706,1402, 24.9908, 129.4897, 3967,   1890.6,   2.0591,   2.0591,  34.5991,2,  34.6003,2,    107.4,2,   143.30,2,    38.56,2,     0.00,2,     2.74,2, -999.000,9, -999.000,9,   2346.4,2,   2412.2,2,-999.0000,5,    25.00,  -999.00,9,  -999.00,9,   2.0591,     1452
  49UP20130619,  P03W,    36,  1,     13,    667,2,20130706,1402, 24.9908, 129.4897, 3967,   2094.0,   1.8896,   1.8890,  34.6232,2,  34.6237,2,    119.1,2,   143.35,2,    37.92,2,     0.00,2,     2.69,2, -999.000,9, -999.000,9,   2342.1,2,   2412.9,2,   7.5295,2,    25.00,  -999.00,9,  -999.00,9,   1.8890,     1447
  49UP20130619,  P03W,    36,  1,     12,     74,2,20130706,1402, 24.9908, 129.4897, 3967,   2297.9,   1.7760,   1.7759,  34.6402,2,  34.6408,2,    128.1,2,   142.98,2,    37.45,2,     0.00,2,     2.65,2, -999.000,9, -999.000,9,   2340.0,2,   2412.4,2,-999.0000,5,    25.00,  -999.00,9,  -999.00,9,   1.7759,     1442
  49UP20130619,  P03W,    36,  1,     11,    996,4,20130706,1402, 24.9908, 129.4897, 3967,   2501.3,   1.7031,   1.7033,  34.6507,2,  34.8094,4,    221.9,4,     1.78,4,     0.03,4,     0.01,4,     0.03,4, -999.000,9, -999.000,9,   1999.9,4,   2284.8,4,-999.0000,5,    25.00,  -999.00,9,  -999.00,9,   1.7033,     1437
  49UP20130619,  P03W,    36,  1,     10,    107,2,20130706,1402, 24.9908, 129.4897, 3967,   2705.2,   1.6438,   1.6438,  34.6581,2,  34.6588,2,    137.7,2,   142.87,2,    36.80,2,     0.00,2,     2.59,2, -999.000,9, -999.000,9,   2333.6,2,   2418.1,2,   7.5639,2,    25.00,  -999.00,9,  -999.00,9,   1.6438,     1433
  49UP20130619,  P03W,    36,  1,      9,    108,2,20130706,1402, 24.9908, 129.4897, 3967,   2908.6,   1.5968,   1.5968,  34.6646,2,  34.6649,2,    141.7,2,   142.44,2,    36.57,2,     0.00,2,     2.57,2, -999.000,9, -999.000,9,   2335.5,2,   2420.4,2,   7.5670,2,    25.00,  -999.00,9,  -999.00,9,   1.5968,     1428
  49UP20130619,  P03W,    36,  1,      8,     81,2,20130706,1402, 24.9908, 129.4897, 3967,   3122.6,   1.5761,   1.5761,  34.6686,2,  34.6681,2,    144.5,2,   142.21,2,    36.39,2,     0.00,2,     2.56,2, -999.000,9, -999.000,9,   2335.9,2,   2416.4,2,   7.5724,2,    25.00,  -999.00,9,  -999.00,9,   1.5761,     1423
  49UP20130619,  P03W,    36,  1,      7,    106,2,20130706,1402, 24.9908, 129.4897, 3967,   3378.4,   1.5598,   1.5598,  34.6725,2,  34.6732,6,    147.4,2,   142.18,2,    36.27,2,     0.00,2,     2.55,2, -999.000,9, -999.000,9,   2334.9,6,   2418.9,6,   7.5746,2,    25.00,  -999.00,9,  -999.00,9,   1.5598,     1418
  49UP20130619,  P03W,    36,  1,      6,    113,2,20130706,1402, 24.9908, 129.4897, 3967,   3633.1,   1.5552,   1.5551,  34.6755,2,  34.6766,2,    150.2,2,   141.83,2,    36.12,2,     0.00,2,     2.54,2, -999.000,9, -999.000,9,   2335.8,2,   2418.3,2,   7.5801,6,    25.00,  -999.00,9,  -999.00,9,   1.5551,     1412
  49UP20130619,  P03W,    36,  1,      4,     77,2,20130706,1402, 24.9908, 129.4897, 3967,   3889.6,   1.5538,   1.5538,  34.6784,2,  34.6781,2,    152.5,2,   141.31,2,    35.93,2,     0.00,2,     2.52,2, -999.000,9, -999.000,9,   2332.0,2,   2419.7,2,   7.5825,2,    25.00,  -999.00,9,  -999.00,9,   1.5538,     1406
  49UP20130619,  P03W,    36,  1,      3,    104,2,20130706,1402, 24.9908, 129.4897, 3967,   3890.0,   1.5537,   1.5538,  34.6785,2,  34.6791,2,    151.9,6,   141.42,6,    35.97,6,     0.00,6,     2.53,6, -999.000,9, -999.000,9,   2332.2,2,   2420.4,2,   7.5798,2,    25.00,  -999.00,9,  -999.00,9,   1.5538,     1406
  49UP20130619,  P03W,    36,  1,      2,     75,2,20130706,1402, 24.9908, 129.4897, 3967,   4018.4,   1.5663,   1.5664,  34.6785,2,  34.6793,2,    152.1,2,   141.34,2,    35.92,2,     0.00,2,     2.52,2, -999.000,9, -999.000,9,   2330.9,2,   2415.3,2,   7.5835,2,    25.00,  -999.00,9,  -999.00,9,   1.5664,     1402
  49UP20130619,  P03W,    36,  1,      1,    997,2,20130706,1402, 24.9908, 129.4897, 3967,   4018.4,   1.5663,   1.5664,  34.6785,2,  34.6782,6,    151.9,2,   141.43,2,    35.97,2,     0.00,2,     2.53,2, -999.000,9, -999.000,9,   2331.1,2,   2421.4,2,   7.5846,2,    25.00,  -999.00,9,  -999.00,9,   1.5664,     1402