BOTTLE,20180830PRINUNIVRMK
EXPOCODE,SECT_ID,STNNBR,CASTNO,SAMPNO,BTLNBR,BTLNBR_FLAG_W,DATE,TIME,LATITUDE,LONGITUDE,DEPTH,CTDPRS,CTDTMP,SBE35,CTDSAL,CTDSAL_FLAG_W,SALNTY,SALNTY_FLAG_W,OXYGEN,OXYGEN_FLAG_W,SILCAT,SILCAT_FLAG_W,NITRAT,NITRAT_FLAG_W,NITRIT,NITRIT_FLAG_W,PHSPHT,PHSPHT_FLAG_W,CFC-11,CFC-11_FLAG_W,CFC-12,CFC-12_FLAG_W,TCARBN,TCARBN_FLAG_W,ALKALI,ALKALI_FLAG_W,PH_TOT,PH_TOT_FLAG_W,PH_TMP,CHLORA,CHLORA_FLAG_W,PPHYTN,PPHYTN_FLAG_W,SBE35,BTL_TIME
,,,,,,,,,,,METERS,DBAR,ITS-90,,PSS-78,,PSS-78,,UMOL/KG,,UMOL/KG,,UMOL/KG,,UMOL/KG,,UMOL/KG,,PMOL/KG,,PMOL/KG,,UMOL/KG,,UMOL/KG,,,,DEG C,UG/KG,,UG/KG,,,
  49UP20130619,  P03W,   108,  1,      0,   -999,0,20130903,0800, 24.0052, 179.0058, 5697,      0.0,  28.5116,-999.0000,  35.5549,2,  35.5569,2,    198.1,2,     0.89,2,     0.00,2,     0.00,2,     0.03,2, -999.000,9, -999.000,9,   1991.6,2,   2335.7,2,   8.1132,2,    25.00,     0.07,2,     0.02,2,-999.0000,      952
  49UP20130619,  P03W,   108,  1,     36,    109,2,20130903,0800, 24.0052, 179.0058, 5697,     10.0,  28.5230,  28.5222,  35.5545,2,  35.5559,2,    198.0,2,     0.86,2,     0.00,2,     0.00,2,     0.03,2,    1.811,3,    0.921,3,   1991.3,2,   2337.7,2,   8.1158,2,    25.00,     0.07,2,     0.02,2,  28.5222,     1011
  49UP20130619,  P03W,   108,  1,     35,    112,2,20130903,0800, 24.0052, 179.0058, 5697,     50.8,  28.3460,  28.3436,  35.5274,2,  35.4778,4,    208.0,2,     0.86,2,     0.01,2,     0.00,2,     0.02,2,    2.183,3,    0.944,3,   1991.2,6,   2331.8,6,   8.1103,2,    25.00,     0.10,2,     0.03,2,  28.3436,     1007
  49UP20130619,  P03W,   108,  1,     34,     83,2,20130903,0800, 24.0052, 179.0058, 5697,    101.1,  22.2591,  22.2580,  35.2495,2,  35.2534,2,    221.5,2,     1.48,2,     0.01,2,     0.00,2,     0.03,2,    2.385,3,    1.181,3,   2010.9,2,   2318.2,2,   8.0542,6,    25.00,     0.18,2,     0.11,2,  22.2580,     1005
  49UP20130619,  P03W,   108,  1,     33,    517,2,20130903,0800, 24.0052, 179.0058, 5697,    151.0,  19.4500,  19.4493,  34.9481,2,  34.9379,2,    211.0,2,     2.35,2,     0.69,2,     0.12,2,     0.11,2,    2.242,2,    1.270,2,   2032.2,2,   2296.1,2,   7.9957,2,    25.00,     0.10,2,     0.26,2,  19.4493,     1004
  49UP20130619,  P03W,   108,  1,     32,    105,2,20130903,0800, 24.0052, 179.0058, 5697,    203.0,  17.3112,  17.3096,  34.7062,2,  34.7043,2,    208.1,2,     3.83,2,     3.74,2,     0.01,2,     0.29,2,    2.418,6,    1.391,6,   2042.8,2,   2280.9,2,   7.9482,2,    25.00,     0.03,2,     0.05,2,  17.3096,     1002
  49UP20130619,  P03W,   108,  1,     31,     76,2,20130903,0800, 24.0052, 179.0058, 5697,    253.1,  15.7831,  15.7818,  34.5789,2,  34.5807,2,    214.5,2,     5.54,2,     5.59,2,     0.01,2,     0.41,2,    2.528,2,    1.449,2,   2048.1,2,   2276.1,2,   7.9242,2,    25.00,  -999.00,9,  -999.00,9,  15.7818,     1001
  49UP20130619,  P03W,   108,  1,     30,     97,2,20130903,0800, 24.0052, 179.0058, 5697,    301.6,  14.3745,  14.3737,  34.4659,2,  34.4670,2,    205.2,2,     8.42,2,     8.52,2,     0.00,2,     0.61,2,    2.733,2,    1.556,2,   2072.5,2,   2270.1,2,   7.8643,2,    25.00,  -999.00,9,  -999.00,9,  14.3737,      958
  49UP20130619,  P03W,   108,  1,     29,    102,2,20130903,0800, 24.0052, 179.0058, 5697,    406.1,  11.5691,  11.5673,  34.2708,2,  34.2745,2,    197.5,6,    15.96,6,    14.03,6,     0.00,6,     1.00,6,    3.031,6,    1.657,6,   2105.9,2,   2269.1,2,   7.7889,2,    25.00,  -999.00,9,  -999.00,9,  11.5673,      956
  49UP20130619,  P03W,   108,  1,     28,     91,2,20130903,0800, 24.0052, 179.0058, 5697,    504.9,   9.1490,   9.1324,  34.1261,2,  34.1241,6,    169.8,2,    30.41,2,    21.38,2,     0.00,2,     1.54,2,    2.968,2,    1.526,2,   2155.7,2,   2273.0,2,   7.6751,2,    25.00,  -999.00,9,  -999.00,9,   9.1324,      953
  49UP20130619,  P03W,   108,  1,     27,    998,2,20130903,0800, 24.0052, 179.0058, 5697,    604.5,   6.9614,   6.9604,  34.0967,2,  34.0978,2,    102.1,2,    54.59,2,    31.42,2,     0.00,2,     2.28,2,    1.785,6,    0.875,2,   2233.4,2,   2290.5,2,   7.5083,2,    25.00,  -999.00,9,  -999.00,9,   6.9604,      951
  49UP20130619,  P03W,   108,  1,     26,     84,2,20130903,0800, 24.0052, 179.0058, 5697,    707.5,   5.4211,   5.4213,  34.1291,2,  34.1342,4,     66.9,2,    78.55,2,    37.22,2,     0.00,2,     2.70,2,    0.937,2,    0.463,2,   2286.3,2,   2313.4,2,   7.4177,2,    25.00,  -999.00,9,  -999.00,9,   5.4213,      948
  49UP20130619,  P03W,   108,  1,     25,     98,2,20130903,0800, 24.0052, 179.0058, 5697,    806.9,   4.6622,   4.6596,  34.2466,2,  34.2525,4,     41.4,2,    97.15,2,    40.66,2,     0.00,2,     2.95,2,    0.302,6,    0.162,6,   2323.7,2,   2340.3,2,   7.3737,2,    25.00,  -999.00,9,  -999.00,9,   4.6596,      946
  49UP20130619,  P03W,   108,  1,     24,    110,2,20130903,0800, 24.0052, 179.0058, 5697,    907.6,   4.0578,   4.0578,  34.3361,2,  34.3396,4,     37.0,2,   110.57,2,    41.91,2,     0.00,2,     3.03,2,    0.116,2,    0.065,2,   2343.7,2,   2353.8,2,   7.3731,2,    25.00,  -999.00,9,  -999.00,9,   4.0578,      943
  49UP20130619,  P03W,   108,  1,     23,     96,2,20130903,0800, 24.0052, 179.0058, 5697,   1008.9,   3.7283,   3.7284,  34.4067,2,  34.4073,2,     40.8,2,   118.61,2,    42.07,2,     0.00,2,     3.04,2,    0.051,2,    0.021,2,   2355.8,2,   2368.1,2,   7.3799,2,    25.00,  -999.00,9,  -999.00,9,   3.7284,      941
  49UP20130619,  P03W,   108,  1,     22,    111,2,20130903,0800, 24.0052, 179.0058, 5697,   1211.7,   3.2947,   3.2949,  34.5075,2,  34.5087,2,     60.4,2,   126.07,2,    41.12,2,     0.00,2,     2.96,2,    0.009,2,    0.005,2,   2351.2,2,   2399.1,3,   7.4261,2,    25.00,  -999.00,9,  -999.00,9,   3.2949,      937
  49UP20130619,  P03W,   108,  1,     21,     78,2,20130903,0800, 24.0052, 179.0058, 5697,   1415.1,   2.9024,   2.9020,  34.5465,2,  34.5471,2,     69.6,2,   134.01,2,    40.77,2,     0.00,2,     2.92,2,    0.006,2,    0.000,2,   2357.4,2,   2394.2,2,   7.4434,2,    25.00,  -999.00,9,  -999.00,9,   2.9020,      932
  49UP20130619,  P03W,   108,  1,     20,     93,2,20130903,0800, 24.0052, 179.0058, 5697,   1616.6,   2.5298,   2.5295,  34.5763,2,  34.5770,2,     78.8,6,   141.88,6,    40.49,6,     0.00,6,     2.89,6,    0.004,2,    0.004,2,   2358.9,2,   2403.5,2,   7.4584,2,    25.00,  -999.00,9,  -999.00,9,   2.5295,      928
  49UP20130619,  P03W,   108,  1,     19,     92,2,20130903,0800, 24.0052, 179.0058, 5697,   1819.7,   2.2119,   2.2118,  34.5996,2,  34.6009,2,     88.1,2,   148.81,2,    40.02,2,     0.00,2,     2.85,2,    0.033,2,    0.028,2,   2358.0,2,   2418.4,3,   7.4726,2,    25.00,  -999.00,9,  -999.00,9,   2.2118,      924
  49UP20130619,  P03W,   108,  1,     18,    101,2,20130903,0800, 24.0052, 179.0058, 5697,   2022.0,   2.0213,   2.0213,  34.6158,2,  34.6165,2,     95.1,2,   152.48,2,    39.59,2,     0.00,2,     2.81,2,    0.043,3,    0.021,2,   2363.0,2,   2421.1,3,   7.4868,2,    25.00,  -999.00,9,  -999.00,9,   2.0213,      919
  49UP20130619,  P03W,   108,  1,     17,     90,2,20130903,0800, 24.0052, 179.0058, 5697,   2226.2,   1.8532,   1.8528,  34.6304,2,  34.6309,2,    103.3,2,   155.22,2,    39.16,2,     0.00,2,     2.77,2, -999.000,9, -999.000,9,   2358.1,6,   2417.7,6,   7.4999,2,    25.00,  -999.00,9,  -999.00,9,   1.8528,      915
  49UP20130619,  P03W,   108,  1,     16,     89,2,20130903,0800, 24.0052, 179.0058, 5697,   2428.3,   1.7716,   1.7701,  34.6391,2,  34.6399,6,    109.6,2,   155.94,2,    38.74,2,     0.00,2,     2.73,2, -999.000,9, -999.000,9,   2358.5,2,   2416.8,2,   7.5107,6,    25.00,  -999.00,9,  -999.00,9,   1.7701,      911
  49UP20130619,  P03W,   108,  1,     15,     88,2,20130903,0800, 24.0052, 179.0058, 5697,   2633.4,   1.6904,   1.6904,  34.6484,2,  34.6464,2,    113.7,4,   156.23,4,    38.50,4,     0.00,4,     2.71,4, -999.000,9, -999.000,9,   2355.0,2,   2421.0,2,   7.5191,2,    25.00,  -999.00,9,  -999.00,9,   1.6904,      907
  49UP20130619,  P03W,   108,  1,     14,    999,2,20130903,0800, 24.0052, 179.0058, 5697,   2837.6,   1.6226,   1.6217,  34.6562,2,  34.6571,2,    122.9,2,   155.70,2,    37.87,2,     0.00,2,     2.66,2,    0.034,3,    0.018,2,   2348.4,2,   2420.2,2,   7.5329,2,    25.00,  -999.00,9,  -999.00,9,   1.6217,      902
  49UP20130619,  P03W,   108,  1,     13,    667,2,20130903,0800, 24.0052, 179.0058, 5697,   3042.0,   1.5615,   1.5613,  34.6639,2,  34.6646,2,    129.9,2,   154.79,2,    37.46,2,     0.00,2,     2.63,2, -999.000,9, -999.000,9,   2343.8,2,   2421.3,2,   7.5481,2,    25.00,  -999.00,9,  -999.00,9,   1.5613,      858
  49UP20130619,  P03W,   108,  1,     12,     74,2,20130903,0800, 24.0052, 179.0058, 5697,   3296.5,   1.5202,   1.5202,  34.6707,2,  34.6722,2,    137.5,2,   152.78,2,    36.95,2,     0.00,2,     2.59,2, -999.000,9, -999.000,9,   2337.4,2,   2419.0,2,   7.5588,2,    25.00,  -999.00,9,  -999.00,9,   1.5202,      853
  49UP20130619,  P03W,   108,  1,     11,    996,2,20130903,0800, 24.0052, 179.0058, 5697,   3552.6,   1.4829,   1.4828,  34.6762,2,  34.6767,6,    143.8,6,   150.70,6,    36.54,6,     0.00,6,     2.57,6,    0.014,2,    0.002,2,   2338.4,3,   2419.3,2,   7.5698,2,    25.00,  -999.00,9,  -999.00,9,   1.4828,      848
  49UP20130619,  P03W,   108,  1,     10,    107,2,20130903,0800, 24.0052, 179.0058, 5697,   3808.8,   1.4634,   1.4632,  34.6803,2,  34.6804,2,    149.3,2,   148.84,2,    36.20,2,     0.00,2,     2.53,2, -999.000,9, -999.000,9,   2327.2,2,   2418.1,2,   7.5745,2,    25.00,  -999.00,9,  -999.00,9,   1.4632,      842
  49UP20130619,  P03W,   108,  1,      9,    108,2,20130903,0800, 24.0052, 179.0058, 5697,   3808.8,   1.4634,   1.4632,  34.6803,2,  34.6814,2,    149.4,2,   148.84,2,    36.15,2,     0.00,2,     2.52,2, -999.000,9, -999.000,9,   2331.9,2,   2417.5,2,   7.5762,2,    25.00,  -999.00,9,  -999.00,9,   1.4632,      842
  49UP20130619,  P03W,   108,  1,      8,     81,2,20130903,0800, 24.0052, 179.0058, 5697,   4064.7,   1.4515,   1.4514,  34.6837,2,  34.6839,2,    154.3,2,   147.04,2,    35.84,2,     0.00,2,     2.50,2, -999.000,9, -999.000,9,   2326.0,6,   2418.2,6,   7.5829,2,    25.00,  -999.00,9,  -999.00,9,   1.4514,      837
  49UP20130619,  P03W,   108,  1,      7,    106,2,20130903,0800, 24.0052, 179.0058, 5697,   4322.5,   1.4405,   1.4405,  34.6872,2,  34.6869,2,    159.8,2,   143.84,2,    35.39,2,     0.00,2,     2.47,2, -999.000,9, -999.000,9,   2317.1,2,   2414.0,2,   7.5900,6,    25.00,  -999.00,9,  -999.00,9,   1.4405,      832
  49UP20130619,  P03W,   108,  1,      6,    113,2,20130903,0800, 24.0052, 179.0058, 5697,   4577.5,   1.4381,   1.4380,  34.6899,2,  34.6902,2,    165.0,2,   140.47,2,    35.11,2,     0.00,2,     2.44,2,    0.005,2,    0.000,2,   2314.4,2,   2414.8,2,   7.5939,2,    25.00,  -999.00,9,  -999.00,9,   1.4380,      827
  49UP20130619,  P03W,   108,  1,      5,     94,2,20130903,0800, 24.0052, 179.0058, 5697,   4834.5,   1.4375,   1.4374,  34.6924,2,  34.6934,2,    169.2,2,   137.81,2,    34.76,2,     0.00,2,     2.42,2, -999.000,9, -999.000,9,   2310.4,2,   2407.9,2,   7.6005,2,    25.00,  -999.00,9,  -999.00,9,   1.4374,      821
  49UP20130619,  P03W,   108,  1,      4,     77,2,20130903,0800, 24.0052, 179.0058, 5697,   5092.3,   1.4462,   1.4462,  34.6946,2,  34.6956,2,    173.0,2,   135.15,2,    34.49,2,     0.00,2,     2.40,2, -999.000,9, -999.000,9,   2305.9,2,   2405.4,2,   7.6043,2,    25.00,  -999.00,9,  -999.00,9,   1.4462,      816
  49UP20130619,  P03W,   108,  1,      3,    104,2,20130903,0800, 24.0052, 179.0058, 5697,   5349.5,   1.4623,   1.4623,  34.6961,2,  34.6971,2,    175.4,2,   133.80,2,    34.30,2,     0.00,2,     2.39,2,    0.008,2,    0.000,2,   2303.7,2,   2402.7,2,   7.6086,2,    25.00,  -999.00,9,  -999.00,9,   1.4623,      811
  49UP20130619,  P03W,   108,  1,      2,     75,2,20130903,0800, 24.0052, 179.0058, 5697,   5609.2,   1.4871,   1.4870,  34.6966,2,  34.6976,6,    176.8,6,   132.86,6,    34.20,6,     0.00,6,     2.37,6, -999.000,9, -999.000,9,   2301.5,2,   2399.3,2,   7.6092,2,    25.00,  -999.00,9,  -999.00,9,   1.4870,      805
  49UP20130619,  P03W,   108,  1,      1,    997,2,20130903,0800, 24.0052, 179.0058, 5697,   5839.8,   1.5104,   1.5104,  34.6975,2,  34.6978,2,    177.6,2,   132.42,2,    34.19,2,     0.00,2,     2.38,2,    0.038,3,    0.014,2,   2300.5,2,   2405.3,3,   7.6032,3,    25.00,  -999.00,9,  -999.00,9,   1.5104,      800