BOTTLE,20180830PRINUNIVRMK
EXPOCODE,SECT_ID,STNNBR,CASTNO,SAMPNO,BTLNBR,BTLNBR_FLAG_W,DATE,TIME,LATITUDE,LONGITUDE,DEPTH,CTDPRS,CTDTMP,SBE35,CTDSAL,CTDSAL_FLAG_W,SALNTY,SALNTY_FLAG_W,OXYGEN,OXYGEN_FLAG_W,SILCAT,SILCAT_FLAG_W,NITRAT,NITRAT_FLAG_W,NITRIT,NITRIT_FLAG_W,PHSPHT,PHSPHT_FLAG_W,CFC-11,CFC-11_FLAG_W,CFC-12,CFC-12_FLAG_W,TCARBN,TCARBN_FLAG_W,ALKALI,ALKALI_FLAG_W,PH_TOT,PH_TOT_FLAG_W,PH_TMP,CHLORA,CHLORA_FLAG_W,PPHYTN,PPHYTN_FLAG_W,SBE35,BTL_TIME
,,,,,,,,,,,METERS,DBAR,ITS-90,,PSS-78,,PSS-78,,UMOL/KG,,UMOL/KG,,UMOL/KG,,UMOL/KG,,UMOL/KG,,PMOL/KG,,PMOL/KG,,UMOL/KG,,UMOL/KG,,,,DEG C,UG/KG,,UG/KG,,,
  49UP20130619,  P03W,    77,  1,      0,   -999,0,20130811,0317, 24.2485, 155.2087, 5534,      0.0,  29.4883,-999.0000,  34.8175,2,  34.8172,2,    196.9,2,     1.01,2,     0.00,2,     0.00,2,     0.02,2, -999.000,9, -999.000,9,   1960.4,2,   2282.8,2,   8.1135,2,    25.00,     0.04,2,     0.01,2,-999.0000,      512
  49UP20130619,  P03W,    77,  1,     36,    109,2,20130811,0317, 24.2485, 155.2087, 5534,     10.5,  29.2441,  29.2427,  34.8278,2,  34.8280,2,    196.5,2,     1.01,2,     0.00,2,     0.00,2,     0.01,2,    1.832,3,    0.893,3,   1961.8,2,   2290.9,2,   8.1132,2,    25.00,     0.04,2,     0.01,2,  29.2427,      534
  49UP20130619,  P03W,    77,  1,     35,    112,2,20130811,0317, 24.2485, 155.2087, 5534,     49.7,  25.4121,  25.4136,  34.9839,2,  34.9832,2,    220.4,2,     1.19,2,     0.00,2,     0.00,2,     0.01,2,    2.561,3,    1.083,3,   1982.5,2,   2301.2,2,   8.0953,2,    25.00,     0.05,2,     0.01,2,  25.4136,      530
  49UP20130619,  P03W,    77,  1,     34,     83,2,20130811,0317, 24.2485, 155.2087, 5534,    101.2,  21.5310,  21.5251,  34.9794,2,  34.9810,2,    221.7,2,     1.70,2,     0.00,2,     0.00,2,     0.02,2,    2.434,3,    1.178,3,   2004.5,2,   2300.6,2,   8.0506,2,    25.00,     0.14,2,     0.07,2,  21.5251,      528
  49UP20130619,  P03W,    77,  1,     33,     86,2,20130811,0317, 24.2485, 155.2087, 5534,    150.9,  19.3495,  19.3630,  34.8742,2,  34.8760,2,    203.8,2,     2.26,2,     1.45,2,     0.02,2,     0.14,2,    2.205,2,    1.262,2,   2032.0,2,   2296.2,2,   7.9983,2,    25.00,     0.11,2,     0.30,2,  19.3630,      527
  49UP20130619,  P03W,    77,  1,     32,    105,2,20130811,0317, 24.2485, 155.2087, 5534,    201.7,  17.7407,  17.7405,  34.7480,2,  34.7476,2,    204.7,6,     3.52,6,     3.83,6,     0.01,6,     0.28,6,    2.327,2,    1.340,2,   2041.4,2,   2283.2,2,   7.9615,2,    25.00,     0.01,2,     0.02,2,  17.7405,      525
  49UP20130619,  P03W,    77,  1,     31,     76,2,20130811,0317, 24.2485, 155.2087, 5534,    251.5,  16.8788,  16.8778,  34.6929,2,  34.6941,2,    206.6,2,     4.54,2,     5.16,2,     0.00,2,     0.35,2,    2.380,2,    1.388,2,   2048.9,2,   2283.0,2,   7.9502,2,    25.00,  -999.00,9,  -999.00,9,  16.8778,      523
  49UP20130619,  P03W,    77,  1,     30,     97,2,20130811,0317, 24.2485, 155.2087, 5534,    302.1,  16.0207,  16.0155,  34.6239,2,  34.6226,2,    200.0,2,     6.53,2,     6.99,2,     0.00,2,     0.49,2,    2.482,2,    1.438,2,   2058.8,2,   2281.3,2,   7.9124,2,    25.00,  -999.00,9,  -999.00,9,  16.0155,      521
  49UP20130619,  P03W,    77,  1,     29,    102,2,20130811,0317, 24.2485, 155.2087, 5534,    403.0,  13.4114,  13.4157,  34.4139,2,  34.4084,2,    192.8,2,    12.03,2,    11.49,2,     0.00,2,     0.83,2,    2.800,2,    1.538,2,   2096.7,2,   2274.5,2,   7.8304,2,    25.00,  -999.00,9,  -999.00,9,  13.4157,      519
  49UP20130619,  P03W,    77,  1,     28,     91,2,20130811,0317, 24.2485, 155.2087, 5534,    504.6,  10.2854,  10.2889,  34.2035,2,  34.2059,2,    178.6,2,    23.63,2,    18.15,2,     0.00,2,     1.32,2,    2.891,2,    1.524,2,   2137.3,6,   2272.7,6,   7.7287,2,    25.00,  -999.00,9,  -999.00,9,  10.2889,      516
  49UP20130619,  P03W,    77,  1,     27,    998,2,20130811,0317, 24.2485, 155.2087, 5534,    604.7,   7.8055,   7.8066,  34.1044,2,  34.1031,2,    135.0,2,    44.45,2,    26.85,2,     0.00,2,     1.96,2,    2.253,2,    1.130,2,   2205.6,2,   2286.8,2,   7.5846,6,    25.00,  -999.00,9,  -999.00,9,   7.8066,      513
  49UP20130619,  P03W,    77,  1,     26,     84,2,20130811,0317, 24.2485, 155.2087, 5534,    705.3,   6.1485,   6.1485,  34.1233,2,  34.1241,2,     85.7,2,    66.82,2,    34.20,2,     0.00,2,     2.51,2,    1.256,6,    0.622,6,   2263.4,2,   2305.8,2,   7.4697,2,    25.00,  -999.00,9,  -999.00,9,   6.1485,      511
  49UP20130619,  P03W,    77,  1,     25,     98,2,20130811,0317, 24.2485, 155.2087, 5534,    807.8,   5.0968,   5.0960,  34.1995,2,  34.1988,2,     58.8,2,    86.45,2,    38.40,2,     0.00,2,     2.80,2,    0.587,2,    0.305,2,   2304.1,2,   2328.2,2,   7.4121,2,    25.00,  -999.00,9,  -999.00,9,   5.0960,      508
  49UP20130619,  P03W,    77,  1,     24,    110,2,20130811,0317, 24.2485, 155.2087, 5534,    907.9,   4.3658,   4.3660,  34.2999,2,  34.2997,2,     46.8,2,   103.47,2,    40.55,2,     0.00,2,     2.95,2,    0.252,2,    0.124,2,   2334.0,2,   2349.4,2,   7.3895,2,    25.00,  -999.00,9,  -999.00,9,   4.3660,      505
  49UP20130619,  P03W,    77,  1,     23,     96,2,20130811,0317, 24.2485, 155.2087, 5534,   1009.4,   3.9177,   3.9184,  34.3861,2,  34.3848,2,     48.0,2,   113.84,2,    41.06,2,     0.00,2,     2.98,2,    0.096,6,    0.048,6,   2344.8,2,   2365.1,2,   7.3975,2,    25.00,  -999.00,9,  -999.00,9,   3.9184,      503
  49UP20130619,  P03W,    77,  1,     22,    111,2,20130811,0317, 24.2485, 155.2087, 5534,   1212.1,   3.3152,   3.3147,  34.4781,2,  34.4778,2,     61.1,2,   126.73,2,    40.77,2,     0.00,2,     2.94,2,    0.065,2,    0.021,2,   2352.0,2,   2383.5,2,   7.4245,2,    25.00,  -999.00,9,  -999.00,9,   3.3147,      458
  49UP20130619,  P03W,    77,  1,     21,     78,2,20130811,0317, 24.2485, 155.2087, 5534,   1415.0,   2.8917,   2.8910,  34.5188,2,  34.5193,2,     70.5,6,   135.05,6,    40.41,6,     0.00,6,     2.91,6,    0.011,2,    0.000,2,   2357.2,2,   2391.8,2,   7.4431,2,    25.00,  -999.00,9,  -999.00,9,   2.8910,      454
  49UP20130619,  P03W,    77,  1,     20,     93,2,20130811,0317, 24.2485, 155.2087, 5534,   1618.0,   2.4454,   2.4454,  34.5567,2,  34.5563,2,     79.9,2,   143.79,2,    40.12,2,     0.00,2,     2.87,2,    0.018,2,    0.000,2,   2362.2,6,   2403.3,6,   7.4569,2,    25.00,  -999.00,9,  -999.00,9,   2.4454,      449
  49UP20130619,  P03W,    77,  1,     19,     92,2,20130811,0317, 24.2485, 155.2087, 5534,   1820.5,   2.1829,   2.1830,  34.5847,2,  34.5850,2,     89.5,2,   148.10,2,    39.60,2,     0.00,2,     2.83,2,    0.000,2,    0.000,2,   2359.9,2,   2411.7,2,   7.4731,6,    25.00,  -999.00,9,  -999.00,9,   2.1830,      444
  49UP20130619,  P03W,    77,  1,     18,    101,2,20130811,0317, 24.2485, 155.2087, 5534,   2022.7,   1.9758,   1.9758,  34.6088,2,  34.6093,6,     98.7,2,   151.20,2,    39.19,2,     0.00,2,     2.79,2,    0.000,2,    0.000,2,   2362.2,2,   2415.3,2,   7.4889,2,    25.00,  -999.00,9,  -999.00,9,   1.9758,      440
  49UP20130619,  P03W,    77,  1,     17,     90,2,20130811,0317, 24.2485, 155.2087, 5534,   2225.6,   1.8432,   1.8432,  34.6254,2,  34.6258,2,    106.6,2,   152.35,2,    38.75,2,     0.00,2,     2.76,2, -999.000,9, -999.000,9,   2354.5,3,   2420.9,3,   7.5023,2,    25.00,  -999.00,9,  -999.00,9,   1.8432,      435
  49UP20130619,  P03W,    77,  1,     16,     89,2,20130811,0317, 24.2485, 155.2087, 5534,   2430.4,   1.7433,   1.7436,  34.6383,2,  34.6392,2,    113.8,2,   153.07,2,    38.31,2,     0.00,2,     2.73,2,    0.000,2,    0.000,2,   2357.7,2,   2422.4,3,   7.5192,2,    25.00,  -999.00,9,  -999.00,9,   1.7436,      430
  49UP20130619,  P03W,    77,  1,     15,     88,2,20130811,0317, 24.2485, 155.2087, 5534,   2633.8,   1.6537,   1.6542,  34.6507,2,  34.6508,2,    122.8,2,   152.18,2,    37.68,2,     0.00,2,     2.68,2, -999.000,9, -999.000,9,   2350.2,2,   2418.2,2,   7.5342,2,    25.00,  -999.00,9,  -999.00,9,   1.6542,      426
  49UP20130619,  P03W,    77,  1,     14,    999,3,20130811,0317, 24.2485, 155.2087, 5534,   2837.8,   1.6010,   1.6011,  34.6588,2,  34.6584,2,    129.1,2,   151.05,6,    37.26,6,     0.00,6,     2.65,6, -999.000,9, -999.000,9,   2344.2,2,   2419.8,2,   7.5461,2,    25.00,  -999.00,9,  -999.00,9,   1.6011,      421
  49UP20130619,  P03W,    77,  1,     13,    667,2,20130811,0317, 24.2485, 155.2087, 5534,   3041.3,   1.5628,   1.5628,  34.6645,2,  34.6651,2,    134.7,2,   150.89,2,    36.95,2,     0.00,2,     2.62,2, -999.000,9, -999.000,9,   2340.7,2,   2420.1,6,   7.5538,2,    25.00,  -999.00,9,  -999.00,9,   1.5628,      417
  49UP20130619,  P03W,    77,  1,     12,     74,2,20130811,0317, 24.2485, 155.2087, 5534,   3297.0,   1.5210,   1.5209,  34.6710,2,  34.6720,2,    140.4,2,   149.80,2,    36.61,2,     0.00,2,     2.59,2,    0.000,2,    0.000,2,   2337.7,2,   2419.8,2,   7.5660,2,    25.00,  -999.00,9,  -999.00,9,   1.5209,      411
  49UP20130619,  P03W,    77,  1,     11,    996,4,20130811,0317, 24.2485, 155.2087, 5534,   3553.0,   1.4945,   1.4946,  34.6761,2,  34.1179,4,    147.4,4,    38.22,4,    24.58,4,     0.00,4,     1.80,4, -999.000,9, -999.000,9,   2184.8,4,   2273.8,4,   7.6184,4,    25.00,  -999.00,9,  -999.00,9,   1.4946,      406
  49UP20130619,  P03W,    77,  1,     10,    107,2,20130811,0317, 24.2485, 155.2087, 5534,   3808.6,   1.4744,   1.4744,  34.6803,2,  34.6791,2,    150.0,2,   147.13,2,    35.99,2,     0.00,2,     2.54,2, -999.000,9, -999.000,9,   -999.0,9,   -999.0,9,-999.0000,9,  -999.00,  -999.00,9,  -999.00,9,   1.4744,      400
  49UP20130619,  P03W,    77,  1,      9,    108,2,20130811,0317, 24.2485, 155.2087, 5534,   4063.6,   1.4636,   1.4635,  34.6837,2,  34.6841,6,    154.4,2,   145.81,2,    35.63,2,     0.00,2,     2.51,2, -999.000,9, -999.000,9,   2327.2,2,   2418.4,2,   7.5827,2,    25.00,  -999.00,9,  -999.00,9,   1.4635,      354
  49UP20130619,  P03W,    77,  1,      8,     81,2,20130811,0317, 24.2485, 155.2087, 5534,   4321.8,   1.4625,   1.4626,  34.6863,2,  34.6871,2,    158.5,2,   144.39,2,    35.39,2,     0.00,2,     2.49,2, -999.000,9, -999.000,9,   -999.0,9,   -999.0,9,-999.0000,9,  -999.00,  -999.00,9,  -999.00,9,   1.4626,      349
  49UP20130619,  P03W,    77,  1,      7,    106,2,20130811,0317, 24.2485, 155.2087, 5534,   4578.6,   1.4686,   1.4685,  34.6885,2,  34.6883,2,    161.0,2,   142.79,2,    35.20,2,     0.00,2,     2.48,2, -999.000,9, -999.000,9,   -999.0,9,   -999.0,9,-999.0000,9,  -999.00,  -999.00,9,  -999.00,9,   1.4685,      343
  49UP20130619,  P03W,    77,  1,      6,    113,2,20130811,0317, 24.2485, 155.2087, 5534,   4578.6,   1.4686,   1.4685,  34.6885,2,  34.6888,2,    161.4,2,   142.55,2,    35.17,2,     0.00,2,     2.48,2,    0.000,2,    0.000,2,   2320.3,2,   2415.6,2,   7.5925,2,    25.00,  -999.00,9,  -999.00,9,   1.4685,      343
  49UP20130619,  P03W,    77,  1,      5,     94,2,20130811,0317, 24.2485, 155.2087, 5534,   4835.7,   1.4817,   1.4817,  34.6903,2,  34.6903,6,    164.0,2,   141.26,2,    35.01,2,     0.00,2,     2.47,2, -999.000,9, -999.000,9,   -999.0,9,   -999.0,9,-999.0000,9,  -999.00,  -999.00,9,  -999.00,9,   1.4817,      337
  49UP20130619,  P03W,    77,  1,      4,     77,2,20130811,0317, 24.2485, 155.2087, 5534,   5093.4,   1.4950,   1.4948,  34.6918,2,  34.6921,2,    167.3,2,   138.99,2,    34.78,2,     0.00,2,     2.45,2, -999.000,9, -999.000,9,   2314.5,2,   2409.8,2,   7.6004,2,    25.00,  -999.00,9,  -999.00,9,   1.4948,      331
  49UP20130619,  P03W,    77,  1,      3,    104,2,20130811,0317, 24.2485, 155.2087, 5534,   5350.6,   1.5146,   1.5147,  34.6933,2,  34.6935,6,    169.6,2,   137.29,2,    34.59,2,     0.00,2,     2.44,2, -999.000,9, -999.000,9,   -999.0,9,   -999.0,9,-999.0000,9,  -999.00,  -999.00,9,  -999.00,9,   1.5147,      325
  49UP20130619,  P03W,    77,  1,      2,     75,2,20130811,0317, 24.2485, 155.2087, 5534,   5609.0,   1.5347,   1.5347,  34.6945,2,  34.6954,2,    172.1,2,   135.31,6,    34.37,6,     0.00,6,     2.42,6,    0.001,2,    0.000,2,   2309.6,2,   2409.1,2,   7.6037,2,    25.00,  -999.00,9,  -999.00,9,   1.5347,      320
  49UP20130619,  P03W,    77,  1,      1,    997,2,20130811,0317, 24.2485, 155.2087, 5534,   5665.5,   1.5423,   1.5421,  34.6945,2,  34.6952,2,    171.8,2,   135.44,2,    34.43,2,     0.00,2,     2.42,2,    0.035,3,    0.011,2,   2309.9,2,   2405.7,2,   7.6064,2,    25.00,  -999.00,9,  -999.00,9,   1.5421,      318