BOTTLE,20180830PRINUNIVRMK
EXPOCODE,SECT_ID,STNNBR,CASTNO,SAMPNO,BTLNBR,BTLNBR_FLAG_W,DATE,TIME,LATITUDE,LONGITUDE,DEPTH,CTDPRS,CTDTMP,SBE35,CTDSAL,CTDSAL_FLAG_W,SALNTY,SALNTY_FLAG_W,OXYGEN,OXYGEN_FLAG_W,SILCAT,SILCAT_FLAG_W,NITRAT,NITRAT_FLAG_W,NITRIT,NITRIT_FLAG_W,PHSPHT,PHSPHT_FLAG_W,CFC-11,CFC-11_FLAG_W,CFC-12,CFC-12_FLAG_W,TCARBN,TCARBN_FLAG_W,ALKALI,ALKALI_FLAG_W,PH_TOT,PH_TOT_FLAG_W,PH_TMP,CHLORA,CHLORA_FLAG_W,PPHYTN,PPHYTN_FLAG_W,SBE35,BTL_TIME
,,,,,,,,,,,METERS,DBAR,ITS-90,,PSS-78,,PSS-78,,UMOL/KG,,UMOL/KG,,UMOL/KG,,UMOL/KG,,UMOL/KG,,PMOL/KG,,PMOL/KG,,UMOL/KG,,UMOL/KG,,,,DEG C,UG/KG,,UG/KG,,,
  49UP20130619,  P03W,   111,  1,      0,   -999,0,20130904,0853, 25.5273, 178.9885, 5679,      0.0,  28.2845,-999.0000,  35.6046,2,-999.0000,9,    199.2,2,     0.85,2,     0.03,2,     0.00,2,     0.03,2, -999.000,9, -999.000,9,   -999.0,9,   -999.0,9,-999.0000,9,  -999.00,  -999.00,9,  -999.00,9,-999.0000,     1052
  49UP20130619,  P03W,   111,  1,     36,    109,2,20130904,0853, 25.5273, 178.9885, 5679,     10.9,  28.2940,  28.2920,  35.6040,2,-999.0000,9,    198.9,2,     0.95,2,     0.03,2,     0.00,2,     0.03,2, -999.000,9, -999.000,9,   -999.0,9,   -999.0,9,-999.0000,9,  -999.00,  -999.00,9,  -999.00,9,  28.2920,     1110
  49UP20130619,  P03W,   111,  1,     35,    112,2,20130904,0853, 25.5273, 178.9885, 5679,     50.2,  26.8619,  27.1170,  35.4972,2,-999.0000,9,    212.4,2,     1.06,2,     0.01,2,     0.00,2,     0.03,2, -999.000,9, -999.000,9,   -999.0,9,   -999.0,9,-999.0000,9,  -999.00,  -999.00,9,  -999.00,9,  27.1170,     1106
  49UP20130619,  P03W,   111,  1,     34,     83,2,20130904,0853, 25.5273, 178.9885, 5679,    101.3,  22.7096,  22.7125,  35.3117,2,-999.0000,9,    213.8,2,     1.42,2,     0.01,2,     0.00,2,     0.05,2, -999.000,9, -999.000,9,   -999.0,9,   -999.0,9,-999.0000,9,  -999.00,  -999.00,9,  -999.00,9,  22.7125,     1105
  49UP20130619,  P03W,   111,  1,     33,    517,2,20130904,0853, 25.5273, 178.9885, 5679,    151.5,  19.6258,  19.6262,  34.9519,2,-999.0000,9,    216.5,2,     2.23,2,     0.17,2,     0.09,2,     0.07,2, -999.000,9, -999.000,9,   -999.0,9,   -999.0,9,-999.0000,9,  -999.00,  -999.00,9,  -999.00,9,  19.6262,     1103
  49UP20130619,  P03W,   111,  1,     32,    105,2,20130904,0853, 25.5273, 178.9885, 5679,    201.2,  17.4210,  17.4187,  34.7172,2,-999.0000,9,    212.0,2,     3.47,2,     2.98,2,     0.01,2,     0.24,2, -999.000,9, -999.000,9,   -999.0,9,   -999.0,9,-999.0000,9,  -999.00,  -999.00,9,  -999.00,9,  17.4187,     1101
  49UP20130619,  P03W,   111,  1,     31,     76,2,20130904,0853, 25.5273, 178.9885, 5679,    251.6,  16.1496,  16.1381,  34.6098,2,-999.0000,9,    207.7,6,     5.38,6,     5.68,6,     0.01,6,     0.41,6, -999.000,9, -999.000,9,   -999.0,9,   -999.0,9,-999.0000,9,  -999.00,  -999.00,9,  -999.00,9,  16.1381,     1059
  49UP20130619,  P03W,   111,  1,     30,     97,2,20130904,0853, 25.5273, 178.9885, 5679,    303.1,  14.5965,  14.5959,  34.4833,2,-999.0000,9,    204.1,2,     8.09,2,     8.18,2,     0.01,2,     0.59,2, -999.000,9, -999.000,9,   -999.0,9,   -999.0,9,-999.0000,9,  -999.00,  -999.00,9,  -999.00,9,  14.5959,     1056
  49UP20130619,  P03W,   111,  1,     29,    102,2,20130904,0853, 25.5273, 178.9885, 5679,    403.7,  11.7087,  11.7076,  34.2874,2,-999.0000,9,    201.7,2,    15.98,2,    13.63,2,     0.00,2,     0.97,2, -999.000,9, -999.000,9,   -999.0,9,   -999.0,9,-999.0000,9,  -999.00,  -999.00,9,  -999.00,9,  11.7076,     1053
  49UP20130619,  P03W,   111,  1,     28,     91,2,20130904,0853, 25.5273, 178.9885, 5679,    504.9,   9.0311,   9.0272,  34.1250,2,-999.0000,9,    175.1,2,    30.52,2,    20.97,2,     0.00,2,     1.50,2, -999.000,9, -999.000,9,   -999.0,9,   -999.0,9,-999.0000,9,  -999.00,  -999.00,9,  -999.00,9,   9.0272,     1050
  49UP20130619,  P03W,   111,  1,     27,    998,2,20130904,0853, 25.5273, 178.9885, 5679,    605.1,   6.9775,   6.9768,  34.0630,2,-999.0000,9,    125.5,2,    52.20,2,    29.27,2,     0.00,2,     2.11,2, -999.000,9, -999.000,9,   -999.0,9,   -999.0,9,-999.0000,9,  -999.00,  -999.00,9,  -999.00,9,   6.9768,     1047
  49UP20130619,  P03W,   111,  1,     26,     84,2,20130904,0853, 25.5273, 178.9885, 5679,    705.7,   5.6031,   5.6023,  34.1069,2,  34.1069,2,     78.5,2,    74.70,2,    35.86,2,     0.00,2,     2.60,2, -999.000,9, -999.000,9,   -999.0,9,   -999.0,9,-999.0000,9,  -999.00,  -999.00,9,  -999.00,9,   5.6023,     1045
  49UP20130619,  P03W,   111,  1,     25,     98,2,20130904,0853, 25.5273, 178.9885, 5679,    705.7,   5.6031,   5.6023,  34.1069,2,  34.1080,2,     78.4,2,    74.68,2,    35.85,2,     0.00,2,     2.60,2, -999.000,9, -999.000,9,   -999.0,9,   -999.0,9,-999.0000,9,  -999.00,  -999.00,9,  -999.00,9,   5.6023,     1045
  49UP20130619,  P03W,   111,  1,     24,    110,2,20130904,0853, 25.5273, 178.9885, 5679,    807.5,   4.8198,   4.8198,  34.1903,2,-999.0000,9,     49.0,2,    91.62,2,    39.65,2,     0.00,2,     2.88,2, -999.000,9, -999.000,9,   -999.0,9,   -999.0,9,-999.0000,9,  -999.00,  -999.00,9,  -999.00,9,   4.8198,     1042
  49UP20130619,  P03W,   111,  1,     23,     96,2,20130904,0853, 25.5273, 178.9885, 5679,    908.8,   4.1957,   4.1953,  34.2835,2,-999.0000,9,     36.1,2,   106.98,2,    41.58,2,     0.00,2,     3.02,2, -999.000,9, -999.000,9,   -999.0,9,   -999.0,9,-999.0000,9,  -999.00,  -999.00,9,  -999.00,9,   4.1953,     1040
  49UP20130619,  P03W,   111,  1,     22,    111,2,20130904,0853, 25.5273, 178.9885, 5679,   1010.0,   3.7831,   3.7816,  34.3671,2,-999.0000,9,     34.1,6,   118.02,6,    42.36,6,     0.00,6,     3.07,6, -999.000,9, -999.000,9,   -999.0,9,   -999.0,9,-999.0000,9,  -999.00,  -999.00,9,  -999.00,9,   3.7816,     1037
  49UP20130619,  P03W,   111,  1,     21,     78,2,20130904,0853, 25.5273, 178.9885, 5679,   1212.1,   3.2067,   3.2063,  34.4687,2,-999.0000,9,     45.2,2,   131.70,2,    42.16,2,     0.00,2,     3.04,2, -999.000,9, -999.000,9,   -999.0,9,   -999.0,9,-999.0000,9,  -999.00,  -999.00,9,  -999.00,9,   3.2063,     1032
  49UP20130619,  P03W,   111,  1,     20,     93,2,20130904,0853, 25.5273, 178.9885, 5679,   1414.5,   2.7711,   2.7713,  34.5312,2,-999.0000,9,     60.6,2,   139.83,2,    41.43,2,     0.00,2,     2.97,2, -999.000,9, -999.000,9,   -999.0,9,   -999.0,9,-999.0000,9,  -999.00,  -999.00,9,  -999.00,9,   2.7713,     1028
  49UP20130619,  P03W,   111,  1,     19,     92,2,20130904,0853, 25.5273, 178.9885, 5679,   1618.1,   2.4796,   2.4797,  34.5677,2,-999.0000,9,     74.2,2,   144.68,2,    40.69,2,     0.00,2,     2.91,2, -999.000,9, -999.000,9,   -999.0,9,   -999.0,9,-999.0000,9,  -999.00,  -999.00,9,  -999.00,9,   2.4797,     1023
  49UP20130619,  P03W,   111,  1,     18,    101,2,20130904,0853, 25.5273, 178.9885, 5679,   1819.7,   2.2108,   2.2108,  34.5968,2,-999.0000,9,     85.4,2,   149.42,2,    40.18,2,     0.00,2,     2.86,2, -999.000,9, -999.000,9,   -999.0,9,   -999.0,9,-999.0000,9,  -999.00,  -999.00,9,  -999.00,9,   2.2108,     1019
  49UP20130619,  P03W,   111,  1,     17,     90,2,20130904,0853, 25.5273, 178.9885, 5679,   2024.2,   2.0169,   2.0165,  34.6142,2,  34.6138,2,     94.3,2,   153.06,2,    39.62,2,     0.00,2,     2.81,2, -999.000,9, -999.000,9,   -999.0,9,   -999.0,9,-999.0000,9,  -999.00,  -999.00,9,  -999.00,9,   2.0165,     1014
  49UP20130619,  P03W,   111,  1,     16,     89,2,20130904,0853, 25.5273, 178.9885, 5679,   2226.6,   1.8675,   1.8674,  34.6290,2,-999.0000,9,    102.4,2,   155.18,2,    39.20,2,     0.00,2,     2.77,2, -999.000,9, -999.000,9,   -999.0,9,   -999.0,9,-999.0000,9,  -999.00,  -999.00,9,  -999.00,9,   1.8674,     1009
  49UP20130619,  P03W,   111,  1,     15,     88,2,20130904,0853, 25.5273, 178.9885, 5679,   2432.0,   1.7498,   1.7500,  34.6413,2,  34.6402,6,    110.4,2,   155.87,2,    38.63,2,     0.00,2,     2.73,2, -999.000,9, -999.000,9,   -999.0,9,   -999.0,9,-999.0000,9,  -999.00,  -999.00,9,  -999.00,9,   1.7500,     1005
  49UP20130619,  P03W,   111,  1,     14,    999,2,20130904,0853, 25.5273, 178.9885, 5679,   2634.7,   1.6724,   1.6721,  34.6495,2,  34.6489,2,    116.9,2,   156.40,2,    38.24,2,     0.00,2,     2.70,2, -999.000,9, -999.000,9,   -999.0,9,   -999.0,9,-999.0000,9,  -999.00,  -999.00,9,  -999.00,9,   1.6721,     1000
  49UP20130619,  P03W,   111,  1,     13,    667,2,20130904,0853, 25.5273, 178.9885, 5679,   2838.2,   1.6093,   1.6092,  34.6572,2,  34.6569,2,    123.7,6,   156.12,6,    37.87,6,     0.00,6,     2.67,6, -999.000,9, -999.000,9,   -999.0,9,   -999.0,9,-999.0000,9,  -999.00,  -999.00,9,  -999.00,9,   1.6092,      956
  49UP20130619,  P03W,   111,  1,     12,     74,2,20130904,0853, 25.5273, 178.9885, 5679,   3043.1,   1.5617,   1.5617,  34.6638,2,  34.6626,2,    130.0,2,   155.07,2,    37.42,2,     0.00,2,     2.63,2, -999.000,9, -999.000,9,   -999.0,9,   -999.0,9,-999.0000,9,  -999.00,  -999.00,9,  -999.00,9,   1.5617,      951
  49UP20130619,  P03W,   111,  1,     11,    996,2,20130904,0853, 25.5273, 178.9885, 5679,   3297.5,   1.5116,   1.5115,  34.6710,2,  34.6698,2,    137.1,2,   153.42,2,    37.03,2,     0.00,2,     2.60,2, -999.000,9, -999.000,9,   -999.0,9,   -999.0,9,-999.0000,9,  -999.00,  -999.00,9,  -999.00,9,   1.5115,      946
  49UP20130619,  P03W,   111,  1,     10,    107,2,20130904,0853, 25.5273, 178.9885, 5679,   3554.1,   1.4828,   1.4827,  34.6760,2,  34.6748,2,    143.4,2,   151.95,2,    36.60,2,     0.00,2,     2.56,2, -999.000,9, -999.000,9,   -999.0,9,   -999.0,9,-999.0000,9,  -999.00,  -999.00,9,  -999.00,9,   1.4827,      940
  49UP20130619,  P03W,   111,  1,      9,    108,2,20130904,0853, 25.5273, 178.9885, 5679,   3810.5,   1.4637,   1.4637,  34.6802,2,  34.6787,2,    147.2,3,   150.14,2,    36.31,2,     0.00,2,     2.54,2, -999.000,9, -999.000,9,   -999.0,9,   -999.0,9,-999.0000,9,  -999.00,  -999.00,9,  -999.00,9,   1.4637,      935
  49UP20130619,  P03W,   111,  1,      8,     81,2,20130904,0853, 25.5273, 178.9885, 5679,   4065.9,   1.4517,   1.4517,  34.6838,2,  34.6834,2,    153.3,2,   148.25,2,    35.89,2,     0.00,2,     2.50,2, -999.000,9, -999.000,9,   -999.0,9,   -999.0,9,-999.0000,9,  -999.00,  -999.00,9,  -999.00,9,   1.4517,      930
  49UP20130619,  P03W,   111,  1,      7,    106,2,20130904,0853, 25.5273, 178.9885, 5679,   4321.5,   1.4482,   1.4483,  34.6866,2,  34.6853,2,    157.1,2,   146.27,2,    35.63,2,     0.00,2,     2.49,2, -999.000,9, -999.000,9,   -999.0,9,   -999.0,9,-999.0000,9,  -999.00,  -999.00,9,  -999.00,9,   1.4483,      924
  49UP20130619,  P03W,   111,  1,      6,    113,2,20130904,0853, 25.5273, 178.9885, 5679,   4579.2,   1.4461,   1.4461,  34.6893,2,  34.6893,6,    162.7,2,   142.66,2,    35.21,2,     0.00,2,     2.46,2, -999.000,9, -999.000,9,   -999.0,9,   -999.0,9,-999.0000,9,  -999.00,  -999.00,9,  -999.00,9,   1.4461,      919
  49UP20130619,  P03W,   111,  1,      5,     94,2,20130904,0853, 25.5273, 178.9885, 5679,   4834.4,   1.4477,   1.4478,  34.6919,2,  34.6923,2,    167.4,2,   139.38,2,    34.89,2,     0.00,2,     2.44,2, -999.000,9, -999.000,9,   -999.0,9,   -999.0,9,-999.0000,9,  -999.00,  -999.00,9,  -999.00,9,   1.4478,      913
  49UP20130619,  P03W,   111,  1,      4,     77,2,20130904,0853, 25.5273, 178.9885, 5679,   5093.1,   1.4579,   1.4579,  34.6937,2,  34.6942,2,    171.2,6,   136.85,6,    34.62,6,     0.00,6,     2.41,6, -999.000,9, -999.000,9,   -999.0,9,   -999.0,9,-999.0000,9,  -999.00,  -999.00,9,  -999.00,9,   1.4579,      908
  49UP20130619,  P03W,   111,  1,      3,    104,2,20130904,0853, 25.5273, 178.9885, 5679,   5350.8,   1.4738,   1.4738,  34.6952,2,  34.6947,2,    174.0,2,   135.14,2,    34.43,2,     0.00,2,     2.40,2, -999.000,9, -999.000,9,   -999.0,9,   -999.0,9,-999.0000,9,  -999.00,  -999.00,9,  -999.00,9,   1.4738,      903
  49UP20130619,  P03W,   111,  1,      2,     75,2,20130904,0853, 25.5273, 178.9885, 5679,   5609.1,   1.4964,   1.4964,  34.6961,2,  34.6964,2,    175.7,2,   133.95,2,    34.35,2,     0.00,2,     2.39,2, -999.000,9, -999.000,9,   -999.0,9,   -999.0,9,-999.0000,9,  -999.00,  -999.00,9,  -999.00,9,   1.4964,      858
  49UP20130619,  P03W,   111,  1,      1,    997,2,20130904,0853, 25.5273, 178.9885, 5679,   5817.1,   1.5150,   1.5147,  34.6968,2,  34.6970,2,    176.7,2,   133.30,2,    34.24,2,     0.00,2,     2.38,2, -999.000,9, -999.000,9,   -999.0,9,   -999.0,9,-999.0000,9,  -999.00,  -999.00,9,  -999.00,9,   1.5147,      853