BOTTLE,20180830PRINUNIVRMK
EXPOCODE,SECT_ID,STNNBR,CASTNO,SAMPNO,BTLNBR,BTLNBR_FLAG_W,DATE,TIME,LATITUDE,LONGITUDE,DEPTH,CTDPRS,CTDTMP,SBE35,CTDSAL,CTDSAL_FLAG_W,SALNTY,SALNTY_FLAG_W,OXYGEN,OXYGEN_FLAG_W,SILCAT,SILCAT_FLAG_W,NITRAT,NITRAT_FLAG_W,NITRIT,NITRIT_FLAG_W,PHSPHT,PHSPHT_FLAG_W,CFC-11,CFC-11_FLAG_W,CFC-12,CFC-12_FLAG_W,TCARBN,TCARBN_FLAG_W,ALKALI,ALKALI_FLAG_W,PH_TOT,PH_TOT_FLAG_W,PH_TMP,CHLORA,CHLORA_FLAG_W,PPHYTN,PPHYTN_FLAG_W,SBE35,BTL_TIME
,,,,,,,,,,,METERS,DBAR,ITS-90,,PSS-78,,PSS-78,,UMOL/KG,,UMOL/KG,,UMOL/KG,,UMOL/KG,,UMOL/KG,,PMOL/KG,,PMOL/KG,,UMOL/KG,,UMOL/KG,,,,DEG C,UG/KG,,UG/KG,,,
  49UP20130619,  P03W,    94,  1,      0,   -999,0,20130829,1919, 24.2647, 168.0098, 5941,      0.0,  28.7203,-999.0000,  35.5065,2,  35.5000,2,    195.9,2,     0.91,2,     0.03,2,     0.00,2,     0.03,2, -999.000,9, -999.000,9,   1988.7,2,   2333.1,2,   8.1174,2,    25.00,     0.10,2,     0.03,2,-999.0000,     2120
  49UP20130619,  P03W,    94,  1,     36,    109,2,20130829,1919, 24.2647, 168.0098, 5941,     10.2,  28.7169,  28.7190,  35.5058,2,  35.5055,2,    196.3,2,     0.83,2,     0.04,2,     0.00,2,     0.01,2, -999.000,9, -999.000,9,   1987.4,2,   2333.0,2,   8.1217,2,    25.00,     0.09,2,     0.03,2,  28.7190,     2143
  49UP20130619,  P03W,    94,  1,     35,    112,2,20130829,1919, 24.2647, 168.0098, 5941,     49.9,  28.5912,  28.4405,  35.5243,2,  35.5089,4,    202.2,2,     0.91,2,     0.03,2,     0.00,2,     0.01,2, -999.000,9, -999.000,9,   1986.4,2,   2333.4,2,   8.1180,2,    25.00,     0.15,2,     0.06,2,  28.4405,     2139
  49UP20130619,  P03W,    94,  1,     34,     83,2,20130829,1919, 24.2647, 168.0098, 5941,    101.2,  24.1695,  24.1656,  35.3775,2,  35.3779,2,    214.0,2,     1.13,2,     0.03,2,     0.00,2,     0.02,2, -999.000,9, -999.000,9,   2002.3,2,   2326.0,2,   8.0828,2,    25.00,     0.19,2,     0.10,2,  24.1656,     2137
  49UP20130619,  P03W,    94,  1,     33,    517,2,20130829,1919, 24.2647, 168.0098, 5941,    150.1,  21.8703,  21.8705,  35.1773,2,  35.1701,2,    203.0,2,     1.62,2,     0.11,2,     0.18,2,     0.05,2, -999.000,9, -999.000,9,   2021.5,2,   2311.7,2,   8.0310,2,    25.00,     0.12,2,     0.27,2,  21.8705,     2136
  49UP20130619,  P03W,    94,  1,     32,    105,2,20130829,1919, 24.2647, 168.0098, 5941,    202.8,  19.1900,  19.1909,  34.8841,2,  34.8831,2,    202.3,2,     2.58,2,     1.82,2,     0.02,2,     0.16,2, -999.000,9, -999.000,9,   2034.7,2,   2293.1,2,   7.9826,2,    25.00,     0.04,2,     0.10,2,  19.1909,     2134
  49UP20130619,  P03W,    94,  1,     31,     76,2,20130829,1919, 24.2647, 168.0098, 5941,    252.2,  16.9118,  16.9112,  34.6737,2,  34.6744,2,    214.8,6,     3.92,6,     4.10,6,     0.01,6,     0.28,6, -999.000,9, -999.000,9,   2033.3,2,   2278.2,2,   7.9526,2,    25.00,  -999.00,9,  -999.00,9,  16.9112,     2132
  49UP20130619,  P03W,    94,  1,     30,     97,2,20130829,1919, 24.2647, 168.0098, 5941,    333.6,  15.1930,  15.1982,  34.5466,2,  34.5536,4,    207.6,2,     7.16,2,     7.24,2,     0.01,2,     0.50,2, -999.000,9, -999.000,9,   2063.4,2,   2274.3,2,   7.9054,2,    25.00,  -999.00,9,  -999.00,9,  15.1982,     2129
  49UP20130619,  P03W,    94,  1,     29,    102,2,20130829,1919, 24.2647, 168.0098, 5941,    434.4,  12.0043,  12.0120,  34.2994,2,  34.2991,2,    195.9,2,    15.04,2,    13.49,2,     0.00,2,     0.96,2, -999.000,9, -999.000,9,   2098.6,2,   2268.6,2,   7.8012,2,    25.00,  -999.00,9,  -999.00,9,  12.0120,     2126
  49UP20130619,  P03W,    94,  1,     28,     91,2,20130829,1919, 24.2647, 168.0098, 5941,    535.6,   9.3411,   9.3582,  34.1412,2,  34.1441,2,    169.8,2,    28.45,2,    20.80,2,     0.00,2,     1.48,2, -999.000,9, -999.000,9,   2147.7,6,   2273.1,6,   7.6854,2,    25.00,  -999.00,9,  -999.00,9,   9.3582,     2123
  49UP20130619,  P03W,    94,  1,     27,    998,2,20130829,1919, 24.2647, 168.0098, 5941,    635.3,   6.9582,   6.9573,  34.0904,2,  34.0910,2,    111.0,2,    53.76,2,    30.66,2,     0.00,2,     2.22,2, -999.000,9, -999.000,9,   2226.4,2,   2290.5,2,   7.5236,6,    25.00,  -999.00,9,  -999.00,9,   6.9573,     2120
  49UP20130619,  P03W,    94,  1,     26,     84,2,20130829,1919, 24.2647, 168.0098, 5941,    736.7,   5.5104,   5.5106,  34.1221,2,  34.1227,2,     75.4,2,    76.51,2,    36.43,2,     0.00,2,     2.63,2, -999.000,9, -999.000,9,   2274.0,2,   2312.3,2,   7.4352,2,    25.00,  -999.00,9,  -999.00,9,   5.5106,     2117
  49UP20130619,  P03W,    94,  1,     25,     98,2,20130829,1919, 24.2647, 168.0098, 5941,    837.4,   4.6561,   4.6566,  34.2186,2,  34.2184,2,     47.8,2,    95.58,2,    40.21,2,     0.00,2,     2.90,2, -999.000,9, -999.000,9,   2317.8,2,   2334.6,2,   7.3835,2,    25.00,  -999.00,9,  -999.00,9,   4.6566,     2114
  49UP20130619,  P03W,    94,  1,     24,    110,2,20130829,1919, 24.2647, 168.0098, 5941,    938.8,   4.2534,   4.2547,  34.3139,2,  34.3135,2,     40.8,2,   106.21,2,    41.54,2,     0.00,2,     2.99,2, -999.000,9, -999.000,9,   2337.7,2,   2350.4,2,   7.3753,2,    25.00,  -999.00,9,  -999.00,9,   4.2547,     2111
  49UP20130619,  P03W,    94,  1,     23,     96,2,20130829,1919, 24.2647, 168.0098, 5941,   1080.4,   3.7561,   3.7556,  34.4082,2,  34.4075,2,     44.4,2,   117.81,2,    41.88,2,     0.00,2,     3.01,2, -999.000,9, -999.000,9,   2346.5,2,   2367.3,2,   7.3909,2,    25.00,  -999.00,9,  -999.00,9,   3.7556,     2108
  49UP20130619,  P03W,    94,  1,     22,    111,2,20130829,1919, 24.2647, 168.0098, 5941,   1282.2,   3.2089,   3.2091,  34.4983,2,  34.4977,2,     60.2,6,   128.78,6,    41.28,6,     0.00,6,     2.95,6, -999.000,9, -999.000,9,   2353.9,2,   2385.3,2,   7.4226,2,    25.00,  -999.00,9,  -999.00,9,   3.2091,     2102
  49UP20130619,  P03W,    94,  1,     21,     78,2,20130829,1919, 24.2647, 168.0098, 5941,   1484.6,   2.7608,   2.7609,  34.5447,2,  34.5447,6,     72.9,2,   137.12,2,    40.76,2,     0.00,2,     2.90,2, -999.000,9, -999.000,9,   2357.0,2,   2396.9,2,   7.4473,2,    25.00,  -999.00,9,  -999.00,9,   2.7609,     2057
  49UP20130619,  P03W,    94,  1,     20,     93,2,20130829,1919, 24.2647, 168.0098, 5941,   1688.0,   2.4057,   2.4061,  34.5723,2,  34.5714,2,     78.6,2,   144.90,2,    40.62,2,     0.00,2,     2.88,2, -999.000,9, -999.000,9,   2363.0,2,   2405.4,2,   7.4559,2,    25.00,  -999.00,9,  -999.00,9,   2.4061,     2053
  49UP20130619,  P03W,    94,  1,     19,     92,2,20130829,1919, 24.2647, 168.0098, 5941,   1890.1,   2.1332,   2.1332,  34.5961,2,  34.5966,2,     86.7,2,   150.70,2,    40.28,2,     0.00,2,     2.84,2, -999.000,9, -999.000,9,   2359.1,2,   2411.4,2,   7.4708,2,    25.00,  -999.00,9,  -999.00,9,   2.1332,     2048
  49UP20130619,  P03W,    94,  1,     18,    101,2,20130829,1919, 24.2647, 168.0098, 5941,   2094.1,   1.9540,   1.9541,  34.6216,2,  34.6213,2,    101.5,2,   151.29,2,    39.44,2,     0.00,2,     2.78,2, -999.000,9, -999.000,9,   2357.8,6,   2416.3,6,   7.4964,2,    25.00,  -999.00,9,  -999.00,9,   1.9541,     2044
  49UP20130619,  P03W,    94,  1,     17,     90,2,20130829,1919, 24.2647, 168.0098, 5941,   2297.8,   1.8306,   1.8308,  34.6374,2,  34.6377,2,    110.4,2,   151.91,2,    38.82,2,     0.00,2,     2.73,2, -999.000,9, -999.000,9,   2351.9,2,   2418.6,2,   7.5155,6,    25.00,  -999.00,9,  -999.00,9,   1.8308,     2039
  49UP20130619,  P03W,    94,  1,     16,     89,2,20130829,1919, 24.2647, 168.0098, 5941,   2500.4,   1.7414,   1.7416,  34.6473,2,  34.6478,2,    117.6,2,   152.08,2,    38.38,2,     0.00,2,     2.69,2, -999.000,9, -999.000,9,   2349.6,2,   2420.7,2,   7.5244,2,    25.00,  -999.00,9,  -999.00,9,   1.7416,     2035
  49UP20130619,  P03W,    94,  1,     15,     88,2,20130829,1919, 24.2647, 168.0098, 5941,   2703.9,   1.6802,   1.6802,  34.6556,2,  34.6556,2,    123.6,2,   152.26,2,    38.04,2,     0.00,2,     2.67,2, -999.000,9, -999.000,9,   2350.8,2,   2420.1,2,   7.5415,2,    25.00,  -999.00,9,  -999.00,9,   1.6802,     2031
  49UP20130619,  P03W,    94,  1,     14,    999,2,20130829,1919, 24.2647, 168.0098, 5941,   2908.1,   1.6282,   1.6284,  34.6612,2,  34.6610,6,    128.5,2,   151.92,2,    37.68,2,     0.00,2,     2.64,2, -999.000,9, -999.000,9,   2344.7,2,   2421.2,2,   7.5459,2,    25.00,  -999.00,9,  -999.00,9,   1.6284,     2026
  49UP20130619,  P03W,    94,  1,     13,    667,2,20130829,1919, 24.2647, 168.0098, 5941,   3122.2,   1.5828,   1.5828,  34.6666,2,  34.6671,2,    133.7,6,   151.13,6,    37.36,6,     0.00,6,     2.61,6, -999.000,9, -999.000,9,   2332.2,3,   2421.5,2,   7.5568,2,    25.00,  -999.00,9,  -999.00,9,   1.5828,     2022
  49UP20130619,  P03W,    94,  1,     12,     74,2,20130829,1919, 24.2647, 168.0098, 5941,   3378.2,   1.5450,   1.5451,  34.6711,2,  34.6714,2,    138.4,2,   150.88,2,    36.96,2,     0.00,2,     2.58,2, -999.000,9, -999.000,9,   2338.5,2,   2420.8,2,   7.5620,2,    25.00,  -999.00,9,  -999.00,9,   1.5451,     2017
  49UP20130619,  P03W,    94,  1,     11,    996,2,20130829,1919, 24.2647, 168.0098, 5941,   3634.1,   1.5218,   1.5219,  34.6754,2,  34.6752,2,    143.2,2,   149.29,2,    36.72,2,     0.00,2,     2.56,2, -999.000,9, -999.000,9,   2333.1,2,   2420.9,2,   7.5673,2,    25.00,  -999.00,9,  -999.00,9,   1.5219,     2011
  49UP20130619,  P03W,    94,  1,     10,    107,2,20130829,1919, 24.2647, 168.0098, 5941,   3891.0,   1.5067,   1.5068,  34.6787,2,  34.6775,2,    147.0,2,   147.77,2,    36.38,2,     0.00,2,     2.53,2, -999.000,9, -999.000,9,   2327.6,2,   2419.9,2,   7.5751,2,    25.00,  -999.00,9,  -999.00,9,   1.5068,     2006
  49UP20130619,  P03W,    94,  1,      9,    108,3,20130829,1919, 24.2647, 168.0098, 5941,   4147.2,   1.4875,   1.4874,  34.6826,2,  34.6824,2,    152.0,4,   145.79,2,    36.02,2,     0.00,2,     2.51,2, -999.000,9, -999.000,9,   2321.7,2,   2417.0,2,   7.5805,2,    25.00,  -999.00,9,  -999.00,9,   1.4874,     2001
  49UP20130619,  P03W,    94,  1,      8,     81,2,20130829,1919, 24.2647, 168.0098, 5941,   4403.7,   1.4691,   1.4693,  34.6866,2,  34.6874,2,    159.0,2,   143.10,2,    35.63,2,     0.00,2,     2.47,2, -999.000,9, -999.000,9,   2320.4,2,   2414.4,2,   7.5876,2,    25.00,  -999.00,9,  -999.00,9,   1.4693,     1955
  49UP20130619,  P03W,    94,  1,      7,    106,2,20130829,1919, 24.2647, 168.0098, 5941,   4659.4,   1.4689,   1.4690,  34.6888,2,  34.6891,2,    162.1,2,   141.19,2,    35.30,2,     0.00,2,     2.45,2, -999.000,9, -999.000,9,   2315.5,2,   2412.4,2,   7.6014,3,    25.00,  -999.00,9,  -999.00,9,   1.4690,     1950
  49UP20130619,  P03W,    94,  1,      6,    113,2,20130829,1919, 24.2647, 168.0098, 5941,   4916.7,   1.4638,   1.4639,  34.6919,2,  34.6919,2,    167.9,2,   138.08,2,    34.93,2,     0.00,2,     2.42,2, -999.000,9, -999.000,9,   2310.1,2,   2409.2,2,   7.6011,2,    25.00,  -999.00,9,  -999.00,9,   1.4639,     1945
  49UP20130619,  P03W,    94,  1,      5,     94,2,20130829,1919, 24.2647, 168.0098, 5941,   5174.7,   1.4633,   1.4634,  34.6943,2,  34.6927,2,    170.9,3,   136.42,4,    34.76,4,     0.00,4,     2.41,4, -999.000,9, -999.000,9,   2302.8,2,   2407.0,2,   7.6038,2,    25.00,  -999.00,9,  -999.00,9,   1.4634,     1939
  49UP20130619,  P03W,    94,  1,      4,     77,2,20130829,1919, 24.2647, 168.0098, 5941,   5433.4,   1.4718,   1.4717,  34.6961,2,  34.6961,6,    175.8,6,   133.50,6,    34.37,6,     0.00,6,     2.38,6, -999.000,9, -999.000,9,   2302.4,2,   2403.0,2,   7.6036,2,    25.00,  -999.00,9,  -999.00,9,   1.4717,     1934
  49UP20130619,  P03W,    94,  1,      3,    104,2,20130829,1919, 24.2647, 168.0098, 5941,   5691.1,   1.4908,   1.4910,  34.6973,2,  34.6967,2,    177.5,2,   132.62,2,    34.26,2,     0.00,2,     2.37,2, -999.000,9, -999.000,9,   2299.3,6,   2402.0,6,   7.6073,2,    25.00,  -999.00,9,  -999.00,9,   1.4910,     1929
  49UP20130619,  P03W,    94,  1,      2,     75,2,20130829,1919, 24.2647, 168.0098, 5941,   5948.2,   1.5184,   1.5185,  34.6979,2,  34.6987,2,    178.8,2,   131.68,2,    34.12,2,     0.00,2,     2.36,2, -999.000,9, -999.000,9,   2301.3,2,   2400.1,2,   7.6109,6,    25.00,  -999.00,9,  -999.00,9,   1.5185,     1923
  49UP20130619,  P03W,    94,  1,      1,    997,2,20130829,1919, 24.2647, 168.0098, 5941,   6120.5,   1.5397,   1.5398,  34.6980,2,  34.6974,6,    178.6,2,   131.98,2,    34.15,2,     0.00,2,     2.36,2, -999.000,9, -999.000,9,   2301.3,2,   2400.8,2,   7.6068,2,    25.00,  -999.00,9,  -999.00,9,   1.5398,     1919