BOTTLE,20180830PRINUNIVRMK
EXPOCODE,SECT_ID,STNNBR,CASTNO,SAMPNO,BTLNBR,BTLNBR_FLAG_W,DATE,TIME,LATITUDE,LONGITUDE,DEPTH,CTDPRS,CTDTMP,SBE35,CTDSAL,CTDSAL_FLAG_W,SALNTY,SALNTY_FLAG_W,OXYGEN,OXYGEN_FLAG_W,SILCAT,SILCAT_FLAG_W,NITRAT,NITRAT_FLAG_W,NITRIT,NITRIT_FLAG_W,PHSPHT,PHSPHT_FLAG_W,CFC-11,CFC-11_FLAG_W,CFC-12,CFC-12_FLAG_W,TCARBN,TCARBN_FLAG_W,ALKALI,ALKALI_FLAG_W,PH_TOT,PH_TOT_FLAG_W,PH_TMP,CHLORA,CHLORA_FLAG_W,PPHYTN,PPHYTN_FLAG_W,SBE35,BTL_TIME
,,,,,,,,,,,METERS,DBAR,ITS-90,,PSS-78,,PSS-78,,UMOL/KG,,UMOL/KG,,UMOL/KG,,UMOL/KG,,UMOL/KG,,PMOL/KG,,PMOL/KG,,UMOL/KG,,UMOL/KG,,,,DEG C,UG/KG,,UG/KG,,,
  49UP20130619,  P03W,   118,  1,      0,   -999,0,20130906,0920, 29.0060, 179.0307, 5309,      0.0,  27.4463,-999.0000,  35.3140,2,  35.3187,2,    202.6,2,     1.51,2,     0.00,2,     0.00,2,     0.03,2, -999.000,9, -999.000,9,   2000.8,2,   2317.8,2,   8.0797,2,    25.00,     0.05,2,     0.01,2,-999.0000,     1104
  49UP20130619,  P03W,   118,  1,     36,    109,2,20130906,0920, 29.0060, 179.0307, 5309,     10.6,  27.4506,  27.4486,  35.3127,2,  35.3127,2,    202.8,2,     1.52,2,     0.01,2,     0.00,2,     0.02,2, -999.000,9, -999.000,9,   2000.3,2,   2318.5,2,   8.0781,2,    25.00,     0.05,2,     0.01,2,  27.4486,     1127
  49UP20130619,  P03W,   118,  1,     35,    112,2,20130906,0920, 29.0060, 179.0307, 5309,     51.0,  21.9813,  21.9802,  35.1019,2,  35.0943,2,    235.0,2,     1.78,2,     0.00,2,     0.00,2,     0.02,2, -999.000,9, -999.000,9,   2006.0,2,   2305.8,2,   8.0580,2,    25.00,     0.10,2,     0.04,2,  21.9802,     1124
  49UP20130619,  P03W,   118,  1,     34,     83,2,20130906,0920, 29.0060, 179.0307, 5309,    101.3,  18.1480,  18.1510,  34.7644,2,  34.7653,2,    227.0,2,     2.48,2,     0.16,2,     0.05,2,     0.08,2, -999.000,9, -999.000,9,   2019.7,2,   2283.8,2,   7.9931,2,    25.00,     0.21,2,     0.39,2,  18.1510,     1121
  49UP20130619,  P03W,   118,  1,     33,    517,2,20130906,0920, 29.0060, 179.0307, 5309,    151.6,  16.8031,  16.8027,  34.6665,2,  34.6676,6,    216.3,2,     3.90,2,     3.90,2,     0.01,2,     0.28,2, -999.000,9, -999.000,9,   2028.9,2,   2277.5,2,   7.9547,2,    25.00,     0.04,2,     0.09,2,  16.8027,     1120
  49UP20130619,  P03W,   118,  1,     32,    105,2,20130906,0920, 29.0060, 179.0307, 5309,    202.3,  16.0726,  16.0711,  34.6116,2,  34.6135,2,    218.6,2,     5.14,2,     5.07,2,     0.01,2,     0.36,2, -999.000,9, -999.000,9,   2034.9,2,   2275.0,2,   7.9422,2,    25.00,     0.01,2,     0.01,2,  16.0711,     1118
  49UP20130619,  P03W,   118,  1,     31,     76,2,20130906,0920, 29.0060, 179.0307, 5309,    253.4,  15.2125,  15.2121,  34.5485,2,  34.5493,2,    219.1,2,     6.72,2,     6.24,2,     0.01,2,     0.45,2, -999.000,9, -999.000,9,   2050.2,2,   2273.6,2,   7.9166,2,    25.00,  -999.00,9,  -999.00,9,  15.2121,     1116
  49UP20130619,  P03W,   118,  1,     30,     97,2,20130906,0920, 29.0060, 179.0307, 5309,    334.7,  13.6135,  13.6186,  34.4374,2,  34.4381,2,    207.3,2,    11.27,2,    10.05,2,     0.00,2,     0.71,2, -999.000,9, -999.000,9,   2076.5,2,   2272.3,2,   7.8672,2,    25.00,  -999.00,9,  -999.00,9,  13.6186,     1113
  49UP20130619,  P03W,   118,  1,     29,    102,2,20130906,0920, 29.0060, 179.0307, 5309,    434.0,  11.4316,  11.4379,  34.2755,2,  34.2760,2,    203.4,6,    17.44,6,    14.14,6,     0.00,6,     1.01,6, -999.000,9, -999.000,9,   2100.7,2,   2270.2,2,   7.7931,2,    25.00,  -999.00,9,  -999.00,9,  11.4379,     1110
  49UP20130619,  P03W,   118,  1,     28,     91,2,20130906,0920, 29.0060, 179.0307, 5309,    535.3,   8.7976,   8.8001,  34.1105,2,  34.1134,2,    178.3,2,    32.43,2,    21.27,2,     0.00,2,     1.53,2, -999.000,9, -999.000,9,   2155.5,2,   2274.6,2,   7.6848,2,    25.00,  -999.00,9,  -999.00,9,   8.8001,     1107
  49UP20130619,  P03W,   118,  1,     27,    998,2,20130906,0920, 29.0060, 179.0307, 5309,    637.4,   6.7340,   6.7360,  34.0509,2,  34.0521,2,    129.5,2,    54.54,2,    29.45,2,     0.00,2,     2.13,2, -999.000,9, -999.000,9,   2218.8,2,   2287.7,2,   7.5480,2,    25.00,  -999.00,9,  -999.00,9,   6.7360,     1104
  49UP20130619,  P03W,   118,  1,     26,     84,2,20130906,0920, 29.0060, 179.0307, 5309,    737.6,   5.3398,   5.3396,  34.0773,2,  34.0747,2,     87.4,2,    76.92,2,    35.59,2,     0.00,2,     2.58,2, -999.000,9, -999.000,9,   2267.7,6,   2308.3,6,   7.4455,2,    25.00,  -999.00,9,  -999.00,9,   5.3396,     1101
  49UP20130619,  P03W,   118,  1,     25,     98,2,20130906,0920, 29.0060, 179.0307, 5309,    837.8,   4.5211,   4.5208,  34.1430,2,  34.1446,2,     56.8,2,    95.44,2,    39.51,2,     0.00,2,     2.85,2, -999.000,9, -999.000,9,   2309.0,2,   2326.6,2,   7.3788,6,    25.00,  -999.00,9,  -999.00,9,   4.5208,     1059
  49UP20130619,  P03W,   118,  1,     24,    110,2,20130906,0920, 29.0060, 179.0307, 5309,    940.2,   3.9880,   3.9879,  34.2444,2,  34.2436,2,     36.3,2,   111.33,2,    41.82,2,     0.00,2,     3.02,2, -999.000,9, -999.000,9,   2338.9,2,   2346.5,2,   7.3487,2,    25.00,  -999.00,9,  -999.00,9,   3.9879,     1056
  49UP20130619,  P03W,   118,  1,     23,     96,2,20130906,0920, 29.0060, 179.0307, 5309,    940.2,   3.9880,   3.9879,  34.2444,2,  34.2429,2,     36.4,2,   111.13,2,    41.89,2,     0.00,2,     3.01,2, -999.000,9, -999.000,9,   2337.6,2,   2344.8,2,   7.3475,2,    25.00,  -999.00,9,  -999.00,9,   3.9879,     1056
  49UP20130619,  P03W,   118,  1,     22,    111,3,20130906,0920, 29.0060, 179.0307, 5309,   1080.5,   3.5158,   3.5156,  34.3464,2,  34.3463,6,     27.7,2,   125.80,2,    43.13,2,     0.00,2,     3.10,2, -999.000,9, -999.000,9,   2363.4,2,   2366.1,2,   7.3427,2,    25.00,  -999.00,9,  -999.00,9,   3.5156,     1052
  49UP20130619,  P03W,   118,  1,     21,     78,2,20130906,0920, 29.0060, 179.0307, 5309,   1283.8,   3.0175,   3.0172,  34.4494,2,  34.4477,2,     34.0,2,   139.10,2,    43.29,2,     0.00,2,     3.09,2, -999.000,9, -999.000,9,   2369.6,2,   2385.9,2,   7.3630,2,    25.00,  -999.00,9,  -999.00,9,   3.0172,     1048
  49UP20130619,  P03W,   118,  1,     20,     93,2,20130906,0920, 29.0060, 179.0307, 5309,   1485.0,   2.5967,   2.5965,  34.5192,2,  34.5184,2,     46.9,6,   148.82,6,    42.54,6,     0.00,6,     3.04,6, -999.000,9, -999.000,9,   2377.4,2,   2399.9,2,   7.3898,2,    25.00,  -999.00,9,  -999.00,9,   2.5965,     1043
  49UP20130619,  P03W,   118,  1,     19,     92,2,20130906,0920, 29.0060, 179.0307, 5309,   1687.8,   2.2916,   2.2916,  34.5625,2,  34.5629,2,     61.3,2,   154.84,2,    41.73,2,     0.00,2,     2.97,2, -999.000,9, -999.000,9,   2377.4,2,   2407.6,6,   7.4204,2,    25.00,  -999.00,9,  -999.00,9,   2.2916,     1039
  49UP20130619,  P03W,   118,  1,     18,    101,2,20130906,0920, 29.0060, 179.0307, 5309,   1890.6,   2.0704,   2.0704,  34.5917,2,  34.5908,2,     75.6,2,   158.12,2,    40.92,2,     0.00,2,     2.91,2, -999.000,9, -999.000,9,   2370.9,2,   2413.0,2,   7.4464,6,    25.00,  -999.00,9,  -999.00,9,   2.0704,     1035
  49UP20130619,  P03W,   118,  1,     17,     90,2,20130906,0920, 29.0060, 179.0307, 5309,   2095.6,   1.9137,   1.9134,  34.6114,2,  34.6113,2,     86.6,2,   159.56,2,    40.26,2,     0.00,2,     2.86,2, -999.000,9, -999.000,9,   2364.1,2,   2416.6,2,   7.4667,2,    25.00,  -999.00,9,  -999.00,9,   1.9134,     1030
  49UP20130619,  P03W,   118,  1,     16,     89,2,20130906,0920, 29.0060, 179.0307, 5309,   2095.6,   1.9137,   1.9134,  34.6114,2,  34.6119,2,     87.1,2,   159.58,2,    40.26,2,     0.00,2,     2.86,2, -999.000,9, -999.000,9,   2367.9,2,   2416.9,2,   7.4648,2,    25.00,  -999.00,9,  -999.00,9,   1.9134,     1030
  49UP20130619,  P03W,   118,  1,     15,     88,2,20130906,0920, 29.0060, 179.0307, 5309,   2297.7,   1.7835,   1.7837,  34.6267,2,  34.6271,2,     95.1,2,   161.56,2,    39.74,2,     0.00,2,     2.82,2, -999.000,9, -999.000,9,   2365.7,2,   2419.1,2,   7.4814,2,    25.00,  -999.00,9,  -999.00,9,   1.7837,     1026
  49UP20130619,  P03W,   118,  1,     14,    999,2,20130906,0920, 29.0060, 179.0307, 5309,   2501.2,   1.6833,   1.6833,  34.6401,2,  34.6406,2,    105.5,2,   161.21,2,    39.18,2,     0.00,2,     2.77,2, -999.000,9, -999.000,9,   2359.8,2,   2420.4,2,   7.4982,2,    25.00,  -999.00,9,  -999.00,9,   1.6833,     1022
  49UP20130619,  P03W,   118,  1,     13,    667,2,20130906,0920, 29.0060, 179.0307, 5309,   2705.8,   1.6195,   1.6197,  34.6493,2,  34.6497,2,    113.7,2,   160.41,2,    38.50,2,     0.00,2,     2.72,2, -999.000,9, -999.000,9,   2352.3,2,   2419.8,2,   7.5147,2,    25.00,  -999.00,9,  -999.00,9,   1.6197,     1017
  49UP20130619,  P03W,   118,  1,     12,     74,2,20130906,0920, 29.0060, 179.0307, 5309,   2910.2,   1.5663,   1.5664,  34.6574,2,  34.6580,2,    121.2,2,   159.83,2,    38.06,2,     0.00,2,     2.69,2, -999.000,9, -999.000,9,   2352.0,2,   2421.2,2,   7.5296,2,    25.00,  -999.00,9,  -999.00,9,   1.5664,     1013
  49UP20130619,  P03W,   118,  1,     11,    996,2,20130906,0920, 29.0060, 179.0307, 5309,   3123.8,   1.5150,   1.5151,  34.6654,2,  34.6651,2,    128.7,6,   158.60,6,    37.57,6,     0.00,6,     2.65,6, -999.000,9, -999.000,9,   2338.2,3,   2421.8,2,   7.5433,2,    25.00,  -999.00,9,  -999.00,9,   1.5151,     1008
  49UP20130619,  P03W,   118,  1,     10,    107,2,20130906,0920, 29.0060, 179.0307, 5309,   3380.2,   1.4860,   1.4860,  34.6716,2,  34.6711,6,    136.1,2,   156.86,2,    37.10,2,     0.00,2,     2.61,2, -999.000,9, -999.000,9,   2337.6,2,   2421.9,2,   7.5550,2,    25.00,  -999.00,9,  -999.00,9,   1.4860,     1003
  49UP20130619,  P03W,   118,  1,      9,    108,2,20130906,0920, 29.0060, 179.0307, 5309,   3636.2,   1.4694,   1.4695,  34.6763,2,  34.6758,2,    141.5,2,   155.21,2,    36.74,2,     0.00,2,     2.58,2, -999.000,9, -999.000,9,   2335.4,2,   2421.0,2,   7.5664,2,    25.00,  -999.00,9,  -999.00,9,   1.4695,      958
  49UP20130619,  P03W,   118,  1,      8,     81,2,20130906,0920, 29.0060, 179.0307, 5309,   3892.0,   1.4646,   1.4647,  34.6798,2,  34.6801,2,    146.5,2,   154.05,2,    36.41,2,     0.00,2,     2.55,2, -999.000,9, -999.000,9,   2326.5,3,   2422.8,2,   7.5716,2,    25.00,  -999.00,9,  -999.00,9,   1.4647,      952
  49UP20130619,  P03W,   118,  1,      7,    106,2,20130906,0920, 29.0060, 179.0307, 5309,   4148.2,   1.4677,   1.4676,  34.6824,2,  34.6823,2,    149.7,2,   152.75,2,    36.26,2,     0.00,2,     2.54,2, -999.000,9, -999.000,9,   2330.6,2,   2420.8,2,   7.5809,2,    25.00,  -999.00,9,  -999.00,9,   1.4676,      947
  49UP20130619,  P03W,   118,  1,      6,    113,2,20130906,0920, 29.0060, 179.0307, 5309,   4148.2,   1.4677,   1.4676,  34.6824,2,  34.6839,2,    150.1,2,   152.67,2,    36.13,3,     0.00,2,     2.53,2, -999.000,9, -999.000,9,   2318.7,3,   2421.2,2,   7.5798,2,    25.00,  -999.00,9,  -999.00,9,   1.4676,      947
  49UP20130619,  P03W,   118,  1,      5,     94,2,20130906,0920, 29.0060, 179.0307, 5309,   4405.2,   1.4711,   1.4712,  34.6853,2,  34.6842,2,    153.9,2,   150.66,2,    35.87,2,     0.00,2,     2.51,2, -999.000,9, -999.000,9,   2326.5,6,   2419.5,6,   7.5872,2,    25.00,  -999.00,9,  -999.00,9,   1.4712,      941
  49UP20130619,  P03W,   118,  1,      4,     77,2,20130906,0920, 29.0060, 179.0307, 5309,   4662.3,   1.4816,   1.4815,  34.6871,2,  34.6877,2,    157.2,2,   148.88,2,    35.64,2,     0.00,2,     2.50,2, -999.000,9, -999.000,9,   2319.9,2,   2418.8,2,   7.5885,6,    25.00,  -999.00,9,  -999.00,9,   1.4815,      936
  49UP20130619,  P03W,   118,  1,      3,    104,2,20130906,0920, 29.0060, 179.0307, 5309,   4919.9,   1.4888,   1.4890,  34.6895,2,  34.6898,6,    160.7,2,   145.40,2,    35.39,2,     0.00,2,     2.48,2, -999.000,9, -999.000,9,   2320.5,2,   2415.4,2,   7.5933,2,    25.00,  -999.00,9,  -999.00,9,   1.4890,      931
  49UP20130619,  P03W,   118,  1,      2,     75,2,20130906,0920, 29.0060, 179.0307, 5309,   5176.8,   1.4971,   1.4970,  34.6915,2,  34.6917,2,    165.8,6,   141.64,6,    35.02,6,     0.00,6,     2.45,6, -999.000,9, -999.000,9,   2313.6,2,   2413.1,2,   7.5977,2,    25.00,  -999.00,9,  -999.00,9,   1.4970,      925
  49UP20130619,  P03W,   118,  1,      1,    997,2,20130906,0920, 29.0060, 179.0307, 5309,   5423.2,   1.5055,   1.5057,  34.6935,2,  34.6941,2,    170.1,2,   138.49,2,    34.73,2,     0.00,2,     2.44,2, -999.000,9, -999.000,9,   2309.7,2,   2411.0,2,   7.6007,2,    25.00,  -999.00,9,  -999.00,9,   1.5057,      920