BOTTLE,20180830PRINUNIVRMK
EXPOCODE,SECT_ID,STNNBR,CASTNO,SAMPNO,BTLNBR,BTLNBR_FLAG_W,DATE,TIME,LATITUDE,LONGITUDE,DEPTH,CTDPRS,CTDTMP,SBE35,CTDSAL,CTDSAL_FLAG_W,SALNTY,SALNTY_FLAG_W,OXYGEN,OXYGEN_FLAG_W,SILCAT,SILCAT_FLAG_W,NITRAT,NITRAT_FLAG_W,NITRIT,NITRIT_FLAG_W,PHSPHT,PHSPHT_FLAG_W,CFC-11,CFC-11_FLAG_W,CFC-12,CFC-12_FLAG_W,TCARBN,TCARBN_FLAG_W,ALKALI,ALKALI_FLAG_W,PH_TOT,PH_TOT_FLAG_W,PH_TMP,CHLORA,CHLORA_FLAG_W,PPHYTN,PPHYTN_FLAG_W,SBE35,BTL_TIME
,,,,,,,,,,,METERS,DBAR,ITS-90,,PSS-78,,PSS-78,,UMOL/KG,,UMOL/KG,,UMOL/KG,,UMOL/KG,,UMOL/KG,,PMOL/KG,,PMOL/KG,,UMOL/KG,,UMOL/KG,,,,DEG C,UG/KG,,UG/KG,,,
  49UP20130619,  P03W,    63,  1,      0,   -999,0,20130712,0327, 24.2538, 143.6277, 8320,      0.0,  28.9580,-999.0000,  34.8895,2,  34.8988,2,    198.0,2,     0.95,2,     0.00,2,     0.00,2,     0.04,2, -999.000,9, -999.000,9,   1959.8,2,   2295.5,2,   8.1019,2,    25.00,     0.04,2,     0.01,2,-999.0000,      524
  49UP20130619,  P03W,    63,  1,     36,    109,2,20130712,0327, 24.2538, 143.6277, 8320,     10.1,  28.9518,  28.9487,  34.8881,2,  34.8876,2,    198.1,2,     0.91,2,     0.00,2,     0.00,2,     0.02,2,    1.829,3,    0.909,3,   1960.4,2,   2288.4,2,   8.1031,2,    25.00,     0.04,2,     0.01,2,  28.9487,      542
  49UP20130619,  P03W,    63,  1,     35,    112,2,20130712,0327, 24.2538, 143.6277, 8320,     49.6,  24.6082,  24.5607,  34.7934,2,  34.8054,4,    221.2,6,     1.16,6,     0.00,6,     0.00,6,     0.02,6,    2.430,3,    1.099,3,   1968.4,2,   2283.7,2,   8.0762,2,    25.00,     0.06,2,     0.02,2,  24.5607,      538
  49UP20130619,  P03W,    63,  1,     34,     83,2,20130712,0327, 24.2538, 143.6277, 8320,    100.9,  20.8982,  20.8682,  34.9715,2,  34.9762,2,    211.4,2,     1.75,2,     0.00,2,     0.00,2,     0.04,2,    2.311,2,    1.208,2,   2011.3,2,   2299.4,2,   8.0272,2,    25.00,     0.15,2,     0.12,2,  20.8682,      537
  49UP20130619,  P03W,    63,  1,     33,     86,2,20130712,0327, 24.2538, 143.6277, 8320,    150.2,  18.8061,  18.7880,  34.8059,2,  34.8031,2,    206.7,2,     2.48,2,     2.32,2,     0.03,2,     0.19,2,    2.287,2,    1.280,2,   2024.8,2,   2288.3,2,   7.9869,2,    25.00,     0.10,2,     0.20,2,  18.7880,      535
  49UP20130619,  P03W,    63,  1,     32,    105,2,20130712,0327, 24.2538, 143.6277, 8320,    200.5,  17.6197,  17.6095,  34.7369,2,  34.7362,2,    209.0,2,     3.59,2,     3.91,2,     0.01,2,     0.28,2,    2.336,2,    1.330,2,   2034.1,2,   2282.8,2,   7.9696,2,    25.00,     0.00,2,     0.02,2,  17.6095,      533
  49UP20130619,  P03W,    63,  1,     31,     76,2,20130712,0327, 24.2538, 143.6277, 8320,    250.9,  17.1799,  17.1876,  34.7093,2,  34.7077,2,    206.5,2,     4.37,2,     4.84,2,     0.00,2,     0.33,2,    2.405,2,    1.369,2,   2034.3,2,   2279.1,2,   7.9564,2,    25.00,  -999.00,9,  -999.00,9,  17.1876,      532
  49UP20130619,  P03W,    63,  1,     30,     97,2,20130712,0327, 24.2538, 143.6277, 8320,    281.4,  16.7280,  16.7550,  34.6792,2,  34.6825,2,    203.4,2,     5.20,2,     5.70,2,     0.00,2,     0.40,2,    2.432,2,    1.374,2,   2040.1,2,   2280.0,2,   7.9429,2,    25.00,  -999.00,9,  -999.00,9,  16.7550,      530
  49UP20130619,  P03W,    63,  1,     29,    102,2,20130712,0327, 24.2538, 143.6277, 8320,    372.3,  14.9046,  14.9060,  34.5489,2,  34.5462,2,    188.4,2,    10.73,2,    10.01,2,     0.00,2,     0.71,2,    2.570,2,    1.429,2,   2077.2,2,   2281.7,2,   7.8731,2,    25.00,  -999.00,9,  -999.00,9,  14.9060,      528
  49UP20130619,  P03W,    63,  1,     28,     91,2,20130712,0327, 24.2538, 143.6277, 8320,    474.4,  11.2026,  11.2018,  34.2898,2,  34.2872,2,    181.3,2,    22.22,2,    16.70,2,     0.00,2,     1.21,2,    2.809,6,    1.503,6,   2121.5,2,   2272.2,2,   7.7617,2,    25.00,  -999.00,9,  -999.00,9,  11.2018,      525
  49UP20130619,  P03W,    63,  1,     27,    998,2,20130712,0327, 24.2538, 143.6277, 8320,    574.7,   8.3874,   8.3877,  34.1267,2,  34.1268,2,    153.3,2,    39.20,2,    24.03,2,     0.00,2,     1.76,2,    2.525,2,    1.268,2,   2176.7,2,   2283.5,2,   7.6414,2,    25.00,  -999.00,9,  -999.00,9,   8.3877,      523
  49UP20130619,  P03W,    63,  1,     26,     84,2,20130712,0327, 24.2538, 143.6277, 8320,    675.1,   6.4487,   6.4520,  34.1135,2,  34.1137,2,    102.7,2,    62.07,2,    32.24,2,     0.00,2,     2.36,2,    1.553,2,    0.752,2,   2238.9,2,   2311.0,2,   7.5106,2,    25.00,  -999.00,9,  -999.00,9,   6.4520,      520
  49UP20130619,  P03W,    63,  1,     25,     98,2,20130712,0327, 24.2538, 143.6277, 8320,    775.6,   5.2972,   5.2965,  34.1949,2,  34.1979,2,     65.9,2,    82.77,2,    37.51,2,     0.00,2,     2.74,2,    0.684,6,    0.332,6,   2290.3,2,   2326.9,2,   7.4303,2,    25.00,  -999.00,9,  -999.00,9,   5.2965,      518
  49UP20130619,  P03W,    63,  1,     24,    110,2,20130712,0327, 24.2538, 143.6277, 8320,    877.3,   4.8420,   4.8402,  34.2852,2,  34.2862,2,     54.6,2,    92.93,2,    39.37,2,     0.00,2,     2.87,2,    0.316,2,    0.171,2,   2310.4,6,   2342.0,6,   7.4111,2,    25.00,  -999.00,9,  -999.00,9,   4.8402,      515
  49UP20130619,  P03W,    63,  1,     23,     96,2,20130712,0327, 24.2538, 143.6277, 8320,    978.7,   4.2341,   4.2342,  34.3708,2,  34.3706,2,     54.4,2,   106.05,2,    40.14,2,     0.00,2,     2.93,2,    0.178,2,    0.085,2,   2326.3,2,   2352.4,2,   7.4132,6,    25.00,  -999.00,9,  -999.00,9,   4.2342,      513
  49UP20130619,  P03W,    63,  1,     22,    111,2,20130712,0327, 24.2538, 143.6277, 8320,   1140.6,   3.5710,   3.5707,  34.4323,2,  34.4329,2,     58.0,2,   121.04,2,    40.69,2,     0.00,2,     2.94,2,    0.128,2,    0.066,2,   2344.4,2,   2373.8,2,   7.4184,2,    25.00,  -999.00,9,  -999.00,9,   3.5707,      509
  49UP20130619,  P03W,    63,  1,     21,     78,2,20130712,0327, 24.2538, 143.6277, 8320,   1342.7,   2.9006,   2.9016,  34.4770,2,  34.4767,2,     61.5,6,   136.92,6,    41.03,6,     0.00,6,     2.95,6,    0.099,2,    0.049,2,   2355.0,2,   2391.0,2,   7.4193,2,    25.00,  -999.00,9,  -999.00,9,   2.9016,      505
  49UP20130619,  P03W,    63,  1,     20,     93,2,20130712,0327, 24.2538, 143.6277, 8320,   1545.4,   2.5066,   2.5066,  34.5297,2,  34.5283,2,     71.6,2,   144.09,2,    40.62,2,     0.00,2,     2.91,2,    0.058,2,    0.020,2,   2357.5,2,   2396.0,2,   7.4418,2,    25.00,  -999.00,9,  -999.00,9,   2.5066,      500
  49UP20130619,  P03W,    63,  1,     19,     92,2,20130712,0327, 24.2538, 143.6277, 8320,   1747.7,   2.2734,   2.2737,  34.5664,2,  34.5667,2,     85.1,2,   146.34,2,    39.90,2,     0.00,2,     2.85,2, -999.000,9, -999.000,9,   2357.4,2,   2402.8,2,   7.4672,2,    25.00,  -999.00,9,  -999.00,9,   2.2737,      456
  49UP20130619,  P03W,    63,  1,     18,    101,2,20130712,0327, 24.2538, 143.6277, 8320,   1950.5,   2.0864,   2.0866,  34.5917,2,  34.5916,2,     96.4,3,   148.58,2,    39.35,2,     0.00,2,     2.81,2, -999.000,9, -999.000,9,   2353.6,2,   2402.8,2,   7.4851,2,    25.00,  -999.00,9,  -999.00,9,   2.0866,      452
  49UP20130619,  P03W,    63,  1,     17,     90,2,20130712,0327, 24.2538, 143.6277, 8320,   2154.3,   1.9259,   1.9256,  34.6081,2,  34.6079,2,     98.6,2,   152.47,2,    39.37,3,     0.00,2,     2.80,3,    0.002,2,    0.000,2,   2353.1,2,   2412.1,2,   7.4906,2,    25.00,  -999.00,9,  -999.00,9,   1.9256,      448
  49UP20130619,  P03W,    63,  1,     16,     89,2,20130712,0327, 24.2538, 143.6277, 8320,   2356.4,   1.8034,   1.8029,  34.6270,2,  34.6273,2,    109.1,2,   151.82,2,    38.51,2,     0.00,2,     2.74,2, -999.000,9, -999.000,9,   2350.0,6,   2413.8,6,   7.5107,2,    25.00,  -999.00,9,  -999.00,9,   1.8029,      444
  49UP20130619,  P03W,    63,  1,     15,     88,2,20130712,0327, 24.2538, 143.6277, 8320,   2561.3,   1.7279,   1.7279,  34.6397,2,  34.6396,2,    118.6,2,   150.67,2,    38.13,2,     0.00,2,     2.70,2, -999.000,9, -999.000,9,   2346.9,2,   2413.2,2,   7.5278,6,    25.00,  -999.00,9,  -999.00,9,   1.7279,      439
  49UP20130619,  P03W,    63,  1,     14,    999,2,20130712,0327, 24.2538, 143.6277, 8320,   2765.2,   1.6768,   1.6769,  34.6497,2,  34.6498,2,    125.2,2,   150.03,2,    37.62,2,     0.00,2,     2.67,2,    0.015,2,    0.000,2,   2345.6,2,   2414.3,2,   7.5402,2,    25.00,  -999.00,9,  -999.00,9,   1.6769,      435
  49UP20130619,  P03W,    63,  1,     13,    667,2,20130712,0327, 24.2538, 143.6277, 8320,   2969.1,   1.6089,   1.6090,  34.6593,2,  34.6590,2,    131.7,2,   149.25,2,    37.33,2,     0.00,2,     2.64,2, -999.000,9, -999.000,9,   2339.0,2,   2416.4,2,   7.5500,2,    25.00,  -999.00,9,  -999.00,9,   1.6090,      430
  49UP20130619,  P03W,    63,  1,     12,     74,2,20130712,0327, 24.2538, 143.6277, 8320,   3214.2,   1.5611,   1.5609,  34.6666,2,  34.6665,2,    137.8,2,   149.03,2,    36.91,2,     0.00,2,     2.61,2, -999.000,9, -999.000,9,   2332.2,2,   2419.7,2,   7.5601,2,    25.00,  -999.00,9,  -999.00,9,   1.5609,      425
  49UP20130619,  P03W,    63,  1,     11,    996,2,20130712,0327, 24.2538, 143.6277, 8320,   3470.0,   1.5090,   1.5094,  34.6742,2,  34.6718,4,    144.1,2,   147.56,6,    36.54,6,     0.00,6,     2.58,6,    0.043,3,    0.013,2,   2332.0,2,   2415.6,2,   7.5694,2,    25.00,  -999.00,9,  -999.00,9,   1.5094,      420
  49UP20130619,  P03W,    63,  1,     10,    107,3,20130712,0327, 24.2538, 143.6277, 8320,   3725.3,   1.4902,   1.4903,  34.6785,2,  34.6772,2,    149.1,2,   146.32,2,    36.20,2,     0.00,2,     2.55,2, -999.000,9, -999.000,9,   2327.2,2,   2422.7,2,   7.5752,2,    25.00,  -999.00,9,  -999.00,9,   1.4903,      415
  49UP20130619,  P03W,    63,  1,      9,    108,2,20130712,0327, 24.2538, 143.6277, 8320,   3981.1,   1.4768,   1.4766,  34.6822,2,  34.6818,2,    153.2,2,   144.79,2,    35.92,2,     0.00,2,     2.53,2, -999.000,9, -999.000,9,   2324.7,2,   2417.4,2,   7.5825,2,    25.00,  -999.00,9,  -999.00,9,   1.4766,      410
  49UP20130619,  P03W,    63,  1,      8,     81,2,20130712,0327, 24.2538, 143.6277, 8320,   4237.6,   1.4725,   1.4725,  34.6852,2,  34.6849,2,    157.1,2,   143.25,2,    35.68,2,     0.00,2,     2.50,2,    0.043,3,    0.018,2,   2322.3,2,   2415.1,2,   7.5896,2,    25.00,  -999.00,9,  -999.00,9,   1.4725,      405
  49UP20130619,  P03W,    63,  1,      7,    106,2,20130712,0327, 24.2538, 143.6277, 8320,   4495.5,   1.4751,   1.4753,  34.6879,2,  34.6871,2,    160.6,2,   141.40,2,    35.38,2,     0.00,2,     2.49,2, -999.000,9, -999.000,9,   2317.5,2,   2407.2,2,   7.5945,2,    25.00,  -999.00,9,  -999.00,9,   1.4753,      359
  49UP20130619,  P03W,    63,  1,      6,    113,2,20130712,0327, 24.2538, 143.6277, 8320,   4751.7,   1.4863,   1.4862,  34.6895,2,  34.6898,2,    163.5,2,   140.02,2,    35.26,2,     0.00,2,     2.47,2,    0.048,3,    0.027,2,   2314.9,6,   2409.2,6,   7.4989,4,    25.00,  -999.00,9,  -999.00,9,   1.4862,      354
  49UP20130619,  P03W,    63,  1,      5,     94,2,20130712,0327, 24.2538, 143.6277, 8320,   5009.7,   1.5002,   1.5003,  34.6912,2,  34.6900,6,    164.0,3,   140.27,3,    35.18,2,     0.00,2,     2.47,2, -999.000,9, -999.000,9,   2313.4,2,   2411.2,2,   7.5972,6,    25.00,  -999.00,9,  -999.00,9,   1.5003,      349
  49UP20130619,  P03W,    63,  1,      4,     77,2,20130712,0327, 24.2538, 143.6277, 8320,   5266.5,   1.5204,   1.5204,  34.6923,2,  34.6935,2,    167.8,2,   137.35,2,    34.84,2,     0.00,2,     2.44,2,    0.049,3,    0.012,2,   2307.7,2,   2408.3,2,   7.6201,2,    25.00,  -999.00,9,  -999.00,9,   1.5204,      344
  49UP20130619,  P03W,    63,  1,      3,    104,2,20130712,0327, 24.2538, 143.6277, 8320,   5525.4,   1.5446,   1.5446,  34.6930,2,  34.6942,6,    169.6,2,   136.63,2,    34.81,2,     0.00,2,     2.44,2, -999.000,9, -999.000,9,   2303.1,2,   2408.4,2,   7.6070,2,    25.00,  -999.00,9,  -999.00,9,   1.5446,      339
  49UP20130619,  P03W,    63,  1,      2,     75,2,20130712,0327, 24.2538, 143.6277, 8320,   5783.4,   1.5726,   1.5726,  34.6938,2,  34.6950,6,    171.1,6,   135.79,6,    34.74,6,     0.00,6,     2.43,6,    0.043,3,    0.000,4,   2306.2,2,   2405.2,2,   7.6044,2,    25.00,  -999.00,9,  -999.00,9,   1.5726,      334
  49UP20130619,  P03W,    63,  1,      1,    997,2,20130712,0327, 24.2538, 143.6277, 8320,   6129.1,   1.6171,   1.6170,  34.6940,2,  34.6941,6,    170.6,2,   135.83,2,    34.70,2,     0.00,2,     2.44,2,    0.055,3,    0.024,2,   2306.2,2,   2407.0,2,   7.6088,2,    25.00,  -999.00,9,  -999.00,9,   1.6170,      327
  49UP20130619,  P03W,    58,  1,      0,   -999,0,20130712,1750, 24.2412, 141.3890,  986,      0.0,  27.9595,-999.0000,  34.5831,2,  34.5889,2,    201.6,2,     1.28,2,     0.00,2,     0.00,2,     0.03,2, -999.000,9, -999.000,9,   1960.5,2,   2275.6,2,   8.0828,2,    25.00,     0.04,2,     0.01,2,-999.0000,     1800
  49UP20130619,  P03W,    58,  1,     36,    109,2,20130712,1750, 24.2412, 141.3890,  986,     10.1,  27.9607,  27.9570,  34.5816,2,  34.5835,2,    201.5,2,     1.26,2,     0.00,2,     0.00,2,     0.01,2,    1.861,3,    0.941,3,   1958.3,2,   2269.1,2,   8.0831,2,    25.00,     0.06,2,     0.01,2,  27.9570,     1821
  49UP20130619,  P03W,    58,  1,     35,    112,2,20130712,1750, 24.2412, 141.3890,  986,     51.0,  23.6557,  23.6734,  34.7730,2,  34.7766,2,   -999.0,5,     1.47,2,     0.00,2,     0.00,2,     0.01,2,    2.418,3,    1.153,3,   1979.8,2,   2287.2,2,   8.0652,2,    25.00,     0.08,2,     0.02,2,  23.6734,     1817
  49UP20130619,  P03W,    58,  1,      1,    997,2,20130712,1750, 24.2412, 141.3890,  986,     52.1,  23.3206,  23.6111,  34.7867,2,-999.0000,9,   -999.0,9,  -999.00,9,  -999.00,9,  -999.00,9,  -999.00,9,    2.496,3,    1.143,3,   -999.0,9,   -999.0,9,-999.0000,9,  -999.00,  -999.00,9,  -999.00,9,  23.6111,     1817
  49UP20130619,  P03W,    58,  1,     34,     83,2,20130712,1750, 24.2412, 141.3890,  986,    102.3,  19.6718,  19.6729,  34.8181,2,  34.8233,2,    219.3,2,     1.99,2,     0.04,2,     0.00,2,     0.03,2,    2.332,2,    1.241,2,   2007.7,2,   2291.7,2,   8.0226,2,    25.00,     0.31,2,     0.33,2,  19.6729,     1815
  49UP20130619,  P03W,    58,  1,     29,    102,2,20130712,1750, 24.2412, 141.3890,  986,    153.9,  18.4286,  18.4326,  34.7727,2,  34.7746,2,    213.5,2,     2.73,2,     2.24,2,     0.02,2,     0.16,2,    2.353,2,    1.333,2,   2020.5,2,   2291.7,2,   7.9913,2,    25.00,     0.07,2,     0.14,2,  18.4326,     1813
  49UP20130619,  P03W,    58,  1,     27,    998,2,20130712,1750, 24.2412, 141.3890,  986,    202.9,  17.5709,  17.5749,  34.7316,2,  34.7328,2,    205.0,2,     3.83,2,     4.27,2,     0.01,2,     0.29,2,    2.390,2,    1.384,2,   2031.6,2,   2280.2,2,   7.9557,2,    25.00,     0.00,2,     0.02,2,  17.5749,     1811
  49UP20130619,  P03W,    58,  1,     26,     84,2,20130712,1750, 24.2412, 141.3890,  986,    253.2,  17.0543,  17.0541,  34.7005,2,  34.7002,2,    204.6,2,     4.50,2,     5.15,2,     0.00,2,     0.34,2,    2.398,2,    1.387,2,   2039.8,2,   2278.9,2,   7.9494,2,    25.00,  -999.00,9,  -999.00,9,  17.0541,     1809
  49UP20130619,  P03W,    58,  1,     22,    111,2,20130712,1750, 24.2412, 141.3890,  986,    284.5,  16.7730,  16.7744,  34.6803,2,  34.6819,2,    205.4,2,     5.06,2,     5.71,2,     0.00,2,     0.39,2,    2.402,2,    1.388,2,   2039.1,2,   2285.0,2,   7.9412,2,    25.00,  -999.00,9,  -999.00,9,  16.7744,     1808
  49UP20130619,  P03W,    58,  1,     21,     78,2,20130712,1750, 24.2412, 141.3890,  986,    373.0,  14.6592,  14.6627,  34.5330,2,  34.5353,6,    189.6,2,    11.78,2,    10.31,2,     0.00,2,     0.73,2,    2.554,2,    1.424,2,   2078.7,2,   2281.7,2,   7.8682,2,    25.00,  -999.00,9,  -999.00,9,  14.6627,     1805
  49UP20130619,  P03W,    58,  1,     20,     93,2,20130712,1750, 24.2412, 141.3890,  986,    373.0,  14.6592,  14.6627,  34.5330,2,  34.5355,2,    189.4,2,    11.64,2,    10.27,2,     0.00,2,     0.73,2,    2.551,2,    1.432,2,   2079.8,2,   2281.9,2,   7.8692,2,    25.00,  -999.00,9,  -999.00,9,  14.6627,     1805
  49UP20130619,  P03W,    58,  1,     19,     92,2,20130712,1750, 24.2412, 141.3890,  986,    473.6,  11.8935,  11.9001,  34.3403,2,  34.3434,2,    181.9,2,    20.44,6,    15.45,6,     0.00,6,     1.11,6,    2.732,6,    1.489,6,   2112.7,2,   2279.2,2,   7.7834,2,    25.00,  -999.00,9,  -999.00,9,  11.9001,     1802
  49UP20130619,  P03W,    58,  1,     17,     90,2,20130712,1750, 24.2412, 141.3890,  986,    574.5,   8.4078,   8.4055,  34.1640,2,  34.1694,4,    145.7,2,    44.29,2,    24.87,2,     0.00,2,     1.80,2,    2.288,2,    1.172,2,   2187.8,2,   2292.0,2,   7.6341,2,    25.00,  -999.00,9,  -999.00,9,   8.4055,     1800
  49UP20130619,  P03W,    58,  1,     16,     89,2,20130712,1750, 24.2412, 141.3890,  986,    675.2,   6.7740,   6.7731,  34.1647,2,  34.1672,2,    115.0,2,    64.69,2,    30.39,2,     0.00,2,     2.20,2,    1.722,2,    0.877,2,   2232.8,6,   2307.6,6,   7.5467,2,    25.00,  -999.00,9,  -999.00,9,   6.7731,     1757
  49UP20130619,  P03W,    58,  1,     15,     88,2,20130712,1750, 24.2412, 141.3890,  986,    775.5,   5.0410,   5.0417,  34.2258,2,  34.2258,2,     77.1,2,    90.91,2,    36.71,2,     0.00,2,     2.66,2,    0.891,2,    0.439,2,   2293.1,2,   2334.0,2,   7.4493,6,    25.00,  -999.00,9,  -999.00,9,   5.0417,     1755
  49UP20130619,  P03W,    58,  1,      9,    108,2,20130712,1750, 24.2412, 141.3890,  986,    877.7,   4.5851,   4.5796,  34.2688,2,  34.2717,2,     67.9,6,   100.50,6,    38.23,6,     0.00,6,     2.77,6,    0.658,6,    0.347,6,   2308.4,2,   2346.7,2,   7.4296,2,    25.00,  -999.00,9,  -999.00,9,   4.5796,     1752
  49UP20130619,  P03W,    58,  1,      8,     81,2,20130712,1750, 24.2412, 141.3890,  986,    954.7,   4.4353,   4.4343,  34.2837,2,  34.2869,2,     66.9,3,   103.61,2,    38.74,2,     0.00,2,     2.80,2,    0.588,2,    0.314,2,   2315.2,2,   2349.9,2,   7.4210,2,    25.00,  -999.00,9,  -999.00,9,   4.4343,     1750