BOTTLE,20180830PRINUNIVRMK
EXPOCODE,SECT_ID,STNNBR,CASTNO,SAMPNO,BTLNBR,BTLNBR_FLAG_W,DATE,TIME,LATITUDE,LONGITUDE,DEPTH,CTDPRS,CTDTMP,SBE35,CTDSAL,CTDSAL_FLAG_W,SALNTY,SALNTY_FLAG_W,OXYGEN,OXYGEN_FLAG_W,SILCAT,SILCAT_FLAG_W,NITRAT,NITRAT_FLAG_W,NITRIT,NITRIT_FLAG_W,PHSPHT,PHSPHT_FLAG_W,CFC-11,CFC-11_FLAG_W,CFC-12,CFC-12_FLAG_W,TCARBN,TCARBN_FLAG_W,ALKALI,ALKALI_FLAG_W,PH_TOT,PH_TOT_FLAG_W,PH_TMP,CHLORA,CHLORA_FLAG_W,PPHYTN,PPHYTN_FLAG_W,SBE35,BTL_TIME
,,,,,,,,,,,METERS,DBAR,ITS-90,,PSS-78,,PSS-78,,UMOL/KG,,UMOL/KG,,UMOL/KG,,UMOL/KG,,UMOL/KG,,PMOL/KG,,PMOL/KG,,UMOL/KG,,UMOL/KG,,,,DEG C,UG/KG,,UG/KG,,,
  49UP20130619,  P03W,   120,  1,      0,   -999,0,20130906,2241, 29.9695, 178.9617, 4443,      0.0,  26.8654,-999.0000,  35.1660,2,  35.1588,2,    205.0,2,     1.64,2,     0.00,2,     0.00,2,     0.03,2, -999.000,9, -999.000,9,   1995.7,2,   2310.4,2,   8.0715,2,    25.00,     0.07,2,     0.01,2,-999.0000,       26
  49UP20130619,  P03W,   120,  1,     36,    109,2,20130906,2241, 29.9695, 178.9617, 4443,     10.2,  26.8560,  26.8490,  35.1650,2,  35.1704,2,    204.8,2,     1.60,2,     0.00,2,     0.00,2,     0.02,2,    1.884,3,    1.001,3,   1995.6,2,   2311.1,2,   8.0724,2,    25.00,  -999.00,9,  -999.00,9,  26.8490,       47
  49UP20130619,  P03W,   120,  1,     35,    112,2,20130906,2241, 29.9695, 178.9617, 4443,     10.2,  26.8560,  26.8490,  35.1650,2,  35.1701,2,   -999.0,5,     1.60,2,     0.00,2,     0.00,2,     0.02,2,    1.904,3,    0.947,3,   1996.3,2,   2311.9,2,   8.0712,2,    25.00,     0.07,2,     0.02,2,  26.8490,       47
  49UP20130619,  P03W,   120,  1,     34,     83,2,20130906,2241, 29.9695, 178.9617, 4443,     51.5,  20.0483,  20.0591,  34.6856,2,  34.6866,2,    249.0,2,     2.20,2,     0.00,2,     0.00,2,     0.03,2,    2.805,3,    1.248,3,   1989.5,2,   2280.7,2,   8.0411,2,    25.00,     0.12,2,     0.04,2,  20.0591,       43
  49UP20130619,  P03W,   120,  1,     33,    517,3,20130906,2241, 29.9695, 178.9617, 4443,    102.5,  17.1411,  17.1416,  34.6951,2,  34.6954,2,    214.8,2,     4.11,2,     4.00,2,     0.03,2,     0.28,2,    2.391,2,    1.304,2,   2033.7,6,   2281.4,6,   7.9678,2,    25.00,     0.18,2,     0.31,2,  17.1416,       42
  49UP20130619,  P03W,   120,  1,     32,    105,2,20130906,2241, 29.9695, 178.9617, 4443,    151.0,  16.3619,  16.3643,  34.6546,2,  34.6559,2,    215.9,2,     5.25,2,     5.19,2,     0.01,2,     0.36,2,    2.460,2,    1.410,2,   2038.7,2,   2280.3,2,   7.9464,6,    25.00,     0.01,2,     0.02,2,  16.3643,       40
  49UP20130619,  P03W,   120,  1,     31,     76,2,20130906,2241, 29.9695, 178.9617, 4443,    201.4,  15.3883,  15.3888,  34.5687,2,  34.5699,2,    225.1,6,     5.77,6,     5.29,6,     0.01,6,     0.38,6,    2.606,2,    1.453,2,   2043.3,2,   2276.3,2,   7.9264,2,    25.00,     0.01,2,     0.02,2,  15.3888,       38
  49UP20130619,  P03W,   120,  1,     30,     97,2,20130906,2241, 29.9695, 178.9617, 4443,    252.2,  14.9133,  14.9130,  34.5311,2,  34.5321,2,    228.8,2,     6.34,2,     5.61,2,     0.01,2,     0.41,2,    2.650,6,    1.482,6,   2045.2,2,   2274.2,2,   7.9229,2,    25.00,  -999.00,9,  -999.00,9,  14.9130,       36
  49UP20130619,  P03W,   120,  1,     29,    102,2,20130906,2241, 29.9695, 178.9617, 4443,    302.2,  14.4392,  14.4398,  34.4987,2,  34.5011,2,    224.8,2,     7.82,2,     7.03,2,     0.00,2,     0.51,2,    2.668,2,    1.494,2,   2055.3,2,   2273.8,2,   7.9045,2,    25.00,  -999.00,9,  -999.00,9,  14.4398,       35
  49UP20130619,  P03W,   120,  1,     28,     91,2,20130906,2241, 29.9695, 178.9617, 4443,    403.9,  12.6251,  12.6301,  34.3594,2,  34.3678,4,    206.4,2,    13.32,2,    11.70,2,     0.00,2,     0.84,2,    2.829,2,    1.540,2,   2088.5,2,   2271.1,2,   7.8342,2,    25.00,  -999.00,9,  -999.00,9,  12.6301,       32
  49UP20130619,  P03W,   120,  1,     27,    998,2,20130906,2241, 29.9695, 178.9617, 4443,    504.4,   9.7776,   9.7766,  34.1629,2,  34.1644,2,    198.1,2,    25.57,2,    17.68,2,     0.00,2,     1.28,2,    2.959,6,    1.555,6,   2128.7,2,   2275.0,2,   7.7379,2,    25.00,  -999.00,9,  -999.00,9,   9.7766,       27
  49UP20130619,  P03W,   120,  1,     26,     84,2,20130906,2241, 29.9695, 178.9617, 4443,    605.3,   7.2491,   7.2500,  34.0253,2,  34.0270,2,    163.0,2,    45.19,2,    25.38,2,     0.00,2,     1.86,2,    2.755,2,    1.383,2,   2190.6,2,   2284.1,2,   7.6131,2,    25.00,  -999.00,9,  -999.00,9,   7.2500,       24
  49UP20130619,  P03W,   120,  1,     25,     98,2,20130906,2241, 29.9695, 178.9617, 4443,    605.3,   7.2491,   7.2500,  34.0253,2,  34.0278,2,    162.9,2,    45.24,2,    25.46,2,     0.00,2,     1.86,2,    2.732,2,    1.436,2,   2185.2,2,   2283.3,2,   7.6142,2,    25.00,  -999.00,9,  -999.00,9,   7.2500,       24
  49UP20130619,  P03W,   120,  1,     24,    110,2,20130906,2241, 29.9695, 178.9617, 4443,    707.1,   5.4708,   5.4734,  34.0572,2,  34.0587,6,     98.5,2,    72.80,2,    34.33,2,     0.00,2,     2.50,2,    1.691,6,    0.834,6,   2262.0,2,   2305.6,2,   7.4653,2,    25.00,  -999.00,9,  -999.00,9,   5.4734,       20
  49UP20130619,  P03W,   120,  1,     23,     96,2,20130906,2241, 29.9695, 178.9617, 4443,    808.1,   4.5705,   4.5758,  34.1411,2,  34.1375,2,     63.0,2,    93.31,2,    38.74,2,     0.00,2,     2.81,2,    0.987,2,    0.468,2,   2305.0,2,   2326.5,2,   7.3937,2,    25.00,  -999.00,9,  -999.00,9,   4.5758,       17
  49UP20130619,  P03W,   120,  1,     22,    111,2,20130906,2241, 29.9695, 178.9617, 4443,    908.4,   3.9234,   3.9234,  34.2328,2,  34.2322,2,     39.3,6,   112.35,6,    41.53,6,     0.00,6,     3.00,6,    0.485,2,    0.234,2,   2340.2,2,   2346.8,2,   7.3515,2,    25.00,  -999.00,9,  -999.00,9,   3.9234,       14
  49UP20130619,  P03W,   120,  1,     21,     78,2,20130906,2241, 29.9695, 178.9617, 4443,   1010.8,   3.6165,   3.6182,  34.3036,2,  34.3022,2,     29.8,2,   121.79,2,    42.73,2,     0.00,2,     3.08,2,    0.209,2,    0.089,2,   2359.2,2,   2358.7,2,   7.3415,2,    25.00,  -999.00,9,  -999.00,9,   3.6182,       10
  49UP20130619,  P03W,   120,  1,     20,     93,2,20130906,2241, 29.9695, 178.9617, 4443,   1010.8,   3.6165,   3.6182,  34.3036,2,  34.3028,2,     29.7,2,   121.85,2,    42.67,2,     0.00,2,     3.08,2,    0.205,2,    0.091,2,   2354.9,2,   2361.0,2,   7.3376,2,    25.00,  -999.00,9,  -999.00,9,   3.6182,       10
  49UP20130619,  P03W,   120,  1,     19,     92,2,20130906,2241, 29.9695, 178.9617, 4443,   1212.2,   3.1059,   3.1066,  34.4090,2,  34.4055,2,     27.5,2,   137.61,2,    43.34,2,     0.00,2,     3.13,2,    0.035,2,    0.008,2,   2377.5,6,   2381.1,6,   7.3417,2,    25.00,  -999.00,9,  -999.00,9,   3.1066,        4
  49UP20130619,  P03W,   120,  1,     18,    101,2,20130906,2241, 29.9695, 178.9617, 4443,   1415.4,   2.6712,   2.6711,  34.4949,2,  34.4949,2,     36.0,2,   149.50,2,    43.21,2,     0.00,2,     3.09,2,    0.000,2,    0.000,2,   2383.6,2,   2397.9,2,   7.3680,6,    25.00,  -999.00,9,  -999.00,9,   2.6711,     2359
  49UP20130619,  P03W,   120,  1,     17,     90,2,20130906,2241, 29.9695, 178.9617, 4443,   1616.8,   2.3400,   2.3401,  34.5472,2,  34.5473,2,     49.0,6,   157.40,6,    42.58,6,     0.00,6,     3.04,6,    0.000,2,    0.000,2,   2385.2,2,   2409.9,2,   7.3939,2,    25.00,  -999.00,9,  -999.00,9,   2.3401,     2353
  49UP20130619,  P03W,   120,  1,     16,     89,2,20130906,2241, 29.9695, 178.9617, 4443,   1823.3,   2.1039,   2.1039,  34.5815,2,  34.5814,2,     63.8,2,   161.09,2,    41.65,2,     0.00,2,     2.97,2,    0.000,2,    0.000,2,   2375.8,3,   2414.5,2,   7.4217,2,    25.00,  -999.00,9,  -999.00,9,   2.1039,     2347
  49UP20130619,  P03W,   120,  1,     15,     88,2,20130906,2241, 29.9695, 178.9617, 4443,   1823.3,   2.1039,   2.1039,  34.5815,2,  34.5809,2,     63.8,2,   161.46,2,    41.74,2,     0.00,2,     2.97,2,    0.000,2,    0.000,2,   2383.1,2,   2414.4,2,   7.4211,2,    25.00,  -999.00,9,  -999.00,9,   2.1039,     2347
  49UP20130619,  P03W,   120,  1,     14,    999,2,20130906,2241, 29.9695, 178.9617, 4443,   2026.4,   1.9295,   1.9296,  34.6056,2,  34.6053,2,     78.9,2,   162.25,2,    40.67,2,     0.00,2,     2.89,2,    0.000,2,    0.000,2,   2374.2,2,   2418.2,2,   7.4514,2,    25.00,  -999.00,9,  -999.00,9,   1.9296,     2341
  49UP20130619,  P03W,   120,  1,     13,    667,2,20130906,2241, 29.9695, 178.9617, 4443,   2228.8,   1.7847,   1.7850,  34.6248,2,  34.6245,2,     92.2,2,   162.71,2,    39.86,2,     0.00,2,     2.83,2, -999.000,9, -999.000,9,   2366.8,2,   2421.1,2,   7.4740,2,    25.00,  -999.00,9,  -999.00,9,   1.7850,     2336
  49UP20130619,  P03W,   120,  1,     12,     74,2,20130906,2241, 29.9695, 178.9617, 4443,   2432.6,   1.6980,   1.6981,  34.6369,2,  34.6364,2,    102.0,2,   162.34,2,    39.19,2,     0.00,2,     2.78,2, -999.000,9, -999.000,9,   2365.3,2,   2421.3,2,   7.4958,2,    25.00,  -999.00,9,  -999.00,9,   1.6981,     2331
  49UP20130619,  P03W,   120,  1,     11,    996,2,20130906,2241, 29.9695, 178.9617, 4443,   2635.1,   1.6353,   1.6354,  34.6463,2,  34.6446,6,    108.8,3,   161.55,2,    38.77,2,     0.00,2,     2.74,2, -999.000,9, -999.000,9,   2355.1,2,   2422.6,2,   7.5047,2,    25.00,  -999.00,9,  -999.00,9,   1.6354,     2326
  49UP20130619,  P03W,   120,  1,     10,    107,2,20130906,2241, 29.9695, 178.9617, 4443,   2839.1,   1.5630,   1.5639,  34.6567,2,  34.6556,2,    119.4,2,   160.22,2,    38.13,2,     0.00,2,     2.70,2, -999.000,9, -999.000,9,   2349.6,2,   2421.9,2,   7.5363,4,    25.00,  -999.00,9,  -999.00,9,   1.5639,     2322
  49UP20130619,  P03W,   120,  1,      9,    108,2,20130906,2241, 29.9695, 178.9617, 4443,   3043.3,   1.5216,   1.5214,  34.6636,2,  34.6626,2,    126.6,2,   158.58,2,    37.53,2,     0.00,2,     2.66,2,    0.000,2,    0.000,2,   2345.0,2,   2421.9,2,   7.5377,2,    25.00,  -999.00,9,  -999.00,9,   1.5214,     2317
  49UP20130619,  P03W,   120,  1,      8,     81,2,20130906,2241, 29.9695, 178.9617, 4443,   3297.5,   1.4809,   1.4811,  34.6711,2,  34.6715,2,    136.1,2,   156.67,2,    37.04,2,     0.00,2,     2.61,2, -999.000,9, -999.000,9,   2339.8,2,   2421.9,2,   7.5568,2,    25.00,  -999.00,9,  -999.00,9,   1.4811,     2311
  49UP20130619,  P03W,   120,  1,      7,    106,2,20130906,2241, 29.9695, 178.9617, 4443,   3297.5,   1.4809,   1.4811,  34.6711,2,  34.6716,2,    136.4,2,   156.72,2,    37.07,2,     0.00,2,     2.61,2,    0.000,2,    0.000,2,   2337.7,2,   2423.2,2,   7.5559,2,    25.00,  -999.00,9,  -999.00,9,   1.4811,     2311
  49UP20130619,  P03W,   120,  1,      6,    113,2,20130906,2241, 29.9695, 178.9617, 4443,   3554.3,   1.4629,   1.4628,  34.6759,2,  34.6767,6,    141.7,2,   154.98,2,    36.65,2,     0.00,2,     2.58,2, -999.000,9, -999.000,9,   2338.7,6,   2421.1,6,   7.5663,2,    25.00,  -999.00,9,  -999.00,9,   1.4628,     2305
  49UP20130619,  P03W,   120,  1,      5,     94,2,20130906,2241, 29.9695, 178.9617, 4443,   3809.8,   1.4543,   1.4544,  34.6799,2,  34.6812,4,    146.5,2,   153.68,2,    36.33,2,     0.00,2,     2.56,2, -999.000,9, -999.000,9,   2331.1,2,   2421.7,2,   7.5730,6,    25.00,  -999.00,9,  -999.00,9,   1.4544,     2300
  49UP20130619,  P03W,   120,  1,      4,     77,2,20130906,2241, 29.9695, 178.9617, 4443,   4067.9,   1.4549,   1.4549,  34.6827,2,  34.6837,2,    150.3,6,   152.36,6,    36.05,6,     0.00,6,     2.54,6, -999.000,9, -999.000,9,   2325.9,2,   2420.5,2,   7.5791,2,    25.00,  -999.00,9,  -999.00,9,   1.4549,     2254
  49UP20130619,  P03W,   120,  1,      3,    104,2,20130906,2241, 29.9695, 178.9617, 4443,   4323.8,   1.4590,   1.4591,  34.6852,2,  34.6858,6,    154.5,2,   150.33,2,    35.83,2,     0.00,2,     2.52,2, -999.000,9, -999.000,9,   2324.2,2,   2419.1,2,   7.5874,2,    25.00,  -999.00,9,  -999.00,9,   1.4591,     2248
  49UP20130619,  P03W,   120,  1,      2,     75,2,20130906,2241, 29.9695, 178.9617, 4443,   4580.2,   1.4620,   1.4621,  34.6877,2,  34.6882,2,    158.7,2,   147.10,2,    35.53,2,     0.00,2,     2.49,2, -999.000,9, -999.000,9,   2321.6,2,   2417.3,2,   7.5930,2,    25.00,  -999.00,9,  -999.00,9,   1.4621,     2243
  49UP20130619,  P03W,   120,  1,      1,    997,2,20130906,2241, 29.9695, 178.9617, 4443,   4618.1,   1.4634,   1.4632,  34.6880,2,  34.6881,2,    158.4,3,   146.84,2,    35.46,2,     0.00,2,     2.49,2,    0.022,2,    0.019,2,   2321.9,2,   2416.3,2,   7.5906,2,    25.00,  -999.00,9,  -999.00,9,   1.4632,     2241