BOTTLE,20180830PRINUNIVRMK
EXPOCODE,SECT_ID,STNNBR,CASTNO,SAMPNO,BTLNBR,BTLNBR_FLAG_W,DATE,TIME,LATITUDE,LONGITUDE,DEPTH,CTDPRS,CTDTMP,SBE35,CTDSAL,CTDSAL_FLAG_W,SALNTY,SALNTY_FLAG_W,OXYGEN,OXYGEN_FLAG_W,SILCAT,SILCAT_FLAG_W,NITRAT,NITRAT_FLAG_W,NITRIT,NITRIT_FLAG_W,PHSPHT,PHSPHT_FLAG_W,CFC-11,CFC-11_FLAG_W,CFC-12,CFC-12_FLAG_W,TCARBN,TCARBN_FLAG_W,ALKALI,ALKALI_FLAG_W,PH_TOT,PH_TOT_FLAG_W,PH_TMP,CHLORA,CHLORA_FLAG_W,PPHYTN,PPHYTN_FLAG_W,SBE35,BTL_TIME
,,,,,,,,,,,METERS,DBAR,ITS-90,,PSS-78,,PSS-78,,UMOL/KG,,UMOL/KG,,UMOL/KG,,UMOL/KG,,UMOL/KG,,PMOL/KG,,PMOL/KG,,UMOL/KG,,UMOL/KG,,,,DEG C,UG/KG,,UG/KG,,,
  49UP20130619,  P03W,   112,  1,      0,   -999,0,20130904,1545, 26.0282, 178.9872, 5440,      0.0,  27.7057,-999.0000,  35.4254,2,  35.5582,2,    199.6,2,     0.93,2,     0.00,2,     0.00,2,     0.03,2, -999.000,9, -999.000,9,   2001.0,2,   2337.4,2,   8.1021,2,    25.00,     0.05,2,     0.02,2,-999.0000,     1740
  49UP20130619,  P03W,   112,  1,     36,    109,2,20130904,1545, 26.0282, 178.9872, 5440,     10.0,  27.7249,  27.7217,  35.4269,2,  35.5627,4,    199.9,2,     0.99,2,     0.00,2,     0.00,2,     0.02,2, -999.000,9, -999.000,9,   1999.4,2,   2338.2,2,   8.1011,2,    25.00,     0.06,2,     0.02,2,  27.7217,     1759
  49UP20130619,  P03W,   112,  1,     35,    112,2,20130904,1545, 26.0282, 178.9872, 5440,     51.2,  24.7127,  24.7208,  35.3746,2,  35.3762,2,    228.9,2,     1.10,2,     0.00,2,     0.00,2,     0.02,2, -999.000,9, -999.000,9,   1999.5,2,   2323.6,2,   8.0852,2,    25.00,     0.10,2,     0.03,2,  24.7208,     1755
  49UP20130619,  P03W,   112,  1,     34,     83,2,20130904,1545, 26.0282, 178.9872, 5440,    101.7,  21.6654,  21.6657,  35.2109,2,  35.2109,2,    219.7,2,     1.49,2,     0.00,2,     0.00,2,     0.03,2, -999.000,9, -999.000,9,   2014.5,2,   2315.5,2,   8.0509,2,    25.00,     0.20,2,     0.17,2,  21.6657,     1754
  49UP20130619,  P03W,   112,  1,     33,    517,2,20130904,1545, 26.0282, 178.9872, 5440,    151.1,  19.7275,  19.7276,  34.9992,2,  34.9906,2,    191.6,2,     2.60,2,     2.66,2,     0.02,2,     0.24,2, -999.000,9, -999.000,9,   2053.8,2,   2302.7,2,   7.9645,2,    25.00,     0.05,2,     0.16,2,  19.7276,     1752
  49UP20130619,  P03W,   112,  1,     32,    105,2,20130904,1545, 26.0282, 178.9872, 5440,    202.7,  17.4915,  17.4979,  34.7298,2,  34.7337,2,    200.8,6,     3.74,6,     4.13,6,     0.01,6,     0.31,6, -999.000,9, -999.000,9,   2046.2,2,   2282.5,2,   7.9467,2,    25.00,     0.02,2,     0.05,2,  17.4979,     1751
  49UP20130619,  P03W,   112,  1,     31,     76,2,20130904,1545, 26.0282, 178.9872, 5440,    251.8,  15.9267,  15.9238,  34.5917,2,  34.5899,2,    206.4,2,     5.71,2,     6.07,2,     0.00,2,     0.44,2, -999.000,9, -999.000,9,   2054.0,2,   2276.0,2,   7.9134,2,    25.00,  -999.00,9,  -999.00,9,  15.9238,     1749
  49UP20130619,  P03W,   112,  1,     30,     97,2,20130904,1545, 26.0282, 178.9872, 5440,    334.0,  13.9019,  13.9041,  34.4344,2,  34.4365,2,    203.9,2,     9.33,2,     9.34,2,     0.00,2,     0.66,2, -999.000,9, -999.000,9,   2076.3,2,   2270.3,2,   7.8629,2,    25.00,  -999.00,9,  -999.00,9,  13.9041,     1747
  49UP20130619,  P03W,   112,  1,     29,    102,2,20130904,1545, 26.0282, 178.9872, 5440,    334.0,  13.9019,  13.9041,  34.4344,2,  34.4357,2,    204.0,2,     9.47,2,     9.37,2,     0.00,2,     0.68,2, -999.000,9, -999.000,9,   2076.4,2,   2269.5,2,   7.8643,2,    25.00,  -999.00,9,  -999.00,9,  13.9041,     1747
  49UP20130619,  P03W,   112,  1,     28,     91,2,20130904,1545, 26.0282, 178.9872, 5440,    433.7,  11.3426,  11.3397,  34.2620,2,  34.2613,6,    198.1,2,    17.33,2,    14.58,2,     0.00,2,     1.04,2, -999.000,9, -999.000,9,   2108.5,6,   2268.7,6,   7.7834,2,    25.00,  -999.00,9,  -999.00,9,  11.3397,     1744
  49UP20130619,  P03W,   112,  1,     27,    998,2,20130904,1545, 26.0282, 178.9872, 5440,    535.2,   9.0399,   9.0512,  34.1258,2,  34.1268,2,    174.4,2,    30.70,2,    21.10,2,     0.00,2,     1.50,2, -999.000,9, -999.000,9,   2155.3,2,   2274.4,2,   7.6833,6,    25.00,  -999.00,9,  -999.00,9,   9.0512,     1741
  49UP20130619,  P03W,   112,  1,     26,     84,2,20130904,1545, 26.0282, 178.9872, 5440,    635.0,   6.7140,   6.7129,  34.0592,2,  34.0598,2,    121.6,2,    55.56,2,    30.11,2,     0.00,2,     2.18,2, -999.000,9, -999.000,9,   2223.7,2,   2290.2,2,   7.5347,2,    25.00,  -999.00,9,  -999.00,9,   6.7129,     1739
  49UP20130619,  P03W,   112,  1,     25,     98,2,20130904,1545, 26.0282, 178.9872, 5440,    736.9,   5.5290,   5.5291,  34.1185,2,  34.1184,2,     73.2,2,    76.20,2,    36.48,2,     0.00,2,     2.64,2, -999.000,9, -999.000,9,   2279.4,2,   2309.9,2,   7.4318,2,    25.00,  -999.00,9,  -999.00,9,   5.5291,     1736
  49UP20130619,  P03W,   112,  1,     24,    110,2,20130904,1545, 26.0282, 178.9872, 5440,    837.8,   4.5915,   4.5922,  34.2241,2,  34.2233,2,     43.0,2,    97.07,2,    40.44,2,     0.00,2,     2.94,2, -999.000,9, -999.000,9,   2321.6,2,   2334.8,2,   7.3727,2,    25.00,  -999.00,9,  -999.00,9,   4.5922,     1733
  49UP20130619,  P03W,   112,  1,     23,     96,2,20130904,1545, 26.0282, 178.9872, 5440,    939.7,   4.1194,   4.1193,  34.2990,2,  34.2976,2,     34.6,6,   109.06,6,    41.80,6,     0.00,6,     3.04,6, -999.000,9, -999.000,9,   2343.0,2,   2350.0,2,   7.3629,2,    25.00,  -999.00,9,  -999.00,9,   4.1193,     1730
  49UP20130619,  P03W,   112,  1,     22,    111,3,20130904,1545, 26.0282, 178.9872, 5440,   1081.8,   3.6116,   3.6112,  34.4001,2,  34.3997,2,     36.0,2,   121.91,2,    42.36,2,     0.00,2,     3.07,2, -999.000,9, -999.000,9,   2369.2,3,   2370.9,2,   7.3688,2,    25.00,  -999.00,9,  -999.00,9,   3.6112,     1725
  49UP20130619,  P03W,   112,  1,     21,     78,2,20130904,1545, 26.0282, 178.9872, 5440,   1284.3,   3.1172,   3.1171,  34.4829,2,  34.4826,6,     47.6,2,   133.27,2,    42.08,2,     0.00,2,     3.02,2, -999.000,9, -999.000,9,   2362.8,2,   2386.5,2,   7.3966,2,    25.00,  -999.00,9,  -999.00,9,   3.1171,     1720
  49UP20130619,  P03W,   112,  1,     20,     93,2,20130904,1545, 26.0282, 178.9872, 5440,   1485.9,   2.7376,   2.7378,  34.5312,2,  34.5309,2,     59.6,2,   141.01,2,    41.56,2,     0.00,2,     2.98,2, -999.000,9, -999.000,9,   2365.6,2,   2397.9,2,   7.4193,2,    25.00,  -999.00,9,  -999.00,9,   2.7378,     1715
  49UP20130619,  P03W,   112,  1,     19,     92,2,20130904,1545, 26.0282, 178.9872, 5440,   1688.6,   2.3759,   2.3756,  34.5710,2,  34.5705,2,     72.7,2,   148.31,2,    40.83,2,     0.00,2,     2.91,2, -999.000,9, -999.000,9,   2366.8,6,   2407.5,6,   7.4455,2,    25.00,  -999.00,9,  -999.00,9,   2.3756,     1711
  49UP20130619,  P03W,   112,  1,     18,    101,2,20130904,1545, 26.0282, 178.9872, 5440,   1890.2,   2.1367,   2.1364,  34.5952,2,  34.5956,2,     82.8,2,   152.74,2,    40.36,2,     0.00,2,     2.87,2, -999.000,9, -999.000,9,   2367.1,2,   2412.4,2,   7.4636,6,    25.00,  -999.00,9,  -999.00,9,   2.1364,     1706
  49UP20130619,  P03W,   112,  1,     17,     90,2,20130904,1545, 26.0282, 178.9872, 5440,   2093.7,   1.9608,   1.9606,  34.6135,2,  34.6130,2,     91.6,2,   155.51,2,    39.74,2,     0.00,2,     2.82,2, -999.000,9, -999.000,9,   2367.1,2,   2415.6,2,   7.4764,2,    25.00,  -999.00,9,  -999.00,9,   1.9606,     1702
  49UP20130619,  P03W,   112,  1,     16,     89,2,20130904,1545, 26.0282, 178.9872, 5440,   2297.8,   1.8105,   1.8104,  34.6305,2,  34.6311,2,    102.3,2,   156.58,2,    39.14,2,     0.00,2,     2.77,2, -999.000,9, -999.000,9,   2360.9,2,   2419.2,2,   7.4968,2,    25.00,  -999.00,9,  -999.00,9,   1.8104,     1658
  49UP20130619,  P03W,   112,  1,     15,     88,2,20130904,1545, 26.0282, 178.9872, 5440,   2297.8,   1.8105,   1.8104,  34.6305,2,  34.6305,2,    102.2,2,   156.53,2,    39.09,2,     0.00,2,     2.77,2, -999.000,9, -999.000,9,   2359.4,2,   2418.1,2,   7.4994,2,    25.00,  -999.00,9,  -999.00,9,   1.8104,     1657
  49UP20130619,  P03W,   112,  1,     14,    999,2,20130904,1545, 26.0282, 178.9872, 5440,   2500.4,   1.7081,   1.7079,  34.6432,2,  34.6434,2,    111.5,6,   156.80,6,    38.61,6,     0.00,6,     2.73,6, -999.000,9, -999.000,9,   2353.7,2,   2420.1,2,   7.5149,2,    25.00,  -999.00,9,  -999.00,9,   1.7079,     1653
  49UP20130619,  P03W,   112,  1,     13,    667,2,20130904,1545, 26.0282, 178.9872, 5440,   2704.6,   1.6383,   1.6382,  34.6522,2,  34.6525,2,    118.7,2,   156.61,2,    38.11,2,     0.00,2,     2.69,2, -999.000,9, -999.000,9,   2352.2,2,   2422.8,2,   7.5302,2,    25.00,  -999.00,9,  -999.00,9,   1.6382,     1649
  49UP20130619,  P03W,   112,  1,     12,     74,2,20130904,1545, 26.0282, 178.9872, 5440,   2908.1,   1.5887,   1.5886,  34.6593,2,  34.6591,2,    125.0,2,   155.86,2,    37.82,2,     0.00,2,     2.66,2, -999.000,9, -999.000,9,   2347.6,2,   2421.9,2,   7.5400,2,    25.00,  -999.00,9,  -999.00,9,   1.5886,     1645
  49UP20130619,  P03W,   112,  1,     11,    996,2,20130904,1545, 26.0282, 178.9872, 5440,   3123.3,   1.5462,   1.5459,  34.6653,2,  34.6643,2,    130.5,2,   154.81,2,    37.39,2,     0.00,2,     2.63,2, -999.000,9, -999.000,9,   2345.0,2,   2421.9,2,   7.5476,2,    25.00,  -999.00,9,  -999.00,9,   1.5459,     1640
  49UP20130619,  P03W,   112,  1,     10,    107,2,20130904,1545, 26.0282, 178.9872, 5440,   3380.3,   1.5047,   1.5047,  34.6718,2,  34.6707,2,    137.5,2,   153.38,2,    36.88,2,     0.00,2,     2.59,2, -999.000,9, -999.000,9,   2339.5,2,   2421.5,2,   7.5598,2,    25.00,  -999.00,9,  -999.00,9,   1.5047,     1635
  49UP20130619,  P03W,   112,  1,      9,    108,2,20130904,1545, 26.0282, 178.9872, 5440,   3635.1,   1.4779,   1.4776,  34.6765,2,  34.6771,2,    143.6,2,   152.14,2,    36.55,2,     0.00,2,     2.56,2, -999.000,9, -999.000,9,   2333.9,6,   2421.2,6,   7.5722,2,    25.00,  -999.00,9,  -999.00,9,   1.4776,     1629
  49UP20130619,  P03W,   112,  1,      8,     81,2,20130904,1545, 26.0282, 178.9872, 5440,   3890.6,   1.4634,   1.4631,  34.6805,2,  34.6808,6,    148.4,2,   150.96,2,    36.25,2,     0.00,2,     2.54,2, -999.000,9, -999.000,9,   2332.0,2,   2419.1,2,   7.5778,6,    25.00,  -999.00,9,  -999.00,9,   1.4631,     1624
  49UP20130619,  P03W,   112,  1,      7,    106,2,20130904,1545, 26.0282, 178.9872, 5440,   4147.1,   1.4523,   1.4521,  34.6842,2,  34.6849,2,    153.3,2,   149.18,2,    35.87,2,     0.00,2,     2.51,2, -999.000,9, -999.000,9,   2327.2,2,   2420.6,2,   7.5877,2,    25.00,  -999.00,9,  -999.00,9,   1.4521,     1618
  49UP20130619,  P03W,   112,  1,      6,    113,2,20130904,1545, 26.0282, 178.9872, 5440,   4403.0,   1.4491,   1.4490,  34.6873,2,  34.6871,2,    158.5,2,   146.05,2,    35.50,2,     0.00,2,     2.48,2, -999.000,9, -999.000,9,   2320.4,2,   2416.7,2,   7.5925,2,    25.00,  -999.00,9,  -999.00,9,   1.4490,     1612
  49UP20130619,  P03W,   112,  1,      5,     94,2,20130904,1545, 26.0282, 178.9872, 5440,   4660.3,   1.4483,   1.4482,  34.6899,2,  34.6901,2,    163.5,6,   142.04,6,    35.13,6,     0.00,6,     2.45,6, -999.000,9, -999.000,9,   2317.9,2,   2412.4,2,   7.5988,2,    25.00,  -999.00,9,  -999.00,9,   1.4482,     1607
  49UP20130619,  P03W,   112,  1,      4,     77,2,20130904,1545, 26.0282, 178.9872, 5440,   4919.0,   1.4523,   1.4522,  34.6923,2,  34.6918,2,    168.4,2,   138.50,2,    34.85,2,     0.00,2,     2.42,2, -999.000,9, -999.000,9,   2313.4,2,   2410.4,2,   7.6026,2,    25.00,  -999.00,9,  -999.00,9,   1.4522,     1601
  49UP20130619,  P03W,   112,  1,      3,    104,2,20130904,1545, 26.0282, 178.9872, 5440,   5175.9,   1.4657,   1.4656,  34.6939,2,  34.6928,2,    171.3,2,   136.55,2,    34.58,2,     0.00,2,     2.41,2, -999.000,9, -999.000,9,   2307.9,2,   2406.8,2,   7.6045,2,    25.00,  -999.00,9,  -999.00,9,   1.4656,     1555
  49UP20130619,  P03W,   112,  1,      2,     75,2,20130904,1545, 26.0282, 178.9872, 5440,   5434.3,   1.4828,   1.4828,  34.6954,2,  34.6952,6,    173.8,2,   134.67,2,    34.34,2,     0.00,2,     2.39,2, -999.000,9, -999.000,9,   2303.7,2,   2405.5,2,   7.6090,2,    25.00,  -999.00,9,  -999.00,9,   1.4828,     1549
  49UP20130619,  P03W,   112,  1,      1,    997,2,20130904,1545, 26.0282, 178.9872, 5440,   5593.8,   1.4941,   1.4939,  34.6961,2,  34.6961,2,    175.0,2,   134.08,2,    34.33,2,     0.00,2,     2.39,2, -999.000,9, -999.000,9,   2298.9,2,   2403.9,2,   7.6094,2,    25.00,  -999.00,9,  -999.00,9,   1.4939,     1545