BOTTLE,20180830PRINUNIVRMK
EXPOCODE,SECT_ID,STNNBR,CASTNO,SAMPNO,BTLNBR,BTLNBR_FLAG_W,DATE,TIME,LATITUDE,LONGITUDE,DEPTH,CTDPRS,CTDTMP,SBE35,CTDSAL,CTDSAL_FLAG_W,SALNTY,SALNTY_FLAG_W,OXYGEN,OXYGEN_FLAG_W,SILCAT,SILCAT_FLAG_W,NITRAT,NITRAT_FLAG_W,NITRIT,NITRIT_FLAG_W,PHSPHT,PHSPHT_FLAG_W,CFC-11,CFC-11_FLAG_W,CFC-12,CFC-12_FLAG_W,TCARBN,TCARBN_FLAG_W,ALKALI,ALKALI_FLAG_W,PH_TOT,PH_TOT_FLAG_W,PH_TMP,CHLORA,CHLORA_FLAG_W,PPHYTN,PPHYTN_FLAG_W,SBE35,BTL_TIME
,,,,,,,,,,,METERS,DBAR,ITS-90,,PSS-78,,PSS-78,,UMOL/KG,,UMOL/KG,,UMOL/KG,,UMOL/KG,,UMOL/KG,,PMOL/KG,,PMOL/KG,,UMOL/KG,,UMOL/KG,,,,DEG C,UG/KG,,UG/KG,,,
  49UP20130619,  P03W,    79,  1,      0,   -999,0,20130811,1853, 24.2648, 156.8410, 5623,      0.0,  29.3272,-999.0000,  34.8360,2,  34.8393,2,    195.8,2,     0.96,2,     0.00,2,     0.00,2,     0.03,2, -999.000,9, -999.000,9,   1955.4,2,   2284.4,2,   8.1114,2,    25.00,     0.04,2,     0.01,2,-999.0000,     2053
  49UP20130619,  P03W,    79,  1,     36,    109,2,20130811,1853, 24.2648, 156.8410, 5623,     10.5,  29.3277,  29.3263,  34.8348,2,  34.8342,2,    196.2,2,     0.98,2,     0.00,2,     0.00,2,     0.01,2, -999.000,9, -999.000,9,   1953.2,2,   2284.7,2,   8.1106,2,    25.00,     0.04,2,     0.01,2,  29.3263,     2110
  49UP20130619,  P03W,    79,  1,     35,    112,2,20130811,1853, 24.2648, 156.8410, 5623,     50.7,  23.9635,  23.9722,  34.9726,2,  34.9747,2,    227.4,2,     1.51,3,     0.00,2,     0.00,2,     0.02,2, -999.000,9, -999.000,9,   1978.5,2,   2295.5,2,   8.0830,2,    25.00,     0.07,2,     0.01,2,  23.9722,     2104
  49UP20130619,  P03W,    79,  1,     34,     83,2,20130811,1853, 24.2648, 156.8410, 5623,    100.8,  20.8281,  20.8319,  34.9238,2,  34.9219,2,    227.0,2,     1.86,2,     0.00,2,     0.00,2,     0.03,2, -999.000,9, -999.000,9,   2001.0,2,   2296.2,2,   8.0347,2,    25.00,     0.17,2,     0.09,2,  20.8319,     2103
  49UP20130619,  P03W,    79,  1,     33,     86,2,20130811,1853, 24.2648, 156.8410, 5623,    151.4,  18.7048,  18.7028,  34.8213,2,  34.8179,2,    204.6,2,     2.69,2,     2.38,2,     0.02,2,     0.19,2, -999.000,9, -999.000,9,   2030.9,6,   2286.3,6,   7.9906,2,    25.00,     0.09,2,     0.20,2,  18.7028,     2101
  49UP20130619,  P03W,    79,  1,     32,    105,2,20130811,1853, 24.2648, 156.8410, 5623,    201.6,  17.7860,  17.7857,  34.7504,2,  34.7489,2,    203.6,2,     3.43,2,     3.87,2,     0.01,2,     0.27,2, -999.000,9, -999.000,9,   2038.0,2,   2281.4,2,   7.9624,6,    25.00,     0.02,2,     0.04,2,  17.7857,     2059
  49UP20130619,  P03W,    79,  1,     31,     76,2,20130811,1853, 24.2648, 156.8410, 5623,    252.0,  16.7304,  16.7288,  34.6804,2,  34.6777,2,    203.4,6,     4.87,6,     5.64,6,     0.00,6,     0.40,6, -999.000,9, -999.000,9,   2044.2,2,   2278.4,2,   7.9369,2,    25.00,  -999.00,9,  -999.00,9,  16.7288,     2058
  49UP20130619,  P03W,    79,  1,     30,     97,2,20130811,1853, 24.2648, 156.8410, 5623,    281.9,  15.9560,  15.9572,  34.6164,2,  34.6143,2,    196.6,2,     6.60,2,     7.28,2,     0.00,2,     0.52,2, -999.000,9, -999.000,9,   2058.5,2,   2276.1,2,   7.9099,2,    25.00,  -999.00,9,  -999.00,9,  15.9572,     2056
  49UP20130619,  P03W,    79,  1,     29,    102,2,20130811,1853, 24.2648, 156.8410, 5623,    372.8,  13.4139,  13.4151,  34.4097,2,  34.4079,2,    192.5,2,    11.70,2,    11.34,2,     0.00,2,     0.82,2, -999.000,9, -999.000,9,   2087.9,2,   2269.0,2,   7.8342,2,    25.00,  -999.00,9,  -999.00,9,  13.4151,     2054
  49UP20130619,  P03W,    79,  1,     28,     91,2,20130811,1853, 24.2648, 156.8410, 5623,    473.8,  10.3166,  10.3114,  34.2077,2,  34.2073,2,    176.5,2,    23.81,2,    18.40,2,     0.00,2,     1.34,2, -999.000,9, -999.000,9,   2133.5,2,   2269.5,2,   7.7280,2,    25.00,  -999.00,9,  -999.00,9,  10.3114,     2051
  49UP20130619,  P03W,    79,  1,     27,    998,2,20130811,1853, 24.2648, 156.8410, 5623,    575.5,   7.8657,   7.8685,  34.1104,2,  34.1107,2,    131.5,2,    43.22,2,    26.96,2,     0.00,2,     1.97,2, -999.000,9, -999.000,9,   2197.3,2,   2281.6,2,   7.5852,2,    25.00,  -999.00,9,  -999.00,9,   7.8685,     2048
  49UP20130619,  P03W,    79,  1,     26,     84,2,20130811,1853, 24.2648, 156.8410, 5623,    675.4,   6.1481,   6.1471,  34.0916,2,  34.0930,2,     98.1,2,    65.15,2,    33.18,2,     0.00,2,     2.43,2, -999.000,9, -999.000,9,   2249.6,2,   2298.5,2,   7.4883,2,    25.00,  -999.00,9,  -999.00,9,   6.1471,     2046
  49UP20130619,  P03W,    79,  1,     25,     98,2,20130811,1853, 24.2648, 156.8410, 5623,    776.6,   4.9242,   4.9244,  34.1658,2,  34.1666,2,     63.0,2,    88.40,2,    38.26,2,     0.00,2,     2.79,2, -999.000,9, -999.000,9,   2298.9,2,   2328.2,2,   7.4084,2,    25.00,  -999.00,9,  -999.00,9,   4.9244,     2043
  49UP20130619,  P03W,    79,  1,     24,    110,2,20130811,1853, 24.2648, 156.8410, 5623,    877.3,   4.2160,   4.2154,  34.2544,2,  34.2565,2,     45.0,2,   106.21,2,    40.75,2,     0.00,2,     2.95,2, -999.000,9, -999.000,9,   2331.1,2,   2344.1,2,   7.3766,2,    25.00,  -999.00,9,  -999.00,9,   4.2154,     2041
  49UP20130619,  P03W,    79,  1,     23,     96,2,20130811,1853, 24.2648, 156.8410, 5623,    977.7,   3.7900,   3.7928,  34.3410,2,  34.3375,4,     40.2,2,   117.00,2,    41.71,2,     0.00,2,     3.02,2, -999.000,9, -999.000,9,   2348.4,2,   2358.3,2,   7.3710,2,    25.00,  -999.00,9,  -999.00,9,   3.7928,     2038
  49UP20130619,  P03W,    79,  1,     22,    111,2,20130811,1853, 24.2648, 156.8410, 5623,   1141.2,   3.2956,   3.2952,  34.4448,2,  34.4458,6,     49.2,6,   128.81,6,    41.62,6,     0.00,6,     3.00,6, -999.000,9, -999.000,9,   2356.6,2,   2381.9,2,   7.3972,2,    25.00,  -999.00,9,  -999.00,9,   3.2952,     2034
  49UP20130619,  P03W,    79,  1,     21,     78,2,20130811,1853, 24.2648, 156.8410, 5623,   1342.7,   2.8225,   2.8223,  34.5131,2,  34.5136,2,     64.8,2,   137.72,2,    40.95,2,     0.00,2,     2.94,2, -999.000,9, -999.000,9,   2360.0,2,   2393.5,2,   7.4285,2,    25.00,  -999.00,9,  -999.00,9,   2.8223,     2030
  49UP20130619,  P03W,    79,  1,     20,     93,2,20130811,1853, 24.2648, 156.8410, 5623,   1544.7,   2.4734,   2.4733,  34.5557,2,  34.5548,2,     79.0,2,   142.79,2,    40.18,2,     0.00,2,     2.88,2, -999.000,9, -999.000,9,   2360.2,2,   2401.4,2,   7.4552,2,    25.00,  -999.00,9,  -999.00,9,   2.4733,     2025
  49UP20130619,  P03W,    79,  1,     19,     92,2,20130811,1853, 24.2648, 156.8410, 5623,   1747.6,   2.2328,   2.2324,  34.5823,2,  34.5817,2,     89.5,2,   145.71,2,    39.61,2,     0.00,2,     2.83,2, -999.000,9, -999.000,9,   2354.0,2,   2406.6,2,   7.4748,2,    25.00,  -999.00,9,  -999.00,9,   2.2324,     2021
  49UP20130619,  P03W,    79,  1,     18,    101,2,20130811,1853, 24.2648, 156.8410, 5623,   1950.2,   2.0307,   2.0308,  34.6061,2,  34.6062,2,     99.0,2,   148.46,2,    39.19,2,     0.00,2,     2.79,2, -999.000,9, -999.000,9,   2353.4,2,   2415.3,3,   7.4945,2,    25.00,  -999.00,9,  -999.00,9,   2.0308,     2016
  49UP20130619,  P03W,    79,  1,     17,     90,2,20130811,1853, 24.2648, 156.8410, 5623,   2154.8,   1.8716,   1.8714,  34.6226,2,  34.6226,2,    105.5,2,   151.60,2,    38.89,2,     0.00,2,     2.76,2, -999.000,9, -999.000,9,   2353.2,2,   2413.8,2,   7.5030,2,    25.00,  -999.00,9,  -999.00,9,   1.8714,     2012
  49UP20130619,  P03W,    79,  1,     16,     89,2,20130811,1853, 24.2648, 156.8410, 5623,   2357.8,   1.7553,   1.7552,  34.6360,2,  34.6360,2,    112.7,6,   152.45,6,    38.41,6,     0.00,6,     2.73,6, -999.000,9, -999.000,9,   2350.7,2,   2417.6,2,   7.5128,3,    25.00,  -999.00,9,  -999.00,9,   1.7552,     2008
  49UP20130619,  P03W,    79,  1,     15,     88,2,20130811,1853, 24.2648, 156.8410, 5623,   2561.2,   1.6879,   1.6875,  34.6481,2,  34.6485,2,    121.6,2,   151.39,2,    37.87,2,     0.00,2,     2.69,2, -999.000,9, -999.000,9,   2345.5,6,   2419.1,6,   7.5337,2,    25.00,  -999.00,9,  -999.00,9,   1.6875,     2003
  49UP20130619,  P03W,    79,  1,     14,    999,2,20130811,1853, 24.2648, 156.8410, 5623,   2766.1,   1.6252,   1.6250,  34.6568,2,  34.6573,2,    127.7,2,   151.16,2,    37.50,2,     0.00,2,     2.65,2, -999.000,9, -999.000,9,   2343.7,2,   2419.6,2,   7.5437,6,    25.00,  -999.00,9,  -999.00,9,   1.6250,     1959
  49UP20130619,  P03W,    79,  1,     13,    667,2,20130811,1853, 24.2648, 156.8410, 5623,   2969.4,   1.5716,   1.5717,  34.6630,2,  34.6630,2,    133.4,2,   150.71,2,    37.14,2,     0.00,2,     2.63,2, -999.000,9, -999.000,9,   2342.8,2,   2417.5,2,   7.5522,2,    25.00,  -999.00,9,  -999.00,9,   1.5717,     1954
  49UP20130619,  P03W,    79,  1,     12,     74,2,20130811,1853, 24.2648, 156.8410, 5623,   3214.7,   1.5346,   1.5345,  34.6692,2,  34.6695,2,    138.6,2,   149.86,2,    36.82,2,     0.00,2,     2.60,2, -999.000,9, -999.000,9,   2338.4,2,   2417.5,2,   7.5576,2,    25.00,  -999.00,9,  -999.00,9,   1.5345,     1949
  49UP20130619,  P03W,    79,  1,     11,    996,2,20130811,1853, 24.2648, 156.8410, 5623,   3470.4,   1.5025,   1.5026,  34.6746,2,  34.6738,2,    143.0,2,   148.60,2,    36.49,2,     0.00,2,     2.57,2, -999.000,9, -999.000,9,   2330.3,3,   2416.7,2,   7.5672,2,    25.00,  -999.00,9,  -999.00,9,   1.5026,     1944
  49UP20130619,  P03W,    79,  1,     10,    107,2,20130811,1853, 24.2648, 156.8410, 5623,   3726.9,   1.4789,   1.4788,  34.6791,2,  34.6791,6,    148.6,2,   147.46,2,    36.13,2,     0.00,2,     2.55,2, -999.000,9, -999.000,9,   -999.0,9,   -999.0,9,-999.0000,9,  -999.00,  -999.00,9,  -999.00,9,   1.4788,     1938
  49UP20130619,  P03W,    79,  1,      9,    108,2,20130811,1853, 24.2648, 156.8410, 5623,   3982.6,   1.4675,   1.4675,  34.6827,2,  34.6824,2,    153.2,2,   145.92,2,    35.83,2,     0.00,2,     2.52,2, -999.000,9, -999.000,9,   2333.3,3,   2414.3,2,   7.5827,2,    25.00,  -999.00,9,  -999.00,9,   1.4675,     1933
  49UP20130619,  P03W,    79,  1,      8,     81,2,20130811,1853, 24.2648, 156.8410, 5623,   4239.0,   1.4683,   1.4682,  34.6851,2,  34.6850,2,    156.4,2,   144.67,2,    35.60,2,     0.00,2,     2.50,2, -999.000,9, -999.000,9,   -999.0,9,   -999.0,9,-999.0000,9,  -999.00,  -999.00,9,  -999.00,9,   1.4682,     1927
  49UP20130619,  P03W,    79,  1,      7,    106,2,20130811,1853, 24.2648, 156.8410, 5623,   4496.2,   1.4693,   1.4691,  34.6875,2,  34.6868,6,    159.8,2,   143.02,2,    35.35,2,     0.00,2,     2.49,2, -999.000,9, -999.000,9,   2320.2,2,   2411.6,2,   7.5922,2,    25.00,  -999.00,9,  -999.00,9,   1.4691,     1922
  49UP20130619,  P03W,    79,  1,      6,    113,2,20130811,1853, 24.2648, 156.8410, 5623,   4752.5,   1.4803,   1.4802,  34.6895,2,  34.6887,2,    162.8,2,   141.52,2,    35.18,2,     0.00,2,     2.47,2, -999.000,9, -999.000,9,   -999.0,9,   -999.0,9,-999.0000,9,  -999.00,  -999.00,9,  -999.00,9,   1.4802,     1916
  49UP20130619,  P03W,    79,  1,      5,     94,2,20130811,1853, 24.2648, 156.8410, 5623,   5009.2,   1.4946,   1.4944,  34.6909,2,  34.6914,2,    165.7,2,   139.83,2,    34.95,2,     0.00,2,     2.46,2, -999.000,9, -999.000,9,   2314.6,6,   2408.9,6,   7.5978,2,    25.00,  -999.00,9,  -999.00,9,   1.4944,     1911
  49UP20130619,  P03W,    79,  1,      4,     77,2,20130811,1853, 24.2648, 156.8410, 5623,   5267.5,   1.5111,   1.5110,  34.6926,2,  34.6931,2,    168.3,6,   137.74,6,    34.77,6,     0.00,6,     2.44,6, -999.000,9, -999.000,9,   -999.0,9,   -999.0,9,-999.0000,9,  -999.00,  -999.00,9,  -999.00,9,   1.5110,     1905
  49UP20130619,  P03W,    79,  1,      3,    104,2,20130811,1853, 24.2648, 156.8410, 5623,   5524.8,   1.5321,   1.5322,  34.6937,2,  34.6938,2,    170.5,2,   136.35,2,    34.62,2,     0.00,2,     2.43,2, -999.000,9, -999.000,9,   2309.8,2,   2408.2,2,   7.6028,6,    25.00,  -999.00,9,  -999.00,9,   1.5322,     1900
  49UP20130619,  P03W,    79,  1,      1,    997,2,20130811,1853, 24.2648, 156.8410, 5623,   5756.5,   1.5547,   1.5546,  34.6944,2,  34.6947,6,    172.0,2,   135.47,2,    34.50,2,     0.00,2,     2.42,2, -999.000,9, -999.000,9,   2307.9,2,   2403.8,2,   7.6052,2,    25.00,  -999.00,9,  -999.00,9,   1.5546,     1854
  49UP20130619,  P03W,    79,  1,      2,     75,3,20130811,1853, 24.2648, 156.8410, 5623,   5756.8,   1.5546,   1.5544,  34.6945,2,  34.6951,2,    172.4,2,   135.19,2,    34.48,2,     0.00,2,     2.42,2, -999.000,9, -999.000,9,   -999.0,9,   -999.0,9,-999.0000,9,  -999.00,  -999.00,9,  -999.00,9,   1.5544,     1854