BOTTLE,20180830PRINUNIVRMK
EXPOCODE,SECT_ID,STNNBR,CASTNO,SAMPNO,BTLNBR,BTLNBR_FLAG_W,DATE,TIME,LATITUDE,LONGITUDE,DEPTH,CTDPRS,CTDTMP,SBE35,CTDSAL,CTDSAL_FLAG_W,SALNTY,SALNTY_FLAG_W,OXYGEN,OXYGEN_FLAG_W,SILCAT,SILCAT_FLAG_W,NITRAT,NITRAT_FLAG_W,NITRIT,NITRIT_FLAG_W,PHSPHT,PHSPHT_FLAG_W,CFC-11,CFC-11_FLAG_W,CFC-12,CFC-12_FLAG_W,TCARBN,TCARBN_FLAG_W,ALKALI,ALKALI_FLAG_W,PH_TOT,PH_TOT_FLAG_W,PH_TMP,CHLORA,CHLORA_FLAG_W,PPHYTN,PPHYTN_FLAG_W,SBE35,BTL_TIME
,,,,,,,,,,,METERS,DBAR,ITS-90,,PSS-78,,PSS-78,,UMOL/KG,,UMOL/KG,,UMOL/KG,,UMOL/KG,,UMOL/KG,,PMOL/KG,,PMOL/KG,,UMOL/KG,,UMOL/KG,,,,DEG C,UG/KG,,UG/KG,,,
  49UP20130619,  P03W,    97,  1,      0,   -999,0,20130830,1852, 24.2457, 170.3637, 5808,      0.0,  28.4605,-999.0000,  35.3411,2,-999.0000,9,    196.8,2,     0.83,2,     0.04,2,     0.00,2,     0.02,2, -999.000,9, -999.000,9,   -999.0,9,   -999.0,9,-999.0000,9,  -999.00,  -999.00,9,  -999.00,9,-999.0000,     2053
  49UP20130619,  P03W,    97,  1,     36,    109,2,20130830,1852, 24.2457, 170.3637, 5808,     10.0,  28.4632,  28.4626,  35.3405,2,-999.0000,9,    196.8,2,     0.92,2,     0.00,2,     0.00,2,     0.02,2, -999.000,9, -999.000,9,   -999.0,9,   -999.0,9,-999.0000,9,  -999.00,  -999.00,9,  -999.00,9,  28.4626,     2113
  49UP20130619,  P03W,    97,  1,     35,    112,2,20130830,1852, 24.2457, 170.3637, 5808,     51.2,  28.4711,  28.4671,  35.3381,2,-999.0000,9,    197.5,6,     0.81,6,     0.01,6,     0.00,6,     0.01,6, -999.000,9, -999.000,9,   -999.0,9,   -999.0,9,-999.0000,9,  -999.00,  -999.00,9,  -999.00,9,  28.4671,     2111
  49UP20130619,  P03W,    97,  1,     34,     83,2,20130830,1852, 24.2457, 170.3637, 5808,    100.8,  21.3510,  21.3368,  34.9765,2,-999.0000,9,    229.7,2,     1.83,2,     0.00,2,     0.00,2,     0.02,2, -999.000,9, -999.000,9,   -999.0,9,   -999.0,9,-999.0000,9,  -999.00,  -999.00,9,  -999.00,9,  21.3368,     2107
  49UP20130619,  P03W,    97,  1,     33,    517,2,20130830,1852, 24.2457, 170.3637, 5808,    151.1,  18.2468,  18.2520,  34.7921,2,-999.0000,9,    204.5,2,     2.91,2,     2.44,2,     0.05,2,     0.20,2, -999.000,9, -999.000,9,   -999.0,9,   -999.0,9,-999.0000,9,  -999.00,  -999.00,9,  -999.00,9,  18.2520,     2105
  49UP20130619,  P03W,    97,  1,     32,    105,2,20130830,1852, 24.2457, 170.3637, 5808,    199.4,  16.7843,  16.7827,  34.6756,2,-999.0000,9,    207.5,2,     4.42,2,     5.03,2,     0.01,2,     0.35,2, -999.000,9, -999.000,9,   -999.0,9,   -999.0,9,-999.0000,9,  -999.00,  -999.00,9,  -999.00,9,  16.7827,     2104
  49UP20130619,  P03W,    97,  1,     31,     76,2,20130830,1852, 24.2457, 170.3637, 5808,    251.9,  15.9218,  15.9237,  34.6109,2,-999.0000,9,    214.6,2,     5.63,2,     5.73,2,     0.01,2,     0.40,2, -999.000,9, -999.000,9,   -999.0,9,   -999.0,9,-999.0000,9,  -999.00,  -999.00,9,  -999.00,9,  15.9237,     2101
  49UP20130619,  P03W,    97,  1,     30,     97,2,20130830,1852, 24.2457, 170.3637, 5808,    333.4,  14.0227,  14.0287,  34.4649,2,-999.0000,9,    203.9,2,    10.05,2,     9.43,2,     0.00,2,     0.66,2, -999.000,9, -999.000,9,   -999.0,9,   -999.0,9,-999.0000,9,  -999.00,  -999.00,9,  -999.00,9,  14.0287,     2059
  49UP20130619,  P03W,    97,  1,     29,    102,2,20130830,1852, 24.2457, 170.3637, 5808,    433.8,  11.1142,  11.1138,  34.2478,2,-999.0000,9,    191.2,2,    18.61,2,    15.49,2,     0.00,2,     1.10,2, -999.000,9, -999.000,9,   -999.0,9,   -999.0,9,-999.0000,9,  -999.00,  -999.00,9,  -999.00,9,  11.1138,     2056
  49UP20130619,  P03W,    97,  1,     28,     91,2,20130830,1852, 24.2457, 170.3637, 5808,    534.8,   8.5525,   8.5600,  34.1075,2,-999.0000,9,    164.4,2,    34.69,2,    22.78,2,     0.00,2,     1.64,2, -999.000,9, -999.000,9,   -999.0,9,   -999.0,9,-999.0000,9,  -999.00,  -999.00,9,  -999.00,9,   8.5600,     2051
  49UP20130619,  P03W,    97,  1,     27,    998,2,20130830,1852, 24.2457, 170.3637, 5808,    635.3,   6.4948,   6.4988,  34.0889,2,-999.0000,9,    101.7,2,    59.80,2,    32.27,2,     0.00,2,     2.34,2, -999.000,9, -999.000,9,   -999.0,9,   -999.0,9,-999.0000,9,  -999.00,  -999.00,9,  -999.00,9,   6.4988,     2048
  49UP20130619,  P03W,    97,  1,     26,     84,2,20130830,1852, 24.2457, 170.3637, 5808,    735.2,   5.2482,   5.2502,  34.1453,2,-999.0000,9,     65.9,6,    81.70,6,    37.57,6,     0.00,6,     2.73,6, -999.000,9, -999.000,9,   -999.0,9,   -999.0,9,-999.0000,9,  -999.00,  -999.00,9,  -999.00,9,   5.2502,     2045
  49UP20130619,  P03W,    97,  1,     25,     98,2,20130830,1852, 24.2457, 170.3637, 5808,    836.1,   4.5094,   4.5136,  34.2474,2,-999.0000,9,     44.2,2,    98.76,2,    40.60,2,     0.00,2,     2.94,2, -999.000,9, -999.000,9,   -999.0,9,   -999.0,9,-999.0000,9,  -999.00,  -999.00,9,  -999.00,9,   4.5136,     2042
  49UP20130619,  P03W,    97,  1,     24,    110,3,20130830,1852, 24.2457, 170.3637, 5808,    939.1,   3.9559,   3.9562,  34.3445,2,-999.0000,9,     37.1,2,   113.30,2,    41.94,2,     0.00,2,     3.03,2, -999.000,9, -999.000,9,   -999.0,9,   -999.0,9,-999.0000,9,  -999.00,  -999.00,9,  -999.00,9,   3.9562,     2039
  49UP20130619,  P03W,    97,  1,     23,     96,2,20130830,1852, 24.2457, 170.3637, 5808,   1082.9,   3.5455,   3.5455,  34.4265,2,-999.0000,9,     44.4,2,   122.41,2,    41.89,2,     0.00,2,     3.01,2, -999.000,9, -999.000,9,   -999.0,9,   -999.0,9,-999.0000,9,  -999.00,  -999.00,9,  -999.00,9,   3.5455,     2035
  49UP20130619,  P03W,    97,  1,     22,    111,2,20130830,1852, 24.2457, 170.3637, 5808,   1283.6,   2.9908,   2.9912,  34.5056,2,-999.0000,9,     57.8,2,   134.72,2,    41.48,2,     0.00,2,     2.97,2, -999.000,9, -999.000,9,   -999.0,9,   -999.0,9,-999.0000,9,  -999.00,  -999.00,9,  -999.00,9,   2.9912,     2030
  49UP20130619,  P03W,    97,  1,     21,     78,2,20130830,1852, 24.2457, 170.3637, 5808,   1486.6,   2.5820,   2.5818,  34.5503,2,-999.0000,9,     70.2,2,   142.82,2,    40.95,2,     0.00,2,     2.91,2, -999.000,9, -999.000,9,   -999.0,9,   -999.0,9,-999.0000,9,  -999.00,  -999.00,9,  -999.00,9,   2.5818,     2026
  49UP20130619,  P03W,    97,  1,     20,     93,2,20130830,1852, 24.2457, 170.3637, 5808,   1686.5,   2.2667,   2.2666,  34.5861,2,  34.5819,4,     84.8,2,   146.59,2,    40.23,2,     0.00,2,     2.85,2, -999.000,9, -999.000,9,   -999.0,9,   -999.0,9,-999.0000,9,  -999.00,  -999.00,9,  -999.00,9,   2.2666,     2021
  49UP20130619,  P03W,    97,  1,     19,     92,2,20130830,1852, 24.2457, 170.3637, 5808,   1686.5,   2.2667,   2.2666,  34.5861,2,  34.5854,2,     84.8,2,   146.80,2,    40.23,2,     0.00,2,     2.85,2, -999.000,9, -999.000,9,   -999.0,9,   -999.0,9,-999.0000,9,  -999.00,  -999.00,9,  -999.00,9,   2.2666,     2021
  49UP20130619,  P03W,    97,  1,     18,    101,2,20130830,1852, 24.2457, 170.3637, 5808,   1888.6,   2.0709,   2.0707,  34.6059,2,  34.6058,6,     92.8,2,   150.64,2,    39.83,2,     0.00,2,     2.82,2, -999.000,9, -999.000,9,   -999.0,9,   -999.0,9,-999.0000,9,  -999.00,  -999.00,9,  -999.00,9,   2.0707,     2017
  49UP20130619,  P03W,    97,  1,     17,     90,2,20130830,1852, 24.2457, 170.3637, 5808,   2093.1,   1.8950,   1.8949,  34.6253,2,  34.6254,2,    103.0,6,   152.70,6,    39.27,6,     0.00,6,     2.77,6, -999.000,9, -999.000,9,   -999.0,9,   -999.0,9,-999.0000,9,  -999.00,  -999.00,9,  -999.00,9,   1.8949,     2012
  49UP20130619,  P03W,    97,  1,     16,     89,2,20130830,1852, 24.2457, 170.3637, 5808,   2297.1,   1.7825,   1.7827,  34.6385,2,-999.0000,9,    111.1,2,   153.16,2,    38.78,2,     0.00,2,     2.72,2, -999.000,9, -999.000,9,   -999.0,9,   -999.0,9,-999.0000,9,  -999.00,  -999.00,9,  -999.00,9,   1.7827,     2008
  49UP20130619,  P03W,    97,  1,     15,     88,2,20130830,1852, 24.2457, 170.3637, 5808,   2498.5,   1.7030,   1.7028,  34.6485,2,  34.6488,2,    118.3,2,   153.57,2,    38.40,2,     0.00,2,     2.69,2, -999.000,9, -999.000,9,   -999.0,9,   -999.0,9,-999.0000,9,  -999.00,  -999.00,9,  -999.00,9,   1.7028,     2004
  49UP20130619,  P03W,    97,  1,     14,    999,2,20130830,1852, 24.2457, 170.3637, 5808,   2702.5,   1.6512,   1.6512,  34.6553,2,-999.0000,9,    123.5,2,   153.25,2,    38.05,2,     0.00,2,     2.66,2, -999.000,9, -999.000,9,   -999.0,9,   -999.0,9,-999.0000,9,  -999.00,  -999.00,9,  -999.00,9,   1.6512,     2000
  49UP20130619,  P03W,    97,  1,     13,    667,2,20130830,1852, 24.2457, 170.3637, 5808,   2907.2,   1.6014,   1.6013,  34.6620,2,  34.6628,2,    129.6,2,   152.62,2,    37.62,2,     0.00,2,     2.63,2, -999.000,9, -999.000,9,   -999.0,9,   -999.0,9,-999.0000,9,  -999.00,  -999.00,9,  -999.00,9,   1.6013,     1955
  49UP20130619,  P03W,    97,  1,     12,     74,2,20130830,1852, 24.2457, 170.3637, 5808,   3123.5,   1.5552,   1.5553,  34.6686,2,  34.6694,2,    136.0,2,   151.42,2,    37.26,2,     0.00,2,     2.60,2, -999.000,9, -999.000,9,   -999.0,9,   -999.0,9,-999.0000,9,  -999.00,  -999.00,9,  -999.00,9,   1.5553,     1951
  49UP20130619,  P03W,    97,  1,     11,    996,2,20130830,1852, 24.2457, 170.3637, 5808,   3377.9,   1.5206,   1.5206,  34.6737,2,  34.6744,2,    141.2,2,   149.91,2,    36.85,2,     0.00,2,     2.57,2, -999.000,9, -999.000,9,   -999.0,9,   -999.0,9,-999.0000,9,  -999.00,  -999.00,9,  -999.00,9,   1.5206,     1946
  49UP20130619,  P03W,    97,  1,     10,    107,2,20130830,1852, 24.2457, 170.3637, 5808,   3634.3,   1.4910,   1.4910,  34.6780,2,  34.6774,2,    146.2,2,   148.16,2,    36.44,2,     0.00,2,     2.54,2, -999.000,9, -999.000,9,   -999.0,9,   -999.0,9,-999.0000,9,  -999.00,  -999.00,9,  -999.00,9,   1.4910,     1941
  49UP20130619,  P03W,    97,  1,      9,    108,2,20130830,1852, 24.2457, 170.3637, 5808,   3890.0,   1.4716,   1.4716,  34.6816,2,  34.6826,2,    151.7,2,   146.42,2,    36.08,2,     0.00,2,     2.51,2, -999.000,9, -999.000,9,   -999.0,9,   -999.0,9,-999.0000,9,  -999.00,  -999.00,9,  -999.00,9,   1.4716,     1936
  49UP20130619,  P03W,    97,  1,      8,     81,2,20130830,1852, 24.2457, 170.3637, 5808,   4146.2,   1.4573,   1.4574,  34.6851,2,  34.6855,2,    157.0,6,   144.27,6,    35.71,6,     0.00,6,     2.49,6, -999.000,9, -999.000,9,   -999.0,9,   -999.0,9,-999.0000,9,  -999.00,  -999.00,9,  -999.00,9,   1.4574,     1930
  49UP20130619,  P03W,    97,  1,      7,    106,2,20130830,1852, 24.2457, 170.3637, 5808,   4403.1,   1.4510,   1.4511,  34.6880,2,  34.6883,2,    161.5,2,   141.93,2,    35.41,2,     0.00,2,     2.46,2, -999.000,9, -999.000,9,   -999.0,9,   -999.0,9,-999.0000,9,  -999.00,  -999.00,9,  -999.00,9,   1.4511,     1925
  49UP20130619,  P03W,    97,  1,      6,    113,2,20130830,1852, 24.2457, 170.3637, 5808,   4659.7,   1.4506,   1.4507,  34.6903,2,  34.6911,2,    165.4,2,   139.67,2,    35.11,2,     0.00,2,     2.44,2, -999.000,9, -999.000,9,   -999.0,9,   -999.0,9,-999.0000,9,  -999.00,  -999.00,9,  -999.00,9,   1.4507,     1919
  49UP20130619,  P03W,    97,  1,      5,     94,2,20130830,1852, 24.2457, 170.3637, 5808,   4918.1,   1.4493,   1.4492,  34.6929,2,  34.6922,2,    170.4,2,   136.87,2,    34.74,2,     0.00,2,     2.41,2, -999.000,9, -999.000,9,   -999.0,9,   -999.0,9,-999.0000,9,  -999.00,  -999.00,9,  -999.00,9,   1.4492,     1914
  49UP20130619,  P03W,    97,  1,      4,     77,2,20130830,1852, 24.2457, 170.3637, 5808,   5174.2,   1.4524,   1.4525,  34.6950,2,  34.6958,2,    174.1,2,   134.52,2,    34.38,2,     0.00,2,     2.39,2, -999.000,9, -999.000,9,   -999.0,9,   -999.0,9,-999.0000,9,  -999.00,  -999.00,9,  -999.00,9,   1.4525,     1909
  49UP20130619,  P03W,    97,  1,      3,    104,2,20130830,1852, 24.2457, 170.3637, 5808,   5432.2,   1.4649,   1.4648,  34.6961,2,  34.6965,2,    176.8,2,   133.11,2,    34.29,2,     0.00,2,     2.38,2, -999.000,9, -999.000,9,   -999.0,9,   -999.0,9,-999.0000,9,  -999.00,  -999.00,9,  -999.00,9,   1.4648,     1903
  49UP20130619,  P03W,    97,  1,      2,     75,2,20130830,1852, 24.2457, 170.3637, 5808,   5689.7,   1.4833,   1.4833,  34.6972,2,  34.6982,6,    178.8,2,   132.06,2,    34.12,2,     0.00,2,     2.37,2, -999.000,9, -999.000,9,   -999.0,9,   -999.0,9,-999.0000,9,  -999.00,  -999.00,9,  -999.00,9,   1.4833,     1858
  49UP20130619,  P03W,    97,  1,      1,    997,2,20130830,1852, 24.2457, 170.3637, 5808,   5956.3,   1.5109,   1.5110,  34.6979,2,  34.6973,2,    178.6,3,   131.91,2,    34.10,2,     0.00,2,     2.37,2, -999.000,9, -999.000,9,   -999.0,9,   -999.0,9,-999.0000,9,  -999.00,  -999.00,9,  -999.00,9,   1.5110,     1853