BOTTLE,20180830PRINUNIVRMK
EXPOCODE,SECT_ID,STNNBR,CASTNO,SAMPNO,BTLNBR,BTLNBR_FLAG_W,DATE,TIME,LATITUDE,LONGITUDE,DEPTH,CTDPRS,CTDTMP,SBE35,CTDSAL,CTDSAL_FLAG_W,SALNTY,SALNTY_FLAG_W,OXYGEN,OXYGEN_FLAG_W,SILCAT,SILCAT_FLAG_W,NITRAT,NITRAT_FLAG_W,NITRIT,NITRIT_FLAG_W,PHSPHT,PHSPHT_FLAG_W,CFC-11,CFC-11_FLAG_W,CFC-12,CFC-12_FLAG_W,TCARBN,TCARBN_FLAG_W,ALKALI,ALKALI_FLAG_W,PH_TOT,PH_TOT_FLAG_W,PH_TMP,CHLORA,CHLORA_FLAG_W,PPHYTN,PPHYTN_FLAG_W,SBE35,BTL_TIME
,,,,,,,,,,,METERS,DBAR,ITS-90,,PSS-78,,PSS-78,,UMOL/KG,,UMOL/KG,,UMOL/KG,,UMOL/KG,,UMOL/KG,,PMOL/KG,,PMOL/KG,,UMOL/KG,,UMOL/KG,,,,DEG C,UG/KG,,UG/KG,,,
  49UP20130619,  P03W,    38,  1,      0,   -999,0,20130707,0025, 24.6785, 129.9803, 4213,      0.0,  29.6403,-999.0000,  34.6145,2,  34.6165,2,    196.6,2,     1.21,2,     0.00,2,     0.00,2,     0.04,2, -999.000,9, -999.000,9,   1954.3,2,   2271.4,2,   8.0888,2,    25.00,     0.04,2,     0.01,2,-999.0000,      143
  49UP20130619,  P03W,    38,  1,     36,    109,4,20130707,0025, 24.6785, 129.9803, 4213,     10.6,  29.3755,  29.3586,  34.6041,2,  34.6893,4,    159.8,4,    19.59,4,     5.74,4,     0.02,4,     0.43,4,    0.000,4,    0.000,4,   2129.7,4,   2331.0,4,   7.9604,4,    25.00,     0.09,4,     0.05,4,  29.3586,      208
  49UP20130619,  P03W,    38,  1,     35,    112,2,20130707,0025, 24.6785, 129.9803, 4213,     48.5,  25.6086,  25.6086,  34.6961,2,  34.7037,4,    220.2,6,     1.21,6,     0.00,6,     0.00,6,     0.02,6,    2.520,3,    1.023,3,   1965.5,2,   2277.8,2,   8.0776,2,    25.00,     0.08,2,     0.02,2,  25.6086,      203
  49UP20130619,  P03W,    38,  1,     34,     83,2,20130707,0025, 24.6785, 129.9803, 4213,    100.1,  20.9748,  20.9747,  34.8032,2,  34.8009,2,    224.7,2,     1.58,2,     0.00,2,     0.00,2,     0.03,2,    2.386,3,    1.200,3,   1991.3,2,   2284.2,2,   8.0403,2,    25.00,     0.22,2,     0.13,2,  20.9747,      202
  49UP20130619,  P03W,    38,  1,     30,     97,2,20130707,0025, 24.6785, 129.9803, 4213,    150.7,  19.6561,  19.6576,  34.7951,2,  34.7964,2,    209.6,2,     2.01,2,     0.68,2,     0.23,2,     0.10,2,    2.223,2,    1.248,2,   2010.8,2,   2284.2,2,   8.0023,2,    25.00,     0.20,2,     0.34,2,  19.6576,      200
  49UP20130619,  P03W,    38,  1,     29,    102,2,20130707,0025, 24.6785, 129.9803, 4213,    200.2,  18.5952,  18.5937,  34.7735,2,  34.7727,6,    203.7,2,     2.96,2,     3.14,2,     0.02,2,     0.22,2,    2.230,2,    1.311,2,   2020.0,2,   2291.9,2,   7.9765,2,    25.00,  -999.00,9,  -999.00,9,  18.5937,      158
  49UP20130619,  P03W,    38,  1,     28,     91,2,20130707,0025, 24.6785, 129.9803, 4213,    200.2,  18.5952,  18.5937,  34.7735,2,  34.7727,2,    204.0,2,     2.89,2,     3.09,2,     0.02,2,     0.22,2,    2.278,2,    1.278,2,   2022.8,2,   2282.7,2,   7.9737,2,    25.00,     0.06,2,     0.11,2,  18.5937,      158
  49UP20130619,  P03W,    38,  1,     27,    998,2,20130707,0025, 24.6785, 129.9803, 4213,    252.0,  17.6953,  17.6955,  34.7343,2,  34.7325,2,    202.8,2,     3.93,2,     4.46,2,     0.01,2,     0.31,2,    2.339,2,    1.361,2,   2033.2,6,   2279.1,6,   7.9504,2,    25.00,  -999.00,9,  -999.00,9,  17.6955,      156
  49UP20130619,  P03W,    38,  1,     26,     84,2,20130707,0025, 24.6785, 129.9803, 4213,    282.1,  17.2207,  17.2204,  34.7042,2,  34.7024,2,    197.5,2,     4.86,2,     5.68,2,     0.01,2,     0.39,2,    2.386,2,    1.371,2,   -999.0,5,   -999.0,5,   7.9350,6,    25.00,  -999.00,9,  -999.00,9,  17.2204,      155
  49UP20130619,  P03W,    38,  1,     25,     98,2,20130707,0025, 24.6785, 129.9803, 4213,    373.9,  14.9490,  14.9485,  34.5551,2,  34.5546,2,    185.8,2,    11.12,2,    10.25,2,     0.00,2,     0.72,2,    2.570,2,    1.438,2,   2076.9,2,   2275.9,2,   7.8631,2,    25.00,  -999.00,9,  -999.00,9,  14.9485,      152
  49UP20130619,  P03W,    38,  1,     24,    110,2,20130707,0025, 24.6785, 129.9803, 4213,    473.7,  12.2598,  12.2632,  34.3819,2,  34.3793,2,    173.7,2,    21.33,2,    15.81,2,     0.00,2,     1.13,2,    2.633,6,    1.411,6,   2179.4,3,   2287.6,3,   7.7779,2,    25.00,  -999.00,9,  -999.00,9,  12.2632,      150
  49UP20130619,  P03W,    38,  1,     23,     96,2,20130707,0025, 24.6785, 129.9803, 4213,    574.5,   8.6386,   8.6314,  34.1911,2,  34.1898,2,    144.6,2,    44.28,2,    24.65,2,     0.00,2,     1.79,2,    2.305,2,    1.174,2,   2117.6,3,   2278.5,3,   7.6328,2,    25.00,  -999.00,9,  -999.00,9,   8.6314,      147
  49UP20130619,  P03W,    38,  1,     22,    111,2,20130707,0025, 24.6785, 129.9803, 4213,    675.9,   6.6289,   6.6288,  34.1609,2,  34.1614,2,    111.8,2,    66.24,2,    30.98,2,     0.00,2,     2.26,2,    1.701,2,    0.850,2,   2234.0,2,   2294.2,2,   7.5300,2,    25.00,  -999.00,9,  -999.00,9,   6.6288,      145
  49UP20130619,  P03W,    38,  1,     21,     78,2,20130707,0025, 24.6785, 129.9803, 4213,    778.3,   5.3899,   5.3899,  34.1802,2,  34.1806,2,     86.0,2,    83.77,2,    35.37,2,     0.00,2,     2.57,2,    1.185,2,    0.585,2,   2273.3,2,   2321.5,2,   7.4625,2,    25.00,  -999.00,9,  -999.00,9,   5.3899,      142
  49UP20130619,  P03W,    38,  1,     20,     93,2,20130707,0025, 24.6785, 129.9803, 4213,    878.2,   4.5669,   4.5666,  34.2534,2,  34.2530,2,     65.8,2,    99.98,2,    38.44,2,     0.00,2,     2.78,2,    0.646,6,    0.339,6,   2306.5,2,   2337.7,2,   7.4226,2,    25.00,  -999.00,9,  -999.00,9,   4.5666,      140
  49UP20130619,  P03W,    38,  1,     19,     92,2,20130707,0025, 24.6785, 129.9803, 4213,    979.0,   4.0279,   4.0275,  34.3243,2,  34.3245,2,     59.0,2,   111.92,2,    39.88,2,     0.00,2,     2.88,2,    0.346,2,    0.196,2,   2342.1,3,   2367.7,3,   7.4089,2,    25.00,  -999.00,9,  -999.00,9,   4.0275,      137
  49UP20130619,  P03W,    38,  1,     18,    101,2,20130707,0025, 24.6785, 129.9803, 4213,   1140.8,   3.3035,   3.3033,  34.4250,2,  34.4251,2,     60.2,2,   127.80,2,    40.62,2,     0.00,2,     2.92,2,    0.110,2,    0.082,2,   2324.4,3,   2356.9,3,   7.4111,3,    25.00,  -999.00,9,  -999.00,9,   3.3033,      134
  49UP20130619,  P03W,    38,  1,     17,     90,2,20130707,0025, 24.6785, 129.9803, 4213,   1344.2,   2.7770,   2.7772,  34.5044,2,  34.5044,2,     75.0,2,   136.55,2,    40.12,2,     0.00,2,     2.87,2,    0.011,2,    0.013,2,   2349.0,6,   2392.8,6,   7.4454,2,    25.00,  -999.00,9,  -999.00,9,   2.7772,      129
  49UP20130619,  P03W,    38,  1,     16,     89,2,20130707,0025, 24.6785, 129.9803, 4213,   1546.2,   2.4248,   2.4246,  34.5475,2,  34.5470,2,     87.9,2,   140.87,2,    39.55,2,     0.00,2,     2.82,2,    0.018,2,    0.032,2,   2351.1,2,   2398.9,2,   7.4689,6,    25.00,  -999.00,9,  -999.00,9,   2.4246,      125
  49UP20130619,  P03W,    38,  1,     15,     88,2,20130707,0025, 24.6785, 129.9803, 4213,   1749.2,   2.1667,   2.1670,  34.5850,2,  34.5845,2,    102.0,2,   142.33,2,    38.83,2,     0.00,2,     2.76,2, -999.000,9, -999.000,9,   2342.8,2,   2405.6,2,   7.4940,2,    25.00,  -999.00,9,  -999.00,9,   2.1670,      120
  49UP20130619,  P03W,    38,  1,     14,    999,2,20130707,0025, 24.6785, 129.9803, 4213,   1749.2,   2.1667,   2.1670,  34.5850,2,  34.5841,6,    102.2,2,   142.42,2,    38.79,2,     0.00,2,     2.76,2, -999.000,9, -999.000,9,   2342.7,2,   2404.1,2,   7.4979,2,    25.00,  -999.00,9,  -999.00,9,   2.1670,      120
  49UP20130619,  P03W,    38,  1,     13,    667,4,20130707,0025, 24.6785, 129.9803, 4213,   1952.5,   2.0154,   2.0154,  34.6079,2,  34.5212,4,    182.9,4,    12.89,4,    11.32,4,     0.01,4,     0.80,4, -999.000,9, -999.000,9,   2084.0,4,   2274.0,4,   7.8339,4,    25.00,  -999.00,9,  -999.00,9,   2.0154,      116
  49UP20130619,  P03W,    38,  1,     12,     74,2,20130707,0025, 24.6785, 129.9803, 4213,   2155.2,   1.8796,   1.8796,  34.6274,2,  34.6274,2,    121.5,6,   142.91,6,    37.71,6,     0.00,6,     2.67,6,    0.008,2,    0.039,2,   2333.4,2,   2431.0,4,   7.5349,2,    25.00,  -999.00,9,  -999.00,9,   1.8796,      112
  49UP20130619,  P03W,    38,  1,     11,    996,2,20130707,0025, 24.6785, 129.9803, 4213,   2358.6,   1.7819,   1.7820,  34.6404,2,  34.6391,2,    127.7,2,   142.85,2,    37.38,2,     0.00,2,     2.64,2, -999.000,9, -999.000,9,   2336.6,2,   2409.5,2,   7.5409,2,    25.00,  -999.00,9,  -999.00,9,   1.7820,      108
  49UP20130619,  P03W,    38,  1,     10,    107,3,20130707,0025, 24.6785, 129.9803, 4213,   2561.9,   1.7002,   1.7003,  34.6515,2,  34.6508,2,    134.0,2,   142.74,2,    36.97,2,     0.00,2,     2.61,2, -999.000,9, -999.000,9,   2332.3,2,   2409.7,2,   7.5531,2,    25.00,  -999.00,9,  -999.00,9,   1.7003,      103
  49UP20130619,  P03W,    38,  1,      9,    108,2,20130707,0025, 24.6785, 129.9803, 4213,   2766.1,   1.6535,   1.6535,  34.6574,2,  34.6571,2,    137.8,2,   142.77,2,    36.79,2,     0.00,2,     2.59,2,    0.000,2,    0.021,2,   2329.8,2,   2410.6,2,   7.5595,2,    25.00,  -999.00,9,  -999.00,9,   1.6535,       59
  49UP20130619,  P03W,    38,  1,      8,     81,3,20130707,0025, 24.6785, 129.9803, 4213,   2970.0,   1.5966,   1.5966,  34.6650,2,  34.6635,2,    143.1,2,   141.87,3,    36.41,2,     0.00,2,     2.56,2, -999.000,9, -999.000,9,   2328.1,2,   2411.3,2,   7.5673,2,    25.00,  -999.00,9,  -999.00,9,   1.5966,       55
  49UP20130619,  P03W,    38,  1,      7,    106,2,20130707,0025, 24.6785, 129.9803, 4213,   3215.8,   1.5733,   1.5733,  34.6697,2,  34.6694,2,    145.7,6,   142.23,6,    36.34,6,     0.00,6,     2.56,6,    0.000,2,    0.028,2,   2325.7,2,   2414.3,2,   7.5724,2,    25.00,  -999.00,9,  -999.00,9,   1.5733,       49
  49UP20130619,  P03W,    38,  1,      6,    113,2,20130707,0025, 24.6785, 129.9803, 4213,   3471.0,   1.5565,   1.5564,  34.6738,2,  34.6733,6,    148.7,2,   142.05,2,    36.11,2,     0.00,2,     2.54,2, -999.000,9, -999.000,9,   2323.6,2,   2411.3,2,   7.5778,2,    25.00,  -999.00,9,  -999.00,9,   1.5564,       43
  49UP20130619,  P03W,    38,  1,      5,     94,2,20130707,0025, 24.6785, 129.9803, 4213,   3471.0,   1.5565,   1.5564,  34.6738,2,  34.6734,2,    149.2,2,   142.08,2,    36.11,2,     0.00,2,     2.54,2, -999.000,9, -999.000,9,   2324.7,2,   2413.7,2,   7.5782,2,    25.00,  -999.00,9,  -999.00,9,   1.5564,       43
  49UP20130619,  P03W,    38,  1,      4,     77,2,20130707,0025, 24.6785, 129.9803, 4213,   3727.3,   1.5533,   1.5533,  34.6766,2,  34.6759,2,    150.6,2,   141.85,2,    36.00,2,     0.00,2,     2.53,2,    0.000,2,    0.021,2,   2323.2,6,   2416.3,6,   7.5810,2,    25.00,  -999.00,9,  -999.00,9,   1.5533,       38
  49UP20130619,  P03W,    38,  1,      3,    104,2,20130707,0025, 24.6785, 129.9803, 4213,   3982.0,   1.5594,   1.5595,  34.6788,2,  34.6793,6,    152.4,2,   141.42,2,    35.92,2,     0.00,2,     2.52,2,    0.005,2,    0.022,2,   2322.5,2,   2413.6,2,   7.5824,6,    25.00,  -999.00,9,  -999.00,9,   1.5595,       32
  49UP20130619,  P03W,    38,  1,      2,     75,2,20130707,0025, 24.6785, 129.9803, 4213,   4238.2,   1.5727,   1.5727,  34.6803,2,  34.6802,2,    153.6,2,   141.21,2,    35.82,2,     0.00,2,     2.51,2, -999.000,9, -999.000,9,   2322.3,2,   2416.1,2,   7.5835,2,    25.00,  -999.00,9,  -999.00,9,   1.5727,       26
  49UP20130619,  P03W,    38,  1,      1,    997,2,20130707,0025, 24.6785, 129.9803, 4213,   4256.2,   1.5736,   1.5736,  34.6804,2,  34.6795,2,    153.5,2,   141.30,2,    35.86,2,     0.00,2,     2.52,2,    0.000,2,    0.017,2,   2321.5,2,   2415.6,2,   7.5832,2,    25.00,  -999.00,9,  -999.00,9,   1.5736,       25