BOTTLE,20180830PRINUNIVRMK
EXPOCODE,SECT_ID,STNNBR,CASTNO,SAMPNO,BTLNBR,BTLNBR_FLAG_W,DATE,TIME,LATITUDE,LONGITUDE,DEPTH,CTDPRS,CTDTMP,SBE35,CTDSAL,CTDSAL_FLAG_W,SALNTY,SALNTY_FLAG_W,OXYGEN,OXYGEN_FLAG_W,SILCAT,SILCAT_FLAG_W,NITRAT,NITRAT_FLAG_W,NITRIT,NITRIT_FLAG_W,PHSPHT,PHSPHT_FLAG_W,CFC-11,CFC-11_FLAG_W,CFC-12,CFC-12_FLAG_W,TCARBN,TCARBN_FLAG_W,ALKALI,ALKALI_FLAG_W,PH_TOT,PH_TOT_FLAG_W,PH_TMP,CHLORA,CHLORA_FLAG_W,PPHYTN,PPHYTN_FLAG_W,SBE35,BTL_TIME
,,,,,,,,,,,METERS,DBAR,ITS-90,,PSS-78,,PSS-78,,UMOL/KG,,UMOL/KG,,UMOL/KG,,UMOL/KG,,UMOL/KG,,PMOL/KG,,PMOL/KG,,UMOL/KG,,UMOL/KG,,,,DEG C,UG/KG,,UG/KG,,,
  49UP20130619,  P03W,    65,  1,      0,   -999,0,20130807,0221, 24.2605, 144.8488, 5280,      0.0,  30.1608,-999.0000,  35.0459,2,  35.0437,2,    193.8,2,     0.94,2,     0.01,2,     0.00,2,     0.03,2, -999.000,9, -999.000,9,   1960.2,2,   2299.3,2,   8.1171,2,    25.00,     0.04,2,     0.01,2,-999.0000,      408
  49UP20130619,  P03W,    65,  1,     36,    109,2,20130807,0221, 24.2605, 144.8488, 5280,     10.9,  30.0285,  30.0513,  35.0450,2,  35.0470,2,    194.5,2,     0.95,2,     0.01,2,     0.00,2,     0.02,2,    1.848,3,    0.876,3,   1965.0,2,   2302.0,2,   8.1176,2,    25.00,     0.04,2,     0.01,2,  30.0513,      430
  49UP20130619,  P03W,    65,  1,     35,    112,2,20130807,0221, 24.2605, 144.8488, 5280,     51.3,  25.1154,  25.1023,  35.1791,2,  35.1787,2,    222.4,2,     1.05,2,     0.00,2,     0.00,2,     0.03,2,    2.955,3,    1.053,3,   1972.7,2,   2308.9,2,   8.1147,2,    25.00,     0.06,2,     0.02,2,  25.1023,      427
  49UP20130619,  P03W,    65,  1,     34,     83,2,20130807,0221, 24.2605, 144.8488, 5280,    103.2,  23.9804,  23.9783,  35.1678,2,  35.1671,2,    212.8,2,     1.08,2,     0.01,2,     0.00,2,     0.03,2,    2.390,3,    1.083,3,   1980.7,6,   2309.6,6,   8.0954,2,    25.00,     0.15,2,     0.08,2,  23.9783,      425
  49UP20130619,  P03W,    65,  1,     33,     86,2,20130807,0221, 24.2605, 144.8488, 5280,    151.4,  22.0157,  22.0144,  35.0698,2,  35.0655,2,    201.4,2,     1.54,2,     0.25,2,     0.06,2,     0.06,2,    2.083,2,    1.160,2,   2008.4,2,   2301.9,2,   8.0419,6,    25.00,     0.09,2,     0.27,2,  22.0144,      423
  49UP20130619,  P03W,    65,  1,     32,    105,2,20130807,0221, 24.2605, 144.8488, 5280,    201.9,  19.2775,  19.2726,  34.8649,2,  34.8649,2,    205.8,2,     2.42,2,     1.75,2,     0.01,2,     0.15,2,    2.276,2,    1.304,2,   2023.9,2,   2290.1,2,   7.9964,2,    25.00,     0.02,2,     0.04,2,  19.2726,      422
  49UP20130619,  P03W,    65,  1,     31,     76,2,20130807,0221, 24.2605, 144.8488, 5280,    251.7,  17.6969,  17.6972,  34.7399,2,  34.7387,2,    208.6,2,     3.44,2,     3.71,2,     0.01,2,     0.27,2,    2.360,6,    1.347,6,   2032.0,2,   2280.4,2,   7.9672,2,    25.00,  -999.00,9,  -999.00,9,  17.6972,      420
  49UP20130619,  P03W,    65,  1,     30,     97,2,20130807,0221, 24.2605, 144.8488, 5280,    301.8,  16.8077,  16.8137,  34.6845,2,  34.6890,2,    203.7,2,     4.72,2,     5.45,2,     0.00,2,     0.37,2,    2.424,2,    1.392,2,   2038.5,2,   2277.6,2,   7.9474,2,    25.00,  -999.00,9,  -999.00,9,  16.8137,      418
  49UP20130619,  P03W,    65,  1,     29,    102,4,20130807,0221, 24.2605, 144.8488, 5280,    403.0,  14.7778,  14.7765,  34.5301,2,  34.6944,4,    171.7,4,   135.24,4,    34.67,4,     0.00,4,     2.42,4,    0.004,4,    0.000,4,   2307.7,4,   2394.7,4,   7.6099,4,    25.00,  -999.00,9,  -999.00,9,  14.7765,      415
  49UP20130619,  P03W,    65,  1,     28,     91,2,20130807,0221, 24.2605, 144.8488, 5280,    504.0,  11.6267,  11.6083,  34.3051,2,  34.3080,2,    185.1,2,    18.75,2,    15.45,2,     0.00,2,     1.13,2,    2.874,2,    1.554,2,   2122.1,2,   2271.3,2,   7.7755,2,    25.00,  -999.00,9,  -999.00,9,  11.6083,      412
  49UP20130619,  P03W,    65,  1,     27,    998,2,20130807,0221, 24.2605, 144.8488, 5280,    605.6,   8.1166,   8.1149,  34.1162,2,  34.1174,2,    148.2,2,    41.63,2,    25.24,2,     0.00,2,     1.85,2,    2.418,2,    1.210,2,   2181.2,2,   2278.4,2,   7.6088,2,    25.00,  -999.00,9,  -999.00,9,   8.1149,      410
  49UP20130619,  P03W,    65,  1,     26,     84,2,20130807,0221, 24.2605, 144.8488, 5280,    706.0,   6.2454,   6.2441,  34.0905,2,  34.0912,2,    109.2,2,    64.31,2,    32.12,2,     0.00,2,     2.35,2,    1.731,2,    0.839,2,   2244.1,2,   2299.6,2,   7.5071,2,    25.00,  -999.00,9,  -999.00,9,   6.2441,      407
  49UP20130619,  P03W,    65,  1,     25,     98,2,20130807,0221, 24.2605, 144.8488, 5280,    807.6,   5.0766,   5.0764,  34.1398,2,  34.1405,2,     76.9,2,    85.10,2,    36.89,2,     0.00,2,     2.70,2,    1.086,2,    0.526,2,   2286.4,2,   2319.2,2,   7.4357,2,    25.00,  -999.00,9,  -999.00,9,   5.0764,      404
  49UP20130619,  P03W,    65,  1,     24,    110,2,20130807,0221, 24.2605, 144.8488, 5280,    907.6,   4.3039,   4.3037,  34.2471,2,  34.2515,4,     52.1,2,   104.25,6,    40.19,6,     0.00,6,     2.92,6,    0.461,2,    0.210,2,   2325.5,2,   2341.2,2,   7.3890,2,    25.00,  -999.00,9,  -999.00,9,   4.3037,      402
  49UP20130619,  P03W,    65,  1,     23,     96,2,20130807,0221, 24.2605, 144.8488, 5280,   1009.0,   3.8383,   3.8378,  34.3444,2,  34.3439,2,     48.4,2,   116.01,2,    41.06,2,     0.00,2,     2.98,2,    0.209,2,    0.089,2,   2340.9,2,   2357.6,2,   7.3930,3,    25.00,  -999.00,9,  -999.00,9,   3.8378,      359
  49UP20130619,  P03W,    65,  1,     22,    111,3,20130807,0221, 24.2605, 144.8488, 5280,   1009.0,   3.8383,   3.8378,  34.3444,2,  34.3451,2,     47.8,2,   116.16,2,    41.13,2,     0.00,2,     2.98,2,    0.201,2,    0.089,2,   2337.5,2,   2359.6,2,   7.3884,2,    25.00,  -999.00,9,  -999.00,9,   3.8378,      359
  49UP20130619,  P03W,    65,  1,     21,     78,2,20130807,0221, 24.2605, 144.8488, 5280,   1212.2,   3.1257,   3.1242,  34.4546,2,  34.4548,2,     55.7,2,   132.72,2,    41.29,2,     0.00,2,     2.98,2,    0.063,2,    0.015,2,   2355.2,2,   2381.7,2,   7.4081,2,    25.00,  -999.00,9,  -999.00,9,   3.1242,      354
  49UP20130619,  P03W,    65,  1,     20,     93,2,20130807,0221, 24.2605, 144.8488, 5280,   1415.1,   2.7353,   2.7353,  34.4978,2,  34.4981,2,     64.0,2,   140.86,2,    41.15,2,     0.00,2,     2.95,2,    0.048,6,    0.007,6,   2361.3,2,   2391.9,2,   7.4228,2,    25.00,  -999.00,9,  -999.00,9,   2.7353,      349
  49UP20130619,  P03W,    65,  1,     19,     92,2,20130807,0221, 24.2605, 144.8488, 5280,   1617.5,   2.3565,   2.3564,  34.5443,2,  34.5438,2,     73.8,2,   148.50,2,    40.75,2,     0.00,2,     2.92,2,    0.036,2,    0.006,2,   2365.0,6,   2400.6,6,   7.4413,2,    25.00,  -999.00,9,  -999.00,9,   2.3564,      345
  49UP20130619,  P03W,    65,  1,     18,    101,2,20130807,0221, 24.2605, 144.8488, 5280,   1819.9,   2.1535,   2.1536,  34.5813,2,  34.5817,2,     90.9,2,   148.13,2,    39.72,2,     0.00,2,     2.84,2,    0.006,2,    0.000,2,   2357.4,2,   2406.0,2,   7.4747,6,    25.00,  -999.00,9,  -999.00,9,   2.1536,      340
  49UP20130619,  P03W,    65,  1,     17,     90,2,20130807,0221, 24.2605, 144.8488, 5280,   2024.2,   1.9742,   1.9743,  34.6070,2,  34.6076,2,    102.2,6,   149.17,6,    39.14,6,     0.00,6,     2.79,6,    0.000,2,    0.000,2,   2349.3,3,   2408.6,2,   7.4970,2,    25.00,  -999.00,9,  -999.00,9,   1.9743,      335
  49UP20130619,  P03W,    65,  1,     16,     89,2,20130807,0221, 24.2605, 144.8488, 5280,   2227.3,   1.8661,   1.8663,  34.6211,2,  34.6215,2,    108.0,2,   150.58,2,    38.73,2,     0.00,2,     2.76,2, -999.000,9, -999.000,9,   2361.1,3,   2410.5,2,   7.5072,2,    25.00,  -999.00,9,  -999.00,9,   1.8663,      330
  49UP20130619,  P03W,    65,  1,     15,     88,2,20130807,0221, 24.2605, 144.8488, 5280,   2429.2,   1.7614,   1.7616,  34.6353,2,  34.6357,6,    115.8,2,   150.83,2,    38.33,2,     0.00,2,     2.71,2,    0.000,2,    0.000,2,   2347.1,2,   2412.1,2,   7.5189,2,    25.00,  -999.00,9,  -999.00,9,   1.7616,      326
  49UP20130619,  P03W,    65,  1,     14,    999,2,20130807,0221, 24.2605, 144.8488, 5280,   2632.6,   1.6905,   1.6905,  34.6470,2,  34.6472,2,    123.2,2,   150.31,2,    37.93,2,     0.00,2,     2.69,2, -999.000,9, -999.000,9,   2343.7,2,   2414.5,2,   7.5332,2,    25.00,  -999.00,9,  -999.00,9,   1.6905,      321
  49UP20130619,  P03W,    65,  1,     13,    667,2,20130807,0221, 24.2605, 144.8488, 5280,   2837.6,   1.6264,   1.6266,  34.6562,2,  34.6567,2,    129.1,2,   150.28,2,    37.48,2,     0.00,2,     2.66,2, -999.000,9, -999.000,9,   2341.1,2,   2415.5,2,   7.5424,2,    25.00,  -999.00,9,  -999.00,9,   1.6266,      316
  49UP20130619,  P03W,    65,  1,     12,     74,2,20130807,0221, 24.2605, 144.8488, 5280,   3041.1,   1.5811,   1.5811,  34.6632,2,  34.6640,2,    135.0,2,   149.53,2,    37.21,2,     0.00,2,     2.63,2, -999.000,9, -999.000,9,   2334.4,3,   2417.9,2,   7.5511,2,    25.00,  -999.00,9,  -999.00,9,   1.5811,      312
  49UP20130619,  P03W,    65,  1,     11,    996,2,20130807,0221, 24.2605, 144.8488, 5280,   3297.7,   1.5468,   1.5470,  34.6695,2,  34.6687,2,    139.4,6,   148.92,6,    36.92,6,     0.00,6,     2.62,6, -999.000,9, -999.000,9,   -999.0,9,   -999.0,9,-999.0000,9,  -999.00,  -999.00,9,  -999.00,9,   1.5470,      306
  49UP20130619,  P03W,    65,  1,     10,    107,2,20130807,0221, 24.2605, 144.8488, 5280,   3553.3,   1.5120,   1.5122,  34.6751,2,  34.6743,6,    144.4,2,   147.93,2,    36.51,2,     0.00,2,     2.58,2, -999.000,9, -999.000,9,   2332.7,6,   2415.3,6,   7.5684,2,    25.00,  -999.00,9,  -999.00,9,   1.5122,      300
  49UP20130619,  P03W,    65,  1,      9,    108,2,20130807,0221, 24.2605, 144.8488, 5280,   3808.6,   1.4934,   1.4934,  34.6790,2,  34.6788,2,    153.9,4,   146.86,2,    36.21,2,     0.00,2,     2.56,2,    0.000,2,    0.000,2,   -999.0,9,   -999.0,9,-999.0000,9,  -999.00,  -999.00,9,  -999.00,9,   1.4934,      254
  49UP20130619,  P03W,    65,  1,      8,     81,2,20130807,0221, 24.2605, 144.8488, 5280,   4065.9,   1.4832,   1.4833,  34.6825,2,  34.6807,4,    152.9,2,   145.28,2,    35.97,2,     0.00,2,     2.54,2, -999.000,9, -999.000,9,   2326.5,2,   2415.4,2,   7.5760,6,    25.00,  -999.00,9,  -999.00,9,   1.4833,      249
  49UP20130619,  P03W,    65,  1,      7,    106,2,20130807,0221, 24.2605, 144.8488, 5280,   4321.1,   1.4790,   1.4791,  34.6854,2,  34.6858,2,    157.8,2,   143.04,2,    35.65,2,     0.00,2,     2.51,2, -999.000,9, -999.000,9,   -999.0,9,   -999.0,9,-999.0000,9,  -999.00,  -999.00,9,  -999.00,9,   1.4791,      244
  49UP20130619,  P03W,    65,  1,      6,    113,2,20130807,0221, 24.2605, 144.8488, 5280,   4577.5,   1.4862,   1.4861,  34.6874,2,  34.6877,2,    160.7,2,   141.60,2,    35.40,2,     0.00,2,     2.50,2, -999.000,9, -999.000,9,   2317.9,2,   2411.4,2,   7.5899,2,    25.00,  -999.00,9,  -999.00,9,   1.4861,      238
  49UP20130619,  P03W,    65,  1,      5,     94,4,20130807,0221, 24.2605, 144.8488, 5280,   4834.2,   1.4959,   1.4961,  34.6894,2,  34.7145,4,    204.8,4,     4.20,4,     4.76,4,     0.00,4,     0.35,4,    2.373,4,    1.368,4,   -999.0,9,   -999.0,9,-999.0000,9,  -999.00,  -999.00,9,  -999.00,9,   1.4961,      233
  49UP20130619,  P03W,    65,  1,      4,     77,2,20130807,0221, 24.2605, 144.8488, 5280,   5092.2,   1.5033,   1.5034,  34.6916,2,  34.6923,6,    167.1,6,   137.89,6,    34.90,6,     0.00,6,     2.46,6, -999.000,9, -999.000,9,   2308.3,2,   2405.5,2,   7.6009,2,    25.00,  -999.00,9,  -999.00,9,   1.5034,      228
  49UP20130619,  P03W,    65,  1,      3,    104,2,20130807,0221, 24.2605, 144.8488, 5280,   5351.0,   1.5076,   1.5076,  34.6942,2,  34.6940,2,    171.6,2,   135.20,2,    34.66,2,     0.00,2,     2.44,2, -999.000,9, -999.000,9,   -999.0,9,   -999.0,9,-999.0000,9,  -999.00,  -999.00,9,  -999.00,9,   1.5076,      223
  49UP20130619,  P03W,    65,  1,      2,     75,2,20130807,0221, 24.2605, 144.8488, 5280,   5351.0,   1.5076,   1.5076,  34.6942,2,  34.6946,2,    171.6,2,   135.31,2,    34.63,2,     0.00,2,     2.44,2, -999.000,9, -999.000,9,   2308.0,2,   2403.1,2,   7.6043,2,    25.00,  -999.00,9,  -999.00,9,   1.5076,      223
  49UP20130619,  P03W,    65,  1,      1,    997,2,20130807,0221, 24.2605, 144.8488, 5280,   5400.4,   1.5104,   1.5106,  34.6945,2,  34.6937,2,    170.8,3,   135.26,2,    34.62,2,     0.00,2,     2.44,2,    0.000,2,    0.000,2,   2305.6,2,   2404.5,2,   7.6061,2,    25.00,  -999.00,9,  -999.00,9,   1.5106,      221