BOTTLE,20180830PRINUNIVRMK
EXPOCODE,SECT_ID,STNNBR,CASTNO,SAMPNO,BTLNBR,BTLNBR_FLAG_W,DATE,TIME,LATITUDE,LONGITUDE,DEPTH,CTDPRS,CTDTMP,SBE35,CTDSAL,CTDSAL_FLAG_W,SALNTY,SALNTY_FLAG_W,OXYGEN,OXYGEN_FLAG_W,SILCAT,SILCAT_FLAG_W,NITRAT,NITRAT_FLAG_W,NITRIT,NITRIT_FLAG_W,PHSPHT,PHSPHT_FLAG_W,CFC-11,CFC-11_FLAG_W,CFC-12,CFC-12_FLAG_W,TCARBN,TCARBN_FLAG_W,ALKALI,ALKALI_FLAG_W,PH_TOT,PH_TOT_FLAG_W,PH_TMP,CHLORA,CHLORA_FLAG_W,PPHYTN,PPHYTN_FLAG_W,SBE35,BTL_TIME
,,,,,,,,,,,METERS,DBAR,ITS-90,,PSS-78,,PSS-78,,UMOL/KG,,UMOL/KG,,UMOL/KG,,UMOL/KG,,UMOL/KG,,PMOL/KG,,PMOL/KG,,UMOL/KG,,UMOL/KG,,,,DEG C,UG/KG,,UG/KG,,,
  49UP20130619,  P03W,   104,  1,      0,   -999,0,20130902,0126, 24.2823, 175.9997, 5755,      0.0,  28.7228,-999.0000,  35.3026,2,  35.2972,2,    197.1,2,     0.74,2,     0.00,2,     0.00,2,     0.03,2, -999.000,9, -999.000,9,   1975.0,2,   2320.3,2,   8.1219,2,    25.00,     0.06,2,     0.02,2,-999.0000,      330
  49UP20130619,  P03W,   104,  1,     36,    109,2,20130902,0126, 24.2823, 175.9997, 5755,     10.2,  28.6638,  28.6622,  35.3072,2,  35.3100,2,    197.2,2,     0.75,2,     0.00,2,     0.00,2,     0.02,2, -999.000,9, -999.000,9,   1977.5,2,   2320.6,2,   8.1188,2,    25.00,     0.06,2,     0.01,2,  28.6622,      351
  49UP20130619,  P03W,   104,  1,     35,    112,2,20130902,0126, 24.2823, 175.9997, 5755,     49.9,  28.1266,  28.1259,  35.4505,2,  35.4661,4,    205.7,2,     0.87,2,     0.00,2,     0.00,2,     0.03,2, -999.000,9, -999.000,9,   1992.9,2,   2332.6,2,   8.1101,2,    25.00,     0.09,2,     0.03,2,  28.1259,      346
  49UP20130619,  P03W,   104,  1,     34,     83,2,20130902,0126, 24.2823, 175.9997, 5755,    100.1,  23.8814,  23.8798,  35.4051,2,  35.4052,2,    212.5,2,     1.04,2,     0.00,2,     0.00,2,     0.03,2, -999.000,9, -999.000,9,   2013.3,2,   2327.6,2,   8.0723,2,    25.00,     0.24,2,     0.22,2,  23.8798,      345
  49UP20130619,  P03W,   104,  1,     33,    517,2,20130902,0126, 24.2823, 175.9997, 5755,    151.0,  21.9948,  21.9832,  35.2399,2,  35.2268,4,    195.4,6,     1.61,6,     0.72,6,     0.10,6,     0.12,6, -999.000,9, -999.000,9,   2042.8,2,   2316.6,2,   8.0147,2,    25.00,     0.07,2,     0.20,2,  21.9832,      343
  49UP20130619,  P03W,   104,  1,     32,    105,2,20130902,0126, 24.2823, 175.9997, 5755,    201.8,  18.6662,  18.6650,  34.8792,2,  34.8790,2,    188.1,2,     3.37,2,     4.00,2,     0.01,2,     0.33,2, -999.000,9, -999.000,9,   2059.2,2,   2294.1,2,   7.9352,2,    25.00,     0.01,2,     0.02,2,  18.6650,      342
  49UP20130619,  P03W,   104,  1,     31,     76,2,20130902,0126, 24.2823, 175.9997, 5755,    252.1,  16.3516,  16.3526,  34.6447,2,  34.6445,2,    192.6,2,     5.48,2,     6.38,2,     0.01,2,     0.49,2, -999.000,9, -999.000,9,   2069.3,2,   2281.1,2,   7.8961,2,    25.00,  -999.00,9,  -999.00,9,  16.3526,      340
  49UP20130619,  P03W,   104,  1,     30,     97,2,20130902,0126, 24.2823, 175.9997, 5755,    282.8,  15.1918,  15.2238,  34.5293,2,  34.5319,2,    196.8,2,     6.86,2,     7.54,2,     0.00,2,     0.56,2, -999.000,9, -999.000,9,   2070.5,2,   2272.7,2,   7.8767,2,    25.00,  -999.00,9,  -999.00,9,  15.2238,      339
  49UP20130619,  P03W,   104,  1,     29,    102,2,20130902,0126, 24.2823, 175.9997, 5755,    373.3,  12.5223,  12.5236,  34.3197,2,  34.3200,2,    197.3,2,    12.64,2,    12.11,2,     0.00,2,     0.88,2, -999.000,9, -999.000,9,   2107.2,2,   2264.8,2,   7.8085,2,    25.00,  -999.00,9,  -999.00,9,  12.5236,      336
  49UP20130619,  P03W,   104,  1,     28,     91,2,20130902,0126, 24.2823, 175.9997, 5755,    474.1,   9.6414,   9.6420,  34.1505,2,  34.1516,2,    169.2,2,    26.58,2,    20.17,2,     0.00,2,     1.46,2, -999.000,9, -999.000,9,   2151.4,6,   2268.9,6,   7.6892,2,    25.00,  -999.00,9,  -999.00,9,   9.6420,      333
  49UP20130619,  P03W,   104,  1,     27,    998,2,20130902,0126, 24.2823, 175.9997, 5755,    575.1,   7.3869,   7.4036,  34.0762,2,  34.0811,2,    130.7,2,    46.94,2,    27.95,2,     0.00,2,     2.03,2, -999.000,9, -999.000,9,   2205.1,2,   2282.6,2,   7.5678,6,    25.00,  -999.00,9,  -999.00,9,   7.4036,      330
  49UP20130619,  P03W,   104,  1,     26,     84,2,20130902,0126, 24.2823, 175.9997, 5755,    676.3,   5.8729,   5.8733,  34.0997,2,  34.0983,2,     85.6,2,    69.30,2,    34.80,2,     0.00,2,     2.52,2, -999.000,9, -999.000,9,   2263.0,2,   2302.5,2,   7.4573,2,    25.00,  -999.00,9,  -999.00,9,   5.8733,      328
  49UP20130619,  P03W,   104,  1,     25,     98,2,20130902,0126, 24.2823, 175.9997, 5755,    775.8,   5.0527,   5.0523,  34.1978,2,  34.1970,2,     52.6,2,    87.01,2,    39.04,2,     0.00,2,     2.84,2, -999.000,9, -999.000,9,   2304.8,2,   2323.9,2,   7.3941,2,    25.00,  -999.00,9,  -999.00,9,   5.0523,      325
  49UP20130619,  P03W,   104,  1,     24,    110,2,20130902,0126, 24.2823, 175.9997, 5755,    878.0,   4.3387,   4.3401,  34.2904,2,  34.2890,2,     38.9,6,   103.63,6,    41.33,6,     0.00,6,     3.00,6, -999.000,9, -999.000,9,   2334.8,2,   2345.1,2,   7.3670,2,    25.00,  -999.00,9,  -999.00,9,   4.3401,      322
  49UP20130619,  P03W,   104,  1,     23,     96,2,20130902,0126, 24.2823, 175.9997, 5755,    979.4,   4.0151,   4.0137,  34.3887,2,  34.3899,2,     42.7,2,   111.22,2,    41.63,2,     0.00,2,     3.02,2, -999.000,9, -999.000,9,   2347.3,2,   2360.4,2,   7.3858,2,    25.00,  -999.00,9,  -999.00,9,   4.0137,      319
  49UP20130619,  P03W,   104,  1,     22,    111,2,20130902,0126, 24.2823, 175.9997, 5755,   1142.8,   3.5928,   3.5933,  34.4771,2,  34.4769,2,     55.0,2,   119.72,2,    41.23,2,     0.00,2,     2.97,2, -999.000,9, -999.000,9,   2346.9,2,   2375.9,2,   7.4153,2,    25.00,  -999.00,9,  -999.00,9,   3.5933,      315
  49UP20130619,  P03W,   104,  1,     21,     78,2,20130902,0126, 24.2823, 175.9997, 5755,   1343.6,   3.1231,   3.1233,  34.5353,2,  34.5351,2,     70.5,2,   128.18,2,    40.55,2,     0.00,2,     2.91,2, -999.000,9, -999.000,9,   2350.5,6,   2389.0,6,   7.4456,2,    25.00,  -999.00,9,  -999.00,9,   3.1233,      310
  49UP20130619,  P03W,   104,  1,     20,     93,2,20130902,0126, 24.2823, 175.9997, 5755,   1546.9,   2.7152,   2.7158,  34.5632,2,  34.5631,2,     77.3,2,   137.08,2,    40.39,2,     0.00,2,     2.89,2, -999.000,9, -999.000,9,   2355.1,2,   2397.9,2,   7.4555,6,    25.00,  -999.00,9,  -999.00,9,   2.7158,      305
  49UP20130619,  P03W,   104,  1,     19,     92,2,20130902,0126, 24.2823, 175.9997, 5755,   1749.7,   2.3870,   2.3872,  34.5900,2,  34.5889,2,     86.2,2,   143.39,2,    40.03,2,     0.00,2,     2.86,2, -999.000,9, -999.000,9,   2357.7,2,   2405.7,2,   7.4714,2,    25.00,  -999.00,9,  -999.00,9,   2.3872,      301
  49UP20130619,  P03W,   104,  1,     18,    101,2,20130902,0126, 24.2823, 175.9997, 5755,   1952.5,   2.1458,   2.1458,  34.6077,2,  34.6079,6,     93.3,2,   148.50,2,    39.66,2,     0.00,2,     2.82,2, -999.000,9, -999.000,9,   2361.3,2,   2409.5,2,   7.4833,2,    25.00,  -999.00,9,  -999.00,9,   2.1458,      256
  49UP20130619,  P03W,   104,  1,     17,     90,2,20130902,0126, 24.2823, 175.9997, 5755,   2155.6,   1.9503,   1.9507,  34.6253,2,  34.6257,2,    102.1,2,   151.53,2,    39.19,2,     0.00,2,     2.78,2, -999.000,9, -999.000,9,   2356.0,2,   2415.3,2,   7.4995,2,    25.00,  -999.00,9,  -999.00,9,   1.9507,      251
  49UP20130619,  P03W,   104,  1,     16,     89,2,20130902,0126, 24.2823, 175.9997, 5755,   2358.2,   1.8250,   1.8250,  34.6360,2,  34.6365,2,    108.1,2,   153.71,2,    38.76,2,     0.00,2,     2.74,2, -999.000,9, -999.000,9,   2355.0,2,   2417.9,2,   7.5104,2,    25.00,  -999.00,9,  -999.00,9,   1.8250,      246
  49UP20130619,  P03W,   104,  1,     15,     88,2,20130902,0126, 24.2823, 175.9997, 5755,   2562.9,   1.7271,   1.7271,  34.6468,2,  34.6497,4,    116.0,6,   153.72,6,    38.28,6,     0.00,6,     2.71,6, -999.000,9, -999.000,9,   2351.9,2,   2420.1,2,   7.5225,2,    25.00,  -999.00,9,  -999.00,9,   1.7271,      242
  49UP20130619,  P03W,   104,  1,     14,    999,2,20130902,0126, 24.2823, 175.9997, 5755,   2767.2,   1.6611,   1.6611,  34.6541,2,  34.6540,2,    122.0,2,   154.23,2,    37.99,2,     0.00,2,     2.68,2, -999.000,9, -999.000,9,   2348.0,2,   2420.2,2,   7.5317,2,    25.00,  -999.00,9,  -999.00,9,   1.6611,      237
  49UP20130619,  P03W,   104,  1,     13,    667,3,20130902,0126, 24.2823, 175.9997, 5755,   2969.5,   1.5936,   1.5936,  34.6615,2,  34.6627,2,    128.8,2,   153.63,2,    37.53,2,     0.00,2,     2.64,2, -999.000,9, -999.000,9,   2342.6,2,   2418.1,2,   7.5438,2,    25.00,  -999.00,9,  -999.00,9,   1.5936,      231
  49UP20130619,  P03W,   104,  1,     12,     74,2,20130902,0126, 24.2823, 175.9997, 5755,   3214.7,   1.5433,   1.5436,  34.6681,2,  34.6684,2,    135.2,2,   152.53,2,    37.11,2,     0.00,2,     2.62,2, -999.000,9, -999.000,9,   2339.6,2,   2419.3,2,   7.5553,2,    25.00,  -999.00,9,  -999.00,9,   1.5436,      226
  49UP20130619,  P03W,   104,  1,     11,    996,2,20130902,0126, 24.2823, 175.9997, 5755,   3471.1,   1.5075,   1.5076,  34.6737,2,  34.6727,6,    140.8,2,   151.07,2,    36.74,2,     0.00,2,     2.58,2, -999.000,9, -999.000,9,   2335.3,2,   2419.1,2,   7.5638,2,    25.00,  -999.00,9,  -999.00,9,   1.5076,      220
  49UP20130619,  P03W,   104,  1,     10,    107,2,20130902,0126, 24.2823, 175.9997, 5755,   3728.2,   1.4877,   1.4877,  34.6778,2,  34.6777,2,    146.1,2,   149.46,2,    36.32,2,     0.00,2,     2.55,2, -999.000,9, -999.000,9,   2331.4,6,   2418.9,6,   7.5713,2,    25.00,  -999.00,9,  -999.00,9,   1.4877,      214
  49UP20130619,  P03W,   104,  1,      9,    108,2,20130902,0126, 24.2823, 175.9997, 5755,   3982.5,   1.4708,   1.4710,  34.6815,2,  34.6796,2,    149.7,3,   147.54,2,    36.11,2,     0.00,2,     2.53,2, -999.000,9, -999.000,9,   2328.3,2,   2416.3,2,   7.5792,6,    25.00,  -999.00,9,  -999.00,9,   1.4710,      208
  49UP20130619,  P03W,   104,  1,      8,     81,3,20130902,0126, 24.2823, 175.9997, 5755,   4237.7,   1.4542,   1.4540,  34.6852,2,  34.6853,6,    156.3,2,   145.34,2,    35.62,2,     0.00,2,     2.49,2, -999.000,9, -999.000,9,   2320.6,2,   2414.5,2,   7.5837,2,    25.00,  -999.00,9,  -999.00,9,   1.4540,      203
  49UP20130619,  P03W,   104,  1,      7,    106,2,20130902,0126, 24.2823, 175.9997, 5755,   4496.0,   1.4416,   1.4417,  34.6889,2,  34.6878,2,    161.4,3,   142.19,2,    35.30,2,     0.00,2,     2.46,2, -999.000,9, -999.000,9,   2316.7,2,   2411.5,2,   7.5921,2,    25.00,  -999.00,9,  -999.00,9,   1.4417,      157
  49UP20130619,  P03W,   104,  1,      6,    113,2,20130902,0126, 24.2823, 175.9997, 5755,   4752.2,   1.4346,   1.4346,  34.6921,2,  34.6916,2,    168.2,6,   138.26,6,    34.79,6,     0.00,6,     2.43,6, -999.000,9, -999.000,9,   2311.1,2,   2405.4,2,   7.6003,2,    25.00,  -999.00,9,  -999.00,9,   1.4346,      152
  49UP20130619,  P03W,   104,  1,      5,     94,2,20130902,0126, 24.2823, 175.9997, 5755,   5010.7,   1.4381,   1.4381,  34.6945,2,  34.6948,2,    172.6,2,   135.43,2,    34.48,2,     0.00,2,     2.41,2, -999.000,9, -999.000,9,   2304.6,2,   2401.6,2,   7.6015,2,    25.00,  -999.00,9,  -999.00,9,   1.4381,      146
  49UP20130619,  P03W,   104,  1,      4,     77,2,20130902,0126, 24.2823, 175.9997, 5755,   5268.2,   1.4509,   1.4510,  34.6960,2,  34.6960,2,    175.7,2,   133.83,2,    34.29,2,     0.00,2,     2.39,2, -999.000,9, -999.000,9,   2306.0,2,   2401.8,2,   7.6045,2,    25.00,  -999.00,9,  -999.00,9,   1.4510,      140
  49UP20130619,  P03W,   104,  1,      3,    104,2,20130902,0126, 24.2823, 175.9997, 5755,   5527.8,   1.4706,   1.4706,  34.6972,2,  34.6969,2,    177.5,2,   132.42,2,    34.14,2,     0.00,2,     2.39,2, -999.000,9, -999.000,9,   2301.8,2,   2400.7,2,   7.6075,2,    25.00,  -999.00,9,  -999.00,9,   1.4706,      135
  49UP20130619,  P03W,   104,  1,      2,     75,2,20130902,0126, 24.2823, 175.9997, 5755,   5781.4,   1.4964,   1.4965,  34.6978,2,  34.6977,2,    178.0,2,   132.13,2,    34.06,2,     0.00,2,     2.37,2, -999.000,9, -999.000,9,   2299.0,2,   2397.1,2,   7.6077,2,    25.00,  -999.00,9,  -999.00,9,   1.4965,      129
  49UP20130619,  P03W,   104,  1,      1,    997,4,20130902,0126, 24.2823, 175.9997, 5755,   5888.2,   1.5075,   1.5074,  34.6980,2,  34.0739,4,    106.9,4,    60.41,4,    32.03,4,     0.00,4,     2.32,4, -999.000,9, -999.000,9,   2237.3,4,   2293.6,4,   7.4968,4,    25.00,  -999.00,9,  -999.00,9,   1.5074,      127