BOTTLE,20180830PRINUNIVRMK
EXPOCODE,SECT_ID,STNNBR,CASTNO,SAMPNO,BTLNBR,BTLNBR_FLAG_W,DATE,TIME,LATITUDE,LONGITUDE,DEPTH,CTDPRS,CTDTMP,SBE35,CTDSAL,CTDSAL_FLAG_W,SALNTY,SALNTY_FLAG_W,OXYGEN,OXYGEN_FLAG_W,SILCAT,SILCAT_FLAG_W,NITRAT,NITRAT_FLAG_W,NITRIT,NITRIT_FLAG_W,PHSPHT,PHSPHT_FLAG_W,CFC-11,CFC-11_FLAG_W,CFC-12,CFC-12_FLAG_W,TCARBN,TCARBN_FLAG_W,ALKALI,ALKALI_FLAG_W,PH_TOT,PH_TOT_FLAG_W,PH_TMP,CHLORA,CHLORA_FLAG_W,PPHYTN,PPHYTN_FLAG_W,SBE35,BTL_TIME
,,,,,,,,,,,METERS,DBAR,ITS-90,,PSS-78,,PSS-78,,UMOL/KG,,UMOL/KG,,UMOL/KG,,UMOL/KG,,UMOL/KG,,PMOL/KG,,PMOL/KG,,UMOL/KG,,UMOL/KG,,,,DEG C,UG/KG,,UG/KG,,,
  49UP20130619,  P03W,    32,  1,     36,    109,2,20130705,1402, 25.6457, 128.5618, 5040,      9.8,  29.3183,  29.3155,  34.5347,2,  34.5346,2,   -999.0,9,  -999.00,9,  -999.00,9,  -999.00,9,  -999.00,9, -999.000,9, -999.000,9,   -999.0,9,   -999.0,9,-999.0000,9,  -999.00,  -999.00,9,  -999.00,9,  29.3155,     1612
  49UP20130619,  P03W,    32,  1,     35,    112,2,20130705,1402, 25.6457, 128.5618, 5040,     49.6,  22.4648,  22.4626,  34.7471,2,  34.7466,2,    230.0,2,  -999.00,9,  -999.00,9,  -999.00,9,  -999.00,9, -999.000,9, -999.000,9,   -999.0,9,   -999.0,9,-999.0000,9,  -999.00,  -999.00,9,  -999.00,9,  22.4626,     1608
  49UP20130619,  P03W,    32,  1,     34,     83,2,20130705,1402, 25.6457, 128.5618, 5040,    100.4,  20.6877,  20.6929,  34.8030,2,  34.8012,2,   -999.0,9,  -999.00,9,  -999.00,9,  -999.00,9,  -999.00,9, -999.000,9, -999.000,9,   -999.0,9,   -999.0,9,-999.0000,9,  -999.00,  -999.00,9,  -999.00,9,  20.6929,     1606
  49UP20130619,  P03W,    32,  1,     33,     86,2,20130705,1402, 25.6457, 128.5618, 5040,    150.5,  19.9914,  19.9900,  34.7928,2,  34.7915,2,   -999.0,9,  -999.00,9,  -999.00,9,  -999.00,9,  -999.00,9, -999.000,9, -999.000,9,   -999.0,9,   -999.0,9,-999.0000,9,  -999.00,  -999.00,9,  -999.00,9,  19.9900,     1604
  49UP20130619,  P03W,    32,  1,     32,    105,2,20130705,1402, 25.6457, 128.5618, 5040,    150.5,  19.9914,  19.9900,  34.7928,2,  34.7911,6,   -999.0,9,  -999.00,9,  -999.00,9,  -999.00,9,  -999.00,9, -999.000,9, -999.000,9,   -999.0,9,   -999.0,9,-999.0000,9,  -999.00,  -999.00,9,  -999.00,9,  19.9900,     1604
  49UP20130619,  P03W,    32,  1,     31,     76,4,20130705,1402, 25.6457, 128.5618, 5040,    201.6,  19.3352,  19.3342,  34.7825,2,-999.0000,9,   -999.0,9,  -999.00,9,  -999.00,9,  -999.00,9,  -999.00,9, -999.000,9, -999.000,9,   -999.0,9,   -999.0,9,-999.0000,9,  -999.00,  -999.00,9,  -999.00,9,  19.3342,     1602
  49UP20130619,  P03W,    32,  1,     30,     97,2,20130705,1402, 25.6457, 128.5618, 5040,    252.3,  18.5519,  18.5523,  34.7642,2,  34.7628,6,    205.8,2,  -999.00,9,  -999.00,9,  -999.00,9,  -999.00,9, -999.000,9, -999.000,9,   -999.0,9,   -999.0,9,-999.0000,9,  -999.00,  -999.00,9,  -999.00,9,  18.5523,     1600
  49UP20130619,  P03W,    32,  1,     29,    102,2,20130705,1402, 25.6457, 128.5618, 5040,    281.5,  18.0464,  18.0464,  34.7471,2,  34.7450,2,   -999.0,9,  -999.00,9,  -999.00,9,  -999.00,9,  -999.00,9, -999.000,9, -999.000,9,   -999.0,9,   -999.0,9,-999.0000,9,  -999.00,  -999.00,9,  -999.00,9,  18.0464,     1558
  49UP20130619,  P03W,    32,  1,     28,     91,2,20130705,1402, 25.6457, 128.5618, 5040,    372.6,  16.3613,  16.3613,  34.6508,2,  34.6496,2,    194.4,2,  -999.00,9,  -999.00,9,  -999.00,9,  -999.00,9, -999.000,9, -999.000,9,   -999.0,9,   -999.0,9,-999.0000,9,  -999.00,  -999.00,9,  -999.00,9,  16.3613,     1556
  49UP20130619,  P03W,    32,  1,     27,    998,2,20130705,1402, 25.6457, 128.5618, 5040,    473.6,  13.1723,  13.1726,  34.4358,2,  34.4343,2,   -999.0,9,  -999.00,9,  -999.00,9,  -999.00,9,  -999.00,9, -999.000,9, -999.000,9,   -999.0,9,   -999.0,9,-999.0000,9,  -999.00,  -999.00,9,  -999.00,9,  13.1726,     1553
  49UP20130619,  P03W,    32,  1,     26,     84,2,20130705,1402, 25.6457, 128.5618, 5040,    574.9,  10.5402,  10.5398,  34.2740,2,  34.2718,2,   -999.0,9,  -999.00,9,  -999.00,9,  -999.00,9,  -999.00,9, -999.000,9, -999.000,9,   -999.0,9,   -999.0,9,-999.0000,9,  -999.00,  -999.00,9,  -999.00,9,  10.5398,     1550
  49UP20130619,  P03W,    32,  1,     25,     98,2,20130705,1402, 25.6457, 128.5618, 5040,    676.2,   7.5733,   7.5732,  34.1572,2,  34.1575,2,    127.8,2,  -999.00,9,  -999.00,9,  -999.00,9,  -999.00,9, -999.000,9, -999.000,9,   -999.0,9,   -999.0,9,-999.0000,9,  -999.00,  -999.00,9,  -999.00,9,   7.5732,     1547
  49UP20130619,  P03W,    32,  1,     24,    110,2,20130705,1402, 25.6457, 128.5618, 5040,    776.3,   5.9765,   5.9765,  34.1746,2,  34.1740,2,   -999.0,9,  -999.00,9,  -999.00,9,  -999.00,9,  -999.00,9, -999.000,9, -999.000,9,   -999.0,9,   -999.0,9,-999.0000,9,  -999.00,  -999.00,9,  -999.00,9,   5.9765,     1544
  49UP20130619,  P03W,    32,  1,     23,     96,2,20130705,1402, 25.6457, 128.5618, 5040,    878.7,   4.7800,   4.7806,  34.2421,2,  34.2394,2,   -999.0,9,  -999.00,9,  -999.00,9,  -999.00,9,  -999.00,9, -999.000,9, -999.000,9,   -999.0,9,   -999.0,9,-999.0000,9,  -999.00,  -999.00,9,  -999.00,9,   4.7806,     1541
  49UP20130619,  P03W,    32,  1,     22,    111,2,20130705,1402, 25.6457, 128.5618, 5040,    979.2,   4.2298,   4.2296,  34.3275,2,  34.3265,2,     63.1,2,  -999.00,9,  -999.00,9,  -999.00,9,  -999.00,9, -999.000,9, -999.000,9,   -999.0,9,   -999.0,9,-999.0000,9,  -999.00,  -999.00,9,  -999.00,9,   4.2296,     1539
  49UP20130619,  P03W,    32,  1,     21,     78,2,20130705,1402, 25.6457, 128.5618, 5040,   1140.5,   3.4122,   3.4130,  34.4304,2,  34.4295,2,     64.9,2,  -999.00,9,  -999.00,9,  -999.00,9,  -999.00,9, -999.000,9, -999.000,9,   -999.0,9,   -999.0,9,-999.0000,9,  -999.00,  -999.00,9,  -999.00,9,   3.4130,     1535
  49UP20130619,  P03W,    32,  1,     20,     93,2,20130705,1402, 25.6457, 128.5618, 5040,   1344.1,   2.8161,   2.8160,  34.4957,2,  34.4947,2,   -999.0,9,  -999.00,9,  -999.00,9,  -999.00,9,  -999.00,9, -999.000,9, -999.000,9,   -999.0,9,   -999.0,9,-999.0000,9,  -999.00,  -999.00,9,  -999.00,9,   2.8160,     1530
  49UP20130619,  P03W,    32,  1,     19,     92,2,20130705,1402, 25.6457, 128.5618, 5040,   1344.1,   2.8161,   2.8160,  34.4957,2,  34.4945,6,     73.0,2,  -999.00,9,  -999.00,9,  -999.00,9,  -999.00,9, -999.000,9, -999.000,9,   -999.0,9,   -999.0,9,-999.0000,9,  -999.00,  -999.00,9,  -999.00,9,   2.8160,     1530
  49UP20130619,  P03W,    32,  1,     18,    101,2,20130705,1402, 25.6457, 128.5618, 5040,   1545.6,   2.4767,   2.4769,  34.5383,2,  34.5376,2,     83.7,2,  -999.00,9,  -999.00,9,  -999.00,9,  -999.00,9, -999.000,9, -999.000,9,   -999.0,9,   -999.0,9,-999.0000,9,  -999.00,  -999.00,9,  -999.00,9,   2.4769,     1525
  49UP20130619,  P03W,    32,  1,     17,     90,2,20130705,1402, 25.6457, 128.5618, 5040,   1748.8,   2.2079,   2.2079,  34.5757,2,  34.5747,2,     97.5,2,  -999.00,9,  -999.00,9,  -999.00,9,  -999.00,9, -999.000,9, -999.000,9,   -999.0,9,   -999.0,9,-999.0000,9,  -999.00,  -999.00,9,  -999.00,9,   2.2079,     1520
  49UP20130619,  P03W,    32,  1,     16,     89,2,20130705,1402, 25.6457, 128.5618, 5040,   1951.3,   2.0384,   2.0389,  34.6031,2,  34.6017,2,    109.4,2,  -999.00,9,  -999.00,9,  -999.00,9,  -999.00,9, -999.000,9, -999.000,9,   -999.0,9,   -999.0,9,-999.0000,9,  -999.00,  -999.00,9,  -999.00,9,   2.0389,     1516
  49UP20130619,  P03W,    32,  1,     15,     88,2,20130705,1402, 25.6457, 128.5618, 5040,   2155.1,   1.8977,   1.8977,  34.6233,2,  34.6219,6,    118.8,2,  -999.00,9,  -999.00,9,  -999.00,9,  -999.00,9, -999.000,9, -999.000,9,   -999.0,9,   -999.0,9,-999.0000,9,  -999.00,  -999.00,9,  -999.00,9,   1.8977,     1511
  49UP20130619,  P03W,    32,  1,     14,    999,3,20130705,1402, 25.6457, 128.5618, 5040,   2359.7,   1.7881,   1.7883,  34.6395,2,  34.6391,2,    127.1,2,  -999.00,9,  -999.00,9,  -999.00,9,  -999.00,9, -999.000,9, -999.000,9,   -999.0,9,   -999.0,9,-999.0000,9,  -999.00,  -999.00,9,  -999.00,9,   1.7883,     1506
  49UP20130619,  P03W,    32,  1,     13,    667,2,20130705,1402, 25.6457, 128.5618, 5040,   2562.5,   1.7041,   1.7044,  34.6513,2,  34.6505,2,    133.4,2,  -999.00,9,  -999.00,9,  -999.00,9,  -999.00,9, -999.000,9, -999.000,9,   -999.0,9,   -999.0,9,-999.0000,9,  -999.00,  -999.00,9,  -999.00,9,   1.7044,     1502
  49UP20130619,  P03W,    32,  1,     12,     74,2,20130705,1402, 25.6457, 128.5618, 5040,   2766.1,   1.6564,   1.6565,  34.6578,2,  34.6555,4,    137.4,2,  -999.00,9,  -999.00,9,  -999.00,9,  -999.00,9, -999.000,9, -999.000,9,   -999.0,9,   -999.0,9,-999.0000,9,  -999.00,  -999.00,9,  -999.00,9,   1.6565,     1457
  49UP20130619,  P03W,    32,  1,     11,    996,2,20130705,1402, 25.6457, 128.5618, 5040,   2971.4,   1.6084,   1.6085,  34.6640,2,  34.6616,4,    140.6,2,  -999.00,9,  -999.00,9,  -999.00,9,  -999.00,9, -999.000,9, -999.000,9,   -999.0,9,   -999.0,9,-999.0000,9,  -999.00,  -999.00,9,  -999.00,9,   1.6085,     1453
  49UP20130619,  P03W,    32,  1,      9,    108,2,20130705,1402, 25.6457, 128.5618, 5040,   3215.6,   1.5786,   1.5787,  34.6690,2,  34.6669,4,    144.6,2,  -999.00,9,  -999.00,9,  -999.00,9,  -999.00,9, -999.000,9, -999.000,9,   -999.0,9,   -999.0,9,-999.0000,9,  -999.00,  -999.00,9,  -999.00,9,   1.5787,     1448
  49UP20130619,  P03W,    32,  1,      8,     81,2,20130705,1402, 25.6457, 128.5618, 5040,   3470.5,   1.5588,   1.5589,  34.6735,2,  34.6731,2,    148.4,2,  -999.00,9,  -999.00,9,  -999.00,9,  -999.00,9, -999.000,9, -999.000,9,   -999.0,9,   -999.0,9,-999.0000,9,  -999.00,  -999.00,9,  -999.00,9,   1.5589,     1442
  49UP20130619,  P03W,    32,  1,      7,    106,3,20130705,1402, 25.6457, 128.5618, 5040,   3726.7,   1.5617,   1.5618,  34.6759,2,  34.6741,2,    149.6,2,  -999.00,9,  -999.00,9,  -999.00,9,  -999.00,9, -999.000,9, -999.000,9,   -999.0,9,   -999.0,9,-999.0000,9,  -999.00,  -999.00,9,  -999.00,9,   1.5618,     1436
  49UP20130619,  P03W,    32,  1,      6,    113,2,20130705,1402, 25.6457, 128.5618, 5040,   3981.4,   1.5644,   1.5646,  34.6785,2,  34.6774,2,    151.8,2,  -999.00,9,  -999.00,9,  -999.00,9,  -999.00,9, -999.000,9, -999.000,9,   -999.0,9,   -999.0,9,-999.0000,9,  -999.00,  -999.00,9,  -999.00,9,   1.5646,     1430
  49UP20130619,  P03W,    32,  1,      5,     94,2,20130705,1402, 25.6457, 128.5618, 5040,   4238.7,   1.5827,   1.5829,  34.6796,2,  34.6785,2,    153.1,2,  -999.00,9,  -999.00,9,  -999.00,9,  -999.00,9, -999.000,9, -999.000,9,   -999.0,9,   -999.0,9,-999.0000,9,  -999.00,  -999.00,9,  -999.00,9,   1.5829,     1424
  49UP20130619,  P03W,    32,  1,      4,     77,3,20130705,1402, 25.6457, 128.5618, 5040,   4496.3,   1.6040,   1.6041,  34.6805,2,  34.6790,2,    153.6,2,  -999.00,9,  -999.00,9,  -999.00,9,  -999.00,9, -999.000,9, -999.000,9,   -999.0,9,   -999.0,9,-999.0000,9,  -999.00,  -999.00,9,  -999.00,9,   1.6041,     1418
  49UP20130619,  P03W,    32,  1,      3,    104,2,20130705,1402, 25.6457, 128.5618, 5040,   4752.3,   1.6273,   1.6274,  34.6811,2,  34.6801,2,    153.9,2,  -999.00,9,  -999.00,9,  -999.00,9,  -999.00,9, -999.000,9, -999.000,9,   -999.0,9,   -999.0,9,-999.0000,9,  -999.00,  -999.00,9,  -999.00,9,   1.6274,     1411
  49UP20130619,  P03W,    32,  1,      2,     75,3,20130705,1402, 25.6457, 128.5618, 5040,   5010.3,   1.6566,   1.6566,  34.6812,2,  34.6758,4,    153.6,2,  -999.00,9,  -999.00,9,  -999.00,9,  -999.00,9, -999.000,9, -999.000,9,   -999.0,9,   -999.0,9,-999.0000,9,  -999.00,  -999.00,9,  -999.00,9,   1.6566,     1405
  49UP20130619,  P03W,    32,  1,      1,    997,2,20130705,1402, 25.6457, 128.5618, 5040,   5086.0,   1.6636,   1.6635,  34.6814,2,  34.6804,2,    154.6,2,  -999.00,9,  -999.00,9,  -999.00,9,  -999.00,9, -999.000,9, -999.000,9,   -999.0,9,   -999.0,9,-999.0000,9,  -999.00,  -999.00,9,  -999.00,9,   1.6635,     1401