BOTTLE,20180830PRINUNIVRMK
EXPOCODE,SECT_ID,STNNBR,CASTNO,SAMPNO,BTLNBR,BTLNBR_FLAG_W,DATE,TIME,LATITUDE,LONGITUDE,DEPTH,CTDPRS,CTDTMP,SBE35,CTDSAL,CTDSAL_FLAG_W,SALNTY,SALNTY_FLAG_W,OXYGEN,OXYGEN_FLAG_W,SILCAT,SILCAT_FLAG_W,NITRAT,NITRAT_FLAG_W,NITRIT,NITRIT_FLAG_W,PHSPHT,PHSPHT_FLAG_W,CFC-11,CFC-11_FLAG_W,CFC-12,CFC-12_FLAG_W,TCARBN,TCARBN_FLAG_W,ALKALI,ALKALI_FLAG_W,PH_TOT,PH_TOT_FLAG_W,PH_TMP,CHLORA,CHLORA_FLAG_W,PPHYTN,PPHYTN_FLAG_W,SBE35,BTL_TIME
,,,,,,,,,,,METERS,DBAR,ITS-90,,PSS-78,,PSS-78,,UMOL/KG,,UMOL/KG,,UMOL/KG,,UMOL/KG,,UMOL/KG,,PMOL/KG,,PMOL/KG,,UMOL/KG,,UMOL/KG,,,,DEG C,UG/KG,,UG/KG,,,
  49UP20130619,  P03W,    33,  1,      0,   -999,0,20130705,2113, 25.4968, 128.7235, 6994,      0.0,  28.9954,-999.0000,  34.5484,2,  34.5572,2,    197.3,2,     1.45,2,     0.00,2,     0.00,2,     0.03,2, -999.000,9, -999.000,9,   1955.4,2,   2266.6,2,   8.0842,2,    25.00,     0.08,2,     0.01,2,-999.0000,     2319
  49UP20130619,  P03W,    33,  1,     36,    109,2,20130705,2113, 25.4968, 128.7235, 6994,     10.6,  28.9985,  28.9954,  34.5456,2,  34.5463,2,    197.4,2,     1.36,2,     0.01,2,     0.00,2,     0.02,2,    1.780,3,    0.923,3,   1957.1,2,   2264.5,2,   8.0812,2,    25.00,     0.04,2,     0.01,2,  28.9954,     2336
  49UP20130619,  P03W,    33,  1,     35,    112,2,20130705,2113, 25.4968, 128.7235, 6994,     50.5,  22.2797,  22.2750,  34.7613,2,  34.7641,2,    230.2,2,     1.58,2,     0.00,2,     0.00,2,     0.02,2,    2.596,3,    1.181,3,   1979.8,2,   2283.1,2,   8.0633,2,    25.00,     0.07,2,     0.02,2,  22.2750,     2332
  49UP20130619,  P03W,    33,  1,     34,     83,2,20130705,2113, 25.4968, 128.7235, 6994,    100.6,  20.5904,  20.5858,  34.7994,2,  34.7986,2,    224.6,2,     1.76,2,     0.00,2,     0.00,2,     0.02,2,    2.240,2,    1.208,2,   1990.8,2,   2283.0,2,   8.0434,2,    25.00,     0.17,2,     0.09,2,  20.5858,     2330
  49UP20130619,  P03W,    33,  1,     33,     86,2,20130705,2113, 25.4968, 128.7235, 6994,    151.2,  19.9786,  19.9780,  34.7917,2,  34.7899,2,    213.8,6,     1.90,6,     0.82,6,     0.03,6,     0.07,6,    2.129,2,    1.227,2,   2000.6,2,   2282.8,2,   8.0236,2,    25.00,     0.11,2,     0.21,2,  19.9780,     2328
  49UP20130619,  P03W,    33,  1,     32,    105,2,20130705,2113, 25.4968, 128.7235, 6994,    201.6,  19.4830,  19.4915,  34.7803,2,  34.7794,2,    210.4,2,     2.20,2,     1.57,2,     0.01,2,     0.12,2,    2.148,2,    1.244,2,   2006.3,6,   2282.7,6,   8.0080,2,    25.00,     0.01,2,     0.02,2,  19.4915,     2327
  49UP20130619,  P03W,    33,  1,     31,     76,2,20130705,2113, 25.4968, 128.7235, 6994,    251.8,  18.6276,  18.6266,  34.7664,2,  34.7660,2,    207.2,2,     2.93,2,     2.83,2,     0.01,2,     0.19,2,    2.233,2,    1.303,2,   2019.6,2,   2281.1,2,   7.9853,6,    25.00,  -999.00,9,  -999.00,9,  18.6266,     2325
  49UP20130619,  P03W,    33,  1,     30,     97,2,20130705,2113, 25.4968, 128.7235, 6994,    302.9,  17.9137,  17.9178,  34.7407,2,  34.7400,2,    201.0,2,     3.86,2,     4.32,2,     0.01,2,     0.29,2,    2.336,2,    1.352,2,   2030.3,2,   2281.0,2,   7.9597,2,    25.00,  -999.00,9,  -999.00,9,  17.9178,     2323
  49UP20130619,  P03W,    33,  1,     29,    102,2,20130705,2113, 25.4968, 128.7235, 6994,    404.2,  15.9779,  15.9951,  34.6249,2,  34.6226,2,    191.0,2,     8.27,2,     8.22,2,     0.00,2,     0.57,2,    2.453,2,    1.398,2,   2057.6,2,   2278.2,2,   7.9015,2,    25.00,  -999.00,9,  -999.00,9,  15.9951,     2321
  49UP20130619,  P03W,    33,  1,     28,     91,2,20130705,2113, 25.4968, 128.7235, 6994,    504.7,  12.7747,  12.7800,  34.4178,2,  34.4174,2,    174.2,2,    19.45,2,    14.84,2,     0.00,2,     1.06,2,    2.597,6,    1.397,6,   2109.9,2,   2277.4,2,   7.7961,2,    25.00,  -999.00,9,  -999.00,9,  12.7800,     2318
  49UP20130619,  P03W,    33,  1,     27,    998,2,20130705,2113, 25.4968, 128.7235, 6994,    605.0,   9.7217,   9.7356,  34.2310,2,  34.2283,2,    155.7,2,    33.96,2,    21.69,2,     0.00,2,     1.56,2,    2.461,2,    1.261,2,   2160.2,2,   2281.0,2,   7.6803,2,    25.00,  -999.00,9,  -999.00,9,   9.7356,     2315
  49UP20130619,  P03W,    33,  1,     26,     84,2,20130705,2113, 25.4968, 128.7235, 6994,    706.7,   7.3075,   7.3102,  34.1480,2,  34.1476,2,    124.4,2,    56.76,2,    28.92,2,     0.00,2,     2.10,2,    1.930,2,    0.948,2,   2215.7,2,   2300.5,2,   7.5695,2,    25.00,  -999.00,9,  -999.00,9,   7.3102,     2312
  49UP20130619,  P03W,    33,  1,     25,     98,2,20130705,2113, 25.4968, 128.7235, 6994,    807.2,   5.6286,   5.6287,  34.1736,2,  34.1760,2,     87.2,2,    79.04,2,    35.00,2,     0.00,2,     2.54,2,    1.140,2,    0.593,2,   2268.0,2,   2314.8,2,   7.4671,2,    25.00,  -999.00,9,  -999.00,9,   5.6287,     2310
  49UP20130619,  P03W,    33,  1,     24,    110,2,20130705,2113, 25.4968, 128.7235, 6994,    909.4,   4.6915,   4.6942,  34.2569,2,  34.2567,2,     68.3,2,    98.09,2,    38.04,2,     0.00,2,     2.75,2,    0.676,6,    0.367,6,   2304.9,2,   2338.3,2,   7.4268,2,    25.00,  -999.00,9,  -999.00,9,   4.6942,     2307
  49UP20130619,  P03W,    33,  1,     23,     96,2,20130705,2113, 25.4968, 128.7235, 6994,   1010.9,   4.0757,   4.0758,  34.3393,2,  34.3378,2,     61.6,2,   111.61,2,    39.46,2,     0.00,2,     2.85,2,    0.350,2,    0.203,2,   2325.9,2,   2355.3,2,   7.4169,2,    25.00,  -999.00,9,  -999.00,9,   4.0758,     2304
  49UP20130619,  P03W,    33,  1,     22,    111,4,20130705,2113, 25.4968, 128.7235, 6994,   1211.4,   3.3216,   3.3220,  34.4427,2,  34.5028,4,     75.8,4,   137.96,4,    40.20,4,     0.00,4,     2.87,4,    0.017,4,    0.041,4,   2351.4,4,   2390.9,4,   7.4454,4,    25.00,  -999.00,9,  -999.00,9,   3.3220,     2300
  49UP20130619,  P03W,    33,  1,     21,     78,2,20130705,2113, 25.4968, 128.7235, 6994,   1414.3,   2.7381,   2.7383,  34.5036,2,  34.5033,2,     74.4,2,   137.93,2,    40.19,2,     0.00,2,     2.87,2,    0.057,2,    0.068,2,   2351.0,2,   2391.3,2,   7.4443,6,    25.00,  -999.00,9,  -999.00,9,   2.7383,     2255
  49UP20130619,  P03W,    33,  1,     20,     93,2,20130705,2113, 25.4968, 128.7235, 6994,   1616.3,   2.4100,   2.4101,  34.5480,2,  34.5467,2,     87.1,6,   141.56,6,    39.59,6,     0.00,6,     2.82,6,    0.029,2,    0.044,2,   2354.1,2,   2400.9,2,   7.4678,2,    25.00,  -999.00,9,  -999.00,9,   2.4101,     2251
  49UP20130619,  P03W,    33,  1,     19,     92,2,20130705,2113, 25.4968, 128.7235, 6994,   1819.2,   2.1605,   2.1606,  34.5837,2,  34.5833,2,    101.0,2,   142.99,2,    38.86,2,     0.00,2,     2.76,2, -999.000,9, -999.000,9,   2348.2,2,   2404.8,2,   7.4927,2,    25.00,  -999.00,9,  -999.00,9,   2.1606,     2247
  49UP20130619,  P03W,    33,  1,     18,    101,2,20130705,2113, 25.4968, 128.7235, 6994,   2023.4,   1.9798,   1.9798,  34.6106,2,  34.6105,2,    112.8,2,   143.43,2,    38.21,2,     0.00,2,     2.71,2, -999.000,9, -999.000,9,   2338.3,2,   2410.5,2,   7.5147,2,    25.00,  -999.00,9,  -999.00,9,   1.9798,     2242
  49UP20130619,  P03W,    33,  1,     17,     90,2,20130705,2113, 25.4968, 128.7235, 6994,   2225.7,   1.8836,   1.8837,  34.6308,2,  34.6300,2,    124.4,4,   142.53,3,    37.67,2,     0.00,2,     2.66,2,    0.000,2,    0.010,2,   2336.5,2,   2410.8,2,   7.5346,2,    25.00,  -999.00,9,  -999.00,9,   1.8837,     2238
  49UP20130619,  P03W,    33,  1,     16,     89,2,20130705,2113, 25.4968, 128.7235, 6994,   2429.2,   1.7855,   1.7856,  34.6407,2,  34.6402,6,    128.0,2,   143.07,2,    37.35,2,     0.00,2,     2.64,2, -999.000,9, -999.000,9,   2342.8,2,   2413.3,2,   7.5422,2,    25.00,  -999.00,9,  -999.00,9,   1.7856,     2234
  49UP20130619,  P03W,    33,  1,     15,     88,2,20130705,2113, 25.4968, 128.7235, 6994,   2633.4,   1.6968,   1.6970,  34.6526,2,  34.6528,2,    134.4,2,   142.96,2,    36.98,2,     0.00,2,     2.61,2,    0.000,2,    0.023,2,   2333.9,2,   2408.0,2,   7.5553,2,    25.00,  -999.00,9,  -999.00,9,   1.6970,     2229
  49UP20130619,  P03W,    33,  1,     14,    999,2,20130705,2113, 25.4968, 128.7235, 6994,   2837.2,   1.6436,   1.6437,  34.6598,2,  34.6603,2,    139.0,2,   142.88,2,    36.69,2,     0.00,2,     2.58,2, -999.000,9, -999.000,9,   2332.8,2,   2405.2,2,   7.5629,2,    25.00,  -999.00,9,  -999.00,9,   1.6437,     2224
  49UP20130619,  P03W,    33,  1,     13,    667,2,20130705,2113, 25.4968, 128.7235, 6994,   3040.5,   1.6044,   1.6044,  34.6653,2,  34.6656,2,    142.5,6,   142.69,6,    36.52,6,     0.00,6,     2.58,6, -999.000,9, -999.000,9,   2329.5,2,   2414.4,2,   7.5665,2,    25.00,  -999.00,9,  -999.00,9,   1.6044,     2220
  49UP20130619,  P03W,    33,  1,     12,     74,2,20130705,2113, 25.4968, 128.7235, 6994,   3296.4,   1.5840,   1.5840,  34.6695,2,  34.6693,2,    145.7,2,   142.37,2,    36.29,2,     0.00,2,     2.55,2,    0.000,2,    0.004,2,   2330.6,2,   2410.8,2,   7.5707,2,    25.00,  -999.00,9,  -999.00,9,   1.5840,     2214
  49UP20130619,  P03W,    33,  1,     11,    996,2,20130705,2113, 25.4968, 128.7235, 6994,   3552.5,   1.5690,   1.5693,  34.6738,2,  34.6717,4,    147.4,2,   142.14,2,    36.19,2,     0.00,2,     2.54,2, -999.000,9, -999.000,9,   2331.2,6,   2413.2,2,   7.5744,2,    25.00,  -999.00,9,  -999.00,9,   1.5693,     2209
  49UP20130619,  P03W,    33,  1,     10,    107,2,20130705,2113, 25.4968, 128.7235, 6994,   3808.8,   1.5705,   1.5706,  34.6763,2,  34.6748,2,    150.1,2,   141.92,2,    36.01,2,     0.00,2,     2.53,2,    0.000,2,    0.040,2,   2329.7,2,   2417.0,2,   7.5773,6,    25.00,  -999.00,9,  -999.00,9,   1.5706,     2203
  49UP20130619,  P03W,    33,  1,      9,    108,2,20130705,2113, 25.4968, 128.7235, 6994,   4064.7,   1.5785,   1.5786,  34.6782,2,  34.6780,2,    151.7,2,   141.69,2,    35.95,2,     0.00,2,     2.53,2, -999.000,9, -999.000,9,   2332.0,2,   2419.0,2,   7.5821,2,    25.00,  -999.00,9,  -999.00,9,   1.5786,     2158
  49UP20130619,  P03W,    33,  1,      8,     81,2,20130705,2113, 25.4968, 128.7235, 6994,   4321.8,   1.5965,   1.5965,  34.6793,2,  34.6787,2,    152.4,2,   141.51,2,    35.84,2,     0.00,2,     2.52,2,    0.000,2,    0.000,2,   2326.3,2,   2411.8,2,   7.5806,2,    25.00,  -999.00,9,  -999.00,9,   1.5965,     2152
  49UP20130619,  P03W,    33,  1,      7,    106,2,20130705,2113, 25.4968, 128.7235, 6994,   4576.8,   1.6144,   1.6146,  34.6806,2,  34.6800,2,    153.5,2,   141.20,2,    35.81,2,     0.00,2,     2.51,2, -999.000,9, -999.000,9,   2322.2,2,   2418.1,2,   7.5847,2,    25.00,  -999.00,9,  -999.00,9,   1.6146,     2147
  49UP20130619,  P03W,    33,  1,      6,    113,2,20130705,2113, 25.4968, 128.7235, 6994,   4834.6,   1.6388,   1.6388,  34.6811,2,  34.6810,2,    154.0,2,   141.23,2,    35.76,2,     0.00,2,     2.51,2,    0.006,2,    0.047,3,   2325.5,2,   2412.5,2,   7.5845,2,    25.00,  -999.00,9,  -999.00,9,   1.6388,     2142
  49UP20130619,  P03W,    33,  1,      5,     94,2,20130705,2113, 25.4968, 128.7235, 6994,   5092.5,   1.6671,   1.6671,  34.6815,2,  34.6814,6,    154.4,2,   140.98,2,    35.78,2,     0.00,2,     2.51,2, -999.000,9, -999.000,9,   2326.4,2,   2415.4,2,   7.5867,2,    25.00,  -999.00,9,  -999.00,9,   1.6671,     2137
  49UP20130619,  P03W,    33,  1,      4,     77,2,20130705,2113, 25.4968, 128.7235, 6994,   5350.5,   1.6976,   1.6976,  34.6819,2,  34.6813,2,    154.6,2,   140.90,2,    35.72,2,     0.00,2,     2.50,2,    0.017,2,    0.000,2,   2322.9,2,   2414.8,2,   7.5855,2,    25.00,  -999.00,9,  -999.00,9,   1.6976,     2131
  49UP20130619,  P03W,    33,  1,      3,    104,2,20130705,2113, 25.4968, 128.7235, 6994,   5609.7,   1.7303,   1.7304,  34.6820,2,  34.6821,2,    154.9,2,   140.97,2,    35.74,2,     0.00,2,     2.50,2, -999.000,9, -999.000,9,   2323.1,2,   2414.0,2,   7.5878,2,    25.00,  -999.00,9,  -999.00,9,   1.7304,     2125
  49UP20130619,  P03W,    33,  1,      2,     75,2,20130705,2113, 25.4968, 128.7235, 6994,   5867.3,   1.7643,   1.7644,  34.6822,2,  34.6811,6,    155.3,2,   140.72,2,    35.68,2,     0.00,2,     2.50,2,    0.023,2,    0.000,2,   2324.7,2,   2412.0,2,   7.5857,2,    25.00,  -999.00,9,  -999.00,9,   1.7644,     2119
  49UP20130619,  P03W,    33,  1,      1,    997,2,20130705,2113, 25.4968, 128.7235, 6994,   6129.3,   1.8002,   1.8001,  34.6821,2,  34.6829,6,    155.0,6,   140.88,6,    35.74,6,     0.00,6,     2.51,6,    0.019,2,    0.032,3,   2324.8,2,   2413.7,2,   7.5854,2,    25.00,  -999.00,9,  -999.00,9,   1.8001,     2113