BOTTLE,20180830PRINUNIVRMK
EXPOCODE,SECT_ID,STNNBR,CASTNO,SAMPNO,BTLNBR,BTLNBR_FLAG_W,DATE,TIME,LATITUDE,LONGITUDE,DEPTH,CTDPRS,CTDTMP,SBE35,CTDSAL,CTDSAL_FLAG_W,SALNTY,SALNTY_FLAG_W,OXYGEN,OXYGEN_FLAG_W,SILCAT,SILCAT_FLAG_W,NITRAT,NITRAT_FLAG_W,NITRIT,NITRIT_FLAG_W,PHSPHT,PHSPHT_FLAG_W,CFC-11,CFC-11_FLAG_W,CFC-12,CFC-12_FLAG_W,TCARBN,TCARBN_FLAG_W,ALKALI,ALKALI_FLAG_W,PH_TOT,PH_TOT_FLAG_W,PH_TMP,CHLORA,CHLORA_FLAG_W,PPHYTN,PPHYTN_FLAG_W,SBE35,BTL_TIME
,,,,,,,,,,,METERS,DBAR,ITS-90,,PSS-78,,PSS-78,,UMOL/KG,,UMOL/KG,,UMOL/KG,,UMOL/KG,,UMOL/KG,,PMOL/KG,,PMOL/KG,,UMOL/KG,,UMOL/KG,,,,DEG C,UG/KG,,UG/KG,,,
  49UP20130619,  P03W,    83,  1,      0,   -999,0,20130813,0050, 24.2383, 160.0690, 5478,      0.0,  29.4687,-999.0000,  34.9210,2,  34.9373,2,    196.3,2,     0.95,2,     0.01,2,     0.00,2,     0.02,2, -999.000,9, -999.000,9,   1955.7,2,   2292.9,2,   8.1175,2,    25.00,     0.04,2,     0.01,2,-999.0000,      240
  49UP20130619,  P03W,    83,  1,     36,    109,2,20130813,0050, 24.2383, 160.0690, 5478,      9.8,  29.2925,  29.2970,  34.9116,2,  34.9331,4,    196.1,2,     1.03,2,     0.00,2,     0.00,2,     0.01,2,    1.841,3,    0.963,3,   1954.1,2,   2292.7,2,   8.1142,2,    25.00,     0.04,2,     0.01,2,  29.2970,      255
  49UP20130619,  P03W,    83,  1,     35,    112,2,20130813,0050, 24.2383, 160.0690, 5478,     49.3,  26.0055,  25.9212,  35.2162,2,  35.2514,4,    223.1,2,     1.08,2,     0.02,2,     0.00,2,     0.01,2,    2.830,3,    1.039,3,   1981.2,2,   2316.3,2,   8.1024,2,    25.00,     0.07,2,     0.02,2,  25.9212,      253
  49UP20130619,  P03W,    83,  1,     34,     83,2,20130813,0050, 24.2383, 160.0690, 5478,    100.1,  21.7739,  21.7834,  35.0732,2,  35.0767,2,    219.2,2,     1.64,2,     0.00,2,     0.00,2,     0.02,2,    2.457,3,    1.155,3,   2004.0,2,   2306.4,2,   8.0509,2,    25.00,     0.19,2,     0.07,2,  21.7834,      251
  49UP20130619,  P03W,    83,  1,     33,     86,2,20130813,0050, 24.2383, 160.0690, 5478,    151.0,  19.5450,  19.5448,  34.8892,2,  34.8879,2,    206.1,2,     2.27,2,     0.67,2,     0.11,2,     0.10,2,    2.270,2,    1.287,2,   2023.6,2,   2290.9,2,   7.9991,2,    25.00,     0.13,2,     0.31,2,  19.5448,      250
  49UP20130619,  P03W,    83,  1,     32,    105,2,20130813,0050, 24.2383, 160.0690, 5478,    202.0,  18.1100,  18.1100,  34.8027,2,  34.7994,2,    190.8,2,     3.73,2,     4.38,2,     0.01,2,     0.34,2,    2.324,2,    1.379,2,   2052.2,2,   2290.0,2,   7.9408,2,    25.00,     0.02,2,     0.06,2,  18.1100,      248
  49UP20130619,  P03W,    83,  1,     31,     76,2,20130813,0050, 24.2383, 160.0690, 5478,    251.8,  16.8230,  16.8215,  34.6890,2,  34.6884,2,    195.6,6,     4.93,6,     5.86,6,     0.00,6,     0.43,6,    2.402,2,    1.386,2,   2053.1,2,   2279.9,2,   7.9264,2,    25.00,  -999.00,9,  -999.00,9,  16.8215,      247
  49UP20130619,  P03W,    83,  1,     30,     97,2,20130813,0050, 24.2383, 160.0690, 5478,    302.0,  15.7887,  15.7741,  34.5996,2,  34.5975,2,    198.1,2,     6.72,2,     7.35,2,     0.00,2,     0.53,2,    2.562,2,    1.469,2,   2058.5,6,   2277.1,6,   7.9061,2,    25.00,  -999.00,9,  -999.00,9,  15.7741,      245
  49UP20130619,  P03W,    83,  1,     29,    102,2,20130813,0050, 24.2383, 160.0690, 5478,    403.4,  12.8745,  12.8695,  34.3746,2,  34.3743,2,    193.8,2,    13.69,2,    12.40,2,     0.00,2,     0.89,2,    2.856,2,    1.589,2,   2094.5,2,   2271.1,2,   7.8240,2,    25.00,  -999.00,9,  -999.00,9,  12.8695,      243
  49UP20130619,  P03W,    83,  1,     28,     91,2,20130813,0050, 24.2383, 160.0690, 5478,    503.8,  10.1104,  10.1039,  34.1993,2,  34.2006,6,    179.4,2,    25.16,2,    18.60,2,     0.00,2,     1.34,2,    2.840,6,    1.498,6,   2137.4,2,   2272.0,2,   7.7286,2,    25.00,  -999.00,9,  -999.00,9,  10.1039,      240
  49UP20130619,  P03W,    83,  1,     27,    998,2,20130813,0050, 24.2383, 160.0690, 5478,    604.5,   7.5125,   7.5131,  34.0759,2,  34.0775,2,    142.9,2,    45.98,2,    26.71,2,     0.00,2,     1.94,2,    2.367,2,    1.177,2,   2193.7,2,   2285.7,2,   7.5964,2,    25.00,  -999.00,9,  -999.00,9,   7.5131,      238
  49UP20130619,  P03W,    83,  1,     26,     84,2,20130813,0050, 24.2383, 160.0690, 5478,    705.5,   5.5748,   5.5493,  34.0678,2,  34.0738,4,     96.0,2,    73.11,2,    34.41,2,     0.00,2,     2.51,2,    1.554,2,    0.782,2,   2261.6,2,   2305.0,2,   7.4670,2,    25.00,  -999.00,9,  -999.00,9,   5.5493,      235
  49UP20130619,  P03W,    83,  1,     25,     98,2,20130813,0050, 24.2383, 160.0690, 5478,    805.2,   4.6548,   4.6530,  34.1657,2,  34.1686,2,     60.0,6,    94.07,6,    38.94,6,     0.00,6,     2.83,6,    0.760,6,    0.376,6,   2308.5,2,   2329.2,2,   7.3976,2,    25.00,  -999.00,9,  -999.00,9,   4.6530,      233
  49UP20130619,  P03W,    83,  1,     24,    110,2,20130813,0050, 24.2383, 160.0690, 5478,    907.1,   4.0936,   4.0911,  34.2521,2,  34.2552,2,     43.7,2,   109.36,2,    41.09,2,     0.00,2,     2.97,2,    0.392,2,    0.186,2,   2336.6,2,   2346.0,2,   7.3702,2,    25.00,  -999.00,9,  -999.00,9,   4.0911,      231
  49UP20130619,  P03W,    83,  1,     23,     96,2,20130813,0050, 24.2383, 160.0690, 5478,   1008.6,   3.6261,   3.6248,  34.3450,2,  34.3460,2,     37.4,2,   121.88,2,    41.93,2,     0.00,2,     3.03,2,    0.144,2,    0.084,2,   2352.1,6,   2364.6,6,   7.3680,2,    25.00,  -999.00,9,  -999.00,9,   3.6248,      228
  49UP20130619,  P03W,    83,  1,     22,    111,2,20130813,0050, 24.2383, 160.0690, 5478,   1210.8,   3.1625,   3.1619,  34.4782,2,  34.4784,2,     55.6,2,   130.98,2,    41.30,2,     0.00,2,     2.97,2,    0.033,2,    0.026,2,   2354.3,2,   2381.7,2,   7.4122,6,    25.00,  -999.00,9,  -999.00,9,   3.1619,      224
  49UP20130619,  P03W,    83,  1,     21,     78,2,20130813,0050, 24.2383, 160.0690, 5478,   1414.6,   2.6783,   2.6781,  34.5403,2,  34.5408,2,     74.5,2,   138.85,2,    40.40,2,     0.00,2,     2.89,2,    0.000,2,    0.013,2,   2355.0,2,   2396.3,2,   7.4488,2,    25.00,  -999.00,9,  -999.00,9,   2.6781,      220
  49UP20130619,  P03W,    83,  1,     20,     93,2,20130813,0050, 24.2383, 160.0690, 5478,   1616.7,   2.3332,   2.3331,  34.5718,2,  34.5704,2,     84.7,2,   144.60,2,    39.90,2,     0.00,2,     2.85,2,    0.000,2,    0.004,2,   2357.8,2,   2404.3,2,   7.4646,2,    25.00,  -999.00,9,  -999.00,9,   2.3331,      215
  49UP20130619,  P03W,    83,  1,     19,     92,2,20130813,0050, 24.2383, 160.0690, 5478,   1818.9,   2.1458,   2.1457,  34.5940,2,  34.5944,2,     93.5,2,   147.25,2,    39.41,2,     0.00,2,     2.80,2,    0.000,2,    0.001,2,   2357.2,2,   2409.7,2,   7.4834,2,    25.00,  -999.00,9,  -999.00,9,   2.1457,      211
  49UP20130619,  P03W,    83,  1,     18,    101,2,20130813,0050, 24.2383, 160.0690, 5478,   2023.2,   1.9615,   1.9613,  34.6153,2,  34.6154,2,    102.8,2,   149.29,2,    38.90,2,     0.00,2,     2.76,2,    0.000,2,    0.004,2,   2352.1,2,   2414.6,2,   7.4992,2,    25.00,  -999.00,9,  -999.00,9,   1.9613,      207
  49UP20130619,  P03W,    83,  1,     17,     90,2,20130813,0050, 24.2383, 160.0690, 5478,   2226.3,   1.8261,   1.8261,  34.6313,2,  34.6316,2,    110.9,2,   150.64,2,    38.46,2,     0.00,2,     2.73,2, -999.000,9, -999.000,9,   2349.9,2,   2414.1,2,   7.5115,2,    25.00,  -999.00,9,  -999.00,9,   1.8261,      202
  49UP20130619,  P03W,    83,  1,     16,     89,2,20130813,0050, 24.2383, 160.0690, 5478,   2428.6,   1.7374,   1.7373,  34.6439,2,  34.6436,2,    118.0,2,   150.78,2,    38.07,2,     0.00,2,     2.69,2, -999.000,9, -999.000,9,   2344.8,2,   2417.2,2,   7.5290,2,    25.00,  -999.00,9,  -999.00,9,   1.7373,      158
  49UP20130619,  P03W,    83,  1,     15,     88,2,20130813,0050, 24.2383, 160.0690, 5478,   2428.6,   1.7374,   1.7373,  34.6439,2,  34.6440,2,    118.1,2,   151.12,2,    38.07,2,     0.00,2,     2.70,2, -999.000,9, -999.000,9,   2346.5,2,   2415.8,2,   7.5241,2,    25.00,  -999.00,9,  -999.00,9,   1.7373,      158
  49UP20130619,  P03W,    83,  1,     14,    999,2,20130813,0050, 24.2383, 160.0690, 5478,   2632.6,   1.6740,   1.6738,  34.6524,2,  34.6531,2,    124.0,6,   151.14,6,    37.72,6,     0.00,6,     2.67,6, -999.000,9, -999.000,9,   2345.1,2,   2419.8,2,   7.5380,2,    25.00,  -999.00,9,  -999.00,9,   1.6738,      153
  49UP20130619,  P03W,    83,  1,     13,    667,2,20130813,0050, 24.2383, 160.0690, 5478,   2836.3,   1.6105,   1.6107,  34.6595,2,  34.6592,2,    129.8,2,   150.82,2,    37.40,2,     0.00,2,     2.64,2,    0.000,2,    0.001,2,   2338.3,3,   2419.2,2,   7.5468,2,    25.00,  -999.00,9,  -999.00,9,   1.6107,      149
  49UP20130619,  P03W,    83,  1,     12,     74,2,20130813,0050, 24.2383, 160.0690, 5478,   3040.6,   1.5720,   1.5721,  34.6648,2,  34.6646,2,    134.0,2,   150.55,2,    37.09,2,     0.00,2,     2.61,2, -999.000,9, -999.000,9,   2340.2,2,   2419.4,2,   7.5501,2,    25.00,  -999.00,9,  -999.00,9,   1.5721,      145
  49UP20130619,  P03W,    83,  1,     11,    996,2,20130813,0050, 24.2383, 160.0690, 5478,   3297.6,   1.5191,   1.5190,  34.6716,2,  34.6707,2,    139.5,3,   149.66,2,    36.74,2,     0.00,2,     2.59,2, -999.000,9, -999.000,9,   -999.0,9,   -999.0,9,-999.0000,9,  -999.00,  -999.00,9,  -999.00,9,   1.5190,      139
  49UP20130619,  P03W,    83,  1,     10,    107,2,20130813,0050, 24.2383, 160.0690, 5478,   3551.7,   1.4954,   1.4953,  34.6758,2,  34.6751,6,    145.2,2,   148.34,2,    36.37,2,     0.00,2,     2.56,2, -999.000,9, -999.000,9,   2328.2,3,   2419.3,2,   7.5691,2,    25.00,  -999.00,9,  -999.00,9,   1.4953,      134
  49UP20130619,  P03W,    83,  1,      9,    108,2,20130813,0050, 24.2383, 160.0690, 5478,   3807.7,   1.4786,   1.4786,  34.6797,2,  34.6797,2,    149.6,2,   146.92,2,    36.06,2,     0.00,2,     2.54,2,    0.000,2,    0.027,2,   -999.0,9,   -999.0,9,-999.0000,9,  -999.00,  -999.00,9,  -999.00,9,   1.4786,      129
  49UP20130619,  P03W,    83,  1,      8,     81,2,20130813,0050, 24.2383, 160.0690, 5478,   4063.6,   1.4662,   1.4663,  34.6833,2,  34.6832,2,    154.4,2,   145.69,2,    35.74,2,     0.00,2,     2.51,2, -999.000,9, -999.000,9,   2326.3,2,   2414.2,2,   7.5844,2,    25.00,  -999.00,9,  -999.00,9,   1.4663,      123
  49UP20130619,  P03W,    83,  1,      7,    106,2,20130813,0050, 24.2383, 160.0690, 5478,   4320.8,   1.4625,   1.4625,  34.6863,2,  34.6859,2,    158.1,2,   143.99,2,    35.52,2,     0.00,2,     2.49,2, -999.000,9, -999.000,9,   -999.0,9,   -999.0,9,-999.0000,9,  -999.00,  -999.00,9,  -999.00,9,   1.4625,      118
  49UP20130619,  P03W,    83,  1,      6,    113,2,20130813,0050, 24.2383, 160.0690, 5478,   4577.5,   1.4665,   1.4663,  34.6885,2,  34.6886,2,    161.9,2,   141.87,2,    35.16,2,     0.00,2,     2.47,2, -999.000,9, -999.000,9,   2316.8,6,   2413.1,6,   7.5938,2,    25.00,  -999.00,9,  -999.00,9,   1.4663,      112
  49UP20130619,  P03W,    83,  1,      5,     94,2,20130813,0050, 24.2383, 160.0690, 5478,   4835.2,   1.4729,   1.4730,  34.6909,2,  34.6910,2,    165.5,2,   139.87,2,    34.94,2,     0.00,2,     2.45,2, -999.000,9, -999.000,9,   -999.0,9,   -999.0,9,-999.0000,9,  -999.00,  -999.00,9,  -999.00,9,   1.4730,      107
  49UP20130619,  P03W,    83,  1,      4,     77,2,20130813,0050, 24.2383, 160.0690, 5478,   5094.0,   1.4883,   1.4882,  34.6924,2,  34.6929,2,    168.5,2,   137.74,2,    34.69,2,     0.00,2,     2.43,2,    0.000,2,    0.006,2,   2310.0,2,   2408.7,2,   7.6012,6,    25.00,  -999.00,9,  -999.00,9,   1.4882,      101
  49UP20130619,  P03W,    83,  1,      3,    104,2,20130813,0050, 24.2383, 160.0690, 5478,   5350.2,   1.5124,   1.5123,  34.6934,2,  34.6932,6,    169.8,2,   136.60,2,    34.66,2,     0.00,2,     2.43,2, -999.000,9, -999.000,9,   -999.0,9,   -999.0,9,-999.0000,9,  -999.00,  -999.00,9,  -999.00,9,   1.5123,       56
  49UP20130619,  P03W,    83,  1,      2,     75,2,20130813,0050, 24.2383, 160.0690, 5478,   5604.0,   1.5423,   1.5424,  34.6937,2,  34.6944,2,    170.7,2,   135.87,2,    34.59,2,     0.00,2,     2.42,2, -999.000,9, -999.000,9,   2305.5,2,   2406.7,2,   7.6045,2,    25.00,  -999.00,9,  -999.00,9,   1.5424,       51
  49UP20130619,  P03W,    83,  1,      1,    997,2,20130813,0050, 24.2383, 160.0690, 5478,   5604.1,   1.5424,   1.5424,  34.6937,2,  34.6932,2,    169.9,6,   136.52,6,    34.64,6,     0.00,6,     2.43,6,    0.000,2,    0.004,2,   2307.6,2,   2408.1,2,   7.6027,2,    25.00,  -999.00,9,  -999.00,9,   1.5424,       50