BOTTLE,20180830PRINUNIVRMK
EXPOCODE,SECT_ID,STNNBR,CASTNO,SAMPNO,BTLNBR,BTLNBR_FLAG_W,DATE,TIME,LATITUDE,LONGITUDE,DEPTH,CTDPRS,CTDTMP,SBE35,CTDSAL,CTDSAL_FLAG_W,SALNTY,SALNTY_FLAG_W,OXYGEN,OXYGEN_FLAG_W,SILCAT,SILCAT_FLAG_W,NITRAT,NITRAT_FLAG_W,NITRIT,NITRIT_FLAG_W,PHSPHT,PHSPHT_FLAG_W,CFC-11,CFC-11_FLAG_W,CFC-12,CFC-12_FLAG_W,TCARBN,TCARBN_FLAG_W,ALKALI,ALKALI_FLAG_W,PH_TOT,PH_TOT_FLAG_W,PH_TMP,CHLORA,CHLORA_FLAG_W,PPHYTN,PPHYTN_FLAG_W,SBE35,BTL_TIME
,,,,,,,,,,,METERS,DBAR,ITS-90,,PSS-78,,PSS-78,,UMOL/KG,,UMOL/KG,,UMOL/KG,,UMOL/KG,,UMOL/KG,,PMOL/KG,,PMOL/KG,,UMOL/KG,,UMOL/KG,,,,DEG C,UG/KG,,UG/KG,,,
  49UP20130619,  P03W,    46,  1,      0,   -999,0,20130803,1206, 24.2262, 133.3500, 4615,      0.0,  30.6285,-999.0000,  34.7863,2,-999.0000,9,    193.5,2,     1.11,2,     0.05,2,     0.00,2,     0.05,3, -999.000,9, -999.000,9,   -999.0,9,   -999.0,9,-999.0000,9,  -999.00,  -999.00,9,  -999.00,9,-999.0000,     1340
  49UP20130619,  P03W,    46,  1,     36,    109,2,20130803,1206, 24.2262, 133.3500, 4615,     10.0,  29.9204,  29.9176,  34.6945,2,  34.6922,2,    196.7,2,     1.09,2,     0.00,2,     0.00,2,     0.02,2, -999.000,9, -999.000,9,   -999.0,9,   -999.0,9,-999.0000,9,  -999.00,  -999.00,9,  -999.00,9,  29.9176,     1400
  49UP20130619,  P03W,    46,  1,     35,    112,2,20130803,1206, 24.2262, 133.3500, 4615,     10.0,  29.9204,  29.9176,  34.6945,2,  34.6982,2,    196.9,2,     1.05,2,     0.00,2,     0.00,2,     0.01,2, -999.000,9, -999.000,9,   -999.0,9,   -999.0,9,-999.0000,9,  -999.00,  -999.00,9,  -999.00,9,  29.9176,     1400
  49UP20130619,  P03W,    46,  1,     34,     83,2,20130803,1206, 24.2262, 133.3500, 4615,     50.4,  24.9613,  24.9974,  34.8942,2,  34.8958,2,    219.2,6,     1.14,6,     0.00,6,     0.00,6,     0.01,6, -999.000,9, -999.000,9,   -999.0,9,   -999.0,9,-999.0000,9,  -999.00,  -999.00,9,  -999.00,9,  24.9974,     1357
  49UP20130619,  P03W,    46,  1,     33,     86,2,20130803,1206, 24.2262, 133.3500, 4615,    100.5,  21.5166,  21.5162,  34.9792,2,  34.9792,2,    219.0,2,     1.48,2,     0.00,2,     0.00,2,     0.02,2, -999.000,9, -999.000,9,   -999.0,9,   -999.0,9,-999.0000,9,  -999.00,  -999.00,9,  -999.00,9,  21.5162,     1355
  49UP20130619,  P03W,    46,  1,     32,    105,2,20130803,1206, 24.2262, 133.3500, 4615,    150.3,  20.5520,  20.5517,  34.9283,2,  34.9247,2,    207.9,2,     1.74,2,     0.45,2,     0.05,2,     0.06,2, -999.000,9, -999.000,9,   -999.0,9,   -999.0,9,-999.0000,9,  -999.00,  -999.00,9,  -999.00,9,  20.5517,     1353
  49UP20130619,  P03W,    46,  1,     31,     76,2,20130803,1206, 24.2262, 133.3500, 4615,    200.8,  19.4227,  19.4224,  34.8596,2,  34.8578,2,    210.5,2,     2.09,2,     1.40,2,     0.01,2,     0.12,2, -999.000,9, -999.000,9,   -999.0,9,   -999.0,9,-999.0000,9,  -999.00,  -999.00,9,  -999.00,9,  19.4224,     1352
  49UP20130619,  P03W,    46,  1,     30,     97,2,20130803,1206, 24.2262, 133.3500, 4615,    200.8,  19.4227,  19.4224,  34.8596,2,  34.8584,2,    210.7,2,     2.09,2,     1.38,2,     0.01,2,     0.12,2, -999.000,9, -999.000,9,   -999.0,9,   -999.0,9,-999.0000,9,  -999.00,  -999.00,9,  -999.00,9,  19.4224,     1352
  49UP20130619,  P03W,    46,  1,     29,    102,2,20130803,1206, 24.2262, 133.3500, 4615,    250.8,  18.5099,  18.5096,  34.7972,2,  34.7967,2,    212.3,2,     2.56,2,     2.22,2,     0.01,2,     0.17,2, -999.000,9, -999.000,9,   -999.0,9,   -999.0,9,-999.0000,9,  -999.00,  -999.00,9,  -999.00,9,  18.5096,     1350
  49UP20130619,  P03W,    46,  1,     28,     91,2,20130803,1206, 24.2262, 133.3500, 4615,    250.8,  18.5099,  18.5096,  34.7972,2,  34.7965,2,    212.4,2,     2.58,2,     2.21,2,     0.01,2,     0.17,2, -999.000,9, -999.000,9,   -999.0,9,   -999.0,9,-999.0000,9,  -999.00,  -999.00,9,  -999.00,9,  18.5096,     1350
  49UP20130619,  P03W,    46,  1,     27,    998,2,20130803,1206, 24.2262, 133.3500, 4615,    280.6,  18.0976,  18.0954,  34.7677,2,  34.7665,2,    212.5,2,     2.85,2,     2.77,2,     0.01,2,     0.20,2, -999.000,9, -999.000,9,   -999.0,9,   -999.0,9,-999.0000,9,  -999.00,  -999.00,9,  -999.00,9,  18.0954,     1348
  49UP20130619,  P03W,    46,  1,     26,     84,2,20130803,1206, 24.2262, 133.3500, 4615,    372.3,  16.8143,  16.8154,  34.6829,2,  34.6755,2,    203.5,2,     5.25,2,     5.74,2,     0.00,2,     0.39,2, -999.000,9, -999.000,9,   -999.0,9,   -999.0,9,-999.0000,9,  -999.00,  -999.00,9,  -999.00,9,  16.8154,     1346
  49UP20130619,  P03W,    46,  1,     25,     98,2,20130803,1206, 24.2262, 133.3500, 4615,    473.9,  14.3202,  14.3220,  34.5055,2,  34.5061,2,    187.3,2,    11.90,2,    10.92,2,     0.00,2,     0.77,2, -999.000,9, -999.000,9,   -999.0,9,   -999.0,9,-999.0000,9,  -999.00,  -999.00,9,  -999.00,9,  14.3220,     1343
  49UP20130619,  P03W,    46,  1,     24,    110,2,20130803,1206, 24.2262, 133.3500, 4615,    577.9,  10.5816,  10.5868,  34.2578,2,  34.2605,2,    174.3,2,    25.58,2,    18.22,2,     0.00,2,     1.31,2, -999.000,9, -999.000,9,   -999.0,9,   -999.0,9,-999.0000,9,  -999.00,  -999.00,9,  -999.00,9,  10.5868,     1340
  49UP20130619,  P03W,    46,  1,     23,     96,2,20130803,1206, 24.2262, 133.3500, 4615,    678.2,   7.4558,   7.4594,  34.1287,2,  34.1307,2,    130.2,2,    51.00,2,    27.79,2,     0.00,2,     2.02,2, -999.000,9, -999.000,9,   -999.0,9,   -999.0,9,-999.0000,9,  -999.00,  -999.00,9,  -999.00,9,   7.4594,     1338
  49UP20130619,  P03W,    46,  1,     22,    111,2,20130803,1206, 24.2262, 133.3500, 4615,    776.3,   5.7652,   5.7649,  34.1518,2,  34.1528,6,     90.5,2,    75.30,2,    34.40,2,     0.00,2,     2.51,2, -999.000,9, -999.000,9,   -999.0,9,   -999.0,9,-999.0000,9,  -999.00,  -999.00,9,  -999.00,9,   5.7649,     1335
  49UP20130619,  P03W,    46,  1,     21,     78,2,20130803,1206, 24.2262, 133.3500, 4615,    878.0,   4.8279,   4.8305,  34.2196,2,  34.2183,2,     69.8,2,    93.28,2,    37.68,2,     0.00,2,     2.74,2, -999.000,9, -999.000,9,   -999.0,9,   -999.0,9,-999.0000,9,  -999.00,  -999.00,9,  -999.00,9,   4.8305,     1332
  49UP20130619,  P03W,    46,  1,     20,     93,2,20130803,1206, 24.2262, 133.3500, 4615,    878.0,   4.8279,   4.8305,  34.2196,2,  34.2184,2,     70.2,2,    93.26,2,    37.61,2,     0.00,2,     2.73,2, -999.000,9, -999.000,9,   -999.0,9,   -999.0,9,-999.0000,9,  -999.00,  -999.00,9,  -999.00,9,   4.8305,     1332
  49UP20130619,  P03W,    46,  1,     19,     92,2,20130803,1206, 24.2262, 133.3500, 4615,    978.2,   4.2462,   4.2474,  34.2914,2,  34.2912,2,     58.2,2,   106.40,2,    39.59,2,     0.00,2,     2.87,2, -999.000,9, -999.000,9,   -999.0,9,   -999.0,9,-999.0000,9,  -999.00,  -999.00,9,  -999.00,9,   4.2474,     1330
  49UP20130619,  P03W,    46,  1,     18,    101,2,20130803,1206, 24.2262, 133.3500, 4615,   1142.2,   3.6014,   3.6021,  34.3958,2,  34.3944,2,     56.6,2,   121.04,2,    40.63,2,     0.00,2,     2.93,2, -999.000,9, -999.000,9,   -999.0,9,   -999.0,9,-999.0000,9,  -999.00,  -999.00,9,  -999.00,9,   3.6021,     1326
  49UP20130619,  P03W,    46,  1,     17,     90,2,20130803,1206, 24.2262, 133.3500, 4615,   1343.5,   2.9688,   2.9688,  34.4907,2,  34.4905,2,     70.2,2,   132.91,2,    40.28,2,     0.00,2,     2.89,2, -999.000,9, -999.000,9,   -999.0,9,   -999.0,9,-999.0000,9,  -999.00,  -999.00,9,  -999.00,9,   2.9688,     1321
  49UP20130619,  P03W,    46,  1,     16,     89,2,20130803,1206, 24.2262, 133.3500, 4615,   1545.2,   2.5884,   2.5889,  34.5352,2,  34.5341,2,     82.4,6,   138.57,6,    39.71,6,     0.00,6,     2.85,6, -999.000,9, -999.000,9,   -999.0,9,   -999.0,9,-999.0000,9,  -999.00,  -999.00,9,  -999.00,9,   2.5889,     1316
  49UP20130619,  P03W,    46,  1,     15,     88,2,20130803,1206, 24.2262, 133.3500, 4615,   1748.6,   2.2908,   2.2912,  34.5731,2,  34.5725,2,     95.7,2,   141.61,2,    39.06,2,     0.00,2,     2.79,2, -999.000,9, -999.000,9,   -999.0,9,   -999.0,9,-999.0000,9,  -999.00,  -999.00,9,  -999.00,9,   2.2912,     1312
  49UP20130619,  P03W,    46,  1,     14,    999,2,20130803,1206, 24.2262, 133.3500, 4615,   1950.9,   2.0829,   2.0831,  34.5993,2,  34.5992,2,    106.4,2,   142.90,2,    38.51,2,     0.00,2,     2.74,2, -999.000,9, -999.000,9,   -999.0,9,   -999.0,9,-999.0000,9,  -999.00,  -999.00,9,  -999.00,9,   2.0831,     1307
  49UP20130619,  P03W,    46,  1,     13,    667,2,20130803,1206, 24.2262, 133.3500, 4615,   2154.7,   1.9101,   1.9099,  34.6227,2,  34.6223,6,    118.1,2,   143.12,2,    37.87,2,     0.00,2,     2.69,2, -999.000,9, -999.000,9,   -999.0,9,   -999.0,9,-999.0000,9,  -999.00,  -999.00,9,  -999.00,9,   1.9099,     1303
  49UP20130619,  P03W,    46,  1,     12,     74,2,20130803,1206, 24.2262, 133.3500, 4615,   2357.8,   1.8240,   1.8242,  34.6343,2,  34.6342,2,    124.1,2,   143.06,2,    37.51,2,     0.00,2,     2.66,2, -999.000,9, -999.000,9,   -999.0,9,   -999.0,9,-999.0000,9,  -999.00,  -999.00,9,  -999.00,9,   1.8242,     1258
  49UP20130619,  P03W,    46,  1,     11,    996,2,20130803,1206, 24.2262, 133.3500, 4615,   2357.8,   1.8240,   1.8242,  34.6343,2,  34.6329,2,    123.8,2,   143.28,2,    37.54,2,     0.00,2,     2.67,2, -999.000,9, -999.000,9,   -999.0,9,   -999.0,9,-999.0000,9,  -999.00,  -999.00,9,  -999.00,9,   1.8242,     1258
  49UP20130619,  P03W,    46,  1,     10,    107,2,20130803,1206, 24.2262, 133.3500, 4615,   2560.6,   1.7517,   1.7517,  34.6439,2,  34.6426,2,    129.7,6,   143.05,6,    37.19,6,     0.00,6,     2.64,6, -999.000,9, -999.000,9,   -999.0,9,   -999.0,9,-999.0000,9,  -999.00,  -999.00,9,  -999.00,9,   1.7517,     1254
  49UP20130619,  P03W,    46,  1,      9,    108,2,20130803,1206, 24.2262, 133.3500, 4615,   2764.9,   1.6987,   1.6988,  34.6517,2,  34.6508,2,    133.9,2,   142.96,2,    36.92,2,     0.00,2,     2.61,2, -999.000,9, -999.000,9,   -999.0,9,   -999.0,9,-999.0000,9,  -999.00,  -999.00,9,  -999.00,9,   1.6988,     1249
  49UP20130619,  P03W,    46,  1,      8,     81,2,20130803,1206, 24.2262, 133.3500, 4615,   2969.1,   1.6454,   1.6455,  34.6593,2,  34.6589,6,    139.2,2,   142.65,2,    36.60,2,     0.00,2,     2.59,2, -999.000,9, -999.000,9,   -999.0,9,   -999.0,9,-999.0000,9,  -999.00,  -999.00,9,  -999.00,9,   1.6455,     1244
  49UP20130619,  P03W,    46,  1,      7,    106,2,20130803,1206, 24.2262, 133.3500, 4615,   3215.1,   1.5932,   1.5931,  34.6671,2,  34.6665,2,    144.1,2,   142.15,2,    36.29,2,     0.00,2,     2.56,2, -999.000,9, -999.000,9,   -999.0,9,   -999.0,9,-999.0000,9,  -999.00,  -999.00,9,  -999.00,9,   1.5931,     1239
  49UP20130619,  P03W,    46,  1,      6,    113,2,20130803,1206, 24.2262, 133.3500, 4615,   3470.0,   1.5807,   1.5809,  34.6711,2,  34.6711,2,    146.8,2,   142.09,2,    36.16,2,     0.00,2,     2.55,2, -999.000,9, -999.000,9,   -999.0,9,   -999.0,9,-999.0000,9,  -999.00,  -999.00,9,  -999.00,9,   1.5809,     1233
  49UP20130619,  P03W,    46,  1,      5,     94,2,20130803,1206, 24.2262, 133.3500, 4615,   3727.4,   1.5642,   1.5643,  34.6753,2,  34.6756,2,    149.8,6,   141.82,6,    36.00,6,     0.00,6,     2.54,6, -999.000,9, -999.000,9,   -999.0,9,   -999.0,9,-999.0000,9,  -999.00,  -999.00,9,  -999.00,9,   1.5643,     1227
  49UP20130619,  P03W,    46,  1,      4,     77,2,20130803,1206, 24.2262, 133.3500, 4615,   3982.4,   1.5703,   1.5704,  34.6776,2,  34.6783,2,    151.3,2,   141.61,2,    35.87,2,     0.00,2,     2.53,2, -999.000,9, -999.000,9,   -999.0,9,   -999.0,9,-999.0000,9,  -999.00,  -999.00,9,  -999.00,9,   1.5704,     1222
  49UP20130619,  P03W,    46,  1,      3,    104,2,20130803,1206, 24.2262, 133.3500, 4615,   4238.4,   1.5840,   1.5841,  34.6790,2,  34.6792,2,    152.4,2,   141.51,2,    35.84,2,     0.00,2,     2.53,2, -999.000,9, -999.000,9,   -999.0,9,   -999.0,9,-999.0000,9,  -999.00,  -999.00,9,  -999.00,9,   1.5841,     1216
  49UP20130619,  P03W,    46,  1,      2,     75,2,20130803,1206, 24.2262, 133.3500, 4615,   4494.7,   1.5951,   1.5951,  34.6809,2,  34.6811,6,    153.9,2,   141.08,2,    35.71,2,     0.00,2,     2.52,2, -999.000,9, -999.000,9,   -999.0,9,   -999.0,9,-999.0000,9,  -999.00,  -999.00,9,  -999.00,9,   1.5951,     1211
  49UP20130619,  P03W,    46,  1,      1,    997,2,20130803,1206, 24.2262, 133.3500, 4615,   4693.2,   1.6119,   1.6119,  34.6815,2,  34.6816,2,    154.6,2,   140.87,2,    35.68,2,     0.00,2,     2.51,2, -999.000,9, -999.000,9,   -999.0,9,   -999.0,9,-999.0000,9,  -999.00,  -999.00,9,  -999.00,9,   1.6119,     1206