BOTTLE,20180830PRINUNIVRMK
EXPOCODE,SECT_ID,STNNBR,CASTNO,SAMPNO,BTLNBR,BTLNBR_FLAG_W,DATE,TIME,LATITUDE,LONGITUDE,DEPTH,CTDPRS,CTDTMP,SBE35,CTDSAL,CTDSAL_FLAG_W,SALNTY,SALNTY_FLAG_W,OXYGEN,OXYGEN_FLAG_W,SILCAT,SILCAT_FLAG_W,NITRAT,NITRAT_FLAG_W,NITRIT,NITRIT_FLAG_W,PHSPHT,PHSPHT_FLAG_W,CFC-11,CFC-11_FLAG_W,CFC-12,CFC-12_FLAG_W,TCARBN,TCARBN_FLAG_W,ALKALI,ALKALI_FLAG_W,PH_TOT,PH_TOT_FLAG_W,PH_TMP,CHLORA,CHLORA_FLAG_W,PPHYTN,PPHYTN_FLAG_W,SBE35,BTL_TIME
,,,,,,,,,,,METERS,DBAR,ITS-90,,PSS-78,,PSS-78,,UMOL/KG,,UMOL/KG,,UMOL/KG,,UMOL/KG,,UMOL/KG,,PMOL/KG,,PMOL/KG,,UMOL/KG,,UMOL/KG,,,,DEG C,UG/KG,,UG/KG,,,
  49UP20130619,  P03W,   115,  1,      0,   -999,0,20130905,1243, 27.5107, 179.0040, 5299,      0.0,  28.0360,-999.0000,  35.4159,2,-999.0000,9,    198.7,2,     0.98,2,     0.01,2,     0.00,2,     0.02,2, -999.000,9, -999.000,9,   -999.0,9,   -999.0,9,-999.0000,9,  -999.00,  -999.00,9,  -999.00,9,-999.0000,     1436
  49UP20130619,  P03W,   115,  1,     36,    109,2,20130905,1243, 27.5107, 179.0040, 5299,     10.4,  28.0268,  28.0269,  35.4130,2,-999.0000,9,    198.7,2,     0.91,2,     0.00,2,     0.00,2,     0.02,2, -999.000,9, -999.000,9,   -999.0,9,   -999.0,9,-999.0000,9,  -999.00,  -999.00,9,  -999.00,9,  28.0269,     1452
  49UP20130619,  P03W,   115,  1,     35,    112,2,20130905,1243, 27.5107, 179.0040, 5299,     50.5,  24.7025,  24.7348,  35.3745,2,-999.0000,9,    230.3,6,     1.15,6,     0.02,6,     0.00,6,     0.02,6, -999.000,9, -999.000,9,   -999.0,9,   -999.0,9,-999.0000,9,  -999.00,  -999.00,9,  -999.00,9,  24.7348,     1449
  49UP20130619,  P03W,   115,  1,     34,     83,2,20130905,1243, 27.5107, 179.0040, 5299,    102.0,  21.4577,  21.4517,  35.1748,2,-999.0000,9,    229.2,2,     1.55,2,     0.01,2,     0.00,2,     0.02,2, -999.000,9, -999.000,9,   -999.0,9,   -999.0,9,-999.0000,9,  -999.00,  -999.00,9,  -999.00,9,  21.4517,     1447
  49UP20130619,  P03W,   115,  1,     33,    517,2,20130905,1243, 27.5107, 179.0040, 5299,    150.7,  18.8766,  18.8696,  34.8467,2,-999.0000,9,    221.6,2,     2.40,2,     0.39,2,     0.13,2,     0.08,2, -999.000,9, -999.000,9,   -999.0,9,   -999.0,9,-999.0000,9,  -999.00,  -999.00,9,  -999.00,9,  18.8696,     1445
  49UP20130619,  P03W,   115,  1,     32,    105,2,20130905,1243, 27.5107, 179.0040, 5299,    201.6,  17.1672,  17.1441,  34.6978,2,-999.0000,9,    204.9,2,     3.93,2,     4.22,2,     0.01,2,     0.31,2, -999.000,9, -999.000,9,   -999.0,9,   -999.0,9,-999.0000,9,  -999.00,  -999.00,9,  -999.00,9,  17.1441,     1444
  49UP20130619,  P03W,   115,  1,     31,     76,2,20130905,1243, 27.5107, 179.0040, 5299,    252.7,  16.0044,  16.0041,  34.5962,2,-999.0000,9,    204.9,2,     5.61,2,     6.04,2,     0.01,2,     0.43,2, -999.000,9, -999.000,9,   -999.0,9,   -999.0,9,-999.0000,9,  -999.00,  -999.00,9,  -999.00,9,  16.0041,     1442
  49UP20130619,  P03W,   115,  1,     30,     97,2,20130905,1243, 27.5107, 179.0040, 5299,    333.6,  13.9046,  13.9017,  34.4309,2,-999.0000,9,    205.4,2,     9.28,2,     9.32,2,     0.00,2,     0.66,2, -999.000,9, -999.000,9,   -999.0,9,   -999.0,9,-999.0000,9,  -999.00,  -999.00,9,  -999.00,9,  13.9017,     1439
  49UP20130619,  P03W,   115,  1,     29,    102,2,20130905,1243, 27.5107, 179.0040, 5299,    434.2,  11.5033,  11.5066,  34.2820,2,-999.0000,9,    202.5,2,    17.00,2,    14.06,2,     0.00,2,     0.99,2, -999.000,9, -999.000,9,   -999.0,9,   -999.0,9,-999.0000,9,  -999.00,  -999.00,9,  -999.00,9,  11.5066,     1436
  49UP20130619,  P03W,   115,  1,     28,     91,2,20130905,1243, 27.5107, 179.0040, 5299,    534.4,   9.4798,   9.4808,  34.1422,2,-999.0000,9,    176.4,2,    27.27,2,    20.10,2,     0.00,2,     1.43,2, -999.000,9, -999.000,9,   -999.0,9,   -999.0,9,-999.0000,9,  -999.00,  -999.00,9,  -999.00,9,   9.4808,     1434
  49UP20130619,  P03W,   115,  1,     27,    998,2,20130905,1243, 27.5107, 179.0040, 5299,    635.6,   7.1703,   7.1694,  34.0747,2,-999.0000,9,    122.8,2,    50.10,2,    29.40,2,     0.00,2,     2.11,2, -999.000,9, -999.000,9,   -999.0,9,   -999.0,9,-999.0000,9,  -999.00,  -999.00,9,  -999.00,9,   7.1694,     1430
  49UP20130619,  P03W,   115,  1,     26,     84,2,20130905,1243, 27.5107, 179.0040, 5299,    735.7,   5.7599,   5.7588,  34.1020,2,-999.0000,9,     81.4,6,    71.88,6,    35.52,6,     0.00,6,     2.57,6, -999.000,9, -999.000,9,   -999.0,9,   -999.0,9,-999.0000,9,  -999.00,  -999.00,9,  -999.00,9,   5.7588,     1427
  49UP20130619,  P03W,   115,  1,     25,     98,2,20130905,1243, 27.5107, 179.0040, 5299,    837.7,   4.7730,   4.7719,  34.1765,2,-999.0000,9,     52.3,2,    92.39,2,    39.63,2,     0.00,2,     2.86,2, -999.000,9, -999.000,9,   -999.0,9,   -999.0,9,-999.0000,9,  -999.00,  -999.00,9,  -999.00,9,   4.7719,     1424
  49UP20130619,  P03W,   115,  1,     24,    110,2,20130905,1243, 27.5107, 179.0040, 5299,    938.9,   4.1527,   4.1523,  34.2543,2,  34.2554,2,     36.3,2,   107.90,2,    41.78,2,     0.00,2,     3.01,2, -999.000,9, -999.000,9,   -999.0,9,   -999.0,9,-999.0000,9,  -999.00,  -999.00,9,  -999.00,9,   4.1523,     1421
  49UP20130619,  P03W,   115,  1,     23,     96,2,20130905,1243, 27.5107, 179.0040, 5299,    938.9,   4.1527,   4.1523,  34.2543,2,  34.2564,2,     36.5,2,   107.76,2,    41.78,2,     0.00,2,     3.01,2, -999.000,9, -999.000,9,   -999.0,9,   -999.0,9,-999.0000,9,  -999.00,  -999.00,9,  -999.00,9,   4.1523,     1421
  49UP20130619,  P03W,   115,  1,     22,    111,2,20130905,1243, 27.5107, 179.0040, 5299,   1081.0,   3.7041,   3.7033,  34.3469,2,-999.0000,9,     31.4,2,   120.29,2,    42.62,2,     0.00,2,     3.08,2, -999.000,9, -999.000,9,   -999.0,9,   -999.0,9,-999.0000,9,  -999.00,  -999.00,9,  -999.00,9,   3.7033,     1418
  49UP20130619,  P03W,   115,  1,     21,     78,2,20130905,1243, 27.5107, 179.0040, 5299,   1283.1,   3.1589,   3.1581,  34.4662,2,-999.0000,9,     43.2,2,   133.09,2,    42.63,2,     0.00,2,     3.05,2, -999.000,9, -999.000,9,   -999.0,9,   -999.0,9,-999.0000,9,  -999.00,  -999.00,9,  -999.00,9,   3.1581,     1413
  49UP20130619,  P03W,   115,  1,     20,     93,2,20130905,1243, 27.5107, 179.0040, 5299,   1485.6,   2.6978,   2.6986,  34.5242,2,-999.0000,9,     54.6,2,   144.28,2,    42.11,2,     0.00,2,     3.00,2, -999.000,9, -999.000,9,   -999.0,9,   -999.0,9,-999.0000,9,  -999.00,  -999.00,9,  -999.00,9,   2.6986,     1409
  49UP20130619,  P03W,   115,  1,     19,     92,2,20130905,1243, 27.5107, 179.0040, 5299,   1689.2,   2.3164,   2.3163,  34.5609,2,-999.0000,9,     62.8,2,   153.29,2,    41.77,2,     0.00,2,     2.97,2, -999.000,9, -999.000,9,   -999.0,9,   -999.0,9,-999.0000,9,  -999.00,  -999.00,9,  -999.00,9,   2.3163,     1404
  49UP20130619,  P03W,   115,  1,     18,    101,2,20130905,1243, 27.5107, 179.0040, 5299,   1891.6,   2.0963,   2.0964,  34.5893,2,  34.5899,6,     75.2,2,   156.97,2,    41.05,2,     0.00,2,     2.90,2, -999.000,9, -999.000,9,   -999.0,9,   -999.0,9,-999.0000,9,  -999.00,  -999.00,9,  -999.00,9,   2.0964,     1400
  49UP20130619,  P03W,   115,  1,     17,     90,2,20130905,1243, 27.5107, 179.0040, 5299,   2094.8,   1.9235,   1.9235,  34.6112,2,  34.6109,2,     87.4,2,   158.62,2,    40.30,2,     0.00,2,     2.84,2, -999.000,9, -999.000,9,   -999.0,9,   -999.0,9,-999.0000,9,  -999.00,  -999.00,9,  -999.00,9,   1.9235,     1355
  49UP20130619,  P03W,   115,  1,     16,     89,2,20130905,1243, 27.5107, 179.0040, 5299,   2298.0,   1.7801,   1.7802,  34.6288,2,-999.0000,9,     97.7,2,   160.27,2,    39.68,2,     0.00,2,     2.79,2, -999.000,9, -999.000,9,   -999.0,9,   -999.0,9,-999.0000,9,  -999.00,  -999.00,9,  -999.00,9,   1.7802,     1351
  49UP20130619,  P03W,   115,  1,     15,     88,2,20130905,1243, 27.5107, 179.0040, 5299,   2501.7,   1.6923,   1.6923,  34.6410,2,  34.6409,2,    107.4,2,   159.45,2,    38.95,2,     0.00,2,     2.74,2, -999.000,9, -999.000,9,   -999.0,9,   -999.0,9,-999.0000,9,  -999.00,  -999.00,9,  -999.00,9,   1.6923,     1346
  49UP20130619,  P03W,   115,  1,     14,    999,2,20130905,1243, 27.5107, 179.0040, 5299,   2705.2,   1.6171,   1.6172,  34.6514,2,-999.0000,9,    117.0,2,   158.76,2,    38.52,2,     0.00,2,     2.70,2, -999.000,9, -999.000,9,   -999.0,9,   -999.0,9,-999.0000,9,  -999.00,  -999.00,9,  -999.00,9,   1.6172,     1342
  49UP20130619,  P03W,   115,  1,     13,    667,2,20130905,1243, 27.5107, 179.0040, 5299,   2910.1,   1.5672,   1.5673,  34.6589,2,  34.6594,2,    123.9,6,   157.93,6,    37.95,2,     0.00,6,     2.66,6, -999.000,9, -999.000,9,   -999.0,9,   -999.0,9,-999.0000,9,  -999.00,  -999.00,9,  -999.00,9,   1.5673,     1337
  49UP20130619,  P03W,   115,  1,     12,     74,2,20130905,1243, 27.5107, 179.0040, 5299,   3124.1,   1.5310,   1.5308,  34.6650,2,  34.6654,2,    130.5,2,   156.55,2,    37.61,2,     0.00,2,     2.63,2, -999.000,9, -999.000,9,   -999.0,9,   -999.0,9,-999.0000,9,  -999.00,  -999.00,9,  -999.00,9,   1.5308,     1333
  49UP20130619,  P03W,   115,  1,     11,    996,2,20130905,1243, 27.5107, 179.0040, 5299,   3379.8,   1.4910,   1.4911,  34.6719,2,  34.6712,2,    136.8,2,   155.27,2,    37.07,2,     0.00,2,     2.59,2, -999.000,9, -999.000,9,   -999.0,9,   -999.0,9,-999.0000,9,  -999.00,  -999.00,9,  -999.00,9,   1.4911,     1327
  49UP20130619,  P03W,   115,  1,     10,    107,2,20130905,1243, 27.5107, 179.0040, 5299,   3635.8,   1.4676,   1.4676,  34.6767,2,  34.6770,2,    143.2,2,   153.92,2,    36.74,2,     0.00,2,     2.56,2, -999.000,9, -999.000,9,   -999.0,9,   -999.0,9,-999.0000,9,  -999.00,  -999.00,9,  -999.00,9,   1.4676,     1322
  49UP20130619,  P03W,   115,  1,      9,    108,2,20130905,1243, 27.5107, 179.0040, 5299,   3635.8,   1.4676,   1.4676,  34.6767,2,  34.6774,2,    143.1,2,   153.97,2,    36.74,2,     0.00,2,     2.56,2, -999.000,9, -999.000,9,   -999.0,9,   -999.0,9,-999.0000,9,  -999.00,  -999.00,9,  -999.00,9,   1.4676,     1322
  49UP20130619,  P03W,   115,  1,      8,     81,2,20130905,1243, 27.5107, 179.0040, 5299,   3891.5,   1.4597,   1.4598,  34.6805,2,  34.6804,2,    147.6,2,   153.28,2,    36.40,2,     0.00,2,     2.54,2, -999.000,9, -999.000,9,   -999.0,9,   -999.0,9,-999.0000,9,  -999.00,  -999.00,9,  -999.00,9,   1.4598,     1316
  49UP20130619,  P03W,   115,  1,      7,    106,2,20130905,1243, 27.5107, 179.0040, 5299,   4147.4,   1.4587,   1.4588,  34.6835,2,  34.6835,2,    151.0,2,   152.25,2,    36.14,2,     0.00,2,     2.52,2, -999.000,9, -999.000,9,   -999.0,9,   -999.0,9,-999.0000,9,  -999.00,  -999.00,9,  -999.00,9,   1.4588,     1311
  49UP20130619,  P03W,   115,  1,      6,    113,2,20130905,1243, 27.5107, 179.0040, 5299,   4404.0,   1.4595,   1.4595,  34.6863,2,  34.6867,2,    155.5,2,   149.88,2,    35.92,2,     0.00,2,     2.50,2, -999.000,9, -999.000,9,   -999.0,9,   -999.0,9,-999.0000,9,  -999.00,  -999.00,9,  -999.00,9,   1.4595,     1305
  49UP20130619,  P03W,   115,  1,      5,     94,2,20130905,1243, 27.5107, 179.0040, 5299,   4662.0,   1.4641,   1.4640,  34.6888,2,  34.6882,2,    160.1,2,   146.13,2,    35.59,2,     0.00,2,     2.47,2, -999.000,9, -999.000,9,   -999.0,9,   -999.0,9,-999.0000,9,  -999.00,  -999.00,9,  -999.00,9,   1.4640,     1300
  49UP20130619,  P03W,   115,  1,      4,     77,2,20130905,1243, 27.5107, 179.0040, 5299,   4917.7,   1.4694,   1.4694,  34.6911,2,  34.6915,2,    164.7,6,   142.12,6,    35.17,6,     0.00,6,     2.45,6, -999.000,9, -999.000,9,   -999.0,9,   -999.0,9,-999.0000,9,  -999.00,  -999.00,9,  -999.00,9,   1.4694,     1254
  49UP20130619,  P03W,   115,  1,      3,    104,2,20130905,1243, 27.5107, 179.0040, 5299,   5175.9,   1.4794,   1.4794,  34.6928,2,  34.6926,6,    168.9,2,   139.04,2,    34.95,2,     0.00,2,     2.43,2, -999.000,9, -999.000,9,   -999.0,9,   -999.0,9,-999.0000,9,  -999.00,  -999.00,9,  -999.00,9,   1.4794,     1249
  49UP20130619,  P03W,   115,  1,      1,    997,2,20130905,1243, 27.5107, 179.0040, 5299,   5421.1,   1.4832,   1.4831,  34.6950,2,  34.6945,2,    173.2,2,   135.37,2,    34.46,2,     0.00,2,     2.40,2, -999.000,9, -999.000,9,   -999.0,9,   -999.0,9,-999.0000,9,  -999.00,  -999.00,9,  -999.00,9,   1.4831,     1243
  49UP20130619,  P03W,   115,  1,      2,     75,2,20130905,1243, 27.5107, 179.0040, 5299,   5421.3,   1.4831,   1.4831,  34.6951,2,  34.6953,2,    174.0,2,   135.04,2,    34.49,2,     0.00,2,     2.40,2, -999.000,9, -999.000,9,   -999.0,9,   -999.0,9,-999.0000,9,  -999.00,  -999.00,9,  -999.00,9,   1.4831,     1243