BOTTLE,20180830PRINUNIVRMK
EXPOCODE,SECT_ID,STNNBR,CASTNO,SAMPNO,BTLNBR,BTLNBR_FLAG_W,DATE,TIME,LATITUDE,LONGITUDE,DEPTH,CTDPRS,CTDTMP,SBE35,CTDSAL,CTDSAL_FLAG_W,SALNTY,SALNTY_FLAG_W,OXYGEN,OXYGEN_FLAG_W,SILCAT,SILCAT_FLAG_W,NITRAT,NITRAT_FLAG_W,NITRIT,NITRIT_FLAG_W,PHSPHT,PHSPHT_FLAG_W,CFC-11,CFC-11_FLAG_W,CFC-12,CFC-12_FLAG_W,TCARBN,TCARBN_FLAG_W,ALKALI,ALKALI_FLAG_W,PH_TOT,PH_TOT_FLAG_W,PH_TMP,CHLORA,CHLORA_FLAG_W,PPHYTN,PPHYTN_FLAG_W,SBE35,BTL_TIME
,,,,,,,,,,,METERS,DBAR,ITS-90,,PSS-78,,PSS-78,,UMOL/KG,,UMOL/KG,,UMOL/KG,,UMOL/KG,,UMOL/KG,,PMOL/KG,,PMOL/KG,,UMOL/KG,,UMOL/KG,,,,DEG C,UG/KG,,UG/KG,,,
  49UP20130619,  P03W,    96,  1,      0,   -999,0,20130830,1037, 24.2475, 169.5142, 6076,      0.0,  28.5476,-999.0000,  35.4166,2,  35.4235,2,    196.3,2,     0.82,2,     0.02,2,     0.00,2,     0.03,2, -999.000,9, -999.000,9,   1980.5,2,   2329.3,2,   8.1220,2,    25.00,     0.07,2,     0.02,2,-999.0000,     1240
  49UP20130619,  P03W,    96,  1,     36,    109,2,20130830,1037, 24.2475, 169.5142, 6076,     10.4,  28.5504,  28.5501,  35.4161,2,  35.4161,2,    196.7,2,     0.80,2,     0.04,2,     0.00,2,     0.02,2,    1.919,3,    0.907,3,   1981.0,2,   2328.5,2,   8.1217,2,    25.00,     0.06,2,     0.02,2,  28.5501,     1308
  49UP20130619,  P03W,    96,  1,     35,    112,2,20130830,1037, 24.2475, 169.5142, 6076,     50.8,  26.6677,  26.6665,  35.4144,2,  35.4154,2,    219.3,2,     0.93,2,     0.04,2,     0.00,2,     0.02,2,    2.719,3,    1.041,3,   1987.4,2,   2327.8,2,   8.1103,2,    25.00,     0.12,2,     0.05,2,  26.6665,     1305
  49UP20130619,  P03W,    96,  1,     34,     83,2,20130830,1037, 24.2475, 169.5142, 6076,    102.3,  23.5816,  23.5664,  35.3494,2,  35.3518,2,    209.2,6,     1.04,6,     0.05,6,     0.00,6,     0.03,6,    2.264,3,    1.096,3,   2011.2,2,   2325.2,2,   8.0661,2,    25.00,     0.18,2,     0.14,2,  23.5664,     1302
  49UP20130619,  P03W,    96,  1,     33,    517,2,20130830,1037, 24.2475, 169.5142, 6076,    151.6,  21.0300,  21.0287,  35.1096,2,  35.1065,2,    193.3,2,     1.88,2,     1.18,2,     0.02,2,     0.13,2,    2.115,2,    1.228,2,   2039.2,2,   2309.0,2,   7.9970,2,    25.00,     0.04,2,     0.14,2,  21.0287,     1301
  49UP20130619,  P03W,    96,  1,     32,    105,2,20130830,1037, 24.2475, 169.5142, 6076,    202.6,  18.7947,  18.7997,  34.8406,2,  34.8405,2,    206.2,2,     2.50,2,     1.80,2,     0.01,2,     0.16,2,    2.300,6,    1.325,6,   2034.4,2,   2290.0,2,   7.9787,2,    25.00,     0.01,2,     0.02,2,  18.7997,     1259
  49UP20130619,  P03W,    96,  1,     31,     76,2,20130830,1037, 24.2475, 169.5142, 6076,    252.9,  16.8428,  16.8443,  34.6781,2,  34.6809,2,    208.0,2,     4.08,2,     4.83,2,     0.01,2,     0.33,2,    2.447,2,    1.417,2,   2040.1,2,   2281.5,2,   7.9473,2,    25.00,  -999.00,9,  -999.00,9,  16.8443,     1256
  49UP20130619,  P03W,    96,  1,     30,     97,2,20130830,1037, 24.2475, 169.5142, 6076,    302.8,  15.5603,  15.5599,  34.5752,2,  34.5779,2,    201.9,2,     6.57,2,     7.20,2,     0.00,2,     0.50,2,    2.569,6,    1.469,6,   2058.5,2,   2276.2,2,   7.9043,2,    25.00,  -999.00,9,  -999.00,9,  15.5599,     1254
  49UP20130619,  P03W,    96,  1,     29,    102,2,20130830,1037, 24.2475, 169.5142, 6076,    404.0,  12.4610,  12.4607,  34.3354,2,  34.3373,2,    197.6,2,    13.49,2,    12.54,2,     0.00,2,     0.89,2,    2.918,2,    1.636,2,   2096.2,2,   2269.6,2,   7.8112,2,    25.00,  -999.00,9,  -999.00,9,  12.4607,     1251
  49UP20130619,  P03W,    96,  1,     28,     91,3,20130830,1037, 24.2475, 169.5142, 6076,    504.3,   9.5516,   9.5508,  34.1546,2,  34.1546,2,    173.2,2,    27.12,2,    20.09,2,     0.00,2,     1.44,2,    2.907,2,    1.525,2,   2146.8,2,   2273.1,2,   7.6976,2,    25.00,  -999.00,9,  -999.00,9,   9.5508,     1245
  49UP20130619,  P03W,    96,  1,     27,    998,2,20130830,1037, 24.2475, 169.5142, 6076,    606.9,   7.1773,   7.1705,  34.0734,2,  34.0739,2,    126.4,2,    49.59,2,    28.78,2,     0.00,2,     2.08,2,    2.181,2,    1.067,2,   2212.2,6,   2287.4,6,   7.5546,2,    25.00,  -999.00,9,  -999.00,9,   7.1705,     1240
  49UP20130619,  P03W,    96,  1,     26,     84,2,20130830,1037, 24.2475, 169.5142, 6076,    707.0,   5.8941,   5.8943,  34.0931,2,  34.0922,2,     87.7,2,    68.60,2,    34.52,2,     0.00,2,     2.50,2,    1.383,6,    0.657,6,   2260.2,2,   2303.3,2,   7.4593,6,    25.00,  -999.00,9,  -999.00,9,   5.8943,     1237
  49UP20130619,  P03W,    96,  1,     25,     98,2,20130830,1037, 24.2475, 169.5142, 6076,    807.4,   4.9268,   4.9266,  34.1773,2,  34.1772,2,     54.0,6,    88.72,6,    39.12,6,     0.00,6,     2.84,6,    0.588,2,    0.276,2,   2307.3,2,   2325.7,2,   7.3909,2,    25.00,  -999.00,9,  -999.00,9,   4.9266,     1234
  49UP20130619,  P03W,    96,  1,     24,    110,2,20130830,1037, 24.2475, 169.5142, 6076,    908.1,   4.3468,   4.3468,  34.2871,2,  34.2866,2,     39.4,2,   103.29,2,    41.28,2,     0.00,2,     3.00,2,    0.202,2,    0.076,2,   2332.9,2,   2347.0,2,   7.3711,2,    25.00,  -999.00,9,  -999.00,9,   4.3468,     1231
  49UP20130619,  P03W,    96,  1,     23,     96,2,20130830,1037, 24.2475, 169.5142, 6076,   1010.4,   3.9130,   3.9130,  34.3794,2,  34.3786,2,     40.2,2,   113.70,2,    41.80,2,     0.00,2,     3.03,2,    0.053,2,    0.005,2,   2351.7,2,   2364.3,2,   7.3812,2,    25.00,  -999.00,9,  -999.00,9,   3.9130,     1229
  49UP20130619,  P03W,    96,  1,     22,    111,2,20130830,1037, 24.2475, 169.5142, 6076,   1211.7,   3.3210,   3.3217,  34.4829,2,  34.4831,2,     56.1,2,   126.27,2,    41.24,2,     0.00,2,     2.97,2,    0.006,2,    0.000,2,   2352.5,2,   2383.6,2,   7.4148,2,    25.00,  -999.00,9,  -999.00,9,   3.3217,     1224
  49UP20130619,  P03W,    96,  1,     21,     78,2,20130830,1037, 24.2475, 169.5142, 6076,   1415.2,   2.8111,   2.8122,  34.5362,2,  34.5359,2,     70.0,2,   136.00,2,    40.69,2,     0.00,2,     2.91,2,    0.000,2,    0.000,2,   2357.5,6,   2396.4,6,   7.4424,2,    25.00,  -999.00,9,  -999.00,9,   2.8122,     1219
  49UP20130619,  P03W,    96,  1,     20,     93,2,20130830,1037, 24.2475, 169.5142, 6076,   1616.5,   2.4583,   2.4581,  34.5690,2,  34.5687,2,     78.9,2,   143.17,2,    40.33,2,     0.00,2,     2.88,2,    0.000,2,    0.000,2,   2359.7,2,   2404.8,2,   7.4561,6,    25.00,  -999.00,9,  -999.00,9,   2.4581,     1215
  49UP20130619,  P03W,    96,  1,     19,     92,2,20130830,1037, 24.2475, 169.5142, 6076,   1819.7,   2.2135,   2.2137,  34.5927,2,  34.5933,2,     86.6,2,   148.10,2,    39.96,2,     0.00,2,     2.85,2,    0.016,2,    0.002,2,   2358.7,2,   2410.9,2,   7.4705,2,    25.00,  -999.00,9,  -999.00,9,   2.2137,     1210
  49UP20130619,  P03W,    96,  1,     18,    101,2,20130830,1037, 24.2475, 169.5142, 6076,   2024.8,   2.0050,   2.0051,  34.6136,2,  34.6137,2,     95.9,2,   151.45,2,    39.51,2,     0.00,2,     2.80,2,    0.000,2,    0.000,2,   2360.3,2,   2415.6,2,   7.4878,2,    25.00,  -999.00,9,  -999.00,9,   2.0051,     1206
  49UP20130619,  P03W,    96,  1,     17,     90,2,20130830,1037, 24.2475, 169.5142, 6076,   2226.8,   1.8463,   1.8464,  34.6306,2,  34.6314,2,    105.4,2,   152.86,2,    39.02,2,     0.00,2,     2.75,2, -999.000,9, -999.000,9,   2357.2,2,   2418.7,2,   7.5044,2,    25.00,  -999.00,9,  -999.00,9,   1.8464,     1201
  49UP20130619,  P03W,    96,  1,     16,     89,2,20130830,1037, 24.2475, 169.5142, 6076,   2430.8,   1.7633,   1.7635,  34.6434,2,  34.6437,6,    114.7,6,   152.35,6,    38.44,6,     0.00,6,     2.70,6, -999.000,9, -999.000,9,   2349.9,2,   2420.9,2,   7.5209,2,    25.00,  -999.00,9,  -999.00,9,   1.7635,     1156
  49UP20130619,  P03W,    96,  1,     15,     88,2,20130830,1037, 24.2475, 169.5142, 6076,   2635.1,   1.6877,   1.6879,  34.6530,2,  34.6535,2,    121.9,2,   152.16,2,    37.97,2,     0.00,2,     2.67,2, -999.000,9, -999.000,9,   2353.3,3,   2421.6,2,   7.5352,2,    25.00,  -999.00,9,  -999.00,9,   1.6879,     1152
  49UP20130619,  P03W,    96,  1,     14,    999,2,20130830,1037, 24.2475, 169.5142, 6076,   2838.0,   1.6428,   1.6429,  34.6592,2,  34.6606,2,    127.2,2,   151.64,2,    37.60,2,     0.00,2,     2.65,2,    0.017,2,    0.000,2,   2344.2,2,   2422.8,2,   7.5443,2,    25.00,  -999.00,9,  -999.00,9,   1.6429,     1147
  49UP20130619,  P03W,    96,  1,     13,    667,2,20130830,1037, 24.2475, 169.5142, 6076,   3041.9,   1.6030,   1.6030,  34.6643,2,  34.6611,4,    130.4,3,   150.91,2,    37.36,2,     0.00,2,     2.62,2, -999.000,9, -999.000,9,   2341.7,2,   2421.8,2,   7.5594,3,    25.00,  -999.00,9,  -999.00,9,   1.6030,     1143
  49UP20130619,  P03W,    96,  1,     12,     74,2,20130830,1037, 24.2475, 169.5142, 6076,   3296.6,   1.5638,   1.5639,  34.6696,2,  34.6698,2,    136.7,2,   150.68,2,    37.02,2,     0.00,2,     2.59,2, -999.000,9, -999.000,9,   2339.4,6,   2420.9,6,   7.5578,2,    25.00,  -999.00,9,  -999.00,9,   1.5639,     1137
  49UP20130619,  P03W,    96,  1,     11,    996,2,20130830,1037, 24.2475, 169.5142, 6076,   3553.2,   1.5371,   1.5372,  34.6740,2,  34.6738,2,    141.0,2,   149.77,2,    36.71,2,     0.00,2,     2.58,2, -999.000,9, -999.000,9,   2337.9,2,   2420.7,2,   7.5673,6,    25.00,  -999.00,9,  -999.00,9,   1.5372,     1132
  49UP20130619,  P03W,    96,  1,     10,    107,2,20130830,1037, 24.2475, 169.5142, 6076,   3808.6,   1.5169,   1.5169,  34.6775,2,  34.6760,2,    145.2,2,   147.94,2,    36.33,2,     0.00,2,     2.55,2, -999.000,9, -999.000,9,   2332.0,2,   2418.6,2,   7.5736,2,    25.00,  -999.00,9,  -999.00,9,   1.5169,     1126
  49UP20130619,  P03W,    96,  1,      9,    108,2,20130830,1037, 24.2475, 169.5142, 6076,   4065.1,   1.4979,   1.4979,  34.6812,2,  34.6803,6,    150.2,2,   146.35,2,    36.03,2,     0.00,2,     2.51,2, -999.000,9, -999.000,9,   2329.1,2,   2418.5,2,   7.5805,2,    25.00,  -999.00,9,  -999.00,9,   1.4979,     1121
  49UP20130619,  P03W,    96,  1,      8,     81,2,20130830,1037, 24.2475, 169.5142, 6076,   4321.5,   1.4848,   1.4850,  34.6846,2,  34.6838,2,    156.4,2,   144.22,2,    35.65,2,     0.00,2,     2.48,2,    0.000,2,    0.000,2,   2322.6,2,   2415.9,2,   7.5824,2,    25.00,  -999.00,9,  -999.00,9,   1.4850,     1115
  49UP20130619,  P03W,    96,  1,      7,    106,2,20130830,1037, 24.2475, 169.5142, 6076,   4577.8,   1.4754,   1.4754,  34.6877,2,  34.6866,2,    161.1,6,   141.51,6,    35.36,6,     0.00,6,     2.46,6, -999.000,9, -999.000,9,   2324.3,3,   2412.6,2,   7.5921,2,    25.00,  -999.00,9,  -999.00,9,   1.4754,     1110
  49UP20130619,  P03W,    96,  1,      6,    113,2,20130830,1037, 24.2475, 169.5142, 6076,   4834.8,   1.4700,   1.4700,  34.6905,2,  34.6906,2,    166.0,2,   139.11,2,    35.05,2,     0.00,2,     2.44,2, -999.000,9, -999.000,9,   2315.1,2,   2410.4,2,   7.5989,2,    25.00,  -999.00,9,  -999.00,9,   1.4700,     1104
  49UP20130619,  P03W,    96,  1,      5,     94,2,20130830,1037, 24.2475, 169.5142, 6076,   5092.8,   1.4647,   1.4647,  34.6935,2,  34.6939,6,    170.8,2,   136.02,2,    34.71,2,     0.00,2,     2.41,2, -999.000,9, -999.000,9,   2309.3,2,   2408.2,2,   7.5959,3,    25.00,  -999.00,9,  -999.00,9,   1.4647,     1059
  49UP20130619,  P03W,    96,  1,      4,     77,2,20130830,1037, 24.2475, 169.5142, 6076,   5348.3,   1.4707,   1.4708,  34.6955,2,  34.6952,2,    174.4,2,   133.82,2,    34.42,2,     0.00,2,     2.38,2, -999.000,9, -999.000,9,   2306.9,2,   2404.7,2,   7.6054,2,    25.00,  -999.00,9,  -999.00,9,   1.4708,     1053
  49UP20130619,  P03W,    96,  1,      3,    104,2,20130830,1037, 24.2475, 169.5142, 6076,   5607.2,   1.4863,   1.4863,  34.6967,2,  34.6967,2,    176.7,2,   132.55,2,    34.32,2,     0.00,2,     2.37,2, -999.000,9, -999.000,9,   2303.7,2,   2402.5,2,   7.6073,2,    25.00,  -999.00,9,  -999.00,9,   1.4863,     1048
  49UP20130619,  P03W,    96,  1,      2,     75,2,20130830,1037, 24.2475, 169.5142, 6076,   5865.6,   1.5085,   1.5085,  34.6977,2,  34.6974,2,    178.4,2,   131.70,2,    34.13,2,     0.00,2,     2.36,2,    0.001,6,    0.000,6,   2300.6,2,   2400.0,2,   7.6095,2,    25.00,  -999.00,9,  -999.00,9,   1.5085,     1043
  49UP20130619,  P03W,    96,  1,      1,    997,2,20130830,1037, 24.2475, 169.5142, 6076,   6128.6,   1.5361,   1.5359,  34.6982,2,  34.6975,6,    178.9,2,   131.34,2,    34.10,2,     0.00,2,     2.36,2,    0.000,6,    0.000,6,   2296.7,2,   2400.1,2,   7.6083,2,    25.00,  -999.00,9,  -999.00,9,   1.5359,     1038