BOTTLE,20180830PRINUNIVRMK
EXPOCODE,SECT_ID,STNNBR,CASTNO,SAMPNO,BTLNBR,BTLNBR_FLAG_W,DATE,TIME,LATITUDE,LONGITUDE,DEPTH,CTDPRS,CTDTMP,SBE35,CTDSAL,CTDSAL_FLAG_W,SALNTY,SALNTY_FLAG_W,OXYGEN,OXYGEN_FLAG_W,SILCAT,SILCAT_FLAG_W,NITRAT,NITRAT_FLAG_W,NITRIT,NITRIT_FLAG_W,PHSPHT,PHSPHT_FLAG_W,CFC-11,CFC-11_FLAG_W,CFC-12,CFC-12_FLAG_W,TCARBN,TCARBN_FLAG_W,ALKALI,ALKALI_FLAG_W,PH_TOT,PH_TOT_FLAG_W,PH_TMP,CHLORA,CHLORA_FLAG_W,PPHYTN,PPHYTN_FLAG_W,SBE35,BTL_TIME
,,,,,,,,,,,METERS,DBAR,ITS-90,,PSS-78,,PSS-78,,UMOL/KG,,UMOL/KG,,UMOL/KG,,UMOL/KG,,UMOL/KG,,PMOL/KG,,PMOL/KG,,UMOL/KG,,UMOL/KG,,,,DEG C,UG/KG,,UG/KG,,,
  49UP20130619,  P03W,    90,  1,      0,   -999,0,20130828,1200, 24.0080, 165.0142, 6046,      0.0,  28.5787,-999.0000,  34.9872,2,  34.9994,2,    196.9,2,     1.02,2,     0.03,2,     0.00,2,     0.06,2, -999.000,9, -999.000,9,   1963.7,2,   2298.6,2,   8.1129,2,    25.00,     0.06,2,     0.02,2,-999.0000,     1404
  49UP20130619,  P03W,    90,  1,     36,    109,2,20130828,1200, 24.0080, 165.0142, 6046,     10.4,  28.5800,  28.5788,  34.9862,2,  34.9871,2,    197.0,2,     0.98,2,     0.00,2,     0.00,2,     0.02,2,    1.488,4,    0.750,4,   1961.6,2,   2297.6,2,   8.1054,2,    25.00,     0.07,2,     0.02,2,  28.5788,     1444
  49UP20130619,  P03W,    90,  1,     35,    112,2,20130828,1200, 24.0080, 165.0142, 6046,     50.3,  25.3113,  25.3060,  35.0698,2,  35.0649,2,    225.6,2,     1.24,2,     0.00,2,     0.00,2,     0.01,2,    2.067,4,    0.859,4,   1974.1,2,   2302.1,2,   8.0941,2,    25.00,     0.12,2,     0.04,2,  25.3060,     1441
  49UP20130619,  P03W,    90,  1,     34,     83,2,20130828,1200, 24.0080, 165.0142, 6046,    101.0,  21.7009,  21.6992,  35.0928,2,  35.0936,6,    219.0,2,     1.63,2,     0.00,2,     0.00,2,     0.02,2,    1.903,4,    1.006,4,   2006.2,2,   2305.6,2,   8.0508,2,    25.00,     0.20,2,     0.12,2,  21.6992,     1439
  49UP20130619,  P03W,    90,  1,     33,    517,2,20130828,1200, 24.0080, 165.0142, 6046,    150.2,  18.7187,  18.7175,  34.8082,2,  34.8089,2,    210.4,2,     2.53,2,     1.42,2,     0.05,2,     0.13,2,    1.941,4,    1.110,4,   2029.1,2,   2285.5,2,   7.9933,2,    25.00,     0.10,2,     0.31,2,  18.7175,     1437
  49UP20130619,  P03W,    90,  1,     32,    105,2,20130828,1200, 24.0080, 165.0142, 6046,    201.7,  16.9685,  16.9662,  34.6900,2,  34.6896,2,    210.1,2,     4.07,2,     4.63,2,     0.01,2,     0.32,2,    1.913,4,    1.108,4,   2036.3,2,   2278.4,2,   7.9566,2,    25.00,     0.02,2,     0.04,2,  16.9662,     1435
  49UP20130619,  P03W,    90,  1,     31,     76,3,20130828,1200, 24.0080, 165.0142, 6046,    252.8,  16.1107,  16.1121,  34.6307,2,  34.6327,2,    217.3,2,     5.21,2,     5.22,2,     0.01,2,     0.36,2,    2.112,4,    1.207,4,   2042.6,2,   2276.8,2,   7.9440,2,    25.00,  -999.00,9,  -999.00,9,  16.1121,     1429
  49UP20130619,  P03W,    90,  1,     30,     97,2,20130828,1200, 24.0080, 165.0142, 6046,    302.8,  15.2170,  15.2169,  34.5567,2,  34.5580,2,    209.2,2,     7.45,2,     7.34,2,     0.00,2,     0.51,2,    2.248,4,    1.272,4,   2055.4,2,   2274.2,2,   7.9110,2,    25.00,  -999.00,9,  -999.00,9,  15.2169,     1427
  49UP20130619,  P03W,    90,  1,     29,    102,3,20130828,1200, 24.0080, 165.0142, 6046,    403.2,  12.5870,  12.5781,  34.3768,2,  34.3772,2,    198.0,2,    15.18,2,    12.67,2,     0.00,2,     0.89,2,    2.324,4,    1.267,4,   2098.9,2,   2272.3,2,   7.8237,2,    25.00,  -999.00,9,  -999.00,9,  12.5781,     1424
  49UP20130619,  P03W,    90,  1,     28,     91,3,20130828,1200, 24.0080, 165.0142, 6046,    505.3,   9.1416,   9.1487,  34.1412,2,  34.1456,2,    173.2,6,    30.64,6,    20.85,6,     0.00,6,     1.50,6,    2.312,4,    1.201,4,   2152.7,2,   2273.9,2,   7.6897,2,    25.00,  -999.00,9,  -999.00,9,   9.1487,     1411
  49UP20130619,  P03W,    90,  1,     27,    998,2,20130828,1200, 24.0080, 165.0142, 6046,    607.0,   7.0160,   7.0286,  34.0811,2,  34.0826,6,    122.8,2,    51.95,2,    29.35,2,     0.00,2,     2.12,2,    1.685,4,    0.823,4,   2216.2,2,   2287.9,2,   7.5522,2,    25.00,  -999.00,9,  -999.00,9,   7.0286,     1408
  49UP20130619,  P03W,    90,  1,     26,     84,2,20130828,1200, 24.0080, 165.0142, 6046,    706.0,   5.8117,   5.8115,  34.1394,2,  34.1385,2,     76.8,2,    71.96,2,    35.62,2,     0.00,2,     2.59,2,    0.906,4,    0.442,4,   2270.2,2,   2307.1,2,   7.4456,2,    25.00,  -999.00,9,  -999.00,9,   5.8115,     1405
  49UP20130619,  P03W,    90,  1,     25,     98,2,20130828,1200, 24.0080, 165.0142, 6046,    806.9,   4.8688,   4.8713,  34.2129,2,  34.2105,2,     54.2,2,    90.44,2,    39.13,2,     0.00,2,     2.84,2,    0.428,4,    0.205,4,   2318.1,2,   2328.2,2,   7.3979,2,    25.00,  -999.00,9,  -999.00,9,   4.8713,     1401
  49UP20130619,  P03W,    90,  1,     24,    110,2,20130828,1200, 24.0080, 165.0142, 6046,    908.5,   4.2113,   4.2111,  34.3180,2,  34.3158,2,     43.2,2,   106.42,2,    41.10,2,     0.00,2,     2.98,2,    0.142,4,    0.052,4,   2332.5,6,   2351.3,6,   7.3813,3,    25.00,  -999.00,9,  -999.00,9,   4.2111,     1358
  49UP20130619,  P03W,    90,  1,     23,     96,2,20130828,1200, 24.0080, 165.0142, 6046,   1011.5,   3.8502,   3.8505,  34.3941,2,  34.3922,2,     45.8,2,   114.72,2,    41.40,2,     0.00,2,     2.99,2,    0.065,4,    0.013,4,   2346.2,2,   2363.3,2,   7.3922,6,    25.00,  -999.00,9,  -999.00,9,   3.8505,     1354
  49UP20130619,  P03W,    90,  1,     22,    111,2,20130828,1200, 24.0080, 165.0142, 6046,   1211.9,   3.2578,   3.2578,  34.4878,2,  34.4875,2,     59.4,2,   127.44,2,    41.01,2,     0.00,2,     2.94,2,    0.022,4,    0.009,4,   2349.6,2,   2381.7,2,   7.4252,2,    25.00,  -999.00,9,  -999.00,9,   3.2578,     1349
  49UP20130619,  P03W,    90,  1,     21,     78,2,20130828,1200, 24.0080, 165.0142, 6046,   1417.9,   2.7715,   2.7725,  34.5315,2,  34.5303,2,     68.1,2,   137.58,2,    40.73,2,     0.00,2,     2.91,2,    0.000,4,    0.000,4,   2359.6,2,   2395.2,2,   7.4372,2,    25.00,  -999.00,9,  -999.00,9,   2.7725,     1343
  49UP20130619,  P03W,    90,  1,     20,     93,2,20130828,1200, 24.0080, 165.0142, 6046,   1617.8,   2.3818,   2.3818,  34.5688,2,  34.5690,2,     78.9,2,   145.35,2,    40.38,2,     0.00,2,     2.88,2,    0.000,4,    0.000,4,   2358.3,2,   2403.7,2,   7.4567,2,    25.00,  -999.00,9,  -999.00,9,   2.3818,     1337
  49UP20130619,  P03W,    90,  1,     19,     92,3,20130828,1200, 24.0080, 165.0142, 6046,   1821.6,   2.1235,   2.1235,  34.5974,2,  34.5959,2,     90.9,6,   148.34,6,    39.63,6,     0.00,6,     2.82,6,    0.000,4,    0.000,4,   2356.7,2,   2409.3,2,   7.4757,2,    25.00,  -999.00,9,  -999.00,9,   2.1235,     1332
  49UP20130619,  P03W,    90,  1,     18,    101,2,20130828,1200, 24.0080, 165.0142, 6046,   2025.1,   1.9551,   1.9551,  34.6180,2,  34.6182,6,    100.9,2,   150.57,2,    39.14,2,     0.00,2,     2.77,2,    0.000,4,    0.000,4,   2358.2,2,   2413.5,2,   7.4975,2,    25.00,  -999.00,9,  -999.00,9,   1.9551,     1327
  49UP20130619,  P03W,    90,  1,     17,     90,2,20130828,1200, 24.0080, 165.0142, 6046,   2227.5,   1.8322,   1.8323,  34.6338,2,  34.6334,2,    109.6,2,   151.28,2,    38.60,2,     0.00,2,     2.73,2, -999.000,9, -999.000,9,   2350.1,2,   2416.2,2,   7.5122,2,    25.00,  -999.00,9,  -999.00,9,   1.8323,     1322
  49UP20130619,  P03W,    90,  1,     16,     89,2,20130828,1200, 24.0080, 165.0142, 6046,   2430.7,   1.7442,   1.7442,  34.6452,2,  34.6450,2,    117.0,2,   151.51,2,    38.12,2,     0.00,2,     2.69,2,    0.011,4,    0.004,4,   2345.8,2,   2418.5,2,   7.5272,2,    25.00,  -999.00,9,  -999.00,9,   1.7442,     1317
  49UP20130619,  P03W,    90,  1,     15,     88,2,20130828,1200, 24.0080, 165.0142, 6046,   2634.3,   1.6871,   1.6870,  34.6525,2,  34.6530,2,    121.8,2,   151.93,2,    37.93,2,     0.00,2,     2.68,2, -999.000,9, -999.000,9,   2344.9,2,   2421.1,2,   7.5372,2,    25.00,  -999.00,9,  -999.00,9,   1.6870,     1312
  49UP20130619,  P03W,    90,  1,     14,    999,2,20130828,1200, 24.0080, 165.0142, 6046,   2836.5,   1.6338,   1.6340,  34.6591,2,  34.6593,2,    127.0,2,   151.85,2,    37.53,2,     0.00,2,     2.64,2, -999.000,9, -999.000,9,   2345.6,6,   2420.0,6,   7.5437,2,    25.00,  -999.00,9,  -999.00,9,   1.6340,     1307
  49UP20130619,  P03W,    90,  1,     13,    667,2,20130828,1200, 24.0080, 165.0142, 6046,   3042.5,   1.5912,   1.5913,  34.6646,2,  34.6656,2,    132.1,2,   151.49,2,    37.24,2,     0.00,2,     2.62,2, -999.000,9, -999.000,9,   2337.7,2,   2419.8,2,   7.5534,6,    25.00,  -999.00,9,  -999.00,9,   1.5913,     1302
  49UP20130619,  P03W,    90,  1,     12,     74,2,20130828,1200, 24.0080, 165.0142, 6046,   3296.7,   1.5607,   1.5607,  34.6691,2,  34.6696,2,    136.4,2,   151.00,2,    36.99,2,     0.00,2,     2.60,2,    0.000,4,    0.000,4,   2337.6,2,   2421.4,2,   7.5591,2,    25.00,  -999.00,9,  -999.00,9,   1.5607,     1257
  49UP20130619,  P03W,    90,  1,     11,    996,2,20130828,1200, 24.0080, 165.0142, 6046,   3553.6,   1.5307,   1.5307,  34.6739,2,  34.6721,2,    140.6,3,   149.63,2,    36.73,2,     0.00,2,     2.57,2, -999.000,9, -999.000,9,   2339.2,3,   2420.5,2,   7.5653,2,    25.00,  -999.00,9,  -999.00,9,   1.5307,     1251
  49UP20130619,  P03W,    90,  1,     10,    107,2,20130828,1200, 24.0080, 165.0142, 6046,   3807.4,   1.5070,   1.5072,  34.6780,2,  34.6765,2,    145.6,3,   148.20,6,    36.30,6,     0.00,6,     2.54,6, -999.000,9, -999.000,9,   2327.6,2,   2420.8,2,   7.5736,2,    25.00,  -999.00,9,  -999.00,9,   1.5072,     1246
  49UP20130619,  P03W,    90,  1,      9,    108,2,20130828,1200, 24.0080, 165.0142, 6046,   4062.0,   1.4921,   1.4921,  34.6813,2,  34.6814,2,    151.2,2,   146.61,2,    35.96,2,     0.00,2,     2.52,2, -999.000,9, -999.000,9,   2327.0,2,   2418.9,2,   7.5790,2,    25.00,  -999.00,9,  -999.00,9,   1.4921,     1241
  49UP20130619,  P03W,    90,  1,      8,     81,2,20130828,1200, 24.0080, 165.0142, 6046,   4319.1,   1.4775,   1.4777,  34.6847,2,  34.6852,2,    156.6,2,   144.50,2,    35.59,2,     0.00,2,     2.49,2,    0.000,4,    0.000,4,   2322.7,2,   2415.6,2,   7.5871,2,    25.00,  -999.00,9,  -999.00,9,   1.4777,     1236
  49UP20130619,  P03W,    90,  1,      7,    106,2,20130828,1200, 24.0080, 165.0142, 6046,   4575.9,   1.4651,   1.4651,  34.6882,2,  34.6873,2,    160.8,3,   142.18,2,    35.32,2,     0.00,2,     2.47,2, -999.000,9, -999.000,9,   2316.7,2,   2414.1,2,   7.5920,2,    25.00,  -999.00,9,  -999.00,9,   1.4651,     1231
  49UP20130619,  P03W,    90,  1,      6,    113,2,20130828,1200, 24.0080, 165.0142, 6046,   4832.3,   1.4638,   1.4640,  34.6911,2,  34.6910,2,    166.3,2,   139.00,2,    34.94,2,     0.00,2,     2.44,2, -999.000,9, -999.000,9,   2313.1,6,   2411.7,2,   7.5994,2,    25.00,  -999.00,9,  -999.00,9,   1.4640,     1226
  49UP20130619,  P03W,    90,  1,      5,     94,2,20130828,1200, 24.0080, 165.0142, 6046,   5091.1,   1.4638,   1.4637,  34.6935,2,  34.6930,2,    170.4,2,   136.61,2,    34.61,2,     0.00,2,     2.42,2, -999.000,9, -999.000,9,   2309.4,2,   2409.8,2,   7.6037,6,    25.00,  -999.00,9,  -999.00,9,   1.4637,     1222
  49UP20130619,  P03W,    90,  1,      4,     77,2,20130828,1200, 24.0080, 165.0142, 6046,   5347.6,   1.4723,   1.4725,  34.6954,2,  34.6958,2,    174.3,2,   134.28,2,    34.34,2,     0.00,2,     2.40,2,    0.019,4,    0.008,4,   2302.3,3,   2405.4,2,   7.6072,2,    25.00,  -999.00,9,  -999.00,9,   1.4725,     1217
  49UP20130619,  P03W,    90,  1,      3,    104,2,20130828,1200, 24.0080, 165.0142, 6046,   5607.3,   1.4877,   1.4878,  34.6968,2,  34.6965,2,    176.7,2,   133.12,2,    34.21,2,     0.00,2,     2.39,2,    0.001,4,    0.000,4,   2305.4,2,   2403.9,2,   7.6060,2,    25.00,  -999.00,9,  -999.00,9,   1.4878,     1212
  49UP20130619,  P03W,    90,  1,      2,     75,2,20130828,1200, 24.0080, 165.0142, 6046,   5864.6,   1.5140,   1.5141,  34.6975,2,  34.6968,2,    177.8,2,   132.14,2,    34.09,2,     0.00,2,     2.39,2,    0.000,4,    0.000,4,   2303.4,2,   2401.9,2,   7.6108,2,    25.00,  -999.00,9,  -999.00,9,   1.5141,     1207
  49UP20130619,  P03W,    90,  1,      1,    997,2,20130828,1200, 24.0080, 165.0142, 6046,   6126.5,   1.5441,   1.5441,  34.6980,2,  34.6973,6,    177.8,6,   132.00,6,    34.10,6,     0.00,6,     2.38,6,    0.027,4,    0.003,4,   2299.4,2,   2401.5,2,   7.6089,2,    25.00,  -999.00,9,  -999.00,9,   1.5441,     1201