BOTTLE,20180830PRINUNIVRMK
EXPOCODE,SECT_ID,STNNBR,CASTNO,SAMPNO,BTLNBR,BTLNBR_FLAG_W,DATE,TIME,LATITUDE,LONGITUDE,DEPTH,CTDPRS,CTDTMP,SBE35,CTDSAL,CTDSAL_FLAG_W,SALNTY,SALNTY_FLAG_W,OXYGEN,OXYGEN_FLAG_W,SILCAT,SILCAT_FLAG_W,NITRAT,NITRAT_FLAG_W,NITRIT,NITRIT_FLAG_W,PHSPHT,PHSPHT_FLAG_W,CFC-11,CFC-11_FLAG_W,CFC-12,CFC-12_FLAG_W,TCARBN,TCARBN_FLAG_W,ALKALI,ALKALI_FLAG_W,PH_TOT,PH_TOT_FLAG_W,PH_TMP,CHLORA,CHLORA_FLAG_W,PPHYTN,PPHYTN_FLAG_W,SBE35,BTL_TIME
,,,,,,,,,,,METERS,DBAR,ITS-90,,PSS-78,,PSS-78,,UMOL/KG,,UMOL/KG,,UMOL/KG,,UMOL/KG,,UMOL/KG,,PMOL/KG,,PMOL/KG,,UMOL/KG,,UMOL/KG,,,,DEG C,UG/KG,,UG/KG,,,
  49UP20130619,  P03W,    64,  1,      0,   -999,0,20130806,1701, 24.2518, 143.6430, 8518,      0.0,  30.1380,-999.0000,  34.7083,2,  34.7137,2,    193.6,2,     0.97,3,     0.00,3,     0.00,3,     0.02,3, -999.000,9, -999.000,9,   1943.6,2,   2282.8,2,   8.1186,2,    25.00,     0.05,2,     0.02,2,-999.0000,     1908
  49UP20130619,  P03W,    64,  1,     36,    109,2,20130806,1701, 24.2518, 143.6430, 8518,     10.9,  30.0734,  30.0696,  34.7013,2,  34.7033,2,    194.2,2,     1.09,3,     0.00,3,     0.00,3,     0.01,3,    1.748,3,    0.862,3,   1944.5,2,   2280.7,2,   8.1179,2,    25.00,     0.05,2,     0.01,2,  30.0696,     1931
  49UP20130619,  P03W,    64,  1,     35,    112,2,20130806,1701, 24.2518, 143.6430, 8518,     50.6,  25.8713,  25.8739,  34.8473,2,  34.8671,4,    217.6,2,     1.23,3,     0.00,3,     0.00,3,     0.00,3,    2.524,3,    1.025,3,   1973.6,2,   2293.6,2,   8.0946,2,    25.00,     0.08,2,     0.03,2,  25.8739,     1926
  49UP20130619,  P03W,    64,  1,     34,     83,2,20130806,1701, 24.2518, 143.6430, 8518,    100.8,  21.8844,  21.8801,  34.8781,2,  34.8802,2,    223.0,2,     1.67,3,     0.00,3,     0.00,3,     0.00,3,    2.423,3,    1.167,3,   1989.1,2,   2295.0,2,   8.0588,2,    25.00,     0.23,2,     0.18,2,  21.8801,     1924
  49UP20130619,  P03W,    64,  1,     33,     86,2,20130806,1701, 24.2518, 143.6430, 8518,    151.2,  19.9520,  19.9510,  34.9184,2,  34.9112,2,    207.9,2,     1.93,3,     0.79,3,     0.03,3,     0.08,3,    2.203,2,    1.231,2,   2024.5,2,   2295.2,2,   8.0119,2,    25.00,     0.09,2,     0.26,2,  19.9510,     1922
  49UP20130619,  P03W,    64,  1,     32,    105,2,20130806,1701, 24.2518, 143.6430, 8518,    201.4,  18.6129,  18.6132,  34.8037,2,  34.8024,2,    208.9,6,     2.71,3,     2.25,3,     0.01,3,     0.16,3,    2.317,2,    1.319,2,   2023.2,2,   2290.3,2,   7.9907,2,    25.00,     0.03,2,     0.07,2,  18.6132,     1920
  49UP20130619,  P03W,    64,  1,     31,     76,2,20130806,1701, 24.2518, 143.6430, 8518,    252.0,  17.5601,  17.5662,  34.7319,2,  34.7316,6,    210.9,2,     3.47,3,     3.66,3,     0.00,3,     0.24,3,    2.383,2,    1.344,2,   2029.1,6,   2286.4,6,   7.9734,2,    25.00,  -999.00,9,  -999.00,9,  17.5662,     1918
  49UP20130619,  P03W,    64,  1,     30,     97,2,20130806,1701, 24.2518, 143.6430, 8518,    280.5,  17.3006,  17.2905,  34.7157,2,  34.7142,2,    209.3,2,     3.97,3,     4.28,3,     0.00,3,     0.29,3,    2.185,3,    1.176,3,   2035.0,2,   2284.2,2,   7.9647,6,    25.00,  -999.00,9,  -999.00,9,  17.2905,     1916
  49UP20130619,  P03W,    64,  1,     29,    102,2,20130806,1701, 24.2518, 143.6430, 8518,    371.8,  15.4113,  15.4108,  34.5776,2,  34.5659,4,    192.2,2,     8.91,3,     8.84,3,     0.00,3,     0.62,3,    2.560,2,    1.458,2,   2068.7,2,   2279.6,2,   7.8906,2,    25.00,  -999.00,9,  -999.00,9,  15.4108,     1913
  49UP20130619,  P03W,    64,  1,     28,     91,2,20130806,1701, 24.2518, 143.6430, 8518,    472.5,  12.2930,  12.2934,  34.3383,2,  34.3301,4,    189.7,2,    16.00,3,    13.81,3,     0.00,3,     1.00,3,    2.796,2,    1.536,2,   2104.1,2,   2276.8,2,   7.7947,2,    25.00,  -999.00,9,  -999.00,9,  12.2934,     1911
  49UP20130619,  P03W,    64,  1,     27,    998,2,20130806,1701, 24.2518, 143.6430, 8518,    575.0,   9.0894,   9.0893,  34.1600,2,  34.1606,2,    157.9,2,    33.16,3,    22.29,3,     0.00,3,     1.62,3,    2.564,2,    1.315,2,   2163.1,2,   2279.1,2,   7.6653,2,    25.00,  -999.00,9,  -999.00,9,   9.0893,     1908
  49UP20130619,  P03W,    64,  1,     26,     84,2,20130806,1701, 24.2518, 143.6430, 8518,    674.6,   7.5226,   7.5213,  34.1231,2,  34.1221,2,    123.8,2,    49.37,3,    28.45,3,     0.00,3,     2.07,3,    1.943,6,    0.954,6,   2210.6,2,   2293.5,2,   7.5656,2,    25.00,  -999.00,9,  -999.00,9,   7.5213,     1905
  49UP20130619,  P03W,    64,  1,     25,     98,2,20130806,1701, 24.2518, 143.6430, 8518,    776.1,   5.7893,   5.7873,  34.1398,2,  34.1418,2,     82.9,2,    73.08,3,    35.24,3,     0.00,3,     2.56,3,    1.103,2,    0.527,2,   2274.1,2,   2312.6,2,   7.4595,2,    25.00,  -999.00,9,  -999.00,9,   5.7873,     1902
  49UP20130619,  P03W,    64,  1,     24,    110,2,20130806,1701, 24.2518, 143.6430, 8518,    877.8,   5.0288,   5.0284,  34.2496,2,  34.2506,2,     58.4,2,    88.97,3,    38.75,3,     0.00,3,     2.81,3,    0.442,2,    0.211,2,   2305.9,2,   2335.7,2,   7.4164,2,    25.00,  -999.00,9,  -999.00,9,   5.0284,     1900
  49UP20130619,  P03W,    64,  1,     23,     96,2,20130806,1701, 24.2518, 143.6430, 8518,    978.3,   4.5655,   4.5653,  34.3380,2,  34.3393,2,     54.1,2,    99.76,3,    39.92,3,     0.00,3,     2.89,3,    0.247,2,    0.115,2,   2322.1,2,   2353.2,2,   7.4129,2,    25.00,  -999.00,9,  -999.00,9,   4.5653,     1857
  49UP20130619,  P03W,    64,  1,     22,    111,2,20130806,1701, 24.2518, 143.6430, 8518,   1141.6,   3.7705,   3.7703,  34.4301,2,  34.4309,2,     58.0,2,   116.39,3,    40.55,3,     0.00,3,     2.92,3,    0.121,2,    0.048,2,   2340.7,2,   2372.5,2,   7.4219,2,    25.00,  -999.00,9,  -999.00,9,   3.7703,     1853
  49UP20130619,  P03W,    64,  1,     21,     78,2,20130806,1701, 24.2518, 143.6430, 8518,   1342.8,   3.0097,   3.0084,  34.4807,2,  34.4816,6,     63.0,6,   134.09,3,    40.94,3,     0.00,3,     2.93,3,    0.057,2,    0.009,2,   2354.1,2,   2392.1,2,   7.4241,2,    25.00,  -999.00,9,  -999.00,9,   3.0084,     1848
  49UP20130619,  P03W,    64,  1,     20,     93,2,20130806,1701, 24.2518, 143.6430, 8518,   1546.7,   2.6033,   2.6030,  34.5346,2,  34.5347,2,     76.9,2,   140.43,3,    40.26,3,     0.00,3,     2.87,3,    0.030,2,    0.000,2,   2355.4,6,   2400.2,6,   7.4514,2,    25.00,  -999.00,9,  -999.00,9,   2.6030,     1843
  49UP20130619,  P03W,    64,  1,     19,     92,2,20130806,1701, 24.2518, 143.6430, 8518,   1748.7,   2.3544,   2.3541,  34.5686,2,  34.5677,2,     88.8,2,   142.86,3,    39.63,3,     0.00,3,     2.82,3,    0.063,2,    0.017,2,   2353.9,2,   2408.2,2,   7.4737,6,    25.00,  -999.00,9,  -999.00,9,   2.3541,     1839
  49UP20130619,  P03W,    64,  1,     18,    101,2,20130806,1701, 24.2518, 143.6430, 8518,   1952.3,   2.0977,   2.0978,  34.5962,2,  34.5975,2,     98.8,2,   146.84,3,    39.25,3,     0.00,3,     2.78,3,    0.052,2,    0.000,2,   2351.6,2,   2413.2,2,   7.4937,2,    25.00,  -999.00,9,  -999.00,9,   2.0978,     1834
  49UP20130619,  P03W,    64,  1,     17,     90,2,20130806,1701, 24.2518, 143.6430, 8518,   2154.4,   1.9513,   1.9513,  34.6126,2,  34.6134,2,    106.1,2,   148.56,3,    38.80,3,     0.00,3,     2.75,3, -999.000,9, -999.000,9,   2350.8,2,   2416.5,2,   7.5046,2,    25.00,  -999.00,9,  -999.00,9,   1.9513,     1829
  49UP20130619,  P03W,    64,  1,     16,     89,2,20130806,1701, 24.2518, 143.6430, 8518,   2358.9,   1.8529,   1.8530,  34.6306,2,  34.6320,2,    114.3,2,   148.49,3,    38.33,3,     0.00,3,     2.71,3, -999.000,9, -999.000,9,   2346.6,2,   2418.9,2,   7.5195,2,    25.00,  -999.00,9,  -999.00,9,   1.8530,     1824
  49UP20130619,  P03W,    64,  1,     15,     88,2,20130806,1701, 24.2518, 143.6430, 8518,   2563.8,   1.7792,   1.7794,  34.6388,2,  34.6399,2,    119.2,2,   148.93,3,    38.06,3,     0.00,3,     2.68,3, -999.000,9, -999.000,9,   2351.2,3,   2415.6,3,   7.5307,2,    25.00,  -999.00,9,  -999.00,9,   1.7794,     1820
  49UP20130619,  P03W,    64,  1,     14,    999,2,20130806,1701, 24.2518, 143.6430, 8518,   2766.9,   1.6913,   1.6913,  34.6503,2,  34.6534,4,    126.4,2,   149.02,3,    37.59,3,     0.00,3,     2.65,3, -999.000,9, -999.000,9,   2342.2,2,   2421.1,2,   7.5375,2,    25.00,  -999.00,9,  -999.00,9,   1.6913,     1815
  49UP20130619,  P03W,    64,  1,     13,    667,2,20130806,1701, 24.2518, 143.6430, 8518,   2970.0,   1.6378,   1.6378,  34.6571,2,  34.6576,2,    132.0,3,   149.12,3,    37.33,3,     0.00,3,     2.63,3, -999.000,9, -999.000,9,   2340.3,2,   2422.4,2,   7.5467,2,    25.00,  -999.00,9,  -999.00,9,   1.6378,     1810
  49UP20130619,  P03W,    64,  1,     12,     74,2,20130806,1701, 24.2518, 143.6430, 8518,   3217.5,   1.5731,   1.5731,  34.6649,2,  34.6658,2,    136.1,2,   149.47,3,    37.01,3,     0.00,3,     2.61,3, -999.000,9, -999.000,9,   2336.5,2,   2422.8,2,   7.5564,2,    25.00,  -999.00,9,  -999.00,9,   1.5731,     1805
  49UP20130619,  P03W,    64,  1,     11,    996,2,20130806,1701, 24.2518, 143.6430, 8518,   3470.8,   1.5458,   1.5461,  34.6701,2,  34.6698,6,    139.9,2,   148.89,3,    36.77,3,     0.00,3,     2.59,3, -999.000,9, -999.000,9,   -999.0,9,   -999.0,9,-999.0000,9,  -999.00,  -999.00,9,  -999.00,9,   1.5461,     1759
  49UP20130619,  P03W,    64,  1,     10,    107,2,20130806,1701, 24.2518, 143.6430, 8518,   3726.6,   1.5068,   1.5069,  34.6768,2,  34.6777,2,    147.0,2,   147.00,3,    36.29,3,     0.00,3,     2.54,3, -999.000,9, -999.000,9,   2330.5,2,   2421.2,2,   7.5702,2,    25.00,  -999.00,9,  -999.00,9,   1.5069,     1754
  49UP20130619,  P03W,    64,  1,      9,    108,2,20130806,1701, 24.2518, 143.6430, 8518,   3982.5,   1.4834,   1.4835,  34.6815,2,  34.6818,2,    152.7,2,   145.52,3,    35.99,3,     0.00,3,     2.52,3, -999.000,9, -999.000,9,   -999.0,9,   -999.0,9,-999.0000,9,  -999.00,  -999.00,9,  -999.00,9,   1.4835,     1748
  49UP20130619,  P03W,    64,  1,      8,     81,2,20130806,1701, 24.2518, 143.6430, 8518,   4238.8,   1.4654,   1.4654,  34.6858,2,  34.6867,2,    158.5,6,   142.80,3,    35.57,3,     0.00,3,     2.49,3,    0.035,3,    0.000,2,   2336.4,3,   2416.2,2,   7.5869,2,    25.00,  -999.00,9,  -999.00,9,   1.4654,     1742
  49UP20130619,  P03W,    64,  1,      7,    106,2,20130806,1701, 24.2518, 143.6430, 8518,   4495.6,   1.4684,   1.4685,  34.6882,2,  34.6891,2,    161.8,2,   141.12,3,    35.33,3,     0.00,3,     2.47,3, -999.000,9, -999.000,9,   -999.0,9,   -999.0,9,-999.0000,9,  -999.00,  -999.00,9,  -999.00,9,   1.4685,     1737
  49UP20130619,  P03W,    64,  1,      6,    113,2,20130806,1701, 24.2518, 143.6430, 8518,   4752.5,   1.4814,   1.4815,  34.6899,2,  34.6901,2,    164.5,2,   139.80,3,    35.14,3,     0.00,3,     2.46,3, -999.000,9, -999.000,9,   2318.4,6,   2414.3,6,   7.5975,2,    25.00,  -999.00,9,  -999.00,9,   1.4815,     1731
  49UP20130619,  P03W,    64,  1,      5,     94,2,20130806,1701, 24.2518, 143.6430, 8518,   5010.5,   1.4944,   1.4944,  34.6915,2,  34.6918,2,    167.1,2,   137.91,3,    34.93,3,     0.00,3,     2.44,3, -999.000,9, -999.000,9,   -999.0,9,   -999.0,9,-999.0000,9,  -999.00,  -999.00,9,  -999.00,9,   1.4944,     1725
  49UP20130619,  P03W,    64,  1,      4,     77,2,20130806,1701, 24.2518, 143.6430, 8518,   5268.4,   1.5158,   1.5158,  34.6926,2,  34.6930,2,    168.6,2,   136.93,3,    34.79,3,     0.00,3,     2.43,3, -999.000,9, -999.000,9,   2312.9,2,   2411.4,2,   7.6028,6,    25.00,  -999.00,9,  -999.00,9,   1.5158,     1720
  49UP20130619,  P03W,    64,  1,      3,    104,3,20130806,1701, 24.2518, 143.6430, 8518,   5525.9,   1.5440,   1.5442,  34.6931,2,  34.6936,2,    169.5,2,   136.57,3,    34.79,3,     0.00,3,     2.43,3, -999.000,9, -999.000,9,   -999.0,9,   -999.0,9,-999.0000,9,  -999.00,  -999.00,9,  -999.00,9,   1.5442,     1715
  49UP20130619,  P03W,    64,  1,      2,     75,2,20130806,1701, 24.2518, 143.6430, 8518,   5783.1,   1.5726,   1.5726,  34.6936,2,  34.6939,2,    170.8,2,   135.65,3,    34.63,3,     0.00,3,     2.42,3, -999.000,9, -999.000,9,   2311.1,2,   2411.2,2,   7.6001,2,    25.00,  -999.00,9,  -999.00,9,   1.5726,     1709
  49UP20130619,  P03W,    64,  1,      1,    997,2,20130806,1701, 24.2518, 143.6430, 8518,   6128.0,   1.6164,   1.6164,  34.6940,2,  34.6936,6,    170.5,6,   135.60,3,    34.69,3,     0.00,3,     2.43,3,    0.036,3,    0.002,2,   2309.6,2,   2411.8,2,   7.6010,2,    25.00,  -999.00,9,  -999.00,9,   1.6164,     1702