BOTTLE,20180830PRINUNIVRMK
EXPOCODE,SECT_ID,STNNBR,CASTNO,SAMPNO,BTLNBR,BTLNBR_FLAG_W,DATE,TIME,LATITUDE,LONGITUDE,DEPTH,CTDPRS,CTDTMP,SBE35,CTDSAL,CTDSAL_FLAG_W,SALNTY,SALNTY_FLAG_W,OXYGEN,OXYGEN_FLAG_W,SILCAT,SILCAT_FLAG_W,NITRAT,NITRAT_FLAG_W,NITRIT,NITRIT_FLAG_W,PHSPHT,PHSPHT_FLAG_W,CFC-11,CFC-11_FLAG_W,CFC-12,CFC-12_FLAG_W,TCARBN,TCARBN_FLAG_W,ALKALI,ALKALI_FLAG_W,PH_TOT,PH_TOT_FLAG_W,PH_TMP,CHLORA,CHLORA_FLAG_W,PPHYTN,PPHYTN_FLAG_W,SBE35,BTL_TIME
,,,,,,,,,,,METERS,DBAR,ITS-90,,PSS-78,,PSS-78,,UMOL/KG,,UMOL/KG,,UMOL/KG,,UMOL/KG,,UMOL/KG,,PMOL/KG,,PMOL/KG,,UMOL/KG,,UMOL/KG,,,,DEG C,UG/KG,,UG/KG,,,
  49UP20130619,  P03W,    24,  1,      0,   -999,0,20130625,2205, 27.8030, 127.8015,  911,      0.0,  27.4367,-999.0000,  34.1962,2,  34.1817,2,    201.4,2,     1.64,2,     0.01,2,     0.00,2,     0.04,2, -999.000,9, -999.000,9,   1932.7,2,   2249.0,2,   8.0830,2,    25.00,     0.18,2,     0.05,2,-999.0000,     2210
  49UP20130619,  P03W,    24,  1,     33,     86,2,20130625,2205, 27.8030, 127.8015,  911,     10.3,  27.4365,  27.4349,  34.1938,2,  34.1953,2,    201.7,2,     1.69,2,     0.00,2,     0.00,2,     0.02,2,    1.674,2,    0.974,2,   1930.8,2,   2252.0,2,   8.0805,2,    25.00,     0.16,2,     0.05,2,  27.4349,     2239
  49UP20130619,  P03W,    24,  1,     32,    105,2,20130625,2205, 27.8030, 127.8015,  911,     50.4,  23.9138,  23.9171,  34.6064,2,  34.5989,4,    211.2,2,     1.65,2,    -0.01,2,     0.01,2,     0.04,2,    1.967,2,    1.109,2,   1968.9,2,   2276.0,2,   8.0601,2,    25.00,     0.29,2,     0.18,2,  23.9171,     2235
  49UP20130619,  P03W,    24,  1,     31,     76,2,20130625,2205, 27.8030, 127.8015,  911,     99.2,  21.6751,  21.6746,  34.7576,2,  34.7577,2,    211.2,2,     1.56,2,     0.07,2,     0.08,2,     0.05,2, -999.000,5, -999.000,5,   1993.8,2,   2285.5,2,   8.0394,2,    25.00,     0.25,2,     0.35,2,  21.6746,     2233
  49UP20130619,  P03W,    24,  1,     28,     91,2,20130625,2205, 27.8030, 127.8015,  911,    150.1,  20.7470,  20.7433,  34.8196,2,  34.8189,2,    202.2,2,     1.92,2,     0.92,2,     0.15,2,     0.11,2,    2.010,2,    1.222,2,   2010.9,2,   2288.7,2,   8.0132,2,    25.00,     0.09,2,     0.23,2,  20.7433,     2231
  49UP20130619,  P03W,    24,  1,     27,    998,2,20130625,2205, 27.8030, 127.8015,  911,    201.5,  18.9607,  18.9609,  34.7882,2,  34.7860,2,    196.5,6,     3.04,6,     3.48,6,     0.01,6,     0.25,6,    2.094,2,    1.308,2,   2026.4,2,   2288.7,2,   7.9756,2,    25.00,     0.02,2,     0.03,2,  18.9609,     2229
  49UP20130619,  P03W,    24,  1,     26,     84,2,20130625,2205, 27.8030, 127.8015,  911,    251.3,  18.0338,  18.0320,  34.7484,2,  34.7464,2,    196.4,2,     3.82,2,     4.62,2,     0.01,2,     0.32,2,    2.179,2,    1.368,2,   2036.9,2,   2284.2,2,   7.9555,2,    25.00,  -999.00,9,  -999.00,9,  18.0320,     2227
  49UP20130619,  P03W,    24,  1,     18,    101,2,20130625,2205, 27.8030, 127.8015,  911,    301.4,  17.0709,  17.0777,  34.6918,2,  34.6923,2,    190.1,2,     5.39,2,     6.49,2,     0.01,2,     0.45,2,    2.301,6,    1.390,6,   2055.4,2,   2283.9,2,   7.9226,2,    25.00,  -999.00,9,  -999.00,9,  17.0777,     2225
  49UP20130619,  P03W,    24,  1,     17,     90,2,20130625,2205, 27.8030, 127.8015,  911,    405.7,  14.7747,  14.7776,  34.5429,2,  34.5455,6,    181.6,2,    11.35,2,    10.77,2,     0.01,2,     0.76,2,    2.470,2,    1.469,2,   -999.0,9,   -999.0,9,-999.0000,9,  -999.00,  -999.00,9,  -999.00,9,  14.7776,     2221
  49UP20130619,  P03W,    24,  1,     16,     89,2,20130625,2205, 27.8030, 127.8015,  911,    405.7,  14.7747,  14.7776,  34.5429,2,  34.5453,2,    181.6,2,    11.37,2,    10.77,2,     0.01,2,     0.75,2,    2.458,2,    1.459,2,   2085.1,2,   2280.8,2,   7.8561,2,    25.00,  -999.00,9,  -999.00,9,  14.7776,     2221
  49UP20130619,  P03W,    24,  1,     12,     74,2,20130625,2205, 27.8030, 127.8015,  911,    504.0,  12.0613,  12.0578,  34.3965,2,  34.3976,2,    159.2,2,    25.08,2,    17.23,2,     0.00,2,     1.24,2,    2.310,2,    1.315,2,   2130.4,2,   2284.9,2,   7.7543,2,    25.00,  -999.00,9,  -999.00,9,  12.0578,     2218
  49UP20130619,  P03W,    24,  1,     11,    996,2,20130625,2205, 27.8030, 127.8015,  911,    605.0,   9.8199,   9.8197,  34.3242,2,  34.3244,2,    136.2,2,    42.74,2,    23.34,2,     0.00,2,     1.69,2,    1.924,2,    1.064,2,   2179.2,2,   2297.9,2,   7.6634,2,    25.00,  -999.00,9,  -999.00,9,   9.8197,     2212
  49UP20130619,  P03W,    24,  1,     10,    107,3,20130625,2205, 27.8030, 127.8015,  911,    706.6,   7.3471,   7.3498,  34.2744,2,  34.2742,2,    112.8,2,    65.54,2,    29.69,2,     0.00,2,     2.15,2,    1.446,6,    0.771,6,   2232.7,2,   2313.5,2,   7.5681,2,    25.00,  -999.00,9,  -999.00,9,   7.3498,     2209
  49UP20130619,  P03W,    24,  1,      3,    104,2,20130625,2205, 27.8030, 127.8015,  911,    805.5,   6.0491,   6.0464,  34.3118,2,  34.3126,2,     92.8,6,    83.84,6,    33.57,6,     0.00,6,     2.43,6,    0.934,2,    0.517,2,   2273.1,2,   2336.5,2,   7.5074,2,    25.00,  -999.00,9,  -999.00,9,   6.0464,     2207
  49UP20130619,  P03W,    24,  1,      2,     75,2,20130625,2205, 27.8030, 127.8015,  911,    846.0,   5.5837,   5.5829,  34.3322,2,  34.3315,2,     86.3,2,    90.50,2,    34.79,2,     0.00,2,     2.51,2,    0.784,2,    0.436,2,   2285.9,2,   2343.6,2,   7.4869,2,    25.00,  -999.00,9,  -999.00,9,   5.5829,     2205
  49UP20130619,  P03W,    24,  1,      1,    997,2,20130625,2205, 27.8030, 127.8015,  911,    847.3,   5.5751,   5.5749,  34.3329,2,  34.3321,2,     86.2,2,    90.66,2,    34.89,2,     0.00,2,     2.53,2,    0.762,2,    0.410,2,   2284.1,2,   2343.4,2,   7.4878,2,    25.00,  -999.00,9,  -999.00,9,   5.5749,     2205
  49UP20130619,  P03W,    26,  1,      0,   -999,0,20130626,0255, 27.5013, 128.2548, 1040,      0.0,  27.2652,-999.0000,  34.2267,2,  34.2249,2,    203.5,2,     1.61,4,     0.10,4,     0.01,4,     0.34,4, -999.000,9, -999.000,9,   1933.7,2,   2252.4,2,   8.0810,2,    25.00,     0.12,2,     0.03,2,-999.0000,      320
  49UP20130619,  P03W,    26,  1,     33,     86,2,20130626,0255, 27.5013, 128.2548, 1040,     10.2,  27.2559,  27.2591,  34.2266,2,  34.2276,2,    203.3,2,     1.48,4,     0.00,4,     0.00,4,     0.02,4, -999.000,9, -999.000,9,   1936.8,2,   2252.1,2,   8.0816,2,    25.00,     0.12,2,     0.03,2,  27.2591,      338
  49UP20130619,  P03W,    26,  1,     32,    105,2,20130626,0255, 27.5013, 128.2548, 1040,     50.8,  22.8609,  22.8526,  34.6090,2,  34.6214,4,    221.0,2,     1.48,4,     0.02,4,     0.00,4,     0.02,4, -999.000,9, -999.000,9,   1968.7,2,   2274.6,2,   8.0604,2,    25.00,     0.16,2,     0.05,2,  22.8526,      335
  49UP20130619,  P03W,    26,  1,     31,     76,2,20130626,0255, 27.5013, 128.2548, 1040,    100.3,  21.0892,  21.0923,  34.7402,2,  34.7404,2,    209.7,2,     1.87,4,     0.69,4,     0.13,4,     0.08,4, -999.000,9, -999.000,9,   1991.6,2,   2284.0,2,   8.0272,2,    25.00,     0.38,2,     0.48,2,  21.0923,      331
  49UP20130619,  P03W,    26,  1,     25,     98,2,20130626,0255, 27.5013, 128.2548, 1040,    151.9,  19.9439,  19.9474,  34.7803,2,  34.7803,2,    197.6,6,     2.81,4,     2.77,4,     0.03,4,     0.20,4, -999.000,9, -999.000,9,   2015.8,2,   2286.1,2,   7.9911,2,    25.00,     0.04,2,     0.11,2,  19.9474,      328
  49UP20130619,  P03W,    26,  1,     24,    110,2,20130626,0255, 27.5013, 128.2548, 1040,    201.4,  18.9781,  18.9775,  34.7793,2,  34.7786,2,    207.0,2,     2.70,4,     2.49,4,     0.02,4,     0.18,4, -999.000,9, -999.000,9,   2016.1,2,   2285.6,2,   7.9901,2,    25.00,     0.03,2,     0.05,2,  18.9775,      327
  49UP20130619,  P03W,    26,  1,     23,     96,2,20130626,0255, 27.5013, 128.2548, 1040,    251.6,  18.3339,  18.3333,  34.7530,2,  34.7515,2,    200.6,2,     3.68,4,     4.01,4,     0.01,4,     0.27,4, -999.000,9, -999.000,9,   2029.1,2,   2286.6,2,   7.9662,2,    25.00,  -999.00,9,  -999.00,9,  18.3333,      325
  49UP20130619,  P03W,    26,  1,     19,     92,2,20130626,0255, 27.5013, 128.2548, 1040,    301.2,  17.3821,  17.3776,  34.7066,2,-999.0000,9,    191.9,2,     5.43,4,     6.02,4,     0.01,4,     0.42,4, -999.000,9, -999.000,9,   -999.0,9,   -999.0,9,-999.0000,9,  -999.00,  -999.00,9,  -999.00,9,  17.3776,      323
  49UP20130619,  P03W,    26,  1,     18,    101,2,20130626,0255, 27.5013, 128.2548, 1040,    301.2,  17.3821,  17.3776,  34.7066,2,  34.7062,2,    192.0,2,     5.45,4,     6.07,4,     0.01,4,     0.42,4, -999.000,9, -999.000,9,   2043.6,2,   2283.2,2,   7.9307,2,    25.00,  -999.00,9,  -999.00,9,  17.3776,      323
  49UP20130619,  P03W,    26,  1,     17,     90,2,20130626,0255, 27.5013, 128.2548, 1040,    402.5,  14.9486,  14.9475,  34.5599,2,  34.5594,2,    178.7,2,    12.91,4,    11.00,4,     0.01,4,     0.79,4, -999.000,9, -999.000,9,   2080.2,2,   2283.6,2,   7.8591,2,    25.00,  -999.00,9,  -999.00,9,  14.9475,      320
  49UP20130619,  P03W,    26,  1,     16,     89,3,20130626,0255, 27.5013, 128.2548, 1040,    503.7,  12.4415,  12.4412,  34.4236,2,  34.4242,2,    163.6,2,    24.45,4,    16.38,4,     0.00,4,     1.18,4, -999.000,9, -999.000,9,   2121.5,2,   2284.5,2,   7.7715,3,    25.00,  -999.00,9,  -999.00,9,  12.4412,      317
  49UP20130619,  P03W,    26,  1,     12,     74,2,20130626,0255, 27.5013, 128.2548, 1040,    604.9,  10.0600,  10.0649,  34.3308,2,  34.3319,2,    143.9,2,    40.75,4,    22.23,4,     0.01,4,     1.61,4, -999.000,9, -999.000,9,   2168.0,2,   2297.6,2,   7.6824,2,    25.00,  -999.00,9,  -999.00,9,  10.0649,      309
  49UP20130619,  P03W,    26,  1,     11,    996,2,20130626,0255, 27.5013, 128.2548, 1040,    706.5,   7.8568,   7.8567,  34.3024,2,  34.3034,2,    117.0,2,    63.14,4,    28.58,4,     0.00,4,     2.08,4, -999.000,9, -999.000,9,   2221.0,2,   2315.1,2,   7.5894,2,    25.00,  -999.00,9,  -999.00,9,   7.8567,      306
  49UP20130619,  P03W,    26,  1,     10,    107,2,20130626,0255, 27.5013, 128.2548, 1040,    807.1,   6.9988,   6.9984,  34.3046,2,  34.3048,2,    105.3,6,    73.08,4,    31.05,4,     0.00,4,     2.25,4, -999.000,9, -999.000,9,   2247.3,2,   2324.9,2,   7.5496,2,    25.00,  -999.00,9,  -999.00,9,   6.9984,      303
  49UP20130619,  P03W,    26,  1,      5,     94,2,20130626,0255, 27.5013, 128.2548, 1040,    907.5,   6.5013,   6.4991,  34.3057,2,  34.3066,6,     98.8,2,    79.09,4,    32.56,4,     0.00,4,     2.36,4, -999.000,9, -999.000,9,   -999.0,9,   -999.0,9,-999.0000,9,  -999.00,  -999.00,9,  -999.00,9,   6.4991,      300
  49UP20130619,  P03W,    26,  1,      4,     77,2,20130626,0255, 27.5013, 128.2548, 1040,    907.5,   6.5013,   6.4991,  34.3057,2,  34.3063,2,     98.7,2,    79.18,4,    32.58,4,     0.00,4,     2.36,4, -999.000,9, -999.000,9,   2256.9,2,   2330.2,2,   7.5278,2,    25.00,  -999.00,9,  -999.00,9,   6.4991,      300
  49UP20130619,  P03W,    26,  1,      2,     75,2,20130626,0255, 27.5013, 128.2548, 1040,   1008.6,   5.7415,   5.7410,  34.3062,2,  34.3063,2,     91.7,3,    88.41,4,    34.68,4,     0.00,4,     2.50,4, -999.000,9, -999.000,9,   2279.4,2,   2335.7,2,   7.4989,2,    25.00,  -999.00,9,  -999.00,9,   5.7410,      257
  49UP20130619,  P03W,    26,  1,      1,    997,2,20130626,0255, 27.5013, 128.2548, 1040,   1040.8,   5.6535,   5.6526,  34.3063,2,  34.3066,2,     87.4,2,    89.63,4,    34.98,4,     0.00,4,     2.54,4, -999.000,9, -999.000,9,   2286.9,2,   2341.0,2,   7.4915,2,    25.00,  -999.00,9,  -999.00,9,   5.6526,      255
  49UP20130619,  P03W,     3,  1,      0,   -999,0,20130627,0003, 29.9697, 130.6715,  501,      0.0,  24.7242,-999.0000,  34.1846,2,  34.1368,2,    204.0,2,     2.53,2,     0.77,2,     0.05,2,     0.09,2, -999.000,9, -999.000,9,   1945.3,2,   2245.8,2,   8.0575,2,    25.00,     0.35,2,     0.14,2,-999.0000,        5
  49UP20130619,  P03W,     3,  1,     33,     86,2,20130627,0003, 29.9697, 130.6715,  501,     10.5,  24.1432,  24.1148,  34.2516,2,  34.2249,4,    202.0,2,     2.78,2,     1.06,2,     0.08,2,     0.11,2,    2.000,2,    1.081,2,   1956.3,2,   2251.9,2,   8.0477,2,    25.00,     0.32,2,     0.16,2,  24.1148,       23
  49UP20130619,  P03W,     3,  1,     32,    105,2,20130627,0003, 29.9697, 130.6715,  501,     49.9,  19.1685,  19.1702,  34.5053,2,  34.5069,2,    186.6,2,     8.26,2,     6.00,2,     0.07,2,     0.43,2,    2.207,2,    1.229,2,   2030.2,2,   2270.9,2,   7.9506,2,    25.00,     0.08,2,     0.11,2,  19.1702,       20
  49UP20130619,  P03W,     3,  1,     31,     76,2,20130627,0003, 29.9697, 130.6715,  501,    100.3,  17.4605,  17.4376,  34.5492,2,  34.5305,4,    181.0,2,    10.45,2,     7.76,2,     0.03,2,     0.55,2,    2.240,2,    1.268,2,   2052.8,2,   2273.6,2,   7.9159,2,    25.00,     0.04,2,     0.06,2,  17.4376,       18
  49UP20130619,  P03W,     3,  1,     21,     78,2,20130627,0003, 29.9697, 130.6715,  501,    151.3,  15.6375,  15.6360,  34.5368,2,  34.5365,2,    173.9,2,    16.02,2,    10.98,2,     0.02,2,     0.79,2,    2.261,2,    1.262,2,   2078.7,2,   2278.0,2,   7.8647,2,    25.00,     0.01,2,     0.04,2,  15.6360,       16
  49UP20130619,  P03W,     3,  1,     20,     93,2,20130627,0003, 29.9697, 130.6715,  501,    203.4,  14.2589,  14.2615,  34.4924,2,-999.0000,9,    165.5,2,    21.71,2,    13.65,2,     0.02,2,     0.99,2,    2.223,2,    1.227,2,   2100.1,2,   2289.1,2,   7.8227,2,    25.00,  -999.00,9,  -999.00,9,  14.2615,       13
  49UP20130619,  P03W,     3,  1,     19,     92,2,20130627,0003, 29.9697, 130.6715,  501,    203.4,  14.2589,  14.2615,  34.4924,2,  34.4923,2,    165.6,2,    21.66,2,    13.68,2,     0.01,2,     0.99,2,    2.226,2,    1.220,2,   2099.7,2,   2281.3,3,   7.8200,2,    25.00,     0.01,2,     0.04,2,  14.2615,       13
  49UP20130619,  P03W,     3,  1,     11,    996,2,20130627,0003, 29.9697, 130.6715,  501,    255.5,  12.8149,  12.8138,  34.4579,2,  34.4580,2,    158.8,2,    25.70,2,    16.26,2,     0.01,2,     1.18,2,    2.246,2,    1.212,2,   2121.3,6,   2293.2,2,   7.7767,2,    25.00,  -999.00,9,  -999.00,9,  12.8138,       11
  49UP20130619,  P03W,     3,  1,     10,    107,2,20130627,0003, 29.9697, 130.6715,  501,    305.8,  10.5563,  10.5740,  34.3808,2,  34.3819,2,    138.8,2,    41.84,2,    21.70,2,     0.01,2,     1.58,2,    1.974,2,    1.053,2,   2172.6,2,   2296.3,2,   7.6930,6,    25.00,  -999.00,9,  -999.00,9,  10.5740,        9
  49UP20130619,  P03W,     3,  1,      3,    104,3,20130627,0003, 29.9697, 130.6715,  501,    403.0,   7.0619,   7.0473,  34.2849,2,  34.2862,2,    104.0,6,    71.91,6,    30.77,6,     0.01,6,     2.24,6,    1.383,6,    0.698,6,   2238.0,2,   2316.9,2,   7.5479,2,    25.00,  -999.00,9,  -999.00,9,   7.0473,        5
  49UP20130619,  P03W,     3,  1,      2,     75,2,20130627,0003, 29.9697, 130.6715,  501,    483.3,   6.3882,   6.3979,  34.2830,2,  34.2832,2,     95.6,2,    79.61,2,    32.63,2,     0.01,2,     2.37,2,    1.148,2,    0.599,2,   2256.8,2,   2320.3,3,   7.5179,2,    25.00,  -999.00,9,  -999.00,9,   6.3979,        3
  49UP20130619,  P03W,     3,  1,      1,    997,2,20130627,0003, 29.9697, 130.6715,  501,    483.3,   6.3882,   6.3979,  34.2830,2,  34.2833,6,     95.5,2,    79.47,2,    32.58,2,     0.01,2,     2.37,2,    1.177,2,    0.598,2,   2258.6,2,   2330.0,2,   7.5170,2,    25.00,  -999.00,9,  -999.00,9,   6.3979,        3
  49UP20130619,  P03W,     6,  1,      0,   -999,0,20130627,0620, 29.5377, 130.3895,  394,      0.0,  27.3563,-999.0000,  34.1409,2,  34.1729,2,    202.2,2,     1.77,2,     0.02,2,     0.01,2,     0.04,2, -999.000,9, -999.000,9,   1934.4,2,   2244.9,2,   8.0862,2,    25.00,     0.46,2,     0.18,2,-999.0000,      623
  49UP20130619,  P03W,     6,  1,     30,     97,3,20130627,0620, 29.5377, 130.3895,  394,     10.0,  27.3486,  27.3484,  34.1492,2,  34.1515,2,    201.4,2,     1.69,2,     0.03,2,     0.01,2,     0.03,2, -999.000,9, -999.000,9,   1933.2,2,   2244.9,2,   8.0874,2,    25.00,     0.47,2,     0.19,2,  27.3484,      638
  49UP20130619,  P03W,     6,  1,     29,    102,2,20130627,0620, 29.5377, 130.3895,  394,     50.8,  26.3385,  26.3377,  34.3473,2,  34.3417,2,    202.1,6,     1.77,6,     0.12,6,     0.04,6,     0.05,6, -999.000,9, -999.000,9,   1945.2,2,   2253.9,2,   8.0716,2,    25.00,     0.32,2,     0.22,2,  26.3377,      636
  49UP20130619,  P03W,     6,  1,     21,     78,2,20130627,0620, 29.5377, 130.3895,  394,    101.7,  22.7101,  22.7130,  34.6778,2,-999.0000,9,    194.3,2,     2.73,2,     1.85,2,     0.10,2,     0.16,2, -999.000,9, -999.000,9,   1992.2,2,   2275.6,2,   8.0321,2,    25.00,  -999.00,9,  -999.00,9,  22.7130,      634
  49UP20130619,  P03W,     6,  1,     20,     93,2,20130627,0620, 29.5377, 130.3895,  394,    101.7,  22.7101,  22.7130,  34.6778,2,  34.6802,2,    193.9,2,     2.56,2,     1.78,2,     0.10,2,     0.16,2, -999.000,9, -999.000,9,   1989.7,2,   2278.1,2,-999.0000,5,    25.00,     0.11,2,     0.17,2,  22.7130,      634
  49UP20130619,  P03W,     6,  1,     19,     92,2,20130627,0620, 29.5377, 130.3895,  394,    152.0,  20.7593,  20.7548,  34.7457,2,  34.7454,2,    190.6,2,     3.64,2,     3.23,2,     0.04,2,     0.24,2, -999.000,9, -999.000,9,   2014.5,6,   2279.9,6,   7.9909,2,    25.00,     0.05,2,     0.09,2,  20.7548,      631
  49UP20130619,  P03W,     6,  1,     11,    996,2,20130627,0620, 29.5377, 130.3895,  394,    201.7,  20.1842,  20.1737,  34.7443,2,  34.7435,2,    189.2,2,     4.22,2,     3.82,2,     0.03,2,     0.28,2, -999.000,9, -999.000,9,   2023.2,2,   2284.6,2,   7.9786,6,    25.00,     0.04,2,     0.08,2,  20.1737,      629
  49UP20130619,  P03W,     6,  1,     10,    107,2,20130627,0620, 29.5377, 130.3895,  394,    251.1,  19.1841,  19.1818,  34.7286,2,  34.7299,2,    187.8,2,     5.40,2,     4.94,2,     0.02,2,     0.35,2, -999.000,9, -999.000,9,   2041.0,2,   2284.7,2,   7.9618,2,    25.00,  -999.00,9,  -999.00,9,  19.1818,      626
  49UP20130619,  P03W,     6,  1,      3,    104,2,20130627,0620, 29.5377, 130.3895,  394,    302.6,  16.9233,  16.9455,  34.6525,2,  34.6522,6,    180.9,2,     9.92,2,     8.17,2,     0.02,2,     0.58,2, -999.000,9, -999.000,9,   2057.7,3,   2278.6,3,   7.9053,2,    25.00,  -999.00,9,  -999.00,9,  16.9455,      624
  49UP20130619,  P03W,     6,  1,      2,     75,2,20130627,0620, 29.5377, 130.3895,  394,    302.6,  16.9233,  16.9455,  34.6525,2,  34.6518,2,    180.9,2,     9.88,2,     8.18,2,     0.02,2,     0.58,2, -999.000,9, -999.000,9,   2061.4,2,   2286.7,2,   7.9057,2,    25.00,  -999.00,9,  -999.00,9,  16.9455,      624
  49UP20130619,  P03W,     6,  1,      1,    997,2,20130627,0620, 29.5377, 130.3895,  394,    397.2,  14.4837,  14.4835,  34.5395,2,  34.5382,2,    168.0,2,    19.39,2,    13.00,2,     0.01,2,     0.93,2, -999.000,9, -999.000,9,   2095.2,2,   2284.4,2,   7.8323,2,    25.00,  -999.00,9,  -999.00,9,  14.4835,      621