BOTTLE,20180830PRINUNIVRMK
EXPOCODE,SECT_ID,STNNBR,CASTNO,SAMPNO,BTLNBR,BTLNBR_FLAG_W,DATE,TIME,LATITUDE,LONGITUDE,DEPTH,CTDPRS,CTDTMP,SBE35,CTDSAL,CTDSAL_FLAG_W,SALNTY,SALNTY_FLAG_W,OXYGEN,OXYGEN_FLAG_W,SILCAT,SILCAT_FLAG_W,NITRAT,NITRAT_FLAG_W,NITRIT,NITRIT_FLAG_W,PHSPHT,PHSPHT_FLAG_W,CFC-11,CFC-11_FLAG_W,CFC-12,CFC-12_FLAG_W,TCARBN,TCARBN_FLAG_W,ALKALI,ALKALI_FLAG_W,PH_TOT,PH_TOT_FLAG_W,PH_TMP,CHLORA,CHLORA_FLAG_W,PPHYTN,PPHYTN_FLAG_W,SBE35,BTL_TIME
,,,,,,,,,,,METERS,DBAR,ITS-90,,PSS-78,,PSS-78,,UMOL/KG,,UMOL/KG,,UMOL/KG,,UMOL/KG,,UMOL/KG,,PMOL/KG,,PMOL/KG,,UMOL/KG,,UMOL/KG,,,,DEG C,UG/KG,,UG/KG,,,
  49UP20130619,  P03W,    89,  1,      0,   -999,0,20130814,2235, 24.0025, 164.9895, 6038,      0.0,  29.2968,-999.0000,  35.2610,2,  35.2653,2,    196.3,2,     0.86,2,     0.00,2,     0.00,2,     0.01,2, -999.000,9, -999.000,9,   1972.4,2,   2319.2,2,   8.1158,2,    25.00,     0.04,2,     0.01,2,-999.0000,       40
  49UP20130619,  P03W,    89,  1,     36,    109,2,20130814,2235, 24.0025, 164.9895, 6038,      9.6,  29.1988,  29.1966,  35.2575,2,  35.2573,2,    196.4,2,     0.91,2,     0.01,2,     0.00,2,     0.01,2,    1.918,3,    0.856,3,   1975.6,2,   2317.9,2,   8.1129,2,    25.00,     0.04,2,     0.01,2,  29.1966,       57
  49UP20130619,  P03W,    89,  1,     35,    112,2,20130814,2235, 24.0025, 164.9895, 6038,     49.9,  25.9504,  25.9499,  35.1922,2,  35.2022,4,    221.2,2,     1.01,2,     0.00,2,     0.00,2,     0.01,2,    2.771,3,    1.029,3,   1978.2,2,   2316.3,2,   8.1066,2,    25.00,     0.07,2,     0.01,2,  25.9499,       53
  49UP20130619,  P03W,    89,  1,     34,     83,2,20130814,2235, 24.0025, 164.9895, 6038,    101.2,  22.0041,  22.0220,  35.1093,2,  35.1094,6,    216.6,2,     1.46,2,     0.04,2,     0.00,2,     0.02,2,    2.336,3,    1.153,3,   2002.5,2,   2311.5,2,   8.0556,2,    25.00,     0.14,2,     0.08,2,  22.0220,       51
  49UP20130619,  P03W,    89,  1,     33,    517,2,20130814,2235, 24.0025, 164.9895, 6038,    150.8,  18.8824,  18.8788,  34.8258,2,  34.8255,2,    212.4,2,     2.32,2,     1.12,2,     0.03,2,     0.11,2,    2.298,2,    1.302,2,   2022.9,2,   2292.3,2,   7.9973,2,    25.00,     0.08,2,     0.26,2,  18.8788,       49
  49UP20130619,  P03W,    89,  1,     32,    105,2,20130814,2235, 24.0025, 164.9895, 6038,    201.2,  17.5273,  17.5281,  34.7245,2,  34.7246,2,    212.2,2,     3.23,2,     3.27,2,     0.01,2,     0.23,2,    2.380,2,    1.339,2,   2032.4,6,   2286.1,6,   7.9719,2,    25.00,     0.01,2,     0.03,2,  17.5281,       47
  49UP20130619,  P03W,    89,  1,     31,     76,2,20130814,2235, 24.0025, 164.9895, 6038,    251.2,  16.7206,  16.7195,  34.6795,2,  34.6794,2,    208.6,2,     4.51,2,     5.17,2,     0.00,2,     0.35,2,    2.417,2,    1.385,2,   2041.7,2,   2284.6,2,   7.9504,6,    25.00,  -999.00,9,  -999.00,9,  16.7195,       45
  49UP20130619,  P03W,    89,  1,     30,     97,2,20130814,2235, 24.0025, 164.9895, 6038,    302.6,  15.6777,  15.6795,  34.5983,2,  34.5969,2,    210.3,2,     6.53,2,     6.60,2,     0.00,2,     0.45,2,    2.542,6,    1.435,6,   2051.0,2,   2283.2,2,   7.9269,2,    25.00,  -999.00,9,  -999.00,9,  15.6795,       44
  49UP20130619,  P03W,    89,  1,     29,    102,2,20130814,2235, 24.0025, 164.9895, 6038,    403.0,  12.6370,  12.6373,  34.3713,2,  34.3683,2,    198.8,6,    14.30,6,    12.41,6,     0.00,6,     0.88,6,    2.849,2,    1.561,2,   2091.9,2,   2277.7,2,   7.8265,2,    25.00,  -999.00,9,  -999.00,9,  12.6373,       41
  49UP20130619,  P03W,    89,  1,     28,     91,2,20130814,2235, 24.0025, 164.9895, 6038,    503.6,   9.6496,   9.6540,  34.1700,2,  34.1698,2,    175.5,2,    27.58,2,    19.76,2,     0.00,2,     1.42,2,    3.276,4,    2.580,4,   2143.1,2,   2277.4,2,   7.7089,2,    25.00,  -999.00,9,  -999.00,9,   9.6540,       39
  49UP20130619,  P03W,    89,  1,     27,    998,2,20130814,2235, 24.0025, 164.9895, 6038,    604.2,   7.3875,   7.3866,  34.0869,2,  34.0887,6,    128.2,2,    48.43,2,    28.25,2,     0.00,2,     2.05,2,    2.167,6,    1.069,6,   2209.5,2,   2290.7,2,   7.5679,2,    25.00,  -999.00,9,  -999.00,9,   7.3866,       36
  49UP20130619,  P03W,    89,  1,     26,     84,2,20130814,2235, 24.0025, 164.9895, 6038,    706.1,   5.6704,   5.6712,  34.1282,2,  34.1279,2,     77.8,2,    73.96,2,    35.78,2,     0.00,2,     2.60,2,    1.110,2,    0.548,2,   2272.9,2,   2312.4,2,   7.4431,2,    25.00,  -999.00,9,  -999.00,9,   5.6712,       33
  49UP20130619,  P03W,    89,  1,     25,     98,2,20130814,2235, 24.0025, 164.9895, 6038,    806.9,   4.9133,   4.9091,  34.2166,2,  34.2161,2,     52.4,2,    90.97,2,    39.31,2,     0.00,2,     2.86,2,    0.485,2,    0.251,2,   2307.8,2,   2335.0,2,   7.3962,2,    25.00,  -999.00,9,  -999.00,9,   4.9091,       31
  49UP20130619,  P03W,    89,  1,     24,    110,2,20130814,2235, 24.0025, 164.9895, 6038,    908.2,   4.3360,   4.3359,  34.3053,2,  34.3074,2,     43.8,2,   103.70,2,    40.86,2,     0.00,2,     2.97,2,    0.208,6,    0.112,6,   2335.4,2,   2353.0,2,   7.3816,2,    25.00,  -999.00,9,  -999.00,9,   4.3359,       28
  49UP20130619,  P03W,    89,  1,     23,     96,2,20130814,2235, 24.0025, 164.9895, 6038,   1009.4,   3.9339,   3.9334,  34.3793,2,  34.3795,2,     44.2,6,   113.75,6,    41.46,6,     0.00,6,     3.00,6,    0.084,2,    0.049,2,   2343.9,2,   2366.9,2,   7.3941,2,    25.00,  -999.00,9,  -999.00,9,   3.9334,       26
  49UP20130619,  P03W,    89,  1,     22,    111,2,20130814,2235, 24.0025, 164.9895, 6038,   1212.1,   3.2782,   3.2784,  34.4821,2,  34.4816,2,     58.0,2,   127.55,2,    41.12,2,     0.00,2,     2.96,2,    0.027,2,    0.021,2,   2353.6,2,   2390.3,2,   7.4207,2,    25.00,  -999.00,9,  -999.00,9,   3.2784,       21
  49UP20130619,  P03W,    89,  1,     21,     78,2,20130814,2235, 24.0025, 164.9895, 6038,   1414.1,   2.8007,   2.8021,  34.5290,2,  34.5294,2,     67.5,2,   137.34,2,    40.78,2,     0.00,2,     2.93,2,    0.000,2,    0.000,2,   2357.1,2,   2400.4,2,   7.4392,2,    25.00,  -999.00,9,  -999.00,9,   2.8021,       17
  49UP20130619,  P03W,    89,  1,     20,     93,2,20130814,2235, 24.0025, 164.9895, 6038,   1616.3,   2.4182,   2.4182,  34.5696,2,  34.5703,2,     80.9,2,   143.69,2,    40.18,2,     0.00,2,     2.87,2,    0.000,2,    0.000,2,   2359.0,6,   2408.6,6,   7.4617,2,    25.00,  -999.00,9,  -999.00,9,   2.4182,       12
  49UP20130619,  P03W,    89,  1,     19,     92,2,20130814,2235, 24.0025, 164.9895, 6038,   1818.8,   2.1512,   2.1511,  34.5941,2,  34.5947,6,     89.5,2,   148.98,2,    39.81,2,     0.00,2,     2.83,2,    0.012,2,    0.013,2,   2358.7,2,   2413.5,2,   7.4767,6,    25.00,  -999.00,9,  -999.00,9,   2.1511,        8
  49UP20130619,  P03W,    89,  1,     18,    101,2,20130814,2235, 24.0025, 164.9895, 6038,   2022.5,   1.9709,   1.9708,  34.6166,2,  34.6161,2,    100.1,2,   150.37,2,    39.15,2,     0.00,2,     2.78,2,    0.000,2,    0.000,2,   2355.3,2,   2418.2,2,   7.4975,2,    25.00,  -999.00,9,  -999.00,9,   1.9708,        3
  49UP20130619,  P03W,    89,  1,     17,     90,2,20130814,2235, 24.0025, 164.9895, 6038,   2225.5,   1.8392,   1.8393,  34.6344,2,  34.6344,2,    110.2,2,   151.08,2,    38.58,2,     0.00,2,     2.74,2, -999.000,9, -999.000,9,   2354.1,2,   2421.1,2,   7.5146,2,    25.00,  -999.00,9,  -999.00,9,   1.8393,     2359
  49UP20130619,  P03W,    89,  1,     16,     89,2,20130814,2235, 24.0025, 164.9895, 6038,   2429.4,   1.7461,   1.7462,  34.6459,2,  34.6453,2,    117.0,2,   151.10,2,    38.17,2,     0.00,2,     2.70,2, -999.000,9, -999.000,9,   2348.2,2,   2423.3,2,   7.5295,2,    25.00,  -999.00,9,  -999.00,9,   1.7462,     2354
  49UP20130619,  P03W,    89,  1,     15,     88,2,20130814,2235, 24.0025, 164.9895, 6038,   2632.5,   1.6842,   1.6840,  34.6529,2,  34.6527,2,    122.3,2,   151.78,2,    37.88,2,     0.00,2,     2.67,2,    0.000,2,    0.000,2,   2345.9,2,   2424.2,2,   7.5358,2,    25.00,  -999.00,9,  -999.00,9,   1.6840,     2349
  49UP20130619,  P03W,    89,  1,     14,    999,2,20130814,2235, 24.0025, 164.9895, 6038,   2837.6,   1.6354,   1.6354,  34.6588,2,  34.6593,2,    129.2,4,   151.74,2,    37.53,2,     0.00,2,     2.65,2, -999.000,9, -999.000,9,   2342.3,2,   2421.7,2,   7.5474,2,    25.00,  -999.00,9,  -999.00,9,   1.6354,     2345
  49UP20130619,  P03W,    89,  1,     13,    667,2,20130814,2235, 24.0025, 164.9895, 6038,   3040.9,   1.5932,   1.5932,  34.6638,2,  34.6638,2,    132.2,2,   151.48,2,    37.27,2,     0.00,2,     2.63,2,    0.000,2,    0.000,2,   2343.1,2,   2422.7,2,   7.5495,2,    25.00,  -999.00,9,  -999.00,9,   1.5932,     2340
  49UP20130619,  P03W,    89,  1,     12,     74,2,20130814,2235, 24.0025, 164.9895, 6038,   3296.8,   1.5543,   1.5543,  34.6701,2,  34.6699,2,    137.4,2,   150.86,2,    36.93,2,     0.00,2,     2.60,2, -999.000,9, -999.000,9,   2342.5,3,   2426.0,3,   7.5637,2,    25.00,  -999.00,9,  -999.00,9,   1.5543,     2335
  49UP20130619,  P03W,    89,  1,     11,    996,2,20130814,2235, 24.0025, 164.9895, 6038,   3551.9,   1.5264,   1.5264,  34.6745,2,  34.6735,2,    141.3,2,   149.71,2,    36.62,2,     0.00,2,     2.58,2,    0.000,2,    0.000,2,   2333.3,2,   2417.4,3,   7.5684,2,    25.00,  -999.00,9,  -999.00,9,   1.5264,     2330
  49UP20130619,  P03W,    89,  1,     10,    107,2,20130814,2235, 24.0025, 164.9895, 6038,   3807.5,   1.5016,   1.5018,  34.6790,2,  34.6793,2,    147.7,2,   147.86,2,    36.23,2,     0.00,2,     2.54,2, -999.000,9, -999.000,9,   -999.0,9,   -999.0,9,-999.0000,9,  -999.00,  -999.00,9,  -999.00,9,   1.5018,     2324
  49UP20130619,  P03W,    89,  1,      9,    108,2,20130814,2235, 24.0025, 164.9895, 6038,   4064.8,   1.4898,   1.4899,  34.6820,2,  34.6827,2,    151.5,2,   146.26,2,    35.98,2,     0.00,2,     2.53,2,    0.000,2,    0.000,2,   2324.4,6,   2421.3,6,   7.5830,2,    25.00,  -999.00,9,  -999.00,9,   1.4899,     2319
  49UP20130619,  P03W,    89,  1,      8,     81,2,20130814,2235, 24.0025, 164.9895, 6038,   4320.6,   1.4704,   1.4705,  34.6856,2,  34.6862,2,    156.7,6,   144.67,6,    35.56,6,     0.00,6,     2.49,6, -999.000,9, -999.000,9,   -999.0,9,   -999.0,9,-999.0000,9,  -999.00,  -999.00,9,  -999.00,9,   1.4705,     2314
  49UP20130619,  P03W,    89,  1,      7,    106,2,20130814,2235, 24.0025, 164.9895, 6038,   4576.6,   1.4651,   1.4652,  34.6885,2,  34.6876,2,    161.1,2,   142.10,2,    35.25,2,     0.00,2,     2.47,2,    0.000,2,    0.000,2,   2317.9,2,   2418.0,2,   7.5950,6,    25.00,  -999.00,9,  -999.00,9,   1.4652,     2308
  49UP20130619,  P03W,    89,  1,      6,    113,2,20130814,2235, 24.0025, 164.9895, 6038,   4834.4,   1.4595,   1.4596,  34.6914,2,  34.6912,2,    166.8,2,   138.79,2,    34.86,2,     0.00,2,     2.45,2, -999.000,9, -999.000,9,   -999.0,9,   -999.0,9,-999.0000,9,  -999.00,  -999.00,9,  -999.00,9,   1.4596,     2303
  49UP20130619,  P03W,    89,  1,      5,     94,2,20130814,2235, 24.0025, 164.9895, 6038,   5091.2,   1.4619,   1.4618,  34.6938,2,  34.6941,2,    170.9,2,   136.28,2,    34.59,2,     0.00,2,     2.42,2,    0.000,2,    0.000,2,   2306.6,2,   2410.4,2,   7.6034,2,    25.00,  -999.00,9,  -999.00,9,   1.4618,     2258
  49UP20130619,  P03W,    89,  1,      4,     77,2,20130814,2235, 24.0025, 164.9895, 6038,   5350.4,   1.4682,   1.4681,  34.6956,2,  34.6960,2,    174.7,2,   133.89,2,    34.27,2,     0.00,2,     2.40,2, -999.000,9, -999.000,9,   -999.0,9,   -999.0,9,-999.0000,9,  -999.00,  -999.00,9,  -999.00,9,   1.4681,     2252
  49UP20130619,  P03W,    89,  1,      3,    104,2,20130814,2235, 24.0025, 164.9895, 6038,   5607.7,   1.4868,   1.4869,  34.6968,2,  34.6966,2,    176.5,2,   132.81,2,    34.13,2,     0.00,2,     2.39,2,    0.007,2,    0.009,2,   2299.9,2,   2405.4,2,   7.6088,2,    25.00,  -999.00,9,  -999.00,9,   1.4869,     2247
  49UP20130619,  P03W,    89,  1,      2,     75,2,20130814,2235, 24.0025, 164.9895, 6038,   5866.4,   1.5133,   1.5133,  34.6974,2,  34.6972,2,    177.9,2,   132.12,2,    34.04,2,     0.00,2,     2.38,2,    0.009,6,    0.008,6,   -999.0,9,   -999.0,9,-999.0000,9,  -999.00,  -999.00,9,  -999.00,9,   1.5133,     2241
  49UP20130619,  P03W,    89,  1,      1,    997,2,20130814,2235, 24.0025, 164.9895, 6038,   6131.2,   1.5451,   1.5451,  34.6978,2,  34.6973,6,    177.9,6,   131.93,6,    34.08,6,     0.00,6,     2.38,6,    0.006,6,    0.005,6,   2298.2,2,   2402.5,2,   7.6114,2,    25.00,  -999.00,9,  -999.00,9,   1.5451,     2235