BOTTLE,20180830PRINUNIVRMK
EXPOCODE,SECT_ID,STNNBR,CASTNO,SAMPNO,BTLNBR,BTLNBR_FLAG_W,DATE,TIME,LATITUDE,LONGITUDE,DEPTH,CTDPRS,CTDTMP,SBE35,CTDSAL,CTDSAL_FLAG_W,SALNTY,SALNTY_FLAG_W,OXYGEN,OXYGEN_FLAG_W,SILCAT,SILCAT_FLAG_W,NITRAT,NITRAT_FLAG_W,NITRIT,NITRIT_FLAG_W,PHSPHT,PHSPHT_FLAG_W,CFC-11,CFC-11_FLAG_W,CFC-12,CFC-12_FLAG_W,TCARBN,TCARBN_FLAG_W,ALKALI,ALKALI_FLAG_W,PH_TOT,PH_TOT_FLAG_W,PH_TMP,CHLORA,CHLORA_FLAG_W,PPHYTN,PPHYTN_FLAG_W,SBE35,BTL_TIME
,,,,,,,,,,,METERS,DBAR,ITS-90,,PSS-78,,PSS-78,,UMOL/KG,,UMOL/KG,,UMOL/KG,,UMOL/KG,,UMOL/KG,,PMOL/KG,,PMOL/KG,,UMOL/KG,,UMOL/KG,,,,DEG C,UG/KG,,UG/KG,,,
  49UP20130619,  P03W,    81,  1,      0,   -999,0,20130812,1052, 24.2627, 158.4500, 5782,      0.0,  29.6123,-999.0000,  35.3845,2,  35.3816,2,    195.5,2,     0.92,2,     0.00,2,     0.00,2,     0.05,3, -999.000,9, -999.000,9,   1978.5,2,   2321.2,2,   8.1219,2,    25.00,     0.04,2,     0.01,2,-999.0000,     1245
  49UP20130619,  P03W,    81,  1,     36,    109,2,20130812,1052, 24.2627, 158.4500, 5782,     10.0,  29.5225,  29.5183,  35.3789,2,  35.3772,2,    195.7,2,     0.87,2,     0.00,2,     0.00,2,     0.04,3, -999.000,9, -999.000,9,   1975.8,2,   2319.0,2,   8.1214,2,    25.00,     0.03,2,     0.01,2,  29.5183,     1306
  49UP20130619,  P03W,    81,  1,     35,    112,2,20130812,1052, 24.2627, 158.4500, 5782,     50.3,  27.1335,  27.0594,  35.3094,2,  35.3073,2,    217.4,2,     0.90,2,     0.00,2,     0.00,2,     0.06,3, -999.000,9, -999.000,9,   1979.5,2,   2315.6,2,   8.1213,2,    25.00,     0.05,2,     0.01,2,  27.0594,     1303
  49UP20130619,  P03W,    81,  1,     34,     83,2,20130812,1052, 24.2627, 158.4500, 5782,     99.7,  24.2628,  24.2757,  35.2558,2,  35.2550,2,    215.5,2,     0.95,2,     0.00,2,     0.00,2,     0.05,3, -999.000,9, -999.000,9,   1986.8,2,   2315.1,2,   8.0952,2,    25.00,     0.10,2,     0.04,2,  24.2757,     1301
  49UP20130619,  P03W,    81,  1,     33,     86,2,20130812,1052, 24.2627, 158.4500, 5782,    153.3,  22.0239,  21.9984,  35.1075,2,  35.1190,4,    205.9,6,     1.48,6,    -0.01,6,     0.02,6,     0.06,3, -999.000,9, -999.000,9,   2015.6,2,   2305.6,2,   8.0482,2,    25.00,     0.14,2,     0.34,2,  21.9984,     1300
  49UP20130619,  P03W,    81,  1,     32,    105,2,20130812,1052, 24.2627, 158.4500, 5782,    202.4,  19.4615,  19.4777,  34.8846,2,  34.8980,4,    207.5,2,     2.15,2,     1.09,2,     0.02,2,     0.14,3, -999.000,9, -999.000,9,   2025.4,2,   2283.4,2,   8.0048,2,    25.00,     0.03,2,     0.08,2,  19.4777,     1258
  49UP20130619,  P03W,    81,  1,     31,     76,2,20130812,1052, 24.2627, 158.4500, 5782,    251.7,  17.5823,  17.5764,  34.7326,2,  34.7345,2,    206.6,2,     3.40,2,     3.81,2,     0.00,2,     0.30,3, -999.000,9, -999.000,9,   2035.0,2,   2280.7,2,   7.9657,2,    25.00,  -999.00,9,  -999.00,9,  17.5764,     1257
  49UP20130619,  P03W,    81,  1,     30,     97,2,20130812,1052, 24.2627, 158.4500, 5782,    333.2,  16.1029,  16.1021,  34.6291,2,  34.6280,2,    203.6,2,     6.07,2,     6.57,2,     0.00,2,     0.49,3, -999.000,9, -999.000,9,   2055.3,2,   2275.8,2,   7.9261,2,    25.00,  -999.00,9,  -999.00,9,  16.1021,     1255
  49UP20130619,  P03W,    81,  1,     29,    102,2,20130812,1052, 24.2627, 158.4500, 5782,    432.4,  13.1453,  13.1306,  34.3919,2,  34.3949,2,    193.0,2,    12.37,2,    11.74,2,     0.00,2,     0.87,3, -999.000,9, -999.000,9,   2093.4,2,   2268.9,2,   7.8107,2,    25.00,  -999.00,9,  -999.00,9,  13.1306,     1252
  49UP20130619,  P03W,    81,  1,     28,     91,2,20130812,1052, 24.2627, 158.4500, 5782,    534.4,   9.7202,   9.7191,  34.1708,2,  34.1675,2,    162.9,2,    27.89,2,    20.77,2,     0.00,2,     1.54,3, -999.000,9, -999.000,9,   2154.5,2,   2269.3,2,   7.6828,2,    25.00,  -999.00,9,  -999.00,9,   9.7191,     1250
  49UP20130619,  P03W,    81,  1,     27,    998,2,20130812,1052, 24.2627, 158.4500, 5782,    635.1,   7.4409,   7.4399,  34.1064,2,  34.1067,2,    119.0,2,    48.39,2,    28.86,2,     0.00,2,     2.13,3, -999.000,9, -999.000,9,   2213.5,2,   2285.3,2,   7.5550,2,    25.00,  -999.00,9,  -999.00,9,   7.4399,     1247
  49UP20130619,  P03W,    81,  1,     26,     84,2,20130812,1052, 24.2627, 158.4500, 5782,    736.7,   5.8695,   5.8691,  34.1205,2,  34.1209,2,     82.5,2,    70.71,2,    34.87,2,     0.00,2,     2.57,3, -999.000,9, -999.000,9,   2264.3,2,   2304.1,2,   7.4580,2,    25.00,  -999.00,9,  -999.00,9,   5.8691,     1245
  49UP20130619,  P03W,    81,  1,     25,     98,2,20130812,1052, 24.2627, 158.4500, 5782,    837.6,   4.9211,   4.9206,  34.1852,2,  34.1864,2,     58.2,2,    89.27,2,    38.67,2,     0.00,2,     2.83,3, -999.000,9, -999.000,9,   2302.8,2,   2323.3,2,   7.4002,6,    25.00,  -999.00,9,  -999.00,9,   4.9206,     1242
  49UP20130619,  P03W,    81,  1,     24,    110,2,20130812,1052, 24.2627, 158.4500, 5782,    937.5,   4.3262,   4.3261,  34.2851,2,  34.2853,2,     44.3,6,   104.18,6,    40.70,6,     0.00,6,     2.98,3, -999.000,9, -999.000,9,   2325.6,2,   2343.2,2,   7.3821,2,    25.00,  -999.00,9,  -999.00,9,   4.3261,     1240
  49UP20130619,  P03W,    81,  1,     23,     96,2,20130812,1052, 24.2627, 158.4500, 5782,   1080.4,   3.7523,   3.7524,  34.3863,2,  34.3859,2,     43.9,2,   118.13,2,    41.47,2,     0.00,2,     3.01,3, -999.000,9, -999.000,9,   2346.3,2,   2363.2,2,   7.3868,2,    25.00,  -999.00,9,  -999.00,9,   3.7524,     1237
  49UP20130619,  P03W,    81,  1,     22,    111,3,20130812,1052, 24.2627, 158.4500, 5782,   1282.3,   3.1635,   3.1630,  34.4744,2,  34.4746,2,     54.9,2,   131.50,2,    41.26,2,     0.00,2,     2.97,3, -999.000,9, -999.000,9,   2355.6,2,   2381.5,2,   7.4106,2,    25.00,  -999.00,9,  -999.00,9,   3.1630,     1232
  49UP20130619,  P03W,    81,  1,     21,     78,2,20130812,1052, 24.2627, 158.4500, 5782,   1485.4,   2.6880,   2.6863,  34.5326,2,  34.5332,2,     71.0,2,   139.68,2,    40.54,2,     0.00,2,     2.91,3, -999.000,9, -999.000,9,   2357.1,2,   2393.4,2,   7.4395,2,    25.00,  -999.00,9,  -999.00,9,   2.6863,     1228
  49UP20130619,  P03W,    81,  1,     20,     93,2,20130812,1052, 24.2627, 158.4500, 5782,   1687.4,   2.3344,   2.3344,  34.5747,2,  34.5749,2,     85.9,2,   144.60,2,    39.73,2,     0.00,2,     2.85,3, -999.000,9, -999.000,9,   2353.0,2,   2399.5,2,   7.4687,2,    25.00,  -999.00,9,  -999.00,9,   2.3344,     1223
  49UP20130619,  P03W,    81,  1,     19,     92,2,20130812,1052, 24.2627, 158.4500, 5782,   1891.0,   2.0935,   2.0934,  34.6013,2,  34.6007,2,     96.2,2,   147.65,2,    39.24,2,     0.00,2,     2.81,3, -999.000,9, -999.000,9,   2352.1,6,   2406.2,6,   7.4886,2,    25.00,  -999.00,9,  -999.00,9,   2.0934,     1219
  49UP20130619,  P03W,    81,  1,     18,    101,2,20130812,1052, 24.2627, 158.4500, 5782,   2093.4,   1.9203,   1.9201,  34.6206,2,  34.6209,2,    105.6,2,   149.84,2,    38.75,2,     0.00,2,     2.76,4, -999.000,9, -999.000,9,   2352.6,2,   2411.5,2,   7.5073,6,    25.00,  -999.00,9,  -999.00,9,   1.9201,     1214
  49UP20130619,  P03W,    81,  1,     17,     90,2,20130812,1052, 24.2627, 158.4500, 5782,   2298.6,   1.8143,   1.8142,  34.6340,2,  34.6334,2,    112.2,2,   150.73,2,    38.28,2,     0.00,2,     2.74,3, -999.000,9, -999.000,9,   2347.9,2,   2411.0,2,   7.5188,2,    25.00,  -999.00,9,  -999.00,9,   1.8142,     1210
  49UP20130619,  P03W,    81,  1,     16,     89,2,20130812,1052, 24.2627, 158.4500, 5782,   2501.1,   1.7294,   1.7292,  34.6442,2,  34.6446,6,    118.8,2,   150.88,2,    37.92,2,     0.00,2,     2.70,3, -999.000,9, -999.000,9,   2347.5,2,   2414.9,2,   7.5295,2,    25.00,  -999.00,9,  -999.00,9,   1.7292,     1206
  49UP20130619,  P03W,    81,  1,     15,     88,2,20130812,1052, 24.2627, 158.4500, 5782,   2705.3,   1.6611,   1.6611,  34.6532,2,  34.6518,2,    124.9,2,   151.37,2,    37.59,2,     0.00,2,     2.66,3, -999.000,9, -999.000,9,   2345.5,2,   2410.0,3,   7.5399,2,    25.00,  -999.00,9,  -999.00,9,   1.6611,     1201
  49UP20130619,  P03W,    81,  1,     14,    999,2,20130812,1052, 24.2627, 158.4500, 5782,   2907.3,   1.5954,   1.5950,  34.6606,2,  34.6599,2,    131.4,2,   151.04,2,    37.18,2,     0.00,2,     2.63,4, -999.000,9, -999.000,9,   2344.5,2,   2416.7,2,   7.5453,2,    25.00,  -999.00,9,  -999.00,9,   1.5950,     1157
  49UP20130619,  P03W,    81,  1,     13,    667,3,20130812,1052, 24.2627, 158.4500, 5782,   3123.3,   1.5548,   1.5548,  34.6665,2,  34.6654,2,    136.0,2,   150.25,2,    36.93,2,     0.00,2,     2.61,3, -999.000,9, -999.000,9,   2335.6,3,   2418.7,2,   7.5574,2,    25.00,  -999.00,9,  -999.00,9,   1.5548,     1152
  49UP20130619,  P03W,    81,  1,     12,     74,2,20130812,1052, 24.2627, 158.4500, 5782,   3377.9,   1.5179,   1.5174,  34.6720,2,  34.6719,6,    142.2,3,   149.27,2,    36.61,2,     0.00,2,     2.57,3, -999.000,9, -999.000,9,   2337.1,2,   2419.5,2,   7.5652,2,    25.00,  -999.00,9,  -999.00,9,   1.5174,     1146
  49UP20130619,  P03W,    81,  1,     11,    996,2,20130812,1052, 24.2627, 158.4500, 5782,   3634.6,   1.4998,   1.4998,  34.6764,2,  34.6742,4,    145.0,2,   148.39,2,    36.38,2,     0.00,2,     2.56,3, -999.000,9, -999.000,9,   2331.0,6,   2418.0,2,   7.5720,2,    25.00,  -999.00,9,  -999.00,9,   1.4998,     1141
  49UP20130619,  P03W,    81,  1,     10,    107,2,20130812,1052, 24.2627, 158.4500, 5782,   3890.7,   1.4792,   1.4791,  34.6805,2,  34.6800,2,    150.7,6,   147.05,6,    35.98,6,     0.00,6,     2.53,3, -999.000,9, -999.000,9,   -999.0,9,   -999.0,9,-999.0000,9,  -999.00,  -999.00,9,  -999.00,9,   1.4791,     1136
  49UP20130619,  P03W,    81,  1,      9,    108,2,20130812,1052, 24.2627, 158.4500, 5782,   4147.1,   1.4700,   1.4700,  34.6840,2,  34.6841,2,    154.7,2,   145.37,2,    35.69,2,     0.00,2,     2.50,3, -999.000,9, -999.000,9,   2322.5,2,   2417.1,2,   7.5850,6,    25.00,  -999.00,9,  -999.00,9,   1.4700,     1130
  49UP20130619,  P03W,    81,  1,      8,     81,2,20130812,1052, 24.2627, 158.4500, 5782,   4403.5,   1.4718,   1.4718,  34.6864,2,  34.6866,2,    158.3,2,   143.99,2,    35.43,2,     0.00,2,     2.49,3, -999.000,9, -999.000,9,   -999.0,9,   -999.0,9,-999.0000,9,  -999.00,  -999.00,9,  -999.00,9,   1.4718,     1125
  49UP20130619,  P03W,    81,  1,      7,    106,2,20130812,1052, 24.2627, 158.4500, 5782,   4659.9,   1.4793,   1.4792,  34.6885,2,  34.6870,4,    160.6,6,   142.47,6,    35.24,6,     0.00,6,     2.47,3, -999.000,9, -999.000,9,   2318.5,2,   2413.4,2,   7.5935,2,    25.00,  -999.00,9,  -999.00,9,   1.4792,     1119
  49UP20130619,  P03W,    81,  1,      6,    113,2,20130812,1052, 24.2627, 158.4500, 5782,   4917.0,   1.4929,   1.4929,  34.6902,2,  34.6896,2,    163.9,2,   140.76,2,    35.05,2,     0.00,2,     2.44,3, -999.000,9, -999.000,9,   -999.0,9,   -999.0,9,-999.0000,9,  -999.00,  -999.00,9,  -999.00,9,   1.4929,     1114
  49UP20130619,  P03W,    81,  1,      5,     94,2,20130812,1052, 24.2627, 158.4500, 5782,   5174.6,   1.5093,   1.5092,  34.6916,2,  34.6906,2,    165.9,2,   139.15,2,    34.88,2,     0.00,2,     2.43,3, -999.000,9, -999.000,9,   2311.9,2,   2410.7,2,   7.6020,2,    25.00,  -999.00,9,  -999.00,9,   1.5092,     1109
  49UP20130619,  P03W,    81,  1,      4,     77,2,20130812,1052, 24.2627, 158.4500, 5782,   5432.0,   1.5258,   1.5257,  34.6932,2,  34.6930,6,    169.3,2,   137.22,2,    34.65,2,     0.00,2,     2.41,3, -999.000,9, -999.000,9,   -999.0,9,   -999.0,9,-999.0000,9,  -999.00,  -999.00,9,  -999.00,9,   1.5257,     1103
  49UP20130619,  P03W,    81,  1,      3,    104,2,20130812,1052, 24.2627, 158.4500, 5782,   5690.3,   1.5504,   1.5504,  34.6941,2,  34.6932,6,    170.6,2,   136.05,2,    34.55,2,     0.00,2,     2.42,3, -999.000,9, -999.000,9,   2310.1,2,   2407.6,2,   7.6043,2,    25.00,  -999.00,9,  -999.00,9,   1.5504,     1058
  49UP20130619,  P03W,    81,  1,      2,     75,2,20130812,1052, 24.2627, 158.4500, 5782,   5926.5,   1.5789,   1.5787,  34.6943,2,  34.6940,2,    171.6,2,   135.46,2,    34.50,2,     0.00,2,     2.40,3, -999.000,9, -999.000,9,   -999.0,9,   -999.0,9,-999.0000,9,  -999.00,  -999.00,9,  -999.00,9,   1.5787,     1053
  49UP20130619,  P03W,    81,  1,      1,    997,2,20130812,1052, 24.2627, 158.4500, 5782,   5926.8,   1.5789,   1.5787,  34.6943,2,  34.6941,2,    171.0,2,   135.78,2,    34.52,2,     0.00,2,     2.40,3, -999.000,9, -999.000,9,   2306.3,2,   2405.1,2,   7.6054,2,    25.00,  -999.00,9,  -999.00,9,   1.5787,     1053