BOTTLE,20180830PRINUNIVRMK
EXPOCODE,SECT_ID,STNNBR,CASTNO,SAMPNO,BTLNBR,BTLNBR_FLAG_W,DATE,TIME,LATITUDE,LONGITUDE,DEPTH,CTDPRS,CTDTMP,SBE35,CTDSAL,CTDSAL_FLAG_W,SALNTY,SALNTY_FLAG_W,OXYGEN,OXYGEN_FLAG_W,SILCAT,SILCAT_FLAG_W,NITRAT,NITRAT_FLAG_W,NITRIT,NITRIT_FLAG_W,PHSPHT,PHSPHT_FLAG_W,CFC-11,CFC-11_FLAG_W,CFC-12,CFC-12_FLAG_W,TCARBN,TCARBN_FLAG_W,ALKALI,ALKALI_FLAG_W,PH_TOT,PH_TOT_FLAG_W,PH_TMP,CHLORA,CHLORA_FLAG_W,PPHYTN,PPHYTN_FLAG_W,SBE35,BTL_TIME
,,,,,,,,,,,METERS,DBAR,ITS-90,,PSS-78,,PSS-78,,UMOL/KG,,UMOL/KG,,UMOL/KG,,UMOL/KG,,UMOL/KG,,PMOL/KG,,PMOL/KG,,UMOL/KG,,UMOL/KG,,,,DEG C,UG/KG,,UG/KG,,,
  49UP20130619,  P03W,    92,  1,      0,   -999,0,20130829,0351, 24.2693, 166.5252, 5929,      0.0,  28.9594,-999.0000,  35.2786,2,  35.1796,2,    195.9,2,     0.82,2,     0.03,2,     0.00,4,     0.02,2, -999.000,9, -999.000,9,   1970.6,2,   2310.1,2,   8.1194,2,    25.00,     0.06,2,     0.01,2,-999.0000,      558
  49UP20130619,  P03W,    92,  1,     36,    109,2,20130829,0351, 24.2693, 166.5252, 5929,     10.6,  28.9884,  28.9854,  35.2830,2,  33.3199,4,    196.0,2,     0.83,2,     0.00,2,     0.00,4,     0.02,2, -999.000,9, -999.000,9,   1977.9,2,   2318.8,2,   8.1207,2,    25.00,     0.05,2,     0.01,2,  28.9854,      624
  49UP20130619,  P03W,    92,  1,     35,    112,2,20130829,0351, 24.2693, 166.5252, 5929,     53.8,  26.8477,  26.9095,  35.1946,2,  33.2709,4,    216.4,2,     1.03,2,     0.00,2,     0.00,4,     0.01,2, -999.000,9, -999.000,9,   1980.2,2,   2313.9,2,   8.1132,2,    25.00,     0.10,2,     0.03,2,  26.9095,      619
  49UP20130619,  P03W,    92,  1,     34,     83,2,20130829,0351, 24.2693, 166.5252, 5929,    100.9,  22.8554,  22.8556,  35.1633,2,  33.2103,4,    217.0,2,     1.42,2,     0.01,2,     0.00,4,     0.02,2, -999.000,9, -999.000,9,   2007.6,2,   2311.0,2,   8.0645,2,    25.00,     0.21,2,     0.14,2,  22.8556,      618
  49UP20130619,  P03W,    92,  1,     33,    517,2,20130829,0351, 24.2693, 166.5252, 5929,    150.4,  19.8945,  19.8984,  34.9475,2,  34.9471,2,    203.8,2,     2.21,2,     0.90,2,     0.09,4,     0.11,2, -999.000,9, -999.000,9,   2036.1,2,   2296.8,2,   7.9946,2,    25.00,     0.11,2,     0.27,2,  19.8984,      616
  49UP20130619,  P03W,    92,  1,     32,    105,2,20130829,0351, 24.2693, 166.5252, 5929,    201.4,  17.9121,  17.9101,  34.7722,2,  34.7719,2,    198.8,2,     3.53,2,     3.77,2,     0.01,4,     0.28,2, -999.000,9, -999.000,9,   2049.3,6,   2284.8,6,   7.9321,2,    25.00,     0.03,2,     0.05,2,  17.9101,      614
  49UP20130619,  P03W,    92,  1,     31,     76,2,20130829,0351, 24.2693, 166.5252, 5929,    252.1,  16.0317,  16.0330,  34.6143,2,  34.6122,2,    201.2,2,     5.97,2,     6.64,2,     0.00,4,     0.46,2, -999.000,9, -999.000,9,   2057.6,2,   2277.4,2,   7.9106,6,    25.00,  -999.00,9,  -999.00,9,  16.0330,      612
  49UP20130619,  P03W,    92,  1,     30,     97,2,20130829,0351, 24.2693, 166.5252, 5929,    281.6,  15.3689,  15.3630,  34.5602,2,  34.5602,2,    201.7,6,     7.27,6,     7.60,6,     0.00,4,     0.53,6, -999.000,9, -999.000,9,   2063.7,2,   2276.2,2,   7.9003,2,    25.00,  -999.00,9,  -999.00,9,  15.3630,      611
  49UP20130619,  P03W,    92,  1,     29,    102,2,20130829,0351, 24.2693, 166.5252, 5929,    372.8,  12.7527,  12.7751,  34.3626,2,  34.3684,2,    198.2,2,    12.90,2,    11.91,2,     0.00,4,     0.84,2, -999.000,9, -999.000,9,   2091.8,2,   2270.5,2,   7.8256,2,    25.00,  -999.00,9,  -999.00,9,  12.7751,      609
  49UP20130619,  P03W,    92,  1,     28,     91,3,20130829,0351, 24.2693, 166.5252, 5929,    474.3,   9.9085,   9.9103,  34.1774,2,  34.1778,2,    182.7,2,    25.06,2,    18.73,2,     0.00,4,     1.33,2, -999.000,9, -999.000,9,   2134.5,2,   2270.1,2,   7.7215,2,    25.00,  -999.00,9,  -999.00,9,   9.9103,      601
  49UP20130619,  P03W,    92,  1,     27,    998,2,20130829,0351, 24.2693, 166.5252, 5929,    576.5,   7.4904,   7.4956,  34.0748,2,  34.0755,2,    139.6,2,    45.58,2,    27.09,2,     0.00,4,     1.94,2, -999.000,9, -999.000,9,   2198.6,2,   2282.1,2,   7.5859,2,    25.00,  -999.00,9,  -999.00,9,   7.4956,      557
  49UP20130619,  P03W,    92,  1,     26,     84,2,20130829,0351, 24.2693, 166.5252, 5929,    676.9,   5.7579,   5.7600,  34.0901,2,  34.0886,2,     89.2,2,    70.55,2,    34.69,2,     0.00,4,     2.51,2, -999.000,9, -999.000,9,   2263.5,2,   2302.2,2,   7.4622,2,    25.00,  -999.00,9,  -999.00,9,   5.7600,      554
  49UP20130619,  P03W,    92,  1,     25,     98,2,20130829,0351, 24.2693, 166.5252, 5929,    776.5,   4.7886,   4.7887,  34.1736,2,  34.1729,2,     55.6,2,    91.26,2,    39.20,2,     0.00,4,     2.84,2, -999.000,9, -999.000,9,   2311.0,2,   2327.2,2,   7.3915,2,    25.00,  -999.00,9,  -999.00,9,   4.7887,      551
  49UP20130619,  P03W,    92,  1,     24,    110,2,20130829,0351, 24.2693, 166.5252, 5929,    878.1,   4.2404,   4.2410,  34.2659,2,  34.2642,2,     39.6,2,   105.50,2,    41.38,2,     0.00,4,     2.99,2, -999.000,9, -999.000,9,   2334.3,2,   2344.4,2,   7.3696,2,    25.00,  -999.00,9,  -999.00,9,   4.2410,      548
  49UP20130619,  P03W,    92,  1,     23,     96,2,20130829,0351, 24.2693, 166.5252, 5929,    978.9,   3.7736,   3.7747,  34.3502,2,  34.3487,6,     36.2,2,   117.97,2,    42.27,2,     0.00,4,     3.05,2, -999.000,9, -999.000,9,   2352.2,2,   2359.9,2,   7.3682,2,    25.00,  -999.00,9,  -999.00,9,   3.7747,      545
  49UP20130619,  P03W,    92,  1,     22,    111,2,20130829,0351, 24.2693, 166.5252, 5929,   1140.9,   3.2449,   3.2450,  34.4352,2,  34.4337,2,     38.9,2,   131.37,2,    42.61,2,     0.00,4,     3.05,2, -999.000,9, -999.000,9,   2362.9,2,   2380.3,2,   7.3760,2,    25.00,  -999.00,9,  -999.00,9,   3.2450,      542
  49UP20130619,  P03W,    92,  1,     21,     78,2,20130829,0351, 24.2693, 166.5252, 5929,   1343.7,   2.8196,   2.8198,  34.5163,2,  34.5158,2,     59.0,6,   138.85,6,    41.57,6,     0.00,4,     2.96,6, -999.000,9, -999.000,9,   2369.2,2,   2394.5,2,   7.4173,2,    25.00,  -999.00,9,  -999.00,9,   2.8198,      537
  49UP20130619,  P03W,    92,  1,     20,     93,2,20130829,0351, 24.2693, 166.5252, 5929,   1546.1,   2.4857,   2.4855,  34.5587,2,  34.5577,2,     73.6,2,   144.11,2,    40.81,2,     0.00,4,     2.90,2, -999.000,9, -999.000,9,   2363.3,2,   2403.3,2,   7.4478,2,    25.00,  -999.00,9,  -999.00,9,   2.4855,      532
  49UP20130619,  P03W,    92,  1,     19,     92,2,20130829,0351, 24.2693, 166.5252, 5929,   1748.8,   2.1910,   2.1914,  34.5913,2,  34.5910,2,     86.1,2,   148.77,2,    40.15,2,     0.00,4,     2.84,2, -999.000,9, -999.000,9,   2362.6,6,   2410.3,6,   7.4682,2,    25.00,  -999.00,9,  -999.00,9,   2.1914,      528
  49UP20130619,  P03W,    92,  1,     18,    101,2,20130829,0351, 24.2693, 166.5252, 5929,   1951.5,   1.9996,   1.9995,  34.6121,2,  34.6126,2,     95.0,2,   151.75,2,    39.69,2,     0.00,4,     2.80,2, -999.000,9, -999.000,9,   2359.3,2,   2414.6,2,   7.4832,6,    25.00,  -999.00,9,  -999.00,9,   1.9995,      523
  49UP20130619,  P03W,    92,  1,     17,     90,2,20130829,0351, 24.2693, 166.5252, 5929,   2154.5,   1.8566,   1.8568,  34.6289,2,  34.6298,2,    104.8,2,   152.80,2,    39.07,2,     0.00,4,     2.75,2, -999.000,9, -999.000,9,   2349.7,3,   2415.8,2,   7.5035,2,    25.00,  -999.00,9,  -999.00,9,   1.8568,      519
  49UP20130619,  P03W,    92,  1,     16,     89,2,20130829,0351, 24.2693, 166.5252, 5929,   2356.9,   1.7693,   1.7694,  34.6411,2,  34.6419,2,    113.4,2,   152.59,2,    38.54,2,     0.00,4,     2.71,2, -999.000,9, -999.000,9,   2353.3,2,   2418.8,2,   7.5186,2,    25.00,  -999.00,9,  -999.00,9,   1.7694,      514
  49UP20130619,  P03W,    92,  1,     15,     88,2,20130829,0351, 24.2693, 166.5252, 5929,   2562.3,   1.6976,   1.6977,  34.6513,2,  34.6516,2,    120.6,2,   152.29,2,    38.17,2,     0.00,4,     2.67,2, -999.000,9, -999.000,9,   2347.3,2,   2419.6,2,   7.5350,2,    25.00,  -999.00,9,  -999.00,9,   1.6977,      510
  49UP20130619,  P03W,    92,  1,     14,    999,2,20130829,0351, 24.2693, 166.5252, 5929,   2766.0,   1.6449,   1.6452,  34.6578,2,  34.6574,2,    126.0,2,   151.96,2,    37.77,2,     0.00,4,     2.65,2, -999.000,9, -999.000,9,   2346.2,2,   2419.6,2,   7.5425,2,    25.00,  -999.00,9,  -999.00,9,   1.6452,      505
  49UP20130619,  P03W,    92,  1,     13,    667,2,20130829,0351, 24.2693, 166.5252, 5929,   2970.0,   1.6016,   1.6016,  34.6636,2,  34.6636,6,    131.0,2,   151.66,2,    37.50,2,     0.00,4,     2.62,2, -999.000,9, -999.000,9,   2345.0,2,   2420.8,2,   7.5535,2,    25.00,  -999.00,9,  -999.00,9,   1.6016,      500
  49UP20130619,  P03W,    92,  1,     12,     74,2,20130829,0351, 24.2693, 166.5252, 5929,   3215.2,   1.5691,   1.5692,  34.6685,2,  34.6681,2,    135.8,6,   150.89,6,    37.19,6,     0.00,4,     2.60,6, -999.000,9, -999.000,9,   2339.3,2,   2419.9,2,   7.5603,2,    25.00,  -999.00,9,  -999.00,9,   1.5692,      454
  49UP20130619,  P03W,    92,  1,     11,    996,2,20130829,0351, 24.2693, 166.5252, 5929,   3470.9,   1.5367,   1.5368,  34.6731,2,  34.6727,2,    140.4,2,   149.88,2,    36.86,2,     0.00,4,     2.57,2, -999.000,9, -999.000,9,   2336.7,6,   2419.7,6,   7.5670,2,    25.00,  -999.00,9,  -999.00,9,   1.5368,      448
  49UP20130619,  P03W,    92,  1,     10,    107,2,20130829,0351, 24.2693, 166.5252, 5929,   3726.5,   1.5071,   1.5073,  34.6774,2,  34.6774,2,    145.9,2,   148.49,2,    36.50,2,     0.00,4,     2.54,2, -999.000,9, -999.000,9,   2337.9,3,   2418.7,2,   7.5703,6,    25.00,  -999.00,9,  -999.00,9,   1.5073,      442
  49UP20130619,  P03W,    92,  1,      9,    108,2,20130829,0351, 24.2693, 166.5252, 5929,   3981.6,   1.4891,   1.4892,  34.6808,2,  34.6815,6,    150.3,2,   146.99,2,    36.11,2,     0.00,4,     2.51,2, -999.000,9, -999.000,9,   2326.3,2,   2417.8,2,   7.5819,2,    25.00,  -999.00,9,  -999.00,9,   1.4892,      436
  49UP20130619,  P03W,    92,  1,      8,     81,2,20130829,0351, 24.2693, 166.5252, 5929,   4238.3,   1.4706,   1.4708,  34.6846,2,  34.6846,2,    155.8,2,   144.72,2,    35.78,2,     0.00,4,     2.48,2, -999.000,9, -999.000,9,   2324.1,2,   2416.7,2,   7.5863,2,    25.00,  -999.00,9,  -999.00,9,   1.4708,      431
  49UP20130619,  P03W,    92,  1,      7,    106,2,20130829,0351, 24.2693, 166.5252, 5929,   4495.3,   1.4628,   1.4629,  34.6877,2,  34.6870,2,    160.2,2,   142.40,2,    35.45,2,     0.00,4,     2.46,2, -999.000,9, -999.000,9,   2318.6,2,   2414.5,2,   7.5898,2,    25.00,  -999.00,9,  -999.00,9,   1.4629,      425
  49UP20130619,  P03W,    92,  1,      6,    113,2,20130829,0351, 24.2693, 166.5252, 5929,   4752.5,   1.4601,   1.4602,  34.6905,2,  34.6905,2,    165.4,2,   139.66,2,    35.11,2,     0.00,4,     2.43,2, -999.000,9, -999.000,9,   2315.2,2,   2410.1,2,   7.5994,2,    25.00,  -999.00,9,  -999.00,9,   1.4602,      419
  49UP20130619,  P03W,    92,  1,      5,     94,2,20130829,0351, 24.2693, 166.5252, 5929,   5009.2,   1.4603,   1.4605,  34.6930,2,  34.6929,6,    169.8,2,   137.28,2,    34.78,2,     0.00,4,     2.41,2, -999.000,9, -999.000,9,   2309.7,2,   2406.8,2,   7.5996,2,    25.00,  -999.00,9,  -999.00,9,   1.4605,      414
  49UP20130619,  P03W,    92,  1,      4,     77,2,20130829,0351, 24.2693, 166.5252, 5929,   5266.3,   1.4616,   1.4618,  34.6953,2,  34.6952,2,    174.1,2,   134.43,2,    34.46,2,     0.00,4,     2.38,2, -999.000,9, -999.000,9,   2308.0,2,   2402.6,2,   7.6077,2,    25.00,  -999.00,9,  -999.00,9,   1.4618,      408
  49UP20130619,  P03W,    92,  1,      3,    104,2,20130829,0351, 24.2693, 166.5252, 5929,   5524.6,   1.4742,   1.4742,  34.6968,2,  34.6968,2,    177.0,6,   132.75,6,    34.26,6,     0.00,4,     2.37,6, -999.000,9, -999.000,9,   2304.6,2,   2400.8,2,   7.6078,2,    25.00,  -999.00,9,  -999.00,9,   1.4742,      403
  49UP20130619,  P03W,    92,  1,      2,     75,2,20130829,0351, 24.2693, 166.5252, 5929,   5783.0,   1.4970,   1.4971,  34.6976,2,  34.6973,2,    178.2,2,   131.86,2,    34.12,2,     0.00,4,     2.36,2, -999.000,9, -999.000,9,   2299.6,2,   2400.0,2,   7.6107,2,    25.00,  -999.00,9,  -999.00,9,   1.4971,      357
  49UP20130619,  P03W,    92,  1,      1,    997,2,20130829,0351, 24.2693, 166.5252, 5929,   6068.6,   1.5344,   1.5343,  34.6979,2,  34.6977,2,    178.1,2,   132.01,2,    34.18,2,     0.00,4,     2.37,2, -999.000,9, -999.000,9,   2305.7,2,   2402.7,2,   7.6117,2,    25.00,  -999.00,9,  -999.00,9,   1.5343,      352