BOTTLE,20180830PRINUNIVRMK
EXPOCODE,SECT_ID,STNNBR,CASTNO,SAMPNO,BTLNBR,BTLNBR_FLAG_W,DATE,TIME,LATITUDE,LONGITUDE,DEPTH,CTDPRS,CTDTMP,SBE35,CTDSAL,CTDSAL_FLAG_W,SALNTY,SALNTY_FLAG_W,OXYGEN,OXYGEN_FLAG_W,SILCAT,SILCAT_FLAG_W,NITRAT,NITRAT_FLAG_W,NITRIT,NITRIT_FLAG_W,PHSPHT,PHSPHT_FLAG_W,CFC-11,CFC-11_FLAG_W,CFC-12,CFC-12_FLAG_W,TCARBN,TCARBN_FLAG_W,ALKALI,ALKALI_FLAG_W,PH_TOT,PH_TOT_FLAG_W,PH_TMP,CHLORA,CHLORA_FLAG_W,PPHYTN,PPHYTN_FLAG_W,SBE35,BTL_TIME
,,,,,,,,,,,METERS,DBAR,ITS-90,,PSS-78,,PSS-78,,UMOL/KG,,UMOL/KG,,UMOL/KG,,UMOL/KG,,UMOL/KG,,PMOL/KG,,PMOL/KG,,UMOL/KG,,UMOL/KG,,,,DEG C,UG/KG,,UG/KG,,,
  49UP20130619,  P03W,    48,  1,      0,   -999,0,20130804,0315, 24.2528, 134.9990, 5138,      0.0,  30.5404,-999.0000,  34.7558,2,  34.7660,2,    193.4,2,     1.04,2,     0.00,2,     0.00,2,     0.04,2, -999.000,9, -999.000,9,   1946.5,2,   2284.6,2,   8.1179,2,    25.00,     0.04,2,     0.01,2,-999.0000,      504
  49UP20130619,  P03W,    48,  1,     36,    109,2,20130804,0315, 24.2528, 134.9990, 5138,      9.8,  30.3791,  30.4021,  34.7523,2,  34.7507,2,    194.3,2,     1.02,2,     0.00,2,     0.00,2,     0.02,2, -999.000,9, -999.000,9,   1947.8,2,   2285.7,2,   8.1159,2,    25.00,     0.04,2,     0.01,2,  30.4021,      529
  49UP20130619,  P03W,    48,  1,     35,    112,2,20130804,0315, 24.2528, 134.9990, 5138,     49.5,  26.7801,  26.7768,  34.7599,2,  34.7531,2,    214.5,2,     1.11,2,     0.00,2,     0.00,2,     0.01,2, -999.000,9, -999.000,9,   1956.6,2,   2284.9,2,   8.1035,2,    25.00,     0.07,2,     0.02,2,  26.7768,      525
  49UP20130619,  P03W,    48,  1,     34,     83,2,20130804,0315, 24.2528, 134.9990, 5138,     99.9,  21.8740,  21.8750,  34.8480,2,  34.8487,2,    217.6,2,     1.57,2,     0.00,2,     0.00,2,     0.02,2, -999.000,9, -999.000,9,   1990.5,2,   2295.2,2,   8.0536,2,    25.00,     0.18,2,     0.10,2,  21.8750,      523
  49UP20130619,  P03W,    48,  1,     33,     86,2,20130804,0315, 24.2528, 134.9990, 5138,    150.3,  20.0553,  20.0538,  34.8403,2,  34.8386,2,    203.4,2,     1.98,2,     0.95,2,     0.07,2,     0.09,2, -999.000,9, -999.000,9,   2011.0,2,   2291.4,2,   8.0114,2,    25.00,     0.14,2,     0.38,2,  20.0538,      521
  49UP20130619,  P03W,    48,  1,     32,    105,2,20130804,0315, 24.2528, 134.9990, 5138,    199.7,  18.9148,  18.9161,  34.8122,2,  34.8120,6,    194.4,2,     2.79,2,     3.33,2,     0.01,2,     0.23,2, -999.000,9, -999.000,9,   2028.3,2,   2290.2,2,   7.9783,2,    25.00,     0.03,2,     0.08,2,  18.9161,      519
  49UP20130619,  P03W,    48,  1,     31,     76,2,20130804,0315, 24.2528, 134.9990, 5138,    251.1,  17.6577,  17.6569,  34.7334,2,  34.7335,2,    198.5,2,     3.90,2,     4.76,2,     0.00,2,     0.32,2, -999.000,9, -999.000,9,   2035.2,2,   2285.5,2,   7.9588,2,    25.00,  -999.00,9,  -999.00,9,  17.6569,      517
  49UP20130619,  P03W,    48,  1,     30,     97,2,20130804,0315, 24.2528, 134.9990, 5138,    251.1,  17.6577,  17.6569,  34.7334,2,  34.7333,2,    198.4,2,     3.74,2,     4.77,2,     0.00,2,     0.32,2, -999.000,9, -999.000,9,   2035.9,2,   2279.7,3,   7.9568,2,    25.00,  -999.00,9,  -999.00,9,  17.6569,      517
  49UP20130619,  P03W,    48,  1,     29,    102,2,20130804,0315, 24.2528, 134.9990, 5138,    281.6,  17.1766,  17.1780,  34.7032,2,  34.7010,2,    197.6,2,     4.57,2,     5.56,2,     0.00,2,     0.38,2, -999.000,9, -999.000,9,   2041.0,2,   2283.2,2,   7.9438,2,    25.00,  -999.00,9,  -999.00,9,  17.1780,      515
  49UP20130619,  P03W,    48,  1,     28,     91,4,20130804,0315, 24.2528, 134.9990, 5138,    372.0,  15.3667,  15.3658,  34.5749,2,  34.6819,4,    155.0,4,   140.67,4,    35.74,4,     0.00,4,     2.50,4, -999.000,9, -999.000,9,   2322.3,4,   2415.9,4,   7.5934,4,    25.00,  -999.00,9,  -999.00,9,  15.3658,      512
  49UP20130619,  P03W,    48,  1,     27,    998,2,20130804,0315, 24.2528, 134.9990, 5138,    472.9,  12.2002,  12.1945,  34.3631,2,  34.3638,2,    181.2,2,    18.94,2,    14.99,2,     0.00,2,     1.08,2, -999.000,9, -999.000,9,   2110.6,6,   2277.7,6,   7.7908,2,    25.00,  -999.00,9,  -999.00,9,  12.1945,      510
  49UP20130619,  P03W,    48,  1,     26,     84,2,20130804,0315, 24.2528, 134.9990, 5138,    573.4,   8.9199,   8.9170,  34.1806,2,  34.1791,2,    152.5,2,    39.27,2,    23.42,2,     0.00,2,     1.71,2, -999.000,9, -999.000,9,   2175.6,2,   2288.5,2,   7.6540,6,    25.00,  -999.00,9,  -999.00,9,   8.9170,      507
  49UP20130619,  P03W,    48,  1,     25,     98,2,20130804,0315, 24.2528, 134.9990, 5138,    675.5,   7.2061,   7.2049,  34.1292,2,  34.1303,2,    126.4,2,    55.36,2,    28.72,2,     0.00,2,     2.10,2, -999.000,9, -999.000,9,   2214.4,2,   2298.9,2,   7.5673,2,    25.00,  -999.00,9,  -999.00,9,   7.2049,      504
  49UP20130619,  P03W,    48,  1,     24,    110,2,20130804,0315, 24.2528, 134.9990, 5138,    776.6,   5.5825,   5.5855,  34.1572,2,  34.1573,2,     88.3,6,    78.91,6,    35.00,6,     0.00,6,     2.56,6, -999.000,9, -999.000,9,   2270.9,2,   2319.6,2,   7.4685,2,    25.00,  -999.00,9,  -999.00,9,   5.5855,      502
  49UP20130619,  P03W,    48,  1,     23,     96,2,20130804,0315, 24.2528, 134.9990, 5138,    876.3,   4.6040,   4.6065,  34.2581,2,  34.2568,2,     61.4,2,    97.88,2,    38.90,2,     0.00,2,     2.84,2, -999.000,9, -999.000,9,   2309.1,2,   2341.3,2,   7.4159,2,    25.00,  -999.00,9,  -999.00,9,   4.6065,      459
  49UP20130619,  P03W,    48,  1,     22,    111,2,20130804,0315, 24.2528, 134.9990, 5138,    978.2,   3.9639,   3.9634,  34.3311,2,  34.3306,2,     55.2,2,   113.29,2,    40.26,2,     0.00,2,     2.92,2, -999.000,9, -999.000,9,   2332.1,2,   2359.3,2,   7.4042,2,    25.00,  -999.00,9,  -999.00,9,   3.9634,      456
  49UP20130619,  P03W,    48,  1,     21,     78,2,20130804,0315, 24.2528, 134.9990, 5138,   1140.8,   3.3474,   3.3470,  34.4109,2,  34.4107,2,     55.5,2,   127.17,2,    40.99,2,     0.00,2,     2.96,2, -999.000,9, -999.000,9,   2346.7,2,   2375.7,2,   7.4055,2,    25.00,  -999.00,9,  -999.00,9,   3.3470,      452
  49UP20130619,  P03W,    48,  1,     20,     93,2,20130804,0315, 24.2528, 134.9990, 5138,   1342.1,   2.8260,   2.8260,  34.4917,2,  34.4910,2,     68.9,2,   136.52,2,    40.57,2,     0.00,2,     2.92,2, -999.000,9, -999.000,9,   2354.0,2,   2392.6,2,   7.4313,2,    25.00,  -999.00,9,  -999.00,9,   2.8260,      447
  49UP20130619,  P03W,    48,  1,     19,     92,2,20130804,0315, 24.2528, 134.9990, 5138,   1545.7,   2.4962,   2.4962,  34.5426,2,  34.5422,2,     83.8,2,   140.43,2,    39.81,2,     0.00,2,     2.86,2, -999.000,9, -999.000,9,   2348.8,2,   2400.4,2,   7.4628,2,    25.00,  -999.00,9,  -999.00,9,   2.4962,      442
  49UP20130619,  P03W,    48,  1,     18,    101,2,20130804,0315, 24.2528, 134.9990, 5138,   1747.4,   2.2623,   2.2623,  34.5780,2,  34.5781,2,     97.9,2,   141.83,2,    39.01,2,     0.00,2,     2.79,2, -999.000,9, -999.000,9,   2346.2,2,   2404.8,2,   7.4919,2,    25.00,  -999.00,9,  -999.00,9,   2.2623,      437
  49UP20130619,  P03W,    48,  1,     17,     90,2,20130804,0315, 24.2528, 134.9990, 5138,   1952.2,   2.0513,   2.0512,  34.6043,2,  34.6049,2,    109.2,2,   142.97,2,    38.40,2,     0.00,2,     2.74,2, -999.000,9, -999.000,9,   2343.6,6,   2412.9,6,   7.5101,2,    25.00,  -999.00,9,  -999.00,9,   2.0512,      432
  49UP20130619,  P03W,    48,  1,     16,     89,2,20130804,0315, 24.2528, 134.9990, 5138,   2154.1,   1.9126,   1.9128,  34.6213,2,  34.6200,2,    117.9,2,   143.16,2,    37.98,2,     0.00,2,     2.71,2, -999.000,9, -999.000,9,   2339.1,2,   2414.8,2,   7.5261,6,    25.00,  -999.00,9,  -999.00,9,   1.9128,      427
  49UP20130619,  P03W,    48,  1,     15,     88,2,20130804,0315, 24.2528, 134.9990, 5138,   2357.4,   1.8260,   1.8262,  34.6341,2,  34.6338,6,    124.2,2,   143.30,2,    37.63,2,     0.00,2,     2.68,2, -999.000,9, -999.000,9,   2338.4,2,   2414.4,2,   7.5362,2,    25.00,  -999.00,9,  -999.00,9,   1.8262,      422
  49UP20130619,  P03W,    48,  1,     14,    999,2,20130804,0315, 24.2528, 134.9990, 5138,   2561.1,   1.7462,   1.7463,  34.6450,2,  34.6443,2,    129.9,2,   143.33,2,    37.26,2,     0.00,2,     2.65,2, -999.000,9, -999.000,9,   2335.3,2,   2416.9,2,   7.5454,2,    25.00,  -999.00,9,  -999.00,9,   1.7463,      417
  49UP20130619,  P03W,    48,  1,     13,    667,2,20130804,0315, 24.2528, 134.9990, 5138,   2764.9,   1.6857,   1.6858,  34.6533,2,  34.6522,2,    134.9,2,   142.88,2,    36.93,2,     0.00,2,     2.62,2, -999.000,9, -999.000,9,   2332.7,2,   2417.6,2,   7.5582,2,    25.00,  -999.00,9,  -999.00,9,   1.6858,      413
  49UP20130619,  P03W,    48,  1,     12,     74,2,20130804,0315, 24.2528, 134.9990, 5138,   2970.1,   1.6421,   1.6422,  34.6595,2,  34.6592,2,    139.0,6,   142.93,6,    36.74,6,     0.00,6,     2.61,6, -999.000,9, -999.000,9,   2330.7,2,   2418.4,2,   7.5619,2,    25.00,  -999.00,9,  -999.00,9,   1.6422,      408
  49UP20130619,  P03W,    48,  1,     11,    996,2,20130804,0315, 24.2528, 134.9990, 5138,   3214.8,   1.5957,   1.5959,  34.6667,2,  34.6658,2,    143.0,2,   142.75,2,    36.46,2,     0.00,2,     2.59,2, -999.000,9, -999.000,9,   2329.2,6,   2419.2,2,   7.5679,2,    25.00,  -999.00,9,  -999.00,9,   1.5959,      402
  49UP20130619,  P03W,    48,  1,     10,    107,2,20130804,0315, 24.2528, 134.9990, 5138,   3469.4,   1.5601,   1.5602,  34.6730,2,  34.6715,2,    147.7,2,   142.15,2,    36.16,2,     0.00,2,     2.56,2, -999.000,9, -999.000,9,   -999.0,9,   -999.0,9,-999.0000,9,  -999.00,  -999.00,9,  -999.00,9,   1.5602,      357
  49UP20130619,  P03W,    48,  1,      9,    108,2,20130804,0315, 24.2528, 134.9990, 5138,   3726.3,   1.5420,   1.5419,  34.6774,2,  34.6773,2,    151.4,2,   141.74,2,    35.98,2,     0.00,2,     2.54,2, -999.000,9, -999.000,9,   2323.7,2,   2416.0,2,   7.5804,6,    25.00,  -999.00,9,  -999.00,9,   1.5419,      351
  49UP20130619,  P03W,    48,  1,      8,     81,2,20130804,0315, 24.2528, 134.9990, 5138,   3982.7,   1.5492,   1.5493,  34.6794,2,  34.6796,6,    153.2,2,   141.39,2,    35.83,2,     0.00,2,     2.53,2, -999.000,9, -999.000,9,   -999.0,9,   -999.0,9,-999.0000,9,  -999.00,  -999.00,9,  -999.00,9,   1.5493,      345
  49UP20130619,  P03W,    48,  1,      7,    106,2,20130804,0315, 24.2528, 134.9990, 5138,   4238.7,   1.5625,   1.5627,  34.6810,2,  34.6805,2,    154.2,2,   141.09,2,    35.78,2,     0.00,2,     2.53,2, -999.000,9, -999.000,9,   2320.3,2,   2418.1,2,   7.5866,2,    25.00,  -999.00,9,  -999.00,9,   1.5627,      339
  49UP20130619,  P03W,    48,  1,      6,    113,2,20130804,0315, 24.2528, 134.9990, 5138,   4494.2,   1.5844,   1.5846,  34.6817,2,  34.6813,2,    154.9,2,   141.07,2,    35.75,2,     0.00,2,     2.53,2, -999.000,9, -999.000,9,   -999.0,9,   -999.0,9,-999.0000,9,  -999.00,  -999.00,9,  -999.00,9,   1.5846,      334
  49UP20130619,  P03W,    48,  1,      5,     94,2,20130804,0315, 24.2528, 134.9990, 5138,   4751.0,   1.6111,   1.6112,  34.6822,2,  34.6820,6,    155.5,2,   140.96,2,    35.72,2,     0.00,2,     2.52,2, -999.000,9, -999.000,9,   2320.6,2,   2418.5,2,   7.5768,3,    25.00,  -999.00,9,  -999.00,9,   1.6112,      328
  49UP20130619,  P03W,    48,  1,      4,     77,2,20130804,0315, 24.2528, 134.9990, 5138,   5008.5,   1.6402,   1.6403,  34.6825,2,  34.6823,2,    155.8,2,   140.80,2,    35.69,2,     0.00,2,     2.52,2, -999.000,9, -999.000,9,   -999.0,9,   -999.0,9,-999.0000,9,  -999.00,  -999.00,9,  -999.00,9,   1.6403,      322
  49UP20130619,  P03W,    48,  1,      3,    104,2,20130804,0315, 24.2528, 134.9990, 5138,   5008.5,   1.6402,   1.6403,  34.6825,2,  34.6815,2,    155.7,6,   141.01,6,    35.70,6,     0.00,6,     2.52,6, -999.000,9, -999.000,9,   2320.3,2,   2417.1,2,   7.5956,2,    25.00,  -999.00,9,  -999.00,9,   1.6403,      322
  49UP20130619,  P03W,    48,  1,      2,     75,2,20130804,0315, 24.2528, 134.9990, 5138,   5241.0,   1.6698,   1.6699,  34.6824,2,  34.6810,4,    155.7,2,   140.90,2,    35.68,2,     0.00,2,     2.52,2, -999.000,9, -999.000,9,   -999.0,9,   -999.0,9,-999.0000,9,  -999.00,  -999.00,9,  -999.00,9,   1.6699,      317
  49UP20130619,  P03W,    48,  1,      1,    997,2,20130804,0315, 24.2528, 134.9990, 5138,   5241.0,   1.6698,   1.6699,  34.6824,2,  34.6821,2,    155.6,2,   140.96,2,    35.70,2,     0.00,2,     2.52,2, -999.000,9, -999.000,9,   2322.4,2,   2414.8,2,   7.5889,2,    25.00,  -999.00,9,  -999.00,9,   1.6699,      317