BOTTLE,20180830PRINUNIVRMK
EXPOCODE,SECT_ID,STNNBR,CASTNO,SAMPNO,BTLNBR,BTLNBR_FLAG_W,DATE,TIME,LATITUDE,LONGITUDE,DEPTH,CTDPRS,CTDTMP,SBE35,CTDSAL,CTDSAL_FLAG_W,SALNTY,SALNTY_FLAG_W,OXYGEN,OXYGEN_FLAG_W,SILCAT,SILCAT_FLAG_W,NITRAT,NITRAT_FLAG_W,NITRIT,NITRIT_FLAG_W,PHSPHT,PHSPHT_FLAG_W,CFC-11,CFC-11_FLAG_W,CFC-12,CFC-12_FLAG_W,TCARBN,TCARBN_FLAG_W,ALKALI,ALKALI_FLAG_W,PH_TOT,PH_TOT_FLAG_W,PH_TMP,CHLORA,CHLORA_FLAG_W,PPHYTN,PPHYTN_FLAG_W,SBE35,BTL_TIME
,,,,,,,,,,,METERS,DBAR,ITS-90,,PSS-78,,PSS-78,,UMOL/KG,,UMOL/KG,,UMOL/KG,,UMOL/KG,,UMOL/KG,,PMOL/KG,,PMOL/KG,,UMOL/KG,,UMOL/KG,,,,DEG C,UG/KG,,UG/KG,,,
  49UP20130619,  P03W,    98,  1,      0,   -999,0,20130831,0234, 24.2763, 171.1793, 5793,      0.0,  28.3108,-999.0000,  35.2450,2,  35.2504,2,    197.8,2,     1.05,2,     0.03,2,     0.00,2,     0.03,2, -999.000,9, -999.000,9,   1981.1,2,   2316.0,2,   8.1101,2,    25.00,     0.05,2,     0.01,2,-999.0000,      435
  49UP20130619,  P03W,    98,  1,     36,    109,2,20130831,0234, 24.2763, 171.1793, 5793,     10.5,  28.3093,  28.3085,  35.2447,2,  35.2448,2,    198.0,6,     0.95,6,     0.03,6,     0.00,6,     0.02,6, -999.000,9, -999.000,9,   1976.9,2,   2315.3,2,   8.1136,2,    25.00,     0.05,2,     0.02,2,  28.3085,      507
  49UP20130619,  P03W,    98,  1,     35,    112,2,20130831,0234, 24.2763, 171.1793, 5793,     50.3,  27.9809,  27.9274,  35.2679,2,  35.2671,2,    202.9,2,     1.01,2,     0.03,2,     0.00,2,     0.02,2, -999.000,9, -999.000,9,   1979.3,2,   2318.0,2,   8.1077,2,    25.00,     0.08,2,     0.03,2,  27.9274,      505
  49UP20130619,  P03W,    98,  1,     34,     83,2,20130831,0234, 24.2763, 171.1793, 5793,    100.8,  21.1930,  21.1854,  35.0911,2,  35.0837,2,    203.3,2,     1.84,2,     0.09,2,     0.04,2,     0.06,2, -999.000,9, -999.000,9,   2028.1,2,   2306.7,2,   8.0122,2,    25.00,     0.18,2,     0.34,2,  21.1854,      503
  49UP20130619,  P03W,    98,  1,     33,    517,2,20130831,0234, 24.2763, 171.1793, 5793,    150.4,  18.5379,  18.5393,  34.8206,2,  34.8163,2,    201.4,2,     2.90,2,     2.58,2,     0.02,2,     0.22,2, -999.000,9, -999.000,9,   2042.9,2,   2288.7,2,   7.9397,2,    25.00,     0.03,2,     0.06,2,  18.5393,      458
  49UP20130619,  P03W,    98,  1,     32,    105,2,20130831,0234, 24.2763, 171.1793, 5793,    201.4,  16.7698,  16.7705,  34.6737,2,  34.6707,2,    203.2,2,     4.60,2,     5.40,2,     0.01,2,     0.38,2, -999.000,9, -999.000,9,   2041.2,2,   2279.3,2,   7.9346,2,    25.00,     0.00,2,     0.01,2,  16.7705,      457
  49UP20130619,  P03W,    98,  1,     31,     76,2,20130831,0234, 24.2763, 171.1793, 5793,    252.3,  15.5923,  15.6086,  34.5768,2,  34.5795,6,    201.6,2,     6.46,2,     7.05,2,     0.00,2,     0.50,2, -999.000,9, -999.000,9,   2061.2,2,   2276.3,2,   7.9048,2,    25.00,  -999.00,9,  -999.00,9,  15.6086,      454
  49UP20130619,  P03W,    98,  1,     30,     97,2,20130831,0234, 24.2763, 171.1793, 5793,    282.2,  14.7940,  14.7925,  34.5089,2,  34.5080,2,    200.1,2,     7.90,2,     8.32,2,     0.00,2,     0.60,2, -999.000,9, -999.000,9,   2071.4,2,   2272.9,2,   7.8794,2,    25.00,  -999.00,9,  -999.00,9,  14.7925,      451
  49UP20130619,  P03W,    98,  1,     29,    102,2,20130831,0234, 24.2763, 171.1793, 5793,    372.4,  12.3806,  12.3825,  34.3361,2,  34.3377,2,    198.6,2,    13.77,2,    12.53,2,     0.00,2,     0.89,2, -999.000,9, -999.000,9,   2097.8,2,   2269.5,2,   7.8112,2,    25.00,  -999.00,9,  -999.00,9,  12.3825,      434
  49UP20130619,  P03W,    98,  1,     28,     91,2,20130831,0234, 24.2763, 171.1793, 5793,    476.1,   9.5423,   9.5504,  34.1578,2,  34.1605,2,    179.6,2,    26.97,2,    19.53,2,     0.00,2,     1.40,2, -999.000,9, -999.000,9,   2144.7,2,   2271.9,2,   7.7094,2,    25.00,  -999.00,9,  -999.00,9,   9.5504,      430
  49UP20130619,  P03W,    98,  1,     27,    998,2,20130831,0234, 24.2763, 171.1793, 5793,    576.0,   7.3977,   7.4019,  34.0540,2,  34.0561,2,    149.0,6,    45.26,6,    26.35,6,     0.00,6,     1.90,6, -999.000,9, -999.000,9,   2196.2,2,   2283.8,2,   7.5955,2,    25.00,  -999.00,9,  -999.00,9,   7.4019,      426
  49UP20130619,  P03W,    98,  1,     26,     84,2,20130831,0234, 24.2763, 171.1793, 5793,    677.8,   5.8205,   5.8270,  34.0789,2,  34.0777,2,     94.8,2,    68.36,2,    34.10,2,     0.00,2,     2.47,2, -999.000,9, -999.000,9,   2259.5,2,   2302.4,2,   7.4717,2,    25.00,  -999.00,9,  -999.00,9,   5.8270,      422
  49UP20130619,  P03W,    98,  1,     25,     98,2,20130831,0234, 24.2763, 171.1793, 5793,    777.6,   4.7554,   4.7558,  34.1656,2,  34.1635,2,     56.7,2,    91.06,2,    39.07,2,     0.00,2,     2.83,2, -999.000,9, -999.000,9,   2307.0,2,   2326.2,2,   7.3906,2,    25.00,  -999.00,9,  -999.00,9,   4.7558,      418
  49UP20130619,  P03W,    98,  1,     24,    110,2,20130831,0234, 24.2763, 171.1793, 5793,    878.5,   4.0808,   4.0821,  34.2697,2,  34.2670,2,     37.8,2,   108.70,2,    41.53,2,     0.00,2,     3.00,2, -999.000,9, -999.000,9,   2337.8,2,   2347.6,2,   7.3616,2,    25.00,  -999.00,9,  -999.00,9,   4.0821,      415
  49UP20130619,  P03W,    98,  1,     23,     96,2,20130831,0234, 24.2763, 171.1793, 5793,    979.8,   3.7326,   3.7354,  34.3716,2,  34.3662,4,     36.3,2,   117.98,2,    42.31,2,     0.00,2,     3.05,2, -999.000,9, -999.000,9,   2352.0,2,   2365.0,2,   7.3657,2,    25.00,  -999.00,9,  -999.00,9,   3.7354,      412
  49UP20130619,  P03W,    98,  1,     22,    111,2,20130831,0234, 24.2763, 171.1793, 5793,   1143.1,   3.3332,   3.3337,  34.4576,2,  34.4567,2,     46.4,2,   127.18,2,    41.94,2,     0.00,2,     3.02,2, -999.000,9, -999.000,9,   2358.8,6,   2380.2,6,   7.3947,2,    25.00,  -999.00,9,  -999.00,9,   3.3337,      407
  49UP20130619,  P03W,    98,  1,     21,     78,2,20130831,0234, 24.2763, 171.1793, 5793,   1343.5,   2.8519,   2.8523,  34.5142,2,  34.5140,2,     56.5,2,   138.04,2,    41.62,2,     0.00,2,     2.98,2, -999.000,9, -999.000,9,   2366.5,2,   2394.2,2,   7.4129,6,    25.00,  -999.00,9,  -999.00,9,   2.8523,      401
  49UP20130619,  P03W,    98,  1,     20,     93,2,20130831,0234, 24.2763, 171.1793, 5793,   1546.3,   2.4450,   2.4450,  34.5584,2,  34.5516,4,     70.2,2,   144.60,2,    40.79,2,     0.00,2,     2.91,2, -999.000,9, -999.000,9,   2364.5,2,   2402.6,2,   7.4392,2,    25.00,  -999.00,9,  -999.00,9,   2.4450,      356
  49UP20130619,  P03W,    98,  1,     19,     92,2,20130831,0234, 24.2763, 171.1793, 5793,   1749.9,   2.1583,   2.1584,  34.5918,2,  34.5903,2,     83.7,2,   150.14,2,    40.22,2,     0.00,2,     2.86,2, -999.000,9, -999.000,9,   2361.9,2,   2410.5,2,   7.4625,2,    25.00,  -999.00,9,  -999.00,9,   2.1584,      351
  49UP20130619,  P03W,    98,  1,     18,    101,2,20130831,0234, 24.2763, 171.1793, 5793,   1952.4,   1.9848,   1.9847,  34.6132,2,  34.6136,2,     95.0,6,   151.94,6,    39.55,6,     0.00,6,     2.80,6, -999.000,9, -999.000,9,   2361.5,2,   2414.1,2,   7.4827,2,    25.00,  -999.00,9,  -999.00,9,   1.9847,      346
  49UP20130619,  P03W,    98,  1,     17,     90,2,20130831,0234, 24.2763, 171.1793, 5793,   2155.1,   1.8480,   1.8481,  34.6288,2,  34.6288,2,    103.8,2,   153.40,2,    39.05,2,     0.00,2,     2.76,2, -999.000,9, -999.000,9,   2356.8,6,   2417.9,6,   7.5009,2,    25.00,  -999.00,9,  -999.00,9,   1.8481,      342
  49UP20130619,  P03W,    98,  1,     16,     89,2,20130831,0234, 24.2763, 171.1793, 5793,   2358.2,   1.7417,   1.7418,  34.6419,2,  34.6418,2,    112.3,2,   153.62,2,    38.50,2,     0.00,2,     2.72,2, -999.000,9, -999.000,9,   2353.7,2,   2418.3,2,   7.5172,6,    25.00,  -999.00,9,  -999.00,9,   1.7418,      338
  49UP20130619,  P03W,    98,  1,     15,     88,2,20130831,0234, 24.2763, 171.1793, 5793,   2562.8,   1.6800,   1.6801,  34.6503,2,  34.6507,2,    118.9,2,   153.24,2,    38.16,2,     0.00,2,     2.68,2, -999.000,9, -999.000,9,   2350.2,2,   2419.6,2,   7.5375,3,    25.00,  -999.00,9,  -999.00,9,   1.6801,      334
  49UP20130619,  P03W,    98,  1,     14,    999,2,20130831,0234, 24.2763, 171.1793, 5793,   2762.9,   1.6172,   1.6172,  34.6578,2,  34.6583,2,    125.0,2,   153.20,2,    37.72,2,     0.00,2,     2.65,2, -999.000,9, -999.000,9,   2348.2,2,   2420.5,2,   7.5381,2,    25.00,  -999.00,9,  -999.00,9,   1.6172,      330
  49UP20130619,  P03W,    98,  1,     13,    667,2,20130831,0234, 24.2763, 171.1793, 5793,   2970.6,   1.5777,   1.5777,  34.6638,2,  34.6644,6,    130.9,2,   152.21,2,    37.39,2,     0.00,2,     2.62,2, -999.000,9, -999.000,9,   2345.4,2,   2422.1,2,   7.5477,2,    25.00,  -999.00,9,  -999.00,9,   1.5777,      327
  49UP20130619,  P03W,    98,  1,     12,     74,2,20130831,0234, 24.2763, 171.1793, 5793,   3214.4,   1.5351,   1.5352,  34.6698,2,  34.6705,2,    137.0,2,   151.18,2,    36.84,3,     0.00,2,     2.59,2, -999.000,9, -999.000,9,   2342.6,2,   2421.7,2,   7.5567,2,    25.00,  -999.00,9,  -999.00,9,   1.5352,      322
  49UP20130619,  P03W,    98,  1,     11,    996,2,20130831,0234, 24.2763, 171.1793, 5793,   3470.3,   1.5019,   1.5020,  34.6748,2,  34.6738,2,    141.6,3,   149.91,2,    36.67,2,     0.00,2,     2.56,2, -999.000,9, -999.000,9,   2334.4,3,   2420.9,2,   7.5664,2,    25.00,  -999.00,9,  -999.00,9,   1.5020,      318
  49UP20130619,  P03W,    98,  1,     10,    107,2,20130831,0234, 24.2763, 171.1793, 5793,   3725.6,   1.4787,   1.4788,  34.6792,2,  34.6767,4,    147.0,3,   147.45,2,    36.22,2,     0.00,2,     2.54,2, -999.000,9, -999.000,9,   2339.5,3,   2417.1,2,   7.5727,2,    25.00,  -999.00,9,  -999.00,9,   1.4788,      313
  49UP20130619,  P03W,    98,  1,      9,    108,2,20130831,0234, 24.2763, 171.1793, 5793,   3980.4,   1.4654,   1.4653,  34.6827,2,  34.6815,2,    152.9,6,   145.48,6,    35.93,6,     0.00,6,     2.51,6, -999.000,9, -999.000,9,   2334.5,3,   2416.9,2,   7.5827,2,    25.00,  -999.00,9,  -999.00,9,   1.4653,      309
  49UP20130619,  P03W,    98,  1,      8,     81,2,20130831,0234, 24.2763, 171.1793, 5793,   4237.4,   1.4488,   1.4489,  34.6863,2,  34.6864,6,    159.3,2,   142.84,2,    35.46,2,     0.00,2,     2.47,2, -999.000,9, -999.000,9,   2317.6,3,   2413.7,2,   7.5865,2,    25.00,  -999.00,9,  -999.00,9,   1.4489,      305
  49UP20130619,  P03W,    98,  1,      7,    106,2,20130831,0234, 24.2763, 171.1793, 5793,   4493.2,   1.4388,   1.4390,  34.6896,2,  34.6888,2,    164.2,2,   139.79,2,    35.16,2,     0.00,2,     2.44,2, -999.000,9, -999.000,9,   2318.7,6,   2410.4,6,   7.5957,2,    25.00,  -999.00,9,  -999.00,9,   1.4390,      300
  49UP20130619,  P03W,    98,  1,      6,    113,2,20130831,0234, 24.2763, 171.1793, 5793,   4751.9,   1.4346,   1.4346,  34.6924,2,  34.6919,2,    169.4,2,   136.86,2,    34.70,2,     0.00,2,     2.41,2, -999.000,9, -999.000,9,   2310.5,2,   2406.7,2,   7.5998,6,    25.00,  -999.00,9,  -999.00,9,   1.4346,      256
  49UP20130619,  P03W,    98,  1,      5,     94,2,20130831,0234, 24.2763, 171.1793, 5793,   5007.3,   1.4374,   1.4374,  34.6945,2,  34.6941,2,    172.9,2,   134.77,2,    34.46,2,     0.00,2,     2.39,2, -999.000,9, -999.000,9,   2307.3,2,   2404.3,2,   7.6061,2,    25.00,  -999.00,9,  -999.00,9,   1.4374,      252
  49UP20130619,  P03W,    98,  1,      4,     77,2,20130831,0234, 24.2763, 171.1793, 5793,   5267.2,   1.4474,   1.4475,  34.6963,2,  34.6961,2,    176.2,2,   133.04,2,    34.16,2,     0.00,2,     2.37,2, -999.000,9, -999.000,9,   2301.1,2,   2402.3,2,   7.6089,2,    25.00,  -999.00,9,  -999.00,9,   1.4475,      247
  49UP20130619,  P03W,    98,  1,      3,    104,2,20130831,0234, 24.2763, 171.1793, 5793,   5522.6,   1.4627,   1.4627,  34.6974,2,  34.6969,2,    178.0,2,   131.89,2,    34.07,2,     0.00,2,     2.37,2, -999.000,9, -999.000,9,   2301.2,2,   2401.0,2,   7.6068,2,    25.00,  -999.00,9,  -999.00,9,   1.4627,      243
  49UP20130619,  P03W,    98,  1,      2,     75,2,20130831,0234, 24.2763, 171.1793, 5793,   5781.1,   1.4883,   1.4883,  34.6982,2,  34.6978,6,    179.6,2,   130.89,2,    33.90,2,     0.00,2,     2.35,2, -999.000,9, -999.000,9,   2298.1,2,   2398.4,2,   7.6096,2,    25.00,  -999.00,9,  -999.00,9,   1.4883,      238
  49UP20130619,  P03W,    98,  1,      1,    997,2,20130831,0234, 24.2763, 171.1793, 5793,   5890.3,   1.4966,   1.4966,  34.6986,2,  34.6980,2,    179.6,2,   131.00,2,    33.98,2,     0.00,2,     2.36,2, -999.000,9, -999.000,9,   2308.9,3,   2397.6,2,   7.6098,2,    25.00,  -999.00,9,  -999.00,9,   1.4966,      235