BOTTLE,20180830PRINUNIVRMK
# 08/30/2018 Initialized README file  
# Data source:  
# SHIP: Ryofu Maru 
# Cruise: RF13-06 and RF13-07 
# Region: P03W with short meridional section on 179E 
# EXPOCODE: 49UP20130619 
# DATES: 20130619 - 20130918 
# Chief Scientist: Kazuhiro Nemoto, Leg 1 
#                  Hitomi Kamiya, Leg 2 
# 120 stations with 36 place 10L Rosette 
# NOTE: Stations were NOT occupied in numerical order 
# CTD: Who - T.Nakano; Status - final 
# 	Includes: CTDSAL, CTDOXY 
# Salinty: Who - T.Nakano; Status - final 
# 	Notes: 	 
# Nutrients: Who -T.Nakano ; Status - 
# 	Includes: nitrate, nitrite, silicate, phopshpate 
# 	Nitrate calculated as (NO3+NO2) - NO2 
# O2: Who - T.Nakano; Status -final 
# 	Notes: 
# TCO2: Who - T.Nakano; Status - final 
# 	Notes:  
# ALKALI: Who - T.Nakano; Status - final 
# 	Notes:  
# CFC: Who - T.Nakano; Status - final 
# 	Notes:  
# CHLOROA: Who - T.Nakano; Status - final 
# 	Notes:  
# PHAEO: Who - T.Nakano; Status - final 
# 	Notes:  
# These data should be cited as: 
# References that have used data from this cruise: 
EXPOCODE,SECT_ID,STNNBR,CASTNO,SAMPNO,BTLNBR,BTLNBR_FLAG_W,DATE,TIME,LATITUDE,LONGITUDE,DEPTH,CTDPRS,CTDTMP,SBE35,CTDSAL,CTDSAL_FLAG_W,SALNTY,SALNTY_FLAG_W,OXYGEN,OXYGEN_FLAG_W,SILCAT,SILCAT_FLAG_W,NITRAT,NITRAT_FLAG_W,NITRIT,NITRIT_FLAG_W,PHSPHT,PHSPHT_FLAG_W,CFC-11,CFC-11_FLAG_W,CFC-12,CFC-12_FLAG_W,TCARBN,TCARBN_FLAG_W,ALKALI,ALKALI_FLAG_W,PH_TOT,PH_TOT_FLAG_W,PH_TMP,CHLORA,CHLORA_FLAG_W,PPHYTN,PPHYTN_FLAG_W,SBE35,BTL_TIME
,,,,,,,,,,,METERS,DBAR,ITS-90,,PSS-78,,PSS-78,,UMOL/KG,,UMOL/KG,,UMOL/KG,,UMOL/KG,,UMOL/KG,,PMOL/KG,,PMOL/KG,,UMOL/KG,,UMOL/KG,,,,DEG C,UG/KG,,UG/KG,,,
  49UP20130619,  P03W,    13,  1,      0,   -999,0,20130625,0111, 28.7002, 126.4478,  128,      0.0,  26.6934,-999.0000,  33.8924,2,  33.8937,2,    206.3,2,     1.57,4,     0.00,4,     0.00,2,     0.05,4, -999.000,9, -999.000,9,   1926.9,2,   2237.3,2,   8.0824,4,    25.00,     0.15,2,     0.03,2,-999.0000,      110
  49UP20130619,  P03W,    13,  1,     24,    110,2,20130625,0111, 28.7002, 126.4478,  128,     10.2,  26.7019,  26.7005,  33.8924,2,  33.8908,2,    206.8,6,     1.58,4,     0.00,4,     0.00,6,     0.02,4, -999.000,9, -999.000,9,   1925.5,2,   2236.1,2,   8.0814,4,    25.00,     0.17,2,     0.05,2,  26.7005,      119
  49UP20130619,  P03W,    13,  1,     23,     96,2,20130625,0111, 28.7002, 126.4478,  128,     51.1,  22.8551,  22.8577,  34.6013,2,  34.6021,2,    200.9,2,     2.77,4,     0.59,4,     0.30,2,     0.12,4, -999.000,9, -999.000,9,   1985.4,2,   2278.5,2,   8.0329,4,    25.00,     0.42,2,     0.32,2,  22.8577,      116
  49UP20130619,  P03W,    13,  1,      8,     81,2,20130625,0111, 28.7002, 126.4478,  128,    101.4,  18.9612,  18.9607,  34.6206,2,  34.6181,2,    158.5,2,    12.94,4,     8.85,4,     0.01,2,     0.65,4, -999.000,9, -999.000,9,   2061.6,2,   2284.2,2,   7.8950,4,    25.00,     0.11,2,     0.16,2,  18.9607,      114
  49UP20130619,  P03W,    13,  1,      7,    106,2,20130625,0111, 28.7002, 126.4478,  128,    122.3,  15.9753,  15.9774,  34.5771,2,  34.5735,6,    159.7,2,    17.57,4,    11.84,4,     0.03,2,     0.88,4, -999.000,9, -999.000,9,   -999.0,9,   -999.0,9,-999.0000,9,  -999.00,  -999.00,9,  -999.00,9,  15.9774,      112
  49UP20130619,  P03W,    13,  1,      6,    113,2,20130625,0111, 28.7002, 126.4478,  128,    122.3,  15.9753,  15.9774,  34.5771,2,  34.5730,2,    159.5,2,    17.62,4,    11.84,4,     0.03,2,     0.88,4, -999.000,9, -999.000,9,   2096.6,2,   2288.2,2,   7.8434,4,    25.00,     0.02,2,     0.18,2,  15.9774,      112
  49UP20130619,  P03W,    15,  1,      0,   -999,0,20130625,0349, 28.5543, 126.6880,  155,      0.0,  27.0211,-999.0000,  33.8016,2,-999.0000,9,    205.8,2,     1.65,4,     0.00,4,     0.00,2,     0.03,4, -999.000,9, -999.000,9,   -999.0,9,   -999.0,9,-999.0000,9,  -999.00,     0.15,2,     0.04,2,-999.0000,      348
  49UP20130619,  P03W,    15,  1,     36,    109,2,20130625,0349, 28.5543, 126.6880,  155,      9.9,  26.9153,  26.8994,  33.8154,2,  33.8342,4,    206.3,2,     1.68,4,     0.00,4,     0.00,2,     0.02,4, -999.000,9, -999.000,9,   -999.0,9,   -999.0,9,-999.0000,9,  -999.00,  -999.00,9,  -999.00,9,  26.8994,      358
  49UP20130619,  P03W,    15,  1,     35,    112,2,20130625,0349, 28.5543, 126.6880,  155,      9.9,  26.9153,  26.8994,  33.8154,2,  33.8089,4,    206.1,2,     1.64,4,     0.00,4,     0.00,2,     0.01,4, -999.000,9, -999.000,9,   -999.0,9,   -999.0,9,-999.0000,9,  -999.00,     0.14,2,     0.05,2,  26.8994,      358
  49UP20130619,  P03W,    15,  1,     34,     83,2,20130625,0349, 28.5543, 126.6880,  155,     50.7,  24.8879,  24.8875,  34.1994,2,  34.1972,2,    210.5,2,     2.20,4,     0.00,4,     0.00,2,     0.03,4, -999.000,9, -999.000,9,   -999.0,9,   -999.0,9,-999.0000,9,  -999.00,     0.37,2,     0.17,2,  24.8875,      356
  49UP20130619,  P03W,    15,  1,     17,     90,2,20130625,0349, 28.5543, 126.6880,  155,    101.7,  18.8863,  18.8930,  34.6640,2,  34.6649,2,    170.3,6,     9.82,4,     7.56,4,     0.02,6,     0.54,4, -999.000,9, -999.000,9,   -999.0,9,   -999.0,9,-999.0000,9,  -999.00,     0.06,2,     0.12,2,  18.8930,      353
  49UP20130619,  P03W,    15,  1,     15,     88,2,20130625,0349, 28.5543, 126.6880,  155,    147.6,  14.1468,  14.1466,  34.5159,2,  34.5148,2,    158.8,2,    21.21,4,    14.21,4,     0.03,2,     1.04,4, -999.000,9, -999.000,9,   -999.0,9,   -999.0,9,-999.0000,9,  -999.00,     0.01,2,     0.08,2,  14.1466,      349
  49UP20130619,  P03W,    15,  1,     16,     89,2,20130625,0349, 28.5543, 126.6880,  155,    147.7,  14.1461,  14.1463,  34.5157,2,  34.5139,2,    158.6,2,    21.36,4,    14.22,4,     0.04,2,     1.04,4, -999.000,9, -999.000,9,   -999.0,9,   -999.0,9,-999.0000,9,  -999.00,     0.01,2,     0.07,2,  14.1463,      350
  49UP20130619,  P03W,    17,  1,      0,   -999,0,20130625,0652, 28.4103, 126.9068,  278,      0.0,  26.8381,-999.0000,  33.8489,2,  33.8397,2,    206.6,2,     1.79,4,     0.00,4,     0.00,2,     0.04,4, -999.000,9, -999.000,9,   1923.1,2,   2234.2,2,   8.0805,2,    25.00,     0.18,2,     0.05,2,-999.0000,      653
  49UP20130619,  P03W,    17,  1,     36,    109,2,20130625,0652, 28.4103, 126.9068,  278,     10.1,  26.8073,  26.8066,  33.8490,2,  33.8487,2,    207.4,2,     1.77,4,     0.00,4,     0.00,2,     0.01,4, -999.000,9, -999.000,9,   1925.0,2,   2236.7,2,   8.0777,2,    25.00,     0.18,2,     0.06,2,  26.8066,      707
  49UP20130619,  P03W,    17,  1,     35,    112,2,20130625,0652, 28.4103, 126.9068,  278,     50.2,  25.8528,  25.8495,  33.9879,2,  34.0029,4,    210.1,2,     2.36,4,    -0.01,4,     0.01,2,     0.03,4, -999.000,9, -999.000,9,   1936.2,2,   2245.7,2,   8.0656,2,    25.00,     0.55,2,     0.20,2,  25.8495,      705
  49UP20130619,  P03W,    17,  1,     34,     83,2,20130625,0652, 28.4103, 126.9068,  278,    100.5,  20.9477,  20.9449,  34.5340,2,  34.5386,2,    177.8,2,     6.13,4,     5.08,4,     0.20,2,     0.39,4, -999.000,9, -999.000,9,   2026.8,2,   2274.9,2,   7.9613,2,    25.00,     0.19,2,     0.25,2,  20.9449,      703
  49UP20130619,  P03W,    17,  1,     26,     84,2,20130625,0652, 28.4103, 126.9068,  278,    151.8,  19.2569,  19.2631,  34.6675,2,  34.6701,6,    172.5,2,     8.78,4,     6.77,4,     0.05,2,     0.49,4, -999.000,9, -999.000,9,   -999.0,9,   -999.0,9,-999.0000,9,  -999.00,  -999.00,9,  -999.00,9,  19.2631,      700
  49UP20130619,  P03W,    17,  1,     25,     98,2,20130625,0652, 28.4103, 126.9068,  278,    151.8,  19.2569,  19.2631,  34.6675,2,  34.6711,2,    172.8,2,     8.71,4,     6.72,4,     0.05,2,     0.48,4, -999.000,9, -999.000,9,   2043.1,2,   2283.9,2,   7.9331,2,    25.00,     0.12,2,     0.21,2,  19.2631,      700
  49UP20130619,  P03W,    17,  1,     24,    110,2,20130625,0652, 28.4103, 126.9068,  278,    202.8,  13.6830,  13.6955,  34.4901,2,  34.5004,4,    162.7,2,    20.69,4,    14.34,4,     0.03,2,     1.03,4, -999.000,9, -999.000,9,   2108.5,2,   2288.3,2,   7.8067,2,    25.00,     0.01,2,     0.06,2,  13.6955,      657
  49UP20130619,  P03W,    17,  1,     12,     74,2,20130625,0652, 28.4103, 126.9068,  278,    251.8,  11.3613,  11.3608,  34.3899,2,  34.3894,2,    144.9,2,    33.70,4,    19.92,4,     0.03,2,     1.45,4, -999.000,9, -999.000,9,   2148.9,2,   2288.0,2,   7.7163,2,    25.00,  -999.00,9,  -999.00,9,  11.3608,      655
  49UP20130619,  P03W,    17,  1,     11,    996,2,20130625,0652, 28.4103, 126.9068,  278,    272.8,  11.1514,  11.1513,  34.3810,2,  34.3808,2,    143.8,6,    34.71,4,    20.37,4,     0.02,6,     1.49,4, -999.000,9, -999.000,9,   2154.2,2,   2293.2,2,   7.7075,2,    25.00,  -999.00,9,  -999.00,9,  11.1513,      653
  49UP20130619,  P03W,    17,  1,     10,    107,3,20130625,0652, 28.4103, 126.9068,  278,    272.9,  11.1583,  11.1583,  34.3815,2,  34.3799,2,    143.9,2,    34.76,4,    20.36,4,     0.02,2,     1.49,4, -999.000,9, -999.000,9,   2153.9,2,   2292.9,2,   7.7092,2,    25.00,  -999.00,9,  -999.00,9,  11.1583,      653
  49UP20130619,  P03W,    19,  1,      0,   -999,0,20130625,1052, 28.2682, 127.1442,  979,      0.0,  27.9651,-999.0000,  34.0381,2,-999.0000,9,    202.3,2,     1.64,2,     0.00,2,     0.00,2,     0.05,2, -999.000,9, -999.000,9,   -999.0,9,   -999.0,9,-999.0000,9,  -999.00,     0.12,2,     0.03,2,-999.0000,     1125
  49UP20130619,  P03W,    19,  1,     33,     86,2,20130625,1052, 28.2682, 127.1442,  979,     11.0,  27.9663,  27.9658,  34.0371,2,  34.0377,2,    202.6,2,     1.73,2,     0.00,2,     0.00,2,     0.02,2, -999.000,9, -999.000,9,   -999.0,9,   -999.0,9,-999.0000,9,  -999.00,     0.11,2,     0.03,2,  27.9658,     1139
  49UP20130619,  P03W,    19,  1,     32,    105,2,20130625,1052, 28.2682, 127.1442,  979,     50.7,  25.4202,  25.4329,  34.6364,2,  34.6302,2,    212.0,2,     1.05,2,     0.00,2,     0.00,2,     0.02,2, -999.000,9, -999.000,9,   -999.0,9,   -999.0,9,-999.0000,9,  -999.00,     0.18,2,     0.11,2,  25.4329,     1138
  49UP20130619,  P03W,    19,  1,     31,     76,2,20130625,1052, 28.2682, 127.1442,  979,    100.6,  22.4039,  22.3998,  34.7181,2,  34.7165,2,    197.6,2,     2.59,2,     1.57,2,     0.08,2,     0.15,2, -999.000,9, -999.000,9,   -999.0,9,   -999.0,9,-999.0000,9,  -999.00,     0.09,2,     0.13,2,  22.3998,     1134
  49UP20130619,  P03W,    19,  1,     25,     98,2,20130625,1052, 28.2682, 127.1442,  979,    151.0,  20.2799,  20.2742,  34.7421,2,  34.7402,2,    183.1,2,     4.79,2,     4.38,2,     0.02,2,     0.33,2, -999.000,9, -999.000,9,   -999.0,9,   -999.0,9,-999.0000,9,  -999.00,     0.02,2,     0.06,2,  20.2742,     1132
  49UP20130619,  P03W,    19,  1,     24,    110,2,20130625,1052, 28.2682, 127.1442,  979,    202.0,  17.9100,  17.9091,  34.7326,2,  34.7287,2,    188.7,2,     5.14,2,     5.71,2,     0.01,2,     0.41,2, -999.000,9, -999.000,9,   -999.0,9,   -999.0,9,-999.0000,9,  -999.00,     0.01,2,     0.03,2,  17.9091,     1130
  49UP20130619,  P03W,    19,  1,     23,     96,2,20130625,1052, 28.2682, 127.1442,  979,    251.8,  16.2128,  16.2110,  34.6363,2,  34.6330,2,    186.7,2,     7.80,2,     8.17,2,     0.01,2,     0.57,2, -999.000,9, -999.000,9,   -999.0,9,   -999.0,9,-999.0000,9,  -999.00,  -999.00,9,  -999.00,9,  16.2110,     1128
  49UP20130619,  P03W,    19,  1,     17,     90,2,20130625,1052, 28.2682, 127.1442,  979,    302.1,  14.8628,  14.8622,  34.5494,2,  34.5488,2,    180.1,2,    11.54,2,    10.82,2,     0.01,2,     0.77,2, -999.000,9, -999.000,9,   -999.0,9,   -999.0,9,-999.0000,9,  -999.00,  -999.00,9,  -999.00,9,  14.8622,     1126
  49UP20130619,  P03W,    19,  1,     16,     89,2,20130625,1052, 28.2682, 127.1442,  979,    403.4,  11.4936,  11.4932,  34.3657,2,  34.3658,2,    155.6,2,    27.60,2,    18.61,2,     0.01,2,     1.35,2, -999.000,9, -999.000,9,   -999.0,9,   -999.0,9,-999.0000,9,  -999.00,  -999.00,9,  -999.00,9,  11.4932,     1123
  49UP20130619,  P03W,    19,  1,     15,     88,2,20130625,1052, 28.2682, 127.1442,  979,    504.1,   8.2173,   8.2177,  34.2957,2,  34.2953,2,    118.5,6,    57.85,6,    27.70,6,     0.01,6,     2.02,6, -999.000,9, -999.000,9,   -999.0,9,   -999.0,9,-999.0000,9,  -999.00,  -999.00,9,  -999.00,9,   8.2177,     1119
  49UP20130619,  P03W,    19,  1,     12,     74,2,20130625,1052, 28.2682, 127.1442,  979,    604.6,   6.5694,   6.5705,  34.2860,2,  34.2862,6,    100.7,2,    75.40,2,    32.00,2,     0.01,2,     2.32,2, -999.000,9, -999.000,9,   -999.0,9,   -999.0,9,-999.0000,9,  -999.00,  -999.00,9,  -999.00,9,   6.5705,     1104
  49UP20130619,  P03W,    19,  1,     11,    996,2,20130625,1052, 28.2682, 127.1442,  979,    604.6,   6.5694,   6.5705,  34.2860,2,  34.2859,2,    101.1,2,    75.40,2,    31.87,2,     0.01,2,     2.32,2, -999.000,9, -999.000,9,   -999.0,9,   -999.0,9,-999.0000,9,  -999.00,  -999.00,9,  -999.00,9,   6.5705,     1104
  49UP20130619,  P03W,    19,  1,     10,    107,3,20130625,1052, 28.2682, 127.1442,  979,    707.6,   5.8422,   5.8430,  34.3251,2,  34.3246,2,   -999.0,5,    86.79,2,    34.21,2,     0.01,2,     2.49,2, -999.000,9, -999.000,9,   -999.0,9,   -999.0,9,-999.0000,9,  -999.00,  -999.00,9,  -999.00,9,   5.8430,     1101
  49UP20130619,  P03W,    19,  1,      3,    104,2,20130625,1052, 28.2682, 127.1442,  979,    808.1,   5.2559,   5.2557,  34.3584,2,  34.3583,2,     80.4,2,    96.62,2,    35.88,2,     0.00,2,     2.60,2, -999.000,9, -999.000,9,   -999.0,9,   -999.0,9,-999.0000,9,  -999.00,  -999.00,9,  -999.00,9,   5.2557,     1058
  49UP20130619,  P03W,    19,  1,      2,     75,2,20130625,1052, 28.2682, 127.1442,  979,    909.5,   4.9028,   4.9025,  34.3797,2,  34.3793,2,     76.8,6,   102.76,6,    36.72,6,     0.01,6,     2.66,6, -999.000,9, -999.000,9,   -999.0,9,   -999.0,9,-999.0000,9,  -999.00,  -999.00,9,  -999.00,9,   4.9025,     1055
  49UP20130619,  P03W,    19,  1,      1,    997,2,20130625,1052, 28.2682, 127.1442,  979,    975.2,   4.7219,   4.7219,  34.3892,2,  34.3889,2,     75.2,2,   105.86,2,    37.17,2,     0.01,2,     2.70,2, -999.000,9, -999.000,9,   -999.0,9,   -999.0,9,-999.0000,9,  -999.00,  -999.00,9,  -999.00,9,   4.7219,     1052
  49UP20130619,  P03W,    21,  1,      0,   -999,0,20130625,1458, 28.1028, 127.3583,  997,      0.0,  27.9752,-999.0000,  33.9850,2,  33.9636,2,    201.4,2,     1.89,2,     0.02,2,     0.00,2,     0.05,2, -999.000,9, -999.000,9,   1918.5,2,   2235.6,2,-999.0000,5,    25.00,     0.09,2,     0.04,2,-999.0000,     1510
  49UP20130619,  P03W,    21,  1,     33,     86,2,20130625,1458, 28.1028, 127.3583,  997,     10.1,  27.9630,  27.9626,  34.0023,2,  34.0005,2,    201.2,2,     1.89,2,     0.03,2,     0.00,2,     0.04,2, -999.000,9, -999.000,9,   1925.6,2,   2240.5,2,   8.0908,2,    25.00,     0.11,2,     0.03,2,  27.9626,     1536
  49UP20130619,  P03W,    21,  1,     32,    105,2,20130625,1458, 28.1028, 127.3583,  997,     50.4,  25.0984,  25.1039,  34.5852,2,  34.5902,2,    214.3,6,     1.27,6,     0.00,6,     0.00,6,     0.03,6, -999.000,9, -999.000,9,   1955.0,2,   2274.6,2,   8.0785,2,    25.00,     0.15,2,     0.08,2,  25.1039,     1534
  49UP20130619,  P03W,    21,  1,     31,     76,2,20130625,1458, 28.1028, 127.3583,  997,    100.4,  21.5795,  21.5765,  34.7768,2,  34.7789,2,    206.6,2,     1.64,2,     0.55,2,     0.13,2,     0.07,2, -999.000,9, -999.000,9,   1994.1,2,   2288.3,2,   8.0316,2,    25.00,     0.25,2,     0.36,2,  21.5765,     1528
  49UP20130619,  P03W,    21,  1,     28,     91,2,20130625,1458, 28.1028, 127.3583,  997,    150.2,  20.3676,  20.3664,  34.7992,2,  34.7990,2,    203.2,2,     2.05,2,     1.54,2,     0.07,2,     0.12,2, -999.000,9, -999.000,9,   2004.5,2,   2288.3,2,   8.0114,2,    25.00,     0.08,2,     0.21,2,  20.3664,     1526
  49UP20130619,  P03W,    21,  1,     27,    998,2,20130625,1458, 28.1028, 127.3583,  997,    201.5,  18.8780,  18.8829,  34.7809,2,-999.0000,9,    195.2,2,     3.25,2,     3.80,2,     0.01,2,     0.26,2, -999.000,9, -999.000,9,   -999.0,9,   -999.0,9,-999.0000,9,  -999.00,  -999.00,9,  -999.00,9,  18.8829,     1524
  49UP20130619,  P03W,    21,  1,     26,     84,2,20130625,1458, 28.1028, 127.3583,  997,    201.5,  18.8780,  18.8829,  34.7809,2,  34.7809,2,    195.3,2,     3.17,2,     3.79,2,     0.01,2,     0.26,2, -999.000,9, -999.000,9,   2024.6,2,   2287.5,2,   7.9709,2,    25.00,     0.01,2,     0.03,2,  18.8829,     1524
  49UP20130619,  P03W,    21,  1,     22,    111,3,20130625,1458, 28.1028, 127.3583,  997,    252.1,  17.5903,  17.5903,  34.7221,2,  34.7201,2,    193.6,2,     4.54,2,     5.52,2,     0.01,2,     0.38,2, -999.000,9, -999.000,9,   2040.7,2,   2283.8,2,   7.9398,2,    25.00,  -999.00,9,  -999.00,9,  17.5903,     1522
  49UP20130619,  P03W,    21,  1,     21,     78,2,20130625,1458, 28.1028, 127.3583,  997,    302.5,  16.7304,  16.7307,  34.6704,2,  34.6689,2,    191.7,2,     6.20,2,     6.97,2,     0.01,2,     0.48,2, -999.000,9, -999.000,9,   2050.5,2,   2281.2,2,   7.9207,2,    25.00,  -999.00,9,  -999.00,9,  16.7307,     1520
  49UP20130619,  P03W,    21,  1,     18,    101,2,20130625,1458, 28.1028, 127.3583,  997,    402.0,  13.1397,  13.1355,  34.4395,2,  34.4397,2,    173.3,2,    17.66,2,    14.34,2,     0.01,2,     1.02,2, -999.000,9, -999.000,9,   2104.7,2,   2279.5,2,   7.8011,2,    25.00,  -999.00,9,  -999.00,9,  13.1355,     1517
  49UP20130619,  P03W,    21,  1,     17,     90,2,20130625,1458, 28.1028, 127.3583,  997,    504.1,  10.6513,  10.6505,  34.3189,2,  34.3180,2,    150.5,2,    31.39,2,    20.61,2,     0.01,2,     1.49,2, -999.000,9, -999.000,9,   2150.3,2,   2286.0,2,   7.7017,2,    25.00,  -999.00,9,  -999.00,9,  10.6505,     1514
  49UP20130619,  P03W,    21,  1,     16,     89,2,20130625,1458, 28.1028, 127.3583,  997,    604.2,   8.6061,   8.6004,  34.2891,2,  34.2900,2,    122.6,2,    52.35,2,    26.72,2,     0.01,2,     1.94,2, -999.000,9, -999.000,9,   2202.8,2,   2303.2,2,   7.6089,2,    25.00,  -999.00,9,  -999.00,9,   8.6004,     1510
  49UP20130619,  P03W,    21,  1,     12,     74,2,20130625,1458, 28.1028, 127.3583,  997,    706.5,   6.6390,   6.6395,  34.2443,2,  34.2439,2,    102.2,6,    71.89,6,    31.95,6,     0.00,6,     2.31,6, -999.000,9, -999.000,9,   2241.9,2,   2317.7,2,   7.5305,2,    25.00,  -999.00,9,  -999.00,9,   6.6395,     1507
  49UP20130619,  P03W,    21,  1,     11,    996,2,20130625,1458, 28.1028, 127.3583,  997,    808.3,   5.9119,   5.9119,  34.3136,2,  34.3147,6,     90.0,2,    85.45,2,    34.16,2,     0.00,2,     2.47,2, -999.000,9, -999.000,9,   -999.0,9,   -999.0,9,-999.0000,9,  -999.00,  -999.00,9,  -999.00,9,   5.9119,     1504
  49UP20130619,  P03W,    21,  1,     10,    107,2,20130625,1458, 28.1028, 127.3583,  997,    808.3,   5.9119,   5.9119,  34.3136,2,  34.3147,2,     90.1,2,    85.30,2,    34.16,2,     0.01,2,     2.47,2, -999.000,9, -999.000,9,   2270.5,2,   2335.6,2,   7.4983,2,    25.00,  -999.00,9,  -999.00,9,   5.9119,     1504
  49UP20130619,  P03W,    21,  1,      3,    104,2,20130625,1458, 28.1028, 127.3583,  997,    910.5,   5.1189,   5.1190,  34.3643,2,  34.3649,2,     79.3,2,    98.99,2,    36.35,2,     0.00,2,     2.62,2, -999.000,9, -999.000,9,   2301.7,2,   2353.4,2,   7.4705,2,    25.00,  -999.00,9,  -999.00,9,   5.1190,     1501
  49UP20130619,  P03W,    21,  1,      2,     75,2,20130625,1458, 28.1028, 127.3583,  997,   1002.7,   4.3895,   4.3860,  34.4016,2,  34.4016,2,     74.7,2,   109.53,2,    37.93,2,     0.00,2,     2.73,2, -999.000,9, -999.000,9,   2323.8,2,   2366.4,2,   7.4518,2,    25.00,  -999.00,9,  -999.00,9,   4.3860,     1458
  49UP20130619,  P03W,    21,  1,      1,    997,2,20130625,1458, 28.1028, 127.3583,  997,   1002.7,   4.3895,   4.3880,  34.4017,2,  34.4015,2,     74.8,2,   109.42,2,    37.99,2,     0.00,2,     2.73,2, -999.000,9, -999.000,9,   2326.4,2,   2365.8,2,   7.4502,2,    25.00,  -999.00,9,  -999.00,9,   4.3880,     1458