BOTTLE,20180830PRINUNIVRMK
EXPOCODE,SECT_ID,STNNBR,CASTNO,SAMPNO,BTLNBR,BTLNBR_FLAG_W,DATE,TIME,LATITUDE,LONGITUDE,DEPTH,CTDPRS,CTDTMP,SBE35,CTDSAL,CTDSAL_FLAG_W,SALNTY,SALNTY_FLAG_W,OXYGEN,OXYGEN_FLAG_W,SILCAT,SILCAT_FLAG_W,NITRAT,NITRAT_FLAG_W,NITRIT,NITRIT_FLAG_W,PHSPHT,PHSPHT_FLAG_W,CFC-11,CFC-11_FLAG_W,CFC-12,CFC-12_FLAG_W,TCARBN,TCARBN_FLAG_W,ALKALI,ALKALI_FLAG_W,PH_TOT,PH_TOT_FLAG_W,PH_TMP,CHLORA,CHLORA_FLAG_W,PPHYTN,PPHYTN_FLAG_W,SBE35,BTL_TIME
,,,,,,,,,,,METERS,DBAR,ITS-90,,PSS-78,,PSS-78,,UMOL/KG,,UMOL/KG,,UMOL/KG,,UMOL/KG,,UMOL/KG,,PMOL/KG,,PMOL/KG,,UMOL/KG,,UMOL/KG,,,,DEG C,UG/KG,,UG/KG,,,
  49UP20130619,  P03W,    45,  1,      0,   -999,0,20130708,2328, 23.7285, 133.0000, 4084,      0.0,  29.2975,-999.0000,  34.5911,2,  34.5947,2,    196.5,2,     1.23,2,     0.01,2,     0.00,2,     0.03,2, -999.000,9, -999.000,9,   1947.2,2,   2266.5,2,   8.0944,2,    25.00,     0.04,2,     0.01,2,-999.0000,       38
  49UP20130619,  P03W,    45,  1,     36,    109,2,20130708,2328, 23.7285, 133.0000, 4084,      9.5,  29.2987,  29.2973,  34.5898,2,  34.5907,2,    196.8,6,     1.25,6,     0.00,6,     0.00,6,     0.01,6, -999.000,9, -999.000,9,   1946.8,2,   2266.8,2,   8.0956,2,    25.00,     0.04,2,     0.01,2,  29.2973,      115
  49UP20130619,  P03W,    45,  1,     35,    112,2,20130708,2328, 23.7285, 133.0000, 4084,     51.2,  24.1542,  24.1655,  34.9031,2,  34.9008,2,    220.7,2,     1.37,2,     0.00,2,     0.00,2,     0.01,2, -999.000,9, -999.000,9,   1970.2,2,   2288.7,2,   8.0831,2,    25.00,     0.08,2,     0.02,2,  24.1655,      113
  49UP20130619,  P03W,    45,  1,     34,     83,2,20130708,2328, 23.7285, 133.0000, 4084,    101.9,  21.3752,  21.3754,  34.9015,2,  34.8989,2,    218.0,2,     1.76,2,     0.00,2,     0.00,2,     0.01,2, -999.000,9, -999.000,9,   1992.7,2,   2292.5,2,   8.0445,2,    25.00,     0.21,2,     0.11,2,  21.3754,      109
  49UP20130619,  P03W,    45,  1,     33,     86,2,20130708,2328, 23.7285, 133.0000, 4084,    151.7,  19.0770,  19.0796,  34.8221,2,  34.8221,2,    203.1,2,     2.60,2,     2.22,2,     0.02,2,     0.16,2, -999.000,9, -999.000,9,   2027.2,6,   2288.8,6,   7.9870,2,    25.00,     0.08,2,     0.15,2,  19.0796,      106
  49UP20130619,  P03W,    45,  1,     32,    105,2,20130708,2328, 23.7285, 133.0000, 4084,    202.2,  17.8191,  17.8186,  34.7486,2,  34.7484,2,    202.0,2,     3.56,2,     4.00,2,     0.01,2,     0.27,2, -999.000,9, -999.000,9,   2035.6,2,   2278.1,2,   7.9603,6,    25.00,     0.01,2,     0.03,2,  17.8186,      104
  49UP20130619,  P03W,    45,  1,     31,     76,2,20130708,2328, 23.7285, 133.0000, 4084,    251.1,  17.2120,  17.2123,  34.7097,2,  34.7100,2,    204.0,2,     4.34,2,     4.86,2,     0.01,2,     0.33,2, -999.000,9, -999.000,9,   2041.5,2,   2275.0,2,   7.9516,2,    25.00,  -999.00,9,  -999.00,9,  17.2123,      102
  49UP20130619,  P03W,    45,  1,     30,     97,2,20130708,2328, 23.7285, 133.0000, 4084,    251.1,  17.2120,  17.2123,  34.7097,2,  34.7103,6,    203.9,2,     4.36,2,     4.88,2,     0.01,2,     0.33,2, -999.000,9, -999.000,9,   2038.7,2,   2276.3,2,   7.9506,2,    25.00,  -999.00,9,  -999.00,9,  17.2123,      102
  49UP20130619,  P03W,    45,  1,     29,    102,2,20130708,2328, 23.7285, 133.0000, 4084,    302.6,  15.9628,  15.9643,  34.6207,2,  34.6230,6,    195.6,2,     7.22,2,     7.58,2,     0.00,2,     0.52,2, -999.000,9, -999.000,9,   2055.9,2,   2272.8,2,   7.9098,2,    25.00,  -999.00,9,  -999.00,9,  15.9643,       58
  49UP20130619,  P03W,    45,  1,     28,     91,4,20130708,2328, 23.7285, 133.0000, 4084,    403.7,  13.4528,  13.4511,  34.4466,2,-999.0000,9,   -999.0,9,  -999.00,9,  -999.00,9,  -999.00,9,  -999.00,9, -999.000,9, -999.000,9,   -999.0,9,   -999.0,9,-999.0000,9,  -999.00,  -999.00,9,  -999.00,9,  13.4511,       54
  49UP20130619,  P03W,    45,  1,     27,    998,2,20130708,2328, 23.7285, 133.0000, 4084,    504.2,  10.5112,  10.5169,  34.2568,2,  34.2596,2,    164.3,2,    25.85,2,    19.15,2,     0.00,2,     1.38,2, -999.000,9, -999.000,9,   2141.2,2,   2276.0,2,   7.7191,2,    25.00,  -999.00,9,  -999.00,9,  10.5169,       49
  49UP20130619,  P03W,    45,  1,     26,     84,2,20130708,2328, 23.7285, 133.0000, 4084,    611.1,   7.8934,   7.8891,  34.1364,2,  34.1405,2,    137.9,2,    45.22,2,    26.25,2,     0.00,2,     1.90,2, -999.000,9, -999.000,9,   2191.9,6,   2281.9,6,   7.6073,2,    25.00,  -999.00,9,  -999.00,9,   7.8891,       44
  49UP20130619,  P03W,    45,  1,     25,     98,2,20130708,2328, 23.7285, 133.0000, 4084,    709.0,   6.0394,   6.0390,  34.1323,2,  34.1334,2,     96.8,2,    69.83,2,    33.52,2,     0.00,2,     2.43,2, -999.000,9, -999.000,9,   2253.8,2,   2308.1,2,   7.4902,6,    25.00,  -999.00,9,  -999.00,9,   6.0390,       39
  49UP20130619,  P03W,    45,  1,     24,    110,2,20130708,2328, 23.7285, 133.0000, 4084,    808.5,   4.9083,   4.9079,  34.2158,2,  34.2150,2,     69.7,2,    91.48,2,    37.72,2,     0.00,2,     2.73,2, -999.000,9, -999.000,9,   2297.1,2,   2325.9,2,   7.4289,2,    25.00,  -999.00,9,  -999.00,9,   4.9079,       35
  49UP20130619,  P03W,    45,  1,     23,     96,2,20130708,2328, 23.7285, 133.0000, 4084,    808.5,   4.9083,   4.9079,  34.2158,2,  34.2147,6,     69.9,2,    91.63,2,    37.66,2,     0.00,2,     2.73,2, -999.000,9, -999.000,9,   2300.2,2,   2331.0,2,   7.4287,2,    25.00,  -999.00,9,  -999.00,9,   4.9079,       35
  49UP20130619,  P03W,    45,  1,     22,    111,2,20130708,2328, 23.7285, 133.0000, 4084,    907.5,   4.2367,   4.2378,  34.2977,2,  34.2984,2,     57.1,2,   106.69,2,    39.78,2,     0.00,2,     2.87,2, -999.000,9, -999.000,9,   2322.1,2,   2348.9,2,   7.4078,2,    25.00,  -999.00,9,  -999.00,9,   4.2378,       32
  49UP20130619,  P03W,    45,  1,     21,     78,2,20130708,2328, 23.7285, 133.0000, 4084,   1012.1,   3.6753,   3.6752,  34.3840,2,  34.3830,2,     56.6,2,   119.23,2,    40.65,2,     0.00,2,     2.91,2, -999.000,9, -999.000,9,   2335.9,2,   2367.5,2,   7.4103,2,    25.00,  -999.00,9,  -999.00,9,   3.6752,       28
  49UP20130619,  P03W,    45,  1,     20,     93,2,20130708,2328, 23.7285, 133.0000, 4084,   1213.5,   3.0987,   3.0988,  34.4620,2,  34.4603,2,     64.8,2,   131.13,2,    40.52,2,     0.00,2,     2.91,2, -999.000,9, -999.000,9,   2348.1,2,   2379.5,2,   7.4291,2,    25.00,  -999.00,9,  -999.00,9,   3.0988,       23
  49UP20130619,  P03W,    45,  1,     19,     92,2,20130708,2328, 23.7285, 133.0000, 4084,   1415.3,   2.6706,   2.6697,  34.5221,2,  34.5223,2,     79.6,2,   138.09,2,    39.97,2,     0.00,2,     2.85,2, -999.000,9, -999.000,9,   2348.8,2,   2391.1,2,   7.4562,2,    25.00,  -999.00,9,  -999.00,9,   2.6697,       18
  49UP20130619,  P03W,    45,  1,     18,    101,2,20130708,2328, 23.7285, 133.0000, 4084,   1616.2,   2.3610,   2.3609,  34.5633,2,  34.5637,2,     93.3,6,   141.24,6,    39.28,6,     0.00,6,     2.79,6, -999.000,9, -999.000,9,   2353.7,2,   2396.3,2,   7.4841,2,    25.00,  -999.00,9,  -999.00,9,   2.3609,       14
  49UP20130619,  P03W,    45,  1,     17,     90,2,20130708,2328, 23.7285, 133.0000, 4084,   1819.8,   2.0993,   2.0980,  34.5936,2,  34.5943,2,    105.4,2,   143.45,2,    38.72,2,     0.00,2,     2.74,2, -999.000,9, -999.000,9,   2345.9,2,   2408.1,2,   7.5042,2,    25.00,  -999.00,9,  -999.00,9,   2.0980,       10
  49UP20130619,  P03W,    45,  1,     16,     89,2,20130708,2328, 23.7285, 133.0000, 4084,   2021.5,   1.9261,   1.9260,  34.6184,2,  34.6187,2,    116.7,2,   143.49,2,    38.03,2,     0.00,2,     2.69,2, -999.000,9, -999.000,9,   2338.6,2,   2412.0,2,   7.5281,2,    25.00,  -999.00,9,  -999.00,9,   1.9260,        5
  49UP20130619,  P03W,    45,  1,     15,     88,2,20130708,2328, 23.7285, 133.0000, 4084,   2224.9,   1.8359,   1.8359,  34.6307,2,  34.6288,4,    123.0,2,   143.31,2,    37.65,2,     0.00,2,     2.66,2, -999.000,9, -999.000,9,   2337.2,6,   2408.0,6,   7.5373,2,    25.00,  -999.00,9,  -999.00,9,   1.8359,        2
  49UP20130619,  P03W,    45,  1,     13,    667,2,20130708,2328, 23.7285, 133.0000, 4084,   2425.1,   1.7751,   1.7750,  34.6401,2,  34.6395,2,    127.6,2,   143.45,2,    37.37,2,     0.00,2,     2.64,2, -999.000,9, -999.000,9,   2339.7,2,   2412.5,2,   7.5455,6,    25.00,  -999.00,9,  -999.00,9,   1.7750,     2359
  49UP20130619,  P03W,    45,  1,     12,     74,2,20130708,2328, 23.7285, 133.0000, 4084,   2630.8,   1.7129,   1.7129,  34.6488,2,  34.6495,2,    133.2,2,   143.21,2,    37.06,2,     0.00,2,     2.61,2, -999.000,9, -999.000,9,   2333.0,2,   2414.3,2,   7.5537,2,    25.00,  -999.00,9,  -999.00,9,   1.7129,     2355
  49UP20130619,  P03W,    45,  1,     11,    996,2,20130708,2328, 23.7285, 133.0000, 4084,   2835.6,   1.6600,   1.6599,  34.6564,2,  34.6530,4,    136.5,3,   142.81,6,    36.83,6,     0.00,6,     2.59,6, -999.000,9, -999.000,9,   2327.8,2,   2416.2,2,   7.5591,2,    25.00,  -999.00,9,  -999.00,9,   1.6599,     2350
  49UP20130619,  P03W,    45,  1,     10,    107,3,20130708,2328, 23.7285, 133.0000, 4084,   3038.8,   1.6075,   1.6074,  34.6639,2,  34.6565,4,    141.5,2,   141.57,4,    36.34,4,     0.00,4,     2.55,4, -999.000,9, -999.000,9,   2326.5,2,   2409.5,2,   7.5694,2,    25.00,  -999.00,9,  -999.00,9,   1.6074,     2347
  49UP20130619,  P03W,    45,  1,      9,    108,2,20130708,2328, 23.7285, 133.0000, 4084,   3038.8,   1.6075,   1.6074,  34.6639,2,  34.6613,4,    140.9,3,   142.63,2,    36.49,2,     0.00,2,     2.57,2, -999.000,9, -999.000,9,   2327.2,2,   2410.2,2,   7.5683,2,    25.00,  -999.00,9,  -999.00,9,   1.6074,     2346
  49UP20130619,  P03W,    45,  1,      8,     81,2,20130708,2328, 23.7285, 133.0000, 4084,   3296.7,   1.5749,   1.5749,  34.6696,2,  34.6699,2,    146.3,2,   142.61,2,    36.28,2,     0.00,2,     2.54,2, -999.000,9, -999.000,9,   2327.7,2,   2411.4,2,   7.5791,2,    25.00,  -999.00,9,  -999.00,9,   1.5749,     2341
  49UP20130619,  P03W,    45,  1,      7,    106,2,20130708,2328, 23.7285, 133.0000, 4084,   3550.2,   1.5685,   1.5685,  34.6729,2,  34.6725,2,    148.3,2,   142.24,2,    36.22,2,     0.00,2,     2.54,2, -999.000,9, -999.000,9,   2324.6,2,   2410.5,2,   7.5777,2,    25.00,  -999.00,9,  -999.00,9,   1.5685,     2336
  49UP20130619,  P03W,    45,  1,      6,    113,2,20130708,2328, 23.7285, 133.0000, 4084,   3807.4,   1.5602,   1.5603,  34.6765,2,  34.6772,2,    150.9,2,   142.29,2,    35.96,2,     0.00,2,     2.52,2, -999.000,9, -999.000,9,   2326.8,2,   2416.1,2,   7.5823,2,    25.00,  -999.00,9,  -999.00,9,   1.5603,     2331
  49UP20130619,  P03W,    45,  1,      5,     94,2,20130708,2328, 23.7285, 133.0000, 4084,   3941.6,   1.5693,   1.5694,  34.6770,2,  34.6751,4,    150.4,3,   141.96,2,    36.01,2,     0.00,2,     2.52,2, -999.000,9, -999.000,9,   2322.7,2,   2417.4,2,   7.5846,2,    25.00,  -999.00,9,  -999.00,9,   1.5694,     2329