BOTTLE,20180830PRINUNIVRMK
EXPOCODE,SECT_ID,STNNBR,CASTNO,SAMPNO,BTLNBR,BTLNBR_FLAG_W,DATE,TIME,LATITUDE,LONGITUDE,DEPTH,CTDPRS,CTDTMP,SBE35,CTDSAL,CTDSAL_FLAG_W,SALNTY,SALNTY_FLAG_W,OXYGEN,OXYGEN_FLAG_W,SILCAT,SILCAT_FLAG_W,NITRAT,NITRAT_FLAG_W,NITRIT,NITRIT_FLAG_W,PHSPHT,PHSPHT_FLAG_W,CFC-11,CFC-11_FLAG_W,CFC-12,CFC-12_FLAG_W,TCARBN,TCARBN_FLAG_W,ALKALI,ALKALI_FLAG_W,PH_TOT,PH_TOT_FLAG_W,PH_TMP,CHLORA,CHLORA_FLAG_W,PPHYTN,PPHYTN_FLAG_W,SBE35,BTL_TIME
,,,,,,,,,,,METERS,DBAR,ITS-90,,PSS-78,,PSS-78,,UMOL/KG,,UMOL/KG,,UMOL/KG,,UMOL/KG,,UMOL/KG,,PMOL/KG,,PMOL/KG,,UMOL/KG,,UMOL/KG,,,,DEG C,UG/KG,,UG/KG,,,
  49UP20130619,  P03W,    56,  1,      0,   -999,0,20130713,0053, 24.2437, 140.7728, 2770,      0.0,  28.1146,-999.0000,  34.6159,2,-999.0000,9,    200.6,2,     1.43,2,     0.02,2,     0.00,2,     0.03,2, -999.000,9, -999.000,9,   -999.0,9,   -999.0,9,-999.0000,9,  -999.00,  -999.00,9,  -999.00,9,-999.0000,      146
  49UP20130619,  P03W,    56,  1,     36,    109,2,20130713,0053, 24.2437, 140.7728, 2770,     10.8,  28.0551,  28.0471,  34.6106,2,-999.0000,9,    200.6,2,     1.39,2,     0.00,2,     0.00,2,     0.02,2, -999.000,9, -999.000,9,   -999.0,9,   -999.0,9,-999.0000,9,  -999.00,  -999.00,9,  -999.00,9,  28.0471,      214
  49UP20130619,  P03W,    56,  1,     35,    112,2,20130713,0053, 24.2437, 140.7728, 2770,     50.0,  22.3912,  22.3659,  34.8408,2,-999.0000,9,    231.6,2,     1.72,2,     0.00,2,     0.00,2,     0.02,2, -999.000,9, -999.000,9,   -999.0,9,   -999.0,9,-999.0000,9,  -999.00,  -999.00,9,  -999.00,9,  22.3659,      210
  49UP20130619,  P03W,    56,  1,     34,     83,2,20130713,0053, 24.2437, 140.7728, 2770,    100.8,  19.4508,  19.4528,  34.8182,2,-999.0000,9,    221.9,2,     2.28,2,     0.06,2,     0.02,2,     0.05,2, -999.000,9, -999.000,9,   -999.0,9,   -999.0,9,-999.0000,9,  -999.00,  -999.00,9,  -999.00,9,  19.4528,      208
  49UP20130619,  P03W,    56,  1,     33,     86,2,20130713,0053, 24.2437, 140.7728, 2770,    150.5,  18.4806,  18.4745,  34.7712,2,-999.0000,9,    211.2,2,     2.95,2,     2.59,2,     0.03,2,     0.19,2, -999.000,9, -999.000,9,   -999.0,9,   -999.0,9,-999.0000,9,  -999.00,  -999.00,9,  -999.00,9,  18.4745,      207
  49UP20130619,  P03W,    56,  1,     32,    105,2,20130713,0053, 24.2437, 140.7728, 2770,    201.2,  17.5380,  17.5389,  34.7347,2,-999.0000,9,    213.6,2,     3.82,2,     3.71,2,     0.01,2,     0.26,2, -999.000,9, -999.000,9,   -999.0,9,   -999.0,9,-999.0000,9,  -999.00,  -999.00,9,  -999.00,9,  17.5389,      205
  49UP20130619,  P03W,    56,  1,     31,     76,2,20130713,0053, 24.2437, 140.7728, 2770,    201.2,  17.5380,  17.5389,  34.7347,2,-999.0000,9,    213.6,2,     3.82,2,     3.70,2,     0.01,2,     0.26,2, -999.000,9, -999.000,9,   -999.0,9,   -999.0,9,-999.0000,9,  -999.00,  -999.00,9,  -999.00,9,  17.5389,      204
  49UP20130619,  P03W,    56,  1,     29,    102,2,20130713,0053, 24.2437, 140.7728, 2770,    251.8,  17.1302,  17.1309,  34.7105,2,-999.0000,9,    211.5,2,     4.47,2,     4.47,2,     0.01,2,     0.31,2, -999.000,9, -999.000,9,   -999.0,9,   -999.0,9,-999.0000,9,  -999.00,  -999.00,9,  -999.00,9,  17.1309,      203
  49UP20130619,  P03W,    56,  1,     27,    998,2,20130713,0053, 24.2437, 140.7728, 2770,    331.9,  15.5720,  15.5705,  34.5926,2,-999.0000,9,    192.3,6,     8.87,6,     8.63,6,     0.01,6,     0.60,6, -999.000,9, -999.000,9,   -999.0,9,   -999.0,9,-999.0000,9,  -999.00,  -999.00,9,  -999.00,9,  15.5705,      200
  49UP20130619,  P03W,    56,  1,     26,     84,2,20130713,0053, 24.2437, 140.7728, 2770,    433.2,  13.0629,  13.0645,  34.4236,2,-999.0000,9,    184.4,2,    16.65,2,    13.39,2,     0.00,2,     0.95,2, -999.000,9, -999.000,9,   -999.0,9,   -999.0,9,-999.0000,9,  -999.00,  -999.00,9,  -999.00,9,  13.0645,      157
  49UP20130619,  P03W,    56,  1,     22,    111,2,20130713,0053, 24.2437, 140.7728, 2770,    534.1,  10.4072,  10.4080,  34.2570,2,-999.0000,9,    170.7,2,    29.30,2,    19.10,2,     0.00,2,     1.38,2, -999.000,9, -999.000,9,   -999.0,9,   -999.0,9,-999.0000,9,  -999.00,  -999.00,9,  -999.00,9,  10.4080,      154
  49UP20130619,  P03W,    56,  1,     21,     78,2,20130713,0053, 24.2437, 140.7728, 2770,    635.6,   7.3703,   7.3698,  34.1256,2,-999.0000,9,    132.6,2,    53.21,2,    27.94,2,     0.00,2,     2.03,2, -999.000,9, -999.000,9,   -999.0,9,   -999.0,9,-999.0000,9,  -999.00,  -999.00,9,  -999.00,9,   7.3698,      150
  49UP20130619,  P03W,    56,  1,     20,     93,2,20130713,0053, 24.2437, 140.7728, 2770,    736.0,   5.6442,   5.6491,  34.1419,2,-999.0000,9,     93.3,2,    76.78,2,    34.39,2,     0.00,2,     2.50,2, -999.000,9, -999.000,9,   -999.0,9,   -999.0,9,-999.0000,9,  -999.00,  -999.00,9,  -999.00,9,   5.6491,      147
  49UP20130619,  P03W,    56,  1,     19,     92,2,20130713,0053, 24.2437, 140.7728, 2770,    837.6,   4.8423,   4.8521,  34.2076,2,-999.0000,9,     71.7,2,    92.16,2,    37.68,2,     0.00,2,     2.73,2, -999.000,9, -999.000,9,   -999.0,9,   -999.0,9,-999.0000,9,  -999.00,  -999.00,9,  -999.00,9,   4.8521,      144
  49UP20130619,  P03W,    56,  1,     13,    667,4,20130713,0053, 24.2437, 140.7728, 2770,    938.7,   4.2233,   4.2242,  34.2826,2,-999.0000,9,     66.3,4,    97.48,4,    38.41,4,     0.00,4,     2.78,4, -999.000,9, -999.000,9,   -999.0,9,   -999.0,9,-999.0000,9,  -999.00,  -999.00,9,  -999.00,9,   4.2242,      141
  49UP20130619,  P03W,    56,  1,     12,     74,2,20130713,0053, 24.2437, 140.7728, 2770,   1080.7,   3.5653,   3.5656,  34.3644,2,-999.0000,9,     51.8,2,   123.21,2,    40.91,2,     0.00,2,     2.95,2, -999.000,9, -999.000,9,   -999.0,9,   -999.0,9,-999.0000,9,  -999.00,  -999.00,9,  -999.00,9,   3.5656,      136
  49UP20130619,  P03W,    56,  1,     11,    996,2,20130713,0053, 24.2437, 140.7728, 2770,   1283.2,   2.8410,   2.8411,  34.4730,2,-999.0000,9,     60.0,2,   138.72,2,    41.32,2,     0.00,2,     2.95,2, -999.000,9, -999.000,9,   -999.0,9,   -999.0,9,-999.0000,9,  -999.00,  -999.00,9,  -999.00,9,   2.8411,      130
  49UP20130619,  P03W,    56,  1,     10,    107,2,20130713,0053, 24.2437, 140.7728, 2770,   1486.1,   2.4489,   2.4487,  34.5324,2,-999.0000,9,     74.1,6,   144.82,6,    40.64,6,     0.00,6,     2.90,6, -999.000,9, -999.000,9,   -999.0,9,   -999.0,9,-999.0000,9,  -999.00,  -999.00,9,  -999.00,9,   2.4487,      124
  49UP20130619,  P03W,    56,  1,      9,    108,2,20130713,0053, 24.2437, 140.7728, 2770,   1690.1,   2.1976,   2.1975,  34.5769,2,-999.0000,9,     93.6,2,   144.91,2,    39.48,2,     0.00,2,     2.81,2, -999.000,9, -999.000,9,   -999.0,9,   -999.0,9,-999.0000,9,  -999.00,  -999.00,9,  -999.00,9,   2.1975,      119
  49UP20130619,  P03W,    56,  1,      8,     81,2,20130713,0053, 24.2437, 140.7728, 2770,   1893.5,   2.0259,   2.0260,  34.6078,2,-999.0000,9,    109.1,2,   143.67,2,    38.54,2,     0.00,2,     2.73,2, -999.000,9, -999.000,9,   -999.0,9,   -999.0,9,-999.0000,9,  -999.00,  -999.00,9,  -999.00,9,   2.0260,      114
  49UP20130619,  P03W,    56,  1,      7,    106,2,20130713,0053, 24.2437, 140.7728, 2770,   2094.8,   1.8888,   1.8885,  34.6269,2,-999.0000,9,    119.0,2,   143.69,2,    37.99,2,     0.00,2,     2.69,2, -999.000,9, -999.000,9,   -999.0,9,   -999.0,9,-999.0000,9,  -999.00,  -999.00,9,  -999.00,9,   1.8885,      109
  49UP20130619,  P03W,    56,  1,      6,    113,2,20130713,0053, 24.2437, 140.7728, 2770,   2297.6,   1.7866,   1.7869,  34.6411,2,-999.0000,9,    126.5,2,   143.68,2,    37.54,2,     0.00,2,     2.66,2, -999.000,9, -999.000,9,   -999.0,9,   -999.0,9,-999.0000,9,  -999.00,  -999.00,9,  -999.00,9,   1.7869,      104
  49UP20130619,  P03W,    56,  1,      4,     77,2,20130713,0053, 24.2437, 140.7728, 2770,   2500.0,   1.7414,   1.7417,  34.6479,2,-999.0000,9,    130.1,6,   143.75,6,    37.36,6,     0.00,6,     2.63,6, -999.000,9, -999.000,9,   -999.0,9,   -999.0,9,-999.0000,9,  -999.00,  -999.00,9,  -999.00,9,   1.7417,       59
  49UP20130619,  P03W,    56,  1,      3,    104,2,20130713,0053, 24.2437, 140.7728, 2770,   2703.3,   1.7208,   1.7211,  34.6518,2,-999.0000,9,    132.7,2,   143.49,3,    37.22,2,     0.00,2,     2.62,2, -999.000,9, -999.000,9,   -999.0,9,   -999.0,9,-999.0000,9,  -999.00,  -999.00,9,  -999.00,9,   1.7211,       55
  49UP20130619,  P03W,    56,  1,      2,     75,2,20130713,0053, 24.2437, 140.7728, 2770,   2703.3,   1.7208,   1.7211,  34.6518,2,-999.0000,9,    132.0,2,   143.83,2,    37.17,2,     0.00,2,     2.62,2, -999.000,9, -999.000,9,   -999.0,9,   -999.0,9,-999.0000,9,  -999.00,  -999.00,9,  -999.00,9,   1.7211,       55
  49UP20130619,  P03W,    56,  1,      1,    997,2,20130713,0053, 24.2437, 140.7728, 2770,   2743.6,   1.7205,   1.7204,  34.6522,2,-999.0000,9,    132.7,2,   143.50,2,    37.25,2,     0.00,2,     2.63,2, -999.000,9, -999.000,9,   -999.0,9,   -999.0,9,-999.0000,9,  -999.00,  -999.00,9,  -999.00,9,   1.7204,       53
  49UP20130619,  P03W,    55,  1,      0,   -999,0,20130713,0706, 24.2305, 140.2362, 4133,      0.0,  27.8730,-999.0000,  34.8878,2,  34.8897,2,    201.4,2,     1.32,2,     0.02,2,     0.00,2,     0.04,2, -999.000,9, -999.000,9,   1979.3,2,   2289.3,2,   8.0717,2,    25.00,     0.04,2,     0.02,2,-999.0000,      936
  49UP20130619,  P03W,    55,  1,     36,    109,2,20130713,0706, 24.2305, 140.2362, 4133,     10.1,  27.8717,  27.8708,  34.8848,2,  34.8837,2,    202.6,2,     1.33,2,     0.00,2,     0.00,2,     0.02,2,    1.958,3,    0.912,3,   1975.9,2,   2290.3,2,   8.0710,2,    25.00,     0.04,2,     0.02,2,  27.8708,      958
  49UP20130619,  P03W,    55,  1,     35,    112,2,20130713,0706, 24.2305, 140.2362, 4133,     50.0,  21.5688,  21.5571,  34.8372,2,  34.8376,2,    233.5,2,     1.65,2,     0.00,2,     0.00,2,     0.02,2,    2.598,3,    1.219,3,   1989.8,2,   2287.7,2,   8.0526,2,    25.00,  -999.00,9,  -999.00,9,  21.5571,      955
  49UP20130619,  P03W,    55,  1,     34,     83,2,20130713,0706, 24.2305, 140.2362, 4133,     50.0,  21.5688,  21.5571,  34.8372,2,  34.8394,6,    233.1,2,     1.55,2,     0.00,2,     0.00,2,     0.02,2,    2.593,3,    1.203,3,   1986.5,2,   2285.3,2,   8.0553,2,    25.00,     0.11,2,     0.05,2,  21.5571,      955
  49UP20130619,  P03W,    55,  1,     33,     86,2,20130713,0706, 24.2305, 140.2362, 4133,    101.5,  19.1401,  19.1442,  34.7959,2,  34.7946,2,    221.4,6,     2.15,6,     0.26,6,     0.07,6,     0.08,6,    2.437,2,    1.306,2,   2009.0,2,   2286.0,2,   8.0116,2,    25.00,     0.31,2,     0.37,2,  19.1442,      953
  49UP20130619,  P03W,    55,  1,     32,    105,2,20130713,0706, 24.2305, 140.2362, 4133,    151.7,  17.8897,  17.8906,  34.7525,2,  34.7519,2,    212.1,2,     3.04,2,     3.15,2,     0.01,2,     0.23,2,    2.364,2,    1.360,2,   2021.0,2,   2283.0,2,   7.9787,2,    25.00,     0.03,2,     0.06,2,  17.8906,      951
  49UP20130619,  P03W,    55,  1,     31,     76,2,20130713,0706, 24.2305, 140.2362, 4133,    201.4,  17.3834,  17.3836,  34.7261,2,  34.7248,2,    215.4,2,     3.53,2,     3.71,2,     0.01,2,     0.27,2,    2.404,2,    1.386,2,   2023.3,2,   2281.5,2,   7.9730,2,    25.00,     0.00,2,     0.02,2,  17.3836,      949
  49UP20130619,  P03W,    55,  1,     27,    998,2,20130713,0706, 24.2305, 140.2362, 4133,    251.5,  16.8164,  16.8161,  34.6887,2,  34.6861,2,    207.2,2,     5.07,2,     5.43,2,     0.00,2,     0.38,2,    2.421,2,    1.383,2,   2039.0,2,   2282.6,2,   7.9479,2,    25.00,  -999.00,9,  -999.00,9,  16.8161,      947
  49UP20130619,  P03W,    55,  1,     26,     84,2,20130713,0706, 24.2305, 140.2362, 4133,    302.6,  15.9442,  15.9437,  34.6219,2,  34.6176,2,    194.4,2,     8.11,2,     8.03,2,     0.00,2,     0.56,2,    2.476,2,    1.424,2,   2056.4,2,   2276.2,2,   7.9075,2,    25.00,  -999.00,9,  -999.00,9,  15.9437,      945
  49UP20130619,  P03W,    55,  1,     25,     98,2,20130713,0706, 24.2305, 140.2362, 4133,    402.3,  13.3678,  13.3679,  34.4413,2,  34.4401,2,    185.5,2,    15.02,2,    12.78,2,     0.00,2,     0.91,2,    2.707,6,    1.496,6,   2092.6,2,   2278.4,2,   7.8270,2,    25.00,  -999.00,9,  -999.00,9,  13.3679,      942
  49UP20130619,  P03W,    55,  1,     24,    110,2,20130713,0706, 24.2305, 140.2362, 4133,    505.6,  10.6095,  10.6185,  34.2646,2,  34.2656,2,    173.0,2,    26.82,2,    18.50,2,     0.00,2,     1.34,2,    2.717,2,    1.454,2,   2134.7,6,   2276.9,6,   7.7362,2,    25.00,  -999.00,9,  -999.00,9,  10.6185,      939
  49UP20130619,  P03W,    55,  1,     23,     96,2,20130713,0706, 24.2305, 140.2362, 4133,    604.9,   8.1403,   8.1420,  34.1369,2,  34.1360,2,    146.2,2,    44.58,2,    25.36,2,     0.00,2,     1.86,2,    2.342,2,    1.214,2,   2181.1,2,   2287.5,2,   7.6237,6,    25.00,  -999.00,9,  -999.00,9,   8.1420,      936
  49UP20130619,  P03W,    55,  1,     22,    111,2,20130713,0706, 24.2305, 140.2362, 4133,    706.6,   6.0869,   6.0872,  34.1210,2,  34.1217,2,    107.2,2,    69.60,2,    32.36,2,     0.00,2,     2.37,2,    1.712,2,    0.857,2,   2244.6,2,   2313.2,2,   7.5094,2,    25.00,  -999.00,9,  -999.00,9,   6.0872,      933
  49UP20130619,  P03W,    55,  1,     21,     78,2,20130713,0706, 24.2305, 140.2362, 4133,    807.7,   4.9389,   4.9390,  34.1903,2,  34.1932,2,     75.8,2,    90.85,2,    37.06,2,     0.00,2,     2.69,2,    1.017,6,    0.513,6,   2291.4,2,   2327.0,2,   7.4404,2,    25.00,  -999.00,9,  -999.00,9,   4.9390,      930
  49UP20130619,  P03W,    55,  1,     20,     93,2,20130713,0706, 24.2305, 140.2362, 4133,    907.6,   4.2256,   4.2276,  34.2668,2,  34.2668,2,     59.2,2,   106.70,2,    39.49,2,     0.00,2,     2.86,2,    0.589,2,    0.314,2,   2320.6,2,   2342.7,2,   7.4056,2,    25.00,  -999.00,9,  -999.00,9,   4.2276,      927
  49UP20130619,  P03W,    55,  1,     19,     92,2,20130713,0706, 24.2305, 140.2362, 4133,    907.6,   4.2256,   4.2276,  34.2668,2,  34.2680,6,     59.3,2,   107.15,2,    39.53,2,     0.00,2,     2.86,2,    0.588,2,    0.291,2,   2319.5,2,   2348.2,2,   7.4039,2,    25.00,  -999.00,9,  -999.00,9,   4.2276,      927
  49UP20130619,  P03W,    55,  1,     18,    101,2,20130713,0706, 24.2305, 140.2362, 4133,   1010.5,   3.7017,   3.7022,  34.3524,2,  34.3521,2,     52.6,2,   119.98,2,    40.75,2,     0.00,2,     2.94,2,    0.292,2,    0.149,2,   2334.1,2,   2361.3,2,   7.3980,2,    25.00,  -999.00,9,  -999.00,9,   3.7022,      924
  49UP20130619,  P03W,    55,  1,     17,     90,2,20130713,0706, 24.2305, 140.2362, 4133,   1212.5,   3.0866,   3.0871,  34.4437,2,  34.4435,2,     57.2,2,   133.14,2,    41.16,2,     0.00,2,     2.96,2,    0.084,2,    0.049,2,   2349.2,2,   2379.7,2,   7.4096,2,    25.00,  -999.00,9,  -999.00,9,   3.0871,      919
  49UP20130619,  P03W,    55,  1,     16,     89,2,20130713,0706, 24.2305, 140.2362, 4133,   1415.6,   2.5982,   2.6002,  34.5110,2,  34.5103,2,     68.4,2,   142.66,2,    40.91,2,     0.00,2,     2.93,2,    0.035,2,    0.018,2,   2358.8,2,   2394.3,2,   7.4343,2,    25.00,  -999.00,9,  -999.00,9,   2.6002,      914
  49UP20130619,  P03W,    55,  1,     15,     88,2,20130713,0706, 24.2305, 140.2362, 4133,   1618.1,   2.3074,   2.3080,  34.5610,2,  34.5611,2,     87.1,2,   144.32,2,    39.81,2,     0.00,2,     2.84,2,    0.038,2,    0.011,2,   2355.1,2,   2403.9,2,   7.4683,2,    25.00,  -999.00,9,  -999.00,9,   2.3080,      909
  49UP20130619,  P03W,    55,  1,     14,    999,2,20130713,0706, 24.2305, 140.2362, 4133,   1819.8,   2.1021,   2.1022,  34.5957,2,  34.5960,2,    102.9,2,   144.10,2,    38.93,2,     0.00,2,     2.77,2, -999.000,9, -999.000,9,   2346.4,2,   2411.9,2,   7.5010,6,    25.00,  -999.00,9,  -999.00,9,   2.1022,      904
  49UP20130619,  P03W,    55,  1,     13,    667,2,20130713,0706, 24.2305, 140.2362, 4133,   2022.9,   1.9325,   1.9327,  34.6217,2,  34.6227,2,    115.7,6,   143.58,6,    38.11,6,     0.00,6,     2.71,6, -999.000,9, -999.000,9,   2342.2,2,   2413.3,2,   7.5247,2,    25.00,  -999.00,9,  -999.00,9,   1.9327,      753
  49UP20130619,  P03W,    55,  1,     12,     74,2,20130713,0706, 24.2305, 140.2362, 4133,   2225.9,   1.8394,   1.8395,  34.6350,2,  34.6359,2,    122.7,2,   143.85,2,    37.80,2,     0.00,2,     2.68,2,    0.034,3,    0.007,2,   2336.8,2,   2417.8,2,   7.5365,2,    25.00,  -999.00,9,  -999.00,9,   1.8395,      748
  49UP20130619,  P03W,    55,  1,     11,    996,2,20130713,0706, 24.2305, 140.2362, 4133,   2429.2,   1.7559,   1.7562,  34.6461,2,  34.6463,6,    128.3,2,   143.56,2,    37.41,2,     0.00,2,     2.65,2, -999.000,9, -999.000,9,   2336.0,2,   2411.9,2,   7.5486,2,    25.00,  -999.00,9,  -999.00,9,   1.7562,      744
  49UP20130619,  P03W,    55,  1,     10,    107,3,20130713,0706, 24.2305, 140.2362, 4133,   2634.3,   1.7170,   1.7170,  34.6519,2,  34.6529,2,    132.8,2,   143.64,2,    37.15,2,     0.00,2,     2.62,2, -999.000,9, -999.000,9,   2332.1,2,   2416.2,2,   7.5529,2,    25.00,  -999.00,9,  -999.00,9,   1.7170,      739
  49UP20130619,  P03W,    55,  1,      9,    108,2,20130713,0706, 24.2305, 140.2362, 4133,   2838.8,   1.6549,   1.6551,  34.6599,2,  34.6596,2,    137.0,2,   143.27,2,    36.94,2,     0.00,2,     2.60,2,    0.000,2,    0.000,2,   2332.0,2,   2414.5,2,   7.5612,2,    25.00,  -999.00,9,  -999.00,9,   1.6551,      734
  49UP20130619,  P03W,    55,  1,      8,     81,2,20130713,0706, 24.2305, 140.2362, 4133,   3042.2,   1.6223,   1.6222,  34.6646,2,  34.6648,2,    141.2,2,   143.01,2,    36.71,2,     0.00,2,     2.59,2, -999.000,9, -999.000,9,   2331.9,2,   2415.0,2,   7.5671,2,    25.00,  -999.00,9,  -999.00,9,   1.6222,      729
  49UP20130619,  P03W,    55,  1,      7,    106,2,20130713,0706, 24.2305, 140.2362, 4133,   3042.2,   1.6223,   1.6222,  34.6646,2,  34.6662,6,    140.7,2,   143.10,2,    36.70,2,     0.00,2,     2.58,2, -999.000,9, -999.000,9,   2330.3,2,   2418.8,2,   7.5665,2,    25.00,  -999.00,9,  -999.00,9,   1.6222,      729
  49UP20130619,  P03W,    55,  1,      6,    113,2,20130713,0706, 24.2305, 140.2362, 4133,   3295.7,   1.5611,   1.5611,  34.6722,2,  34.6723,2,    147.1,2,   142.37,2,    36.29,2,     0.00,2,     2.55,2,    0.000,2,    0.000,2,   2328.6,2,   2414.5,2,   7.5764,2,    25.00,  -999.00,9,  -999.00,9,   1.5611,      724
  49UP20130619,  P03W,    55,  1,      4,     77,2,20130713,0706, 24.2305, 140.2362, 4133,   3552.7,   1.5150,   1.5150,  34.6784,2,  34.6794,2,    152.6,2,   141.38,2,    35.89,2,     0.00,2,     2.52,2,    0.000,2,    0.000,2,   2324.6,6,   2414.6,6,   7.5839,2,    25.00,  -999.00,9,  -999.00,9,   1.5150,      718
  49UP20130619,  P03W,    55,  1,      3,    104,2,20130713,0706, 24.2305, 140.2362, 4133,   3807.7,   1.5019,   1.5019,  34.6819,2,  34.6834,2,    155.7,2,   141.08,2,    35.78,2,     0.00,2,     2.52,2, -999.000,9, -999.000,9,   2322.1,2,   2412.5,2,   7.5889,6,    25.00,  -999.00,9,  -999.00,9,   1.5019,      713
  49UP20130619,  P03W,    55,  1,      2,     75,2,20130713,0706, 24.2305, 140.2362, 4133,   4064.1,   1.5100,   1.5100,  34.6837,2,  34.6846,2,    157.3,2,   140.19,6,    35.58,6,     0.00,6,     2.50,6,    0.000,2,    0.000,2,   2318.8,2,   2413.6,2,   7.5915,2,    25.00,  -999.00,9,  -999.00,9,   1.5100,      708
  49UP20130619,  P03W,    55,  1,      1,    997,2,20130713,0706, 24.2305, 140.2362, 4133,   4125.3,   1.5150,   1.5150,  34.6838,2,  34.6853,2,    157.2,2,   140.36,2,    35.65,2,     0.00,2,     2.50,2,    0.034,3,    0.006,2,   2318.0,2,   2414.3,2,   7.5925,2,    25.00,  -999.00,9,  -999.00,9,   1.5150,      706