BOTTLE,20180830PRINUNIVRMK
EXPOCODE,SECT_ID,STNNBR,CASTNO,SAMPNO,BTLNBR,BTLNBR_FLAG_W,DATE,TIME,LATITUDE,LONGITUDE,DEPTH,CTDPRS,CTDTMP,SBE35,CTDSAL,CTDSAL_FLAG_W,SALNTY,SALNTY_FLAG_W,OXYGEN,OXYGEN_FLAG_W,SILCAT,SILCAT_FLAG_W,NITRAT,NITRAT_FLAG_W,NITRIT,NITRIT_FLAG_W,PHSPHT,PHSPHT_FLAG_W,CFC-11,CFC-11_FLAG_W,CFC-12,CFC-12_FLAG_W,TCARBN,TCARBN_FLAG_W,ALKALI,ALKALI_FLAG_W,PH_TOT,PH_TOT_FLAG_W,PH_TMP,CHLORA,CHLORA_FLAG_W,PPHYTN,PPHYTN_FLAG_W,SBE35,BTL_TIME
,,,,,,,,,,,METERS,DBAR,ITS-90,,PSS-78,,PSS-78,,UMOL/KG,,UMOL/KG,,UMOL/KG,,UMOL/KG,,UMOL/KG,,PMOL/KG,,PMOL/KG,,UMOL/KG,,UMOL/KG,,,,DEG C,UG/KG,,UG/KG,,,
  49UP20130619,  P03W,    29,  1,      0,   -999,0,20130628,1736, 25.9118, 128.1628, 2117,      0.0,  28.1819,-999.0000,  34.5191,2,  34.5203,2,    199.4,2,     1.34,4,     0.02,4,     0.00,2,     0.04,4, -999.000,9, -999.000,9,   1948.4,2,   2270.8,2,   8.0930,2,    25.00,     0.11,2,     0.02,2,-999.0000,     1820
  49UP20130619,  P03W,    29,  1,     36,    109,2,20130628,1736, 25.9118, 128.1628, 2117,     10.3,  28.1851,  28.1909,  34.5183,2,  34.5193,2,    199.8,2,     1.35,4,     0.01,4,     0.00,2,     0.02,4, -999.000,9, -999.000,9,   1947.2,2,   2270.5,2,   8.0970,2,    25.00,     0.12,2,     0.02,2,  28.1909,     1846
  49UP20130619,  P03W,    29,  1,     35,    112,2,20130628,1736, 25.9118, 128.1628, 2117,     51.5,  23.6642,  23.6693,  34.7364,2,  34.7383,2,    223.7,2,     1.43,4,     0.02,4,     0.00,2,     0.01,4, -999.000,9, -999.000,9,   1972.8,2,   2284.1,2,   8.0714,2,    25.00,     0.10,2,     0.03,2,  23.6693,     1844
  49UP20130619,  P03W,    29,  1,     34,     83,2,20130628,1736, 25.9118, 128.1628, 2117,    101.0,  21.2566,  21.2585,  34.7947,2,  34.7940,2,    225.5,2,     1.61,4,     0.02,4,     0.00,2,     0.01,4, -999.000,9, -999.000,9,   1987.3,6,   2289.0,6,   8.0562,2,    25.00,     0.23,2,     0.16,2,  21.2585,     1839
  49UP20130619,  P03W,    29,  1,     28,     91,2,20130628,1736, 25.9118, 128.1628, 2117,    151.0,  20.0865,  20.0851,  34.7917,2,  34.7917,2,    214.3,2,     1.95,4,     0.67,4,     0.06,2,     0.06,4, -999.000,9, -999.000,9,   2001.3,2,   2290.1,2,   8.0285,6,    25.00,     0.13,2,     0.32,2,  20.0851,     1837
  49UP20130619,  P03W,    29,  1,     27,    998,2,20130628,1736, 25.9118, 128.1628, 2117,    201.7,  19.4831,  19.4800,  34.7882,2,  34.7880,2,    209.2,2,     2.22,4,     1.71,4,     0.02,2,     0.13,4, -999.000,9, -999.000,9,   2010.3,2,   2288.5,2,   8.0101,2,    25.00,     0.03,2,     0.04,2,  19.4800,     1835
  49UP20130619,  P03W,    29,  1,     26,     84,2,20130628,1736, 25.9118, 128.1628, 2117,    252.1,  18.6850,  18.6844,  34.7705,2,  34.7710,2,    208.2,2,     2.78,4,     2.67,4,     0.02,2,     0.19,4, -999.000,9, -999.000,9,   2019.4,2,   2288.3,2,   7.9923,2,    25.00,  -999.00,9,  -999.00,9,  18.6844,     1833
  49UP20130619,  P03W,    29,  1,     25,     98,2,20130628,1736, 25.9118, 128.1628, 2117,    333.5,  17.2287,  17.2263,  34.7055,2,  34.7057,2,    200.1,2,     4.82,4,     5.44,4,     0.01,2,     0.37,4, -999.000,9, -999.000,9,   2041.3,2,   2285.7,2,   7.9461,2,    25.00,  -999.00,9,  -999.00,9,  17.2263,     1830
  49UP20130619,  P03W,    29,  1,     24,    110,2,20130628,1736, 25.9118, 128.1628, 2117,    434.4,  14.6278,  14.6267,  34.5305,2,  34.5299,2,    180.2,6,    11.88,4,    11.21,4,     0.01,6,     0.78,4, -999.000,9, -999.000,9,   2085.6,2,   2280.1,2,   7.8531,2,    25.00,  -999.00,9,  -999.00,9,  14.6267,     1828
  49UP20130619,  P03W,    29,  1,     23,     96,2,20130628,1736, 25.9118, 128.1628, 2117,    534.7,  11.1632,  11.1636,  34.3131,2,-999.0000,9,    166.3,2,    25.49,4,    18.18,4,     0.00,2,     1.31,4, -999.000,9, -999.000,9,   2134.7,2,   2280.3,2,   7.7431,2,    25.00,  -999.00,9,  -999.00,9,  11.1636,     1824
  49UP20130619,  P03W,    29,  1,     22,    111,3,20130628,1736, 25.9118, 128.1628, 2117,    534.7,  11.1632,  11.1636,  34.3131,2,  34.3139,2,    166.2,2,    25.46,4,    18.23,4,     0.00,2,     1.31,4, -999.000,9, -999.000,9,   2134.1,2,   2281.0,2,   7.7420,2,    25.00,  -999.00,9,  -999.00,9,  11.1636,     1824
  49UP20130619,  P03W,    29,  1,     21,     78,2,20130628,1736, 25.9118, 128.1628, 2117,    634.9,   8.3934,   8.3906,  34.1737,2,  34.1729,2,    138.0,2,    44.55,4,    25.75,4,     0.00,2,     1.87,4, -999.000,9, -999.000,9,   2190.5,2,   2291.6,2,   7.6187,2,    25.00,  -999.00,9,  -999.00,9,   8.3906,     1821
  49UP20130619,  P03W,    29,  1,     20,     93,2,20130628,1736, 25.9118, 128.1628, 2117,    737.0,   6.3309,   6.3474,  34.1504,2,  34.1515,2,    102.6,2,    67.67,4,    32.50,4,     0.00,2,     2.37,4, -999.000,9, -999.000,9,   2248.3,6,   2310.1,6,   7.5172,2,    25.00,  -999.00,9,  -999.00,9,   6.3474,     1817
  49UP20130619,  P03W,    29,  1,     19,     92,2,20130628,1736, 25.9118, 128.1628, 2117,    838.5,   5.0536,   5.0537,  34.2450,2,  34.2468,2,     74.4,2,    91.63,4,    37.08,4,     0.00,2,     2.69,4, -999.000,9, -999.000,9,   2294.5,2,   2336.9,2,   7.4494,6,    25.00,  -999.00,9,  -999.00,9,   5.0537,     1814
  49UP20130619,  P03W,    29,  1,     14,    999,2,20130628,1736, 25.9118, 128.1628, 2117,    937.9,   4.1459,   4.1457,  34.3395,2,  34.3398,6,     62.8,2,   110.22,4,    39.47,4,     0.00,2,     2.85,4, -999.000,9, -999.000,9,   2326.0,2,   2362.4,2,   7.4237,2,    25.00,  -999.00,9,  -999.00,9,   4.1457,     1811
  49UP20130619,  P03W,    29,  1,     13,    667,2,20130628,1736, 25.9118, 128.1628, 2117,    937.9,   4.1459,   4.1457,  34.3395,2,  34.3395,2,     62.4,2,   110.36,4,    39.55,4,     0.00,2,     2.86,4, -999.000,9, -999.000,9,   2326.9,2,   2360.3,2,   7.4212,2,    25.00,  -999.00,9,  -999.00,9,   4.1457,     1811
  49UP20130619,  P03W,    29,  1,     12,     74,2,20130628,1736, 25.9118, 128.1628, 2117,   1079.9,   3.3547,   3.3553,  34.4414,2,  34.4399,2,     65.5,2,   126.42,4,    40.32,4,     0.00,2,     2.90,4, -999.000,9, -999.000,9,   2344.6,2,   2382.8,2,   7.4368,2,    25.00,  -999.00,9,  -999.00,9,   3.3553,     1806
  49UP20130619,  P03W,    29,  1,     11,    996,3,20130628,1736, 25.9118, 128.1628, 2117,   1281.8,   2.8475,   2.8467,  34.4966,2,  34.4939,4,     74.7,2,   133.50,4,    39.91,4,     0.00,4,     2.86,4, -999.000,9, -999.000,9,   2350.6,2,   2394.2,2,   7.4544,2,    25.00,  -999.00,9,  -999.00,9,   2.8467,     1801
  49UP20130619,  P03W,    29,  1,     10,    107,2,20130628,1736, 25.9118, 128.1628, 2117,   1483.6,   2.5166,   2.5162,  34.5369,2,  34.5375,2,     84.7,2,   139.82,4,    39.93,4,     0.00,2,     2.85,4, -999.000,9, -999.000,9,   2350.9,2,   2403.9,2,   7.4657,2,    25.00,  -999.00,9,  -999.00,9,   2.5162,     1756
  49UP20130619,  P03W,    29,  1,      9,    108,2,20130628,1736, 25.9118, 128.1628, 2117,   1686.6,   2.3015,   2.3004,  34.5653,2,  34.5639,2,     94.7,2,   141.19,4,    39.29,4,     0.00,2,     2.80,4, -999.000,9, -999.000,9,   2347.7,2,   2408.8,2,   7.4865,2,    25.00,  -999.00,9,  -999.00,9,   2.3004,     1747
  49UP20130619,  P03W,    29,  1,      8,     81,2,20130628,1736, 25.9118, 128.1628, 2117,   1889.5,   2.0638,   2.0637,  34.5992,2,  34.6008,2,    110.2,3,   142.85,4,    38.66,4,     0.00,6,     2.75,4, -999.000,9, -999.000,9,   2345.3,2,   2414.3,2,   7.5131,2,    25.00,  -999.00,9,  -999.00,9,   2.0637,     1743
  49UP20130619,  P03W,    29,  1,      7,    106,2,20130628,1736, 25.9118, 128.1628, 2117,   2092.7,   1.9112,   1.9109,  34.6214,2,  34.6221,2,    118.6,2,   142.99,4,    38.04,4,     0.00,2,     2.69,4, -999.000,9, -999.000,9,   2341.8,2,   2416.0,2,   7.5330,2,    25.00,  -999.00,9,  -999.00,9,   1.9109,     1738
  49UP20130619,  P03W,    29,  1,      6,    113,2,20130628,1736, 25.9118, 128.1628, 2117,   2116.1,   1.8974,   1.8973,  34.6236,2,  34.6237,2,    119.4,2,   142.98,4,    37.98,4,     0.00,2,     2.69,4, -999.000,9, -999.000,9,   2339.8,2,   2413.2,2,   7.5289,2,    25.00,  -999.00,9,  -999.00,9,   1.8973,     1736
  49UP20130619,  P03W,    31,  1,     36,    109,2,20130629,0230, 25.6522, 128.5660, 5063,     10.2,  28.5131,  28.5129,  34.5205,2,  34.5239,2,    198.6,2,  -999.00,9,  -999.00,9,  -999.00,9,  -999.00,9, -999.000,9, -999.000,9,   -999.0,9,   -999.0,9,-999.0000,9,  -999.00,  -999.00,9,  -999.00,9,  28.5129,      456
  49UP20130619,  P03W,    31,  1,     35,    112,2,20130629,0230, 25.6522, 128.5660, 5063,     50.8,  22.3503,  22.3517,  34.7536,2,  34.7530,2,   -999.0,9,  -999.00,9,  -999.00,9,  -999.00,9,  -999.00,9, -999.000,9, -999.000,9,   -999.0,9,   -999.0,9,-999.0000,9,  -999.00,  -999.00,9,  -999.00,9,  22.3517,      454
  49UP20130619,  P03W,    31,  1,     34,     83,2,20130629,0230, 25.6522, 128.5660, 5063,    102.3,  20.7689,  20.8097,  34.8026,2,  34.8013,2,   -999.0,9,  -999.00,9,  -999.00,9,  -999.00,9,  -999.00,9, -999.000,9, -999.000,9,   -999.0,9,   -999.0,9,-999.0000,9,  -999.00,  -999.00,9,  -999.00,9,  20.8097,      449
  49UP20130619,  P03W,    31,  1,     33,     86,2,20130629,0230, 25.6522, 128.5660, 5063,    151.8,  20.0036,  20.0030,  34.7908,2,  34.7901,2,   -999.0,9,  -999.00,9,  -999.00,9,  -999.00,9,  -999.00,9, -999.000,9, -999.000,9,   -999.0,9,   -999.0,9,-999.0000,9,  -999.00,  -999.00,9,  -999.00,9,  20.0030,      447
  49UP20130619,  P03W,    31,  1,     32,    105,2,20130629,0230, 25.6522, 128.5660, 5063,    202.6,  19.6300,  19.6295,  34.7832,2,  34.7822,2,   -999.0,9,  -999.00,9,  -999.00,9,  -999.00,9,  -999.00,9, -999.000,9, -999.000,9,   -999.0,9,   -999.0,9,-999.0000,9,  -999.00,  -999.00,9,  -999.00,9,  19.6295,      445
  49UP20130619,  P03W,    31,  1,     31,     76,2,20130629,0230, 25.6522, 128.5660, 5063,    253.9,  19.0647,  19.0638,  34.7747,2,  34.7747,2,    211.2,2,  -999.00,9,  -999.00,9,  -999.00,9,  -999.00,9, -999.000,9, -999.000,9,   -999.0,9,   -999.0,9,-999.0000,9,  -999.00,  -999.00,9,  -999.00,9,  19.0638,      443
  49UP20130619,  P03W,    31,  1,     30,     97,4,20130629,0230, 25.6522, 128.5660, 5063,    283.5,  18.6356,  18.6394,  34.7667,2,-999.0000,9,   -999.0,9,  -999.00,9,  -999.00,9,  -999.00,9,  -999.00,9, -999.000,9, -999.000,9,   -999.0,9,   -999.0,9,-999.0000,9,  -999.00,  -999.00,9,  -999.00,9,  18.6394,      441
  49UP20130619,  P03W,    31,  1,     29,    102,2,20130629,0230, 25.6522, 128.5660, 5063,    371.9,  16.8495,  16.8508,  34.6806,2,  34.6816,6,   -999.0,9,  -999.00,9,  -999.00,9,  -999.00,9,  -999.00,9, -999.000,9, -999.000,9,   -999.0,9,   -999.0,9,-999.0000,9,  -999.00,  -999.00,9,  -999.00,9,  16.8508,      438
  49UP20130619,  P03W,    31,  1,     28,     91,2,20130629,0230, 25.6522, 128.5660, 5063,    474.1,  14.0686,  14.0685,  34.4972,2,  34.4989,2,    180.3,2,  -999.00,9,  -999.00,9,  -999.00,9,  -999.00,9, -999.000,9, -999.000,9,   -999.0,9,   -999.0,9,-999.0000,9,  -999.00,  -999.00,9,  -999.00,9,  14.0685,      435
  49UP20130619,  P03W,    31,  1,     27,    998,2,20130629,0230, 25.6522, 128.5660, 5063,    574.3,  10.4008,  10.4040,  34.2674,2,  34.2678,2,   -999.0,9,  -999.00,9,  -999.00,9,  -999.00,9,  -999.00,9, -999.000,9, -999.000,9,   -999.0,9,   -999.0,9,-999.0000,9,  -999.00,  -999.00,9,  -999.00,9,  10.4040,      432
  49UP20130619,  P03W,    31,  1,     26,     84,2,20130629,0230, 25.6522, 128.5660, 5063,    675.0,   7.4046,   7.4039,  34.1504,2,  34.1513,2,    123.4,2,  -999.00,9,  -999.00,9,  -999.00,9,  -999.00,9, -999.000,9, -999.000,9,   -999.0,9,   -999.0,9,-999.0000,9,  -999.00,  -999.00,9,  -999.00,9,   7.4039,      429
  49UP20130619,  P03W,    31,  1,     25,     98,2,20130629,0230, 25.6522, 128.5660, 5063,    776.1,   5.8403,   5.8400,  34.1609,2,  34.1622,2,   -999.0,9,  -999.00,9,  -999.00,9,  -999.00,9,  -999.00,9, -999.000,9, -999.000,9,   -999.0,9,   -999.0,9,-999.0000,9,  -999.00,  -999.00,9,  -999.00,9,   5.8400,      425
  49UP20130619,  P03W,    31,  1,     23,     96,2,20130629,0230, 25.6522, 128.5660, 5063,    877.0,   4.9197,   4.9194,  34.2314,2,  34.2331,2,     69.7,2,  -999.00,9,  -999.00,9,  -999.00,9,  -999.00,9, -999.000,9, -999.000,9,   -999.0,9,   -999.0,9,-999.0000,9,  -999.00,  -999.00,9,  -999.00,9,   4.9194,      421
  49UP20130619,  P03W,    31,  1,     22,    111,2,20130629,0230, 25.6522, 128.5660, 5063,    979.1,   4.2820,   4.2843,  34.3241,2,  34.3240,2,   -999.0,9,  -999.00,9,  -999.00,9,  -999.00,9,  -999.00,9, -999.000,9, -999.000,9,   -999.0,9,   -999.0,9,-999.0000,9,  -999.00,  -999.00,9,  -999.00,9,   4.2843,      418
  49UP20130619,  P03W,    31,  1,     21,     78,2,20130629,0230, 25.6522, 128.5660, 5063,   1141.4,   3.4829,   3.4839,  34.4240,2,  34.4238,2,     64.6,2,  -999.00,9,  -999.00,9,  -999.00,9,  -999.00,9, -999.000,9, -999.000,9,   -999.0,9,   -999.0,9,-999.0000,9,  -999.00,  -999.00,9,  -999.00,9,   3.4839,      412
  49UP20130619,  P03W,    31,  1,     20,     93,2,20130629,0230, 25.6522, 128.5660, 5063,   1342.8,   2.8787,   2.8791,  34.4848,2,  34.4853,2,     70.4,2,  -999.00,9,  -999.00,9,  -999.00,9,  -999.00,9, -999.000,9, -999.000,9,   -999.0,9,   -999.0,9,-999.0000,9,  -999.00,  -999.00,9,  -999.00,9,   2.8791,      407
  49UP20130619,  P03W,    31,  1,     19,     92,2,20130629,0230, 25.6522, 128.5660, 5063,   1546.8,   2.5491,   2.5494,  34.5277,2,  34.5271,6,   -999.0,9,  -999.00,9,  -999.00,9,  -999.00,9,  -999.00,9, -999.000,9, -999.000,9,   -999.0,9,   -999.0,9,-999.0000,9,  -999.00,  -999.00,9,  -999.00,9,   2.5494,      401
  49UP20130619,  P03W,    31,  1,     18,    101,2,20130629,0230, 25.6522, 128.5660, 5063,   1546.8,   2.5491,   2.5494,  34.5277,2,  34.5282,2,     80.4,2,  -999.00,9,  -999.00,9,  -999.00,9,  -999.00,9, -999.000,9, -999.000,9,   -999.0,9,   -999.0,9,-999.0000,9,  -999.00,  -999.00,9,  -999.00,9,   2.5494,      401
  49UP20130619,  P03W,    31,  1,     17,     90,2,20130629,0230, 25.6522, 128.5660, 5063,   1750.0,   2.2531,   2.2531,  34.5712,2,  34.5716,2,     96.4,2,  -999.00,9,  -999.00,9,  -999.00,9,  -999.00,9, -999.000,9, -999.000,9,   -999.0,9,   -999.0,9,-999.0000,9,  -999.00,  -999.00,9,  -999.00,9,   2.2531,      355
  49UP20130619,  P03W,    31,  1,     16,     89,2,20130629,0230, 25.6522, 128.5660, 5063,   1953.3,   2.0366,   2.0368,  34.6032,2,  34.6040,2,    109.7,2,  -999.00,9,  -999.00,9,  -999.00,9,  -999.00,9, -999.000,9, -999.000,9,   -999.0,9,   -999.0,9,-999.0000,9,  -999.00,  -999.00,9,  -999.00,9,   2.0368,      350
  49UP20130619,  P03W,    31,  1,     15,     88,2,20130629,0230, 25.6522, 128.5660, 5063,   2155.5,   1.9255,   1.9256,  34.6206,2,  34.6209,2,    117.8,2,  -999.00,9,  -999.00,9,  -999.00,9,  -999.00,9, -999.000,9, -999.000,9,   -999.0,9,   -999.0,9,-999.0000,9,  -999.00,  -999.00,9,  -999.00,9,   1.9256,      344
  49UP20130619,  P03W,    31,  1,     14,    999,2,20130629,0230, 25.6522, 128.5660, 5063,   2359.0,   1.8311,   1.8308,  34.6348,2,  34.6353,2,    124.9,2,  -999.00,9,  -999.00,9,  -999.00,9,  -999.00,9, -999.000,9, -999.000,9,   -999.0,9,   -999.0,9,-999.0000,9,  -999.00,  -999.00,9,  -999.00,9,   1.8308,      339
  49UP20130619,  P03W,    31,  1,     13,    667,2,20130629,0230, 25.6522, 128.5660, 5063,   2563.7,   1.7366,   1.7367,  34.6473,2,  34.6415,4,    128.4,3,  -999.00,9,  -999.00,9,  -999.00,9,  -999.00,9, -999.000,9, -999.000,9,   -999.0,9,   -999.0,9,-999.0000,9,  -999.00,  -999.00,9,  -999.00,9,   1.7367,      332
  49UP20130619,  P03W,    31,  1,     12,     74,2,20130629,0230, 25.6522, 128.5660, 5063,   2766.9,   1.6801,   1.6801,  34.6550,2,  34.6561,2,    136.2,2,  -999.00,9,  -999.00,9,  -999.00,9,  -999.00,9, -999.000,9, -999.000,9,   -999.0,9,   -999.0,9,-999.0000,9,  -999.00,  -999.00,9,  -999.00,9,   1.6801,      326
  49UP20130619,  P03W,    31,  1,     11,    996,2,20130629,0230, 25.6522, 128.5660, 5063,   2970.9,   1.6241,   1.6240,  34.6620,2,  34.6581,4,    139.2,2,  -999.00,9,  -999.00,9,  -999.00,9,  -999.00,9, -999.000,9, -999.000,9,   -999.0,9,   -999.0,9,-999.0000,9,  -999.00,  -999.00,9,  -999.00,9,   1.6240,      321
  49UP20130619,  P03W,    31,  1,     10,    107,2,20130629,0230, 25.6522, 128.5660, 5063,   3216.0,   1.5747,   1.5746,  34.6687,2,  34.6674,2,    144.9,6,  -999.00,9,  -999.00,9,  -999.00,9,  -999.00,9, -999.000,9, -999.000,9,   -999.0,9,   -999.0,9,-999.0000,9,  -999.00,  -999.00,9,  -999.00,9,   1.5746,      314
  49UP20130619,  P03W,    31,  1,      9,    108,2,20130629,0230, 25.6522, 128.5660, 5063,   3471.5,   1.5497,   1.5495,  34.6736,2,  34.6730,2,    148.0,2,  -999.00,9,  -999.00,9,  -999.00,9,  -999.00,9, -999.000,9, -999.000,9,   -999.0,9,   -999.0,9,-999.0000,9,  -999.00,  -999.00,9,  -999.00,9,   1.5495,      308
  49UP20130619,  P03W,    31,  1,      8,     81,2,20130629,0230, 25.6522, 128.5660, 5063,   3726.6,   1.5494,   1.5492,  34.6763,2,  34.6773,2,    150.8,2,  -999.00,9,  -999.00,9,  -999.00,9,  -999.00,9, -999.000,9, -999.000,9,   -999.0,9,   -999.0,9,-999.0000,9,  -999.00,  -999.00,9,  -999.00,9,   1.5492,      301
  49UP20130619,  P03W,    31,  1,      7,    106,3,20130629,0230, 25.6522, 128.5660, 5063,   3983.8,   1.5673,   1.5672,  34.6774,2,  34.6771,6,    151.9,2,  -999.00,9,  -999.00,9,  -999.00,9,  -999.00,9, -999.000,9, -999.000,9,   -999.0,9,   -999.0,9,-999.0000,9,  -999.00,  -999.00,9,  -999.00,9,   1.5672,      254
  49UP20130619,  P03W,    31,  1,      6,    113,3,20130629,0230, 25.6522, 128.5660, 5063,   4237.6,   1.5869,   1.5869,  34.6784,2,  34.6771,2,    152.4,2,  -999.00,9,  -999.00,9,  -999.00,9,  -999.00,9, -999.000,9, -999.000,9,   -999.0,9,   -999.0,9,-999.0000,9,  -999.00,  -999.00,9,  -999.00,9,   1.5869,      249
  49UP20130619,  P03W,    31,  1,      4,     77,2,20130629,0230, 25.6522, 128.5660, 5063,   4496.2,   1.6051,   1.6051,  34.6796,2,  34.6800,2,    153.5,2,  -999.00,9,  -999.00,9,  -999.00,9,  -999.00,9, -999.000,9, -999.000,9,   -999.0,9,   -999.0,9,-999.0000,9,  -999.00,  -999.00,9,  -999.00,9,   1.6051,      243
  49UP20130619,  P03W,    31,  1,      3,    104,2,20130629,0230, 25.6522, 128.5660, 5063,   4753.4,   1.6327,   1.6327,  34.6800,2,  34.6798,2,    154.4,2,  -999.00,9,  -999.00,9,  -999.00,9,  -999.00,9, -999.000,9, -999.000,9,   -999.0,9,   -999.0,9,-999.0000,9,  -999.00,  -999.00,9,  -999.00,9,   1.6327,      238
  49UP20130619,  P03W,    31,  1,      2,     75,2,20130629,0230, 25.6522, 128.5660, 5063,   5009.9,   1.6589,   1.6587,  34.6804,2,  34.6806,2,    154.4,2,  -999.00,9,  -999.00,9,  -999.00,9,  -999.00,9, -999.000,9, -999.000,9,   -999.0,9,   -999.0,9,-999.0000,9,  -999.00,  -999.00,9,  -999.00,9,   1.6587,      232
  49UP20130619,  P03W,    31,  1,      1,    997,2,20130629,0230, 25.6522, 128.5660, 5063,   5024.4,   1.6607,   1.6605,  34.6804,2,  34.6804,6,    154.2,6,  -999.00,9,  -999.00,9,  -999.00,9,  -999.00,9, -999.000,9, -999.000,9,   -999.0,9,   -999.0,9,-999.0000,9,  -999.00,  -999.00,9,  -999.00,9,   1.6605,      230