BOTTLE,20180830PRINUNIVRMK
EXPOCODE,SECT_ID,STNNBR,CASTNO,SAMPNO,BTLNBR,BTLNBR_FLAG_W,DATE,TIME,LATITUDE,LONGITUDE,DEPTH,CTDPRS,CTDTMP,SBE35,CTDSAL,CTDSAL_FLAG_W,SALNTY,SALNTY_FLAG_W,OXYGEN,OXYGEN_FLAG_W,SILCAT,SILCAT_FLAG_W,NITRAT,NITRAT_FLAG_W,NITRIT,NITRIT_FLAG_W,PHSPHT,PHSPHT_FLAG_W,CFC-11,CFC-11_FLAG_W,CFC-12,CFC-12_FLAG_W,TCARBN,TCARBN_FLAG_W,ALKALI,ALKALI_FLAG_W,PH_TOT,PH_TOT_FLAG_W,PH_TMP,CHLORA,CHLORA_FLAG_W,PPHYTN,PPHYTN_FLAG_W,SBE35,BTL_TIME
,,,,,,,,,,,METERS,DBAR,ITS-90,,PSS-78,,PSS-78,,UMOL/KG,,UMOL/KG,,UMOL/KG,,UMOL/KG,,UMOL/KG,,PMOL/KG,,PMOL/KG,,UMOL/KG,,UMOL/KG,,,,DEG C,UG/KG,,UG/KG,,,
  49UP20130619,  P03W,     9,  1,      0,   -999,0,20130627,1333, 29.1097, 130.1100, 1448,      0.0,  27.7276,-999.0000,  33.8371,2,  33.8019,2,    200.3,2,     2.03,2,     0.00,2,     0.00,2,     0.05,2, -999.000,9, -999.000,9,   1914.1,2,   2226.9,2,   8.0871,2,    25.00,     0.28,2,     0.10,2,-999.0000,     1355
  49UP20130619,  P03W,     9,  1,     33,     86,2,20130627,1333, 29.1097, 130.1100, 1448,     10.6,  27.7308,  27.7299,  33.8373,2,  33.8378,2,    200.3,2,     1.93,2,     0.00,2,     0.00,2,     0.02,2,    1.760,3,    0.953,3,   1915.7,2,   2228.9,2,   8.0874,2,    25.00,     0.27,2,     0.10,2,  27.7299,     1417
  49UP20130619,  P03W,     9,  1,     32,    105,2,20130627,1333, 29.1097, 130.1100, 1448,     50.9,  25.7473,  25.7461,  34.3086,2,  34.3047,2,    201.4,2,     2.17,2,     0.23,2,     0.12,2,     0.07,2,    1.990,3,    1.016,3,   1951.2,2,   2254.2,2,   8.0644,2,    25.00,     0.41,2,     0.30,2,  25.7461,     1415
  49UP20130619,  P03W,     9,  1,     31,     76,2,20130627,1333, 29.1097, 130.1100, 1448,    101.2,  22.9498,  22.9468,  34.6613,2,  34.6698,4,    196.7,2,     2.48,2,     1.32,2,     0.13,2,     0.13,2,    2.008,2,    1.114,2,   1989.2,2,   2279.8,2,   8.0311,2,    25.00,     0.11,2,     0.19,2,  22.9468,     1413
  49UP20130619,  P03W,     9,  1,     28,     91,3,20130627,1333, 29.1097, 130.1100, 1448,    150.9,  20.8193,  20.8100,  34.7809,2,  34.7819,2,    194.6,6,     2.82,6,     2.46,6,     0.04,6,     0.19,6,    2.109,2,    1.201,2,   2014.5,2,   2286.8,2,   7.9956,2,    25.00,     0.04,2,     0.09,2,  20.8100,     1412
  49UP20130619,  P03W,     9,  1,     27,    998,2,20130627,1333, 29.1097, 130.1100, 1448,    201.2,  19.7354,  19.7345,  34.7934,2,  34.7932,2,    194.3,2,     3.18,2,     3.12,2,     0.02,2,     0.22,2,    2.156,2,    1.243,2,   2023.2,2,   2288.4,2,   7.9848,2,    25.00,     0.02,2,     0.06,2,  19.7345,     1410
  49UP20130619,  P03W,     9,  1,     26,     84,2,20130627,1333, 29.1097, 130.1100, 1448,    252.3,  18.9818,  18.9803,  34.7748,2,  34.7751,2,    193.8,2,     3.77,2,     3.96,2,     0.01,2,     0.28,2,    2.193,6,    1.281,6,   2031.4,2,   2287.3,2,   7.9654,2,    25.00,  -999.00,9,  -999.00,9,  18.9803,     1407
  49UP20130619,  P03W,     9,  1,     22,    111,2,20130627,1333, 29.1097, 130.1100, 1448,    302.6,  18.4719,  18.4716,  34.7542,2,  34.7550,2,    194.1,2,     4.23,2,     4.47,2,     0.01,2,     0.31,2,    2.270,2,    1.323,2,   2034.2,6,   2286.0,6,   7.9599,2,    25.00,  -999.00,9,  -999.00,9,  18.4716,     1405
  49UP20130619,  P03W,     9,  1,     21,     78,2,20130627,1333, 29.1097, 130.1100, 1448,    403.4,  14.6246,  14.6327,  34.5442,2,  34.5472,2,    175.8,2,    15.25,2,    11.69,2,     0.01,2,     0.83,2,    2.393,2,    1.342,2,   2089.9,2,   2284.9,2,   7.8461,6,    25.00,  -999.00,9,  -999.00,9,  14.6327,     1402
  49UP20130619,  P03W,     9,  1,     20,     93,2,20130627,1333, 29.1097, 130.1100, 1448,    504.8,  10.0735,  10.0737,  34.3285,2,-999.0000,9,    142.1,2,    40.58,2,    22.32,2,     0.00,2,     1.62,2,    2.064,2,    1.094,2,   2169.6,2,   2297.3,2,   7.6832,2,    25.00,  -999.00,9,  -999.00,9,  10.0737,     1359
  49UP20130619,  P03W,     9,  1,     19,     92,2,20130627,1333, 29.1097, 130.1100, 1448,    504.8,  10.0735,  10.0737,  34.3285,2,  34.3292,2,    141.0,2,    40.82,2,    22.43,2,     0.00,2,     1.63,2,    2.061,2,    1.098,2,   2170.6,2,   2296.2,2,   7.6762,2,    25.00,  -999.00,9,  -999.00,9,  10.0737,     1359
  49UP20130619,  P03W,     9,  1,     13,    667,3,20130627,1333, 29.1097, 130.1100, 1448,    606.0,   8.2775,   8.2803,  34.2971,2,  34.2983,2,    121.6,2,    57.40,2,    27.06,2,     0.00,2,     1.97,2,    1.662,2,    0.862,2,   2211.7,2,   2311.0,2,   7.6073,2,    25.00,  -999.00,9,  -999.00,9,   8.2803,     1355
  49UP20130619,  P03W,     9,  1,     12,     74,2,20130627,1333, 29.1097, 130.1100, 1448,    705.9,   6.2736,   6.2766,  34.3332,2,  34.3343,2,     97.4,2,    83.51,2,    32.55,2,     0.00,2,     2.36,2,    1.036,2,    0.536,2,   2266.3,2,   2337.7,2,   7.5255,2,    25.00,  -999.00,9,  -999.00,9,   6.2766,     1352
  49UP20130619,  P03W,     9,  1,     11,    996,2,20130627,1333, 29.1097, 130.1100, 1448,    806.0,   4.1451,   4.1449,  34.3588,2,  34.3602,2,     67.8,2,   111.15,2,    38.61,2,     0.00,2,     2.79,2,    0.413,6,    0.241,6,   2322.6,2,   2361.3,2,   7.4391,2,    25.00,  -999.00,9,  -999.00,9,   4.1449,     1349
  49UP20130619,  P03W,     9,  1,     10,    107,3,20130627,1333, 29.1097, 130.1100, 1448,    906.4,   3.3914,   3.3902,  34.4304,2,  34.4315,2,     72.7,4,   124.71,4,    39.43,4,     0.00,4,     2.83,4,    0.251,2,    0.135,2,   2332.7,2,   2377.7,2,   7.4414,4,    25.00,  -999.00,9,  -999.00,9,   3.3902,     1346
  49UP20130619,  P03W,     9,  1,      5,     94,2,20130627,1333, 29.1097, 130.1100, 1448,   1009.2,   3.1863,   3.1848,  34.4476,2,  34.4497,2,     66.6,6,   130.57,6,    40.08,6,     0.00,6,     2.88,6,    0.182,2,    0.115,2,   2346.1,2,   2382.9,2,   7.4295,2,    25.00,  -999.00,9,  -999.00,9,   3.1848,     1343
  49UP20130619,  P03W,     9,  1,      4,     77,2,20130627,1333, 29.1097, 130.1100, 1448,   1211.0,   2.7114,   2.7090,  34.5022,2,  34.5036,2,     75.3,2,   138.21,2,    39.99,2,     0.00,2,     2.86,2,    0.096,2,    0.080,2,   2353.4,2,   2397.0,2,   7.4463,2,    25.00,  -999.00,9,  -999.00,9,   2.7090,     1338
  49UP20130619,  P03W,     9,  1,      3,    104,2,20130627,1333, 29.1097, 130.1100, 1448,   1211.0,   2.7114,   2.7090,  34.5022,2,  34.5038,6,     75.1,2,   138.30,2,    40.07,2,     0.00,2,     2.87,2,    0.065,2,    0.049,2,   2352.6,2,   2396.3,2,   7.4467,2,    25.00,  -999.00,9,  -999.00,9,   2.7090,     1338
  49UP20130619,  P03W,     9,  1,      2,     75,2,20130627,1333, 29.1097, 130.1100, 1448,   1415.6,   2.4695,   2.4750,  34.5357,2,  34.5311,4,     82.9,2,   140.60,2,    39.71,2,     0.00,2,     2.83,2,    0.042,2,    0.039,2,   2353.2,2,   2400.6,2,   7.4596,2,    25.00,  -999.00,9,  -999.00,9,   2.4750,     1334
  49UP20130619,  P03W,     9,  1,      1,    997,2,20130627,1333, 29.1097, 130.1100, 1448,   1415.6,   2.4922,   2.4923,  34.5326,2,  34.5298,4,     82.0,2,   140.61,2,    39.74,2,     0.00,2,     2.84,2,    0.095,2,    0.062,2,   2353.8,2,   2402.7,2,   7.4603,2,    25.00,  -999.00,9,  -999.00,9,   2.4923,     1334
  49UP20130619,  P03W,    11,  1,      0,   -999,0,20130627,1854, 28.8375, 129.9213,  292,      0.0,  27.7110,-999.0000,  33.7440,2,-999.0000,9,    199.6,2,  -999.00,9,  -999.00,9,  -999.00,9,  -999.00,9, -999.000,9, -999.000,9,   -999.0,9,   -999.0,9,-999.0000,9,  -999.00,  -999.00,9,  -999.00,9,-999.0000,     1855
  49UP20130619,  P03W,    11,  1,     33,     86,2,20130627,1854, 28.8375, 129.9213,  292,     10.2,  27.7134,  27.7132,  33.7470,2,  33.7468,2,    200.1,2,  -999.00,9,  -999.00,9,  -999.00,9,  -999.00,9, -999.000,9, -999.000,9,   -999.0,9,   -999.0,9,-999.0000,9,  -999.00,  -999.00,9,  -999.00,9,  27.7132,     1907
  49UP20130619,  P03W,    11,  1,     32,    105,2,20130627,1854, 28.8375, 129.9213,  292,     50.0,  25.7989,  25.8088,  34.2550,2,-999.0000,9,    202.0,2,  -999.00,9,  -999.00,9,  -999.00,9,  -999.00,9, -999.000,9, -999.000,9,   -999.0,9,   -999.0,9,-999.0000,9,  -999.00,  -999.00,9,  -999.00,9,  25.8088,     1905
  49UP20130619,  P03W,    11,  1,     31,     76,2,20130627,1854, 28.8375, 129.9213,  292,     50.0,  25.7989,  25.8088,  34.2550,2,  34.2601,2,    201.7,2,  -999.00,9,  -999.00,9,  -999.00,9,  -999.00,9, -999.000,9, -999.000,9,   -999.0,9,   -999.0,9,-999.0000,9,  -999.00,  -999.00,9,  -999.00,9,  25.8088,     1905
  49UP20130619,  P03W,    11,  1,     20,     93,2,20130627,1854, 28.8375, 129.9213,  292,    100.8,  22.0588,  22.0569,  34.7152,2,  34.7235,4,    204.2,2,  -999.00,9,  -999.00,9,  -999.00,9,  -999.00,9, -999.000,9, -999.000,9,   -999.0,9,   -999.0,9,-999.0000,9,  -999.00,  -999.00,9,  -999.00,9,  22.0569,     1903
  49UP20130619,  P03W,    11,  1,     19,     92,2,20130627,1854, 28.8375, 129.9213,  292,    151.1,  19.8139,  19.8137,  34.7720,2,  34.7711,2,    196.5,2,  -999.00,9,  -999.00,9,  -999.00,9,  -999.00,9, -999.000,9, -999.000,9,   -999.0,9,   -999.0,9,-999.0000,9,  -999.00,  -999.00,9,  -999.00,9,  19.8137,     1901
  49UP20130619,  P03W,    11,  1,      9,    108,2,20130627,1854, 28.8375, 129.9213,  292,    202.1,  19.3171,  19.3166,  34.7713,2,  34.7700,2,    194.3,6,  -999.00,9,  -999.00,9,  -999.00,9,  -999.00,9, -999.000,9, -999.000,9,   -999.0,9,   -999.0,9,-999.0000,9,  -999.00,  -999.00,9,  -999.00,9,  19.3166,     1859
  49UP20130619,  P03W,    11,  1,      8,     81,2,20130627,1854, 28.8375, 129.9213,  292,    252.2,  18.9545,  18.9563,  34.7610,2,  34.7605,2,    193.2,2,  -999.00,9,  -999.00,9,  -999.00,9,  -999.00,9, -999.000,9, -999.000,9,   -999.0,9,   -999.0,9,-999.0000,9,  -999.00,  -999.00,9,  -999.00,9,  18.9563,     1856
  49UP20130619,  P03W,    11,  1,      7,    106,2,20130627,1854, 28.8375, 129.9213,  292,    252.2,  18.9545,  18.9563,  34.7610,2,  34.7606,6,    193.4,2,  -999.00,9,  -999.00,9,  -999.00,9,  -999.00,9, -999.000,9, -999.000,9,   -999.0,9,   -999.0,9,-999.0000,9,  -999.00,  -999.00,9,  -999.00,9,  18.9563,     1856
  49UP20130619,  P03W,    11,  1,      6,    113,2,20130627,1854, 28.8375, 129.9213,  292,    289.8,  18.0020,  18.0032,  34.7344,2,  34.7369,2,    191.6,2,  -999.00,9,  -999.00,9,  -999.00,9,  -999.00,9, -999.000,9, -999.000,9,   -999.0,9,   -999.0,9,-999.0000,9,  -999.00,  -999.00,9,  -999.00,9,  18.0032,     1855
  49UP20130619,  P03W,    27,  1,      0,   -999,0,20130628,1205, 26.0692, 127.9142,  546,      0.0,  27.1403,-999.0000,  34.5558,2,  34.5476,2,    203.5,2,     1.39,2,     0.01,2,     0.00,2,     0.03,2, -999.000,9, -999.000,9,   1953.4,2,   2266.4,2,   8.0827,2,    25.00,     0.08,2,     0.02,2,-999.0000,     1210
  49UP20130619,  P03W,    27,  1,     36,    109,2,20130628,1205, 26.0692, 127.9142,  546,      9.7,  27.0703,  27.0630,  34.5554,2,  34.5555,2,    204.5,2,     1.36,2,     0.02,2,     0.00,2,     0.02,2,    1.864,3,    1.009,3,   1951.6,2,   2269.1,2,   8.0815,2,    25.00,     0.08,2,     0.02,2,  27.0630,     1226
  49UP20130619,  P03W,    27,  1,     35,    112,2,20130628,1205, 26.0692, 127.9142,  546,     49.9,  24.4038,  24.4028,  34.6592,2,  34.6688,4,    213.7,2,     1.29,2,     0.01,2,     0.00,2,     0.03,2,    2.110,3,    1.117,3,   1965.2,2,   2276.2,2,   8.0707,2,    25.00,     0.19,2,     0.07,2,  24.4028,     1224
  49UP20130619,  P03W,    27,  1,     34,     83,2,20130628,1205, 26.0692, 127.9142,  546,    100.2,  21.5959,  21.5951,  34.7768,2,  34.7817,2,    202.3,2,     1.73,2,     0.87,2,     0.08,2,     0.09,2,    2.053,2,    1.182,2,   1994.8,2,   2283.0,2,   8.0253,2,    25.00,     0.16,2,     0.35,2,  21.5951,     1221
  49UP20130619,  P03W,    27,  1,     28,     91,2,20130628,1205, 26.0692, 127.9142,  546,    151.2,  20.5444,  20.5427,  34.8091,2,  34.8140,2,    195.0,2,     2.26,2,     2.29,2,     0.02,2,     0.16,2,    2.103,2,    1.247,2,   2011.9,2,   2285.1,2,   7.9982,2,    25.00,     0.05,2,     0.10,2,  20.5427,     1219
  49UP20130619,  P03W,    27,  1,     27,    998,2,20130628,1205, 26.0692, 127.9142,  546,    201.3,  18.7042,  18.7030,  34.7863,2,  34.7835,2,    193.2,2,     3.31,2,     4.08,2,     0.01,2,     0.27,2,    2.256,2,    1.332,2,   2025.9,2,   2285.6,2,   7.9625,2,    25.00,     0.01,2,     0.02,2,  18.7030,     1217
  49UP20130619,  P03W,    27,  1,     26,     84,2,20130628,1205, 26.0692, 127.9142,  546,    251.4,  17.8476,  17.8467,  34.7384,2,  34.7376,2,    193.3,2,     4.19,2,     5.13,2,     0.01,2,     0.35,2,    2.308,6,    1.384,6,   2036.2,2,   2284.6,2,   7.9460,2,    25.00,  -999.00,9,  -999.00,9,  17.8467,     1216
  49UP20130619,  P03W,    27,  1,     17,     90,2,20130628,1205, 26.0692, 127.9142,  546,    302.8,  16.9270,  16.9291,  34.6828,2,  34.6830,2,    191.4,6,     5.68,6,     6.58,6,     0.01,6,     0.46,6,    2.380,2,    1.407,2,   2047.7,2,   2279.6,2,   7.9226,2,    25.00,  -999.00,9,  -999.00,9,  16.9291,     1214
  49UP20130619,  P03W,    27,  1,     16,     89,2,20130628,1205, 26.0692, 127.9142,  546,    402.7,  15.3397,  15.3409,  34.5775,2,  34.5790,2,    183.8,2,    10.04,2,     9.77,2,     0.01,2,     0.68,2,    2.496,2,    1.417,2,   2070.9,2,   2279.2,2,   7.8718,2,    25.00,  -999.00,9,  -999.00,9,  15.3409,     1210
  49UP20130619,  P03W,    27,  1,     15,     88,2,20130628,1205, 26.0692, 127.9142,  546,    402.7,  15.3397,  15.3409,  34.5775,2,  34.5780,6,    183.6,2,    10.04,2,     9.77,2,     0.01,2,     0.69,2,    2.509,2,    1.436,2,   2072.5,2,   2284.6,2,   7.8737,2,    25.00,  -999.00,9,  -999.00,9,  15.3409,     1210
  49UP20130619,  P03W,    27,  1,      8,     81,2,20130628,1205, 26.0692, 127.9142,  546,    503.3,  12.1756,  12.1786,  34.3802,2,  34.3811,2,    168.5,2,    21.56,2,    16.21,2,     0.01,2,     1.16,2,    2.550,2,    1.416,2,   2116.4,6,   2281.8,6,   7.7683,2,    25.00,  -999.00,9,  -999.00,9,  12.1786,     1208
  49UP20130619,  P03W,    27,  1,      7,    106,2,20130628,1205, 26.0692, 127.9142,  546,    557.3,  10.4517,  10.4457,  34.2883,2,  34.2871,2,    155.6,2,    31.65,2,    20.46,2,     0.01,2,     1.47,2,    2.392,2,    1.290,2,   2150.3,2,   2282.6,2,   7.7023,6,    25.00,  -999.00,9,  -999.00,9,  10.4457,     1206
  49UP20130619,  P03W,    27,  1,      6,    113,2,20130628,1205, 26.0692, 127.9142,  546,    558.0,  10.4209,  10.4198,  34.2873,2,  34.2872,2,    155.6,2,    31.55,2,    20.46,2,     0.01,2,     1.47,2,    2.436,6,    1.318,6,   2149.9,2,   2286.9,2,   7.7019,2,    25.00,  -999.00,9,  -999.00,9,  10.4198,     1206