BOTTLE,20180830PRINUNIVRMK
EXPOCODE,SECT_ID,STNNBR,CASTNO,SAMPNO,BTLNBR,BTLNBR_FLAG_W,DATE,TIME,LATITUDE,LONGITUDE,DEPTH,CTDPRS,CTDTMP,SBE35,CTDSAL,CTDSAL_FLAG_W,SALNTY,SALNTY_FLAG_W,OXYGEN,OXYGEN_FLAG_W,SILCAT,SILCAT_FLAG_W,NITRAT,NITRAT_FLAG_W,NITRIT,NITRIT_FLAG_W,PHSPHT,PHSPHT_FLAG_W,CFC-11,CFC-11_FLAG_W,CFC-12,CFC-12_FLAG_W,TCARBN,TCARBN_FLAG_W,ALKALI,ALKALI_FLAG_W,PH_TOT,PH_TOT_FLAG_W,PH_TMP,CHLORA,CHLORA_FLAG_W,PPHYTN,PPHYTN_FLAG_W,SBE35,BTL_TIME
,,,,,,,,,,,METERS,DBAR,ITS-90,,PSS-78,,PSS-78,,UMOL/KG,,UMOL/KG,,UMOL/KG,,UMOL/KG,,UMOL/KG,,PMOL/KG,,PMOL/KG,,UMOL/KG,,UMOL/KG,,,,DEG C,UG/KG,,UG/KG,,,
  49UP20130619,  P03W,    73,  1,      0,   -999,0,20130809,2038, 24.2680, 152.0453, 5424,      0.0,  29.2715,-999.0000,  34.9165,2,  34.9207,2,    196.2,2,     1.24,2,     0.02,2,     0.00,2,     0.04,2, -999.000,9, -999.000,9,   1964.3,2,   2286.5,2,   8.1010,2,    25.00,     0.05,2,     0.01,2,-999.0000,     2240
  49UP20130619,  P03W,    73,  1,     36,    109,2,20130809,2038, 24.2680, 152.0453, 5424,     10.0,  29.2839,  29.2831,  34.9156,2,  34.9170,2,    196.3,2,     1.23,2,     0.01,2,     0.00,2,     0.01,2, -999.000,9, -999.000,9,   1967.5,2,   2290.9,2,   8.1025,2,    25.00,     0.05,2,     0.03,2,  29.2831,     2259
  49UP20130619,  P03W,    73,  1,     35,    112,2,20130809,2038, 24.2680, 152.0453, 5424,     48.2,  22.9961,  22.9856,  34.9002,2,  34.8994,2,    232.5,2,     1.66,2,     0.01,2,     0.00,2,     0.01,2, -999.000,9, -999.000,9,   1986.8,2,   2293.0,2,   8.0686,2,    25.00,     0.09,2,     0.02,2,  22.9856,     2255
  49UP20130619,  P03W,    73,  1,     34,     83,2,20130809,2038, 24.2680, 152.0453, 5424,    102.6,  19.2557,  19.2559,  34.8529,2,  34.8510,2,    214.8,2,     2.35,2,     0.38,2,     0.03,2,     0.07,2, -999.000,9, -999.000,9,   2019.8,2,   2287.9,2,   8.0091,2,    25.00,     0.27,2,     0.30,2,  19.2559,     2253
  49UP20130619,  P03W,    73,  1,     33,     86,2,20130809,2038, 24.2680, 152.0453, 5424,    151.3,  17.7790,  17.7794,  34.7494,2,  34.7449,2,    209.0,2,     3.34,2,     3.52,2,     0.01,2,     0.24,2, -999.000,9, -999.000,9,   2030.4,2,   2279.6,2,   7.9708,2,    25.00,     0.04,2,     0.06,2,  17.7794,     2251
  49UP20130619,  P03W,    73,  1,     32,    105,2,20130809,2038, 24.2680, 152.0453, 5424,    201.9,  16.8302,  16.8292,  34.6895,2,  34.6893,2,    206.0,2,     4.65,2,     5.26,2,     0.01,2,     0.35,2, -999.000,9, -999.000,9,   2037.4,2,   2271.9,2,   7.9263,2,    25.00,     0.00,2,     0.01,2,  16.8292,     2249
  49UP20130619,  P03W,    73,  1,     31,     76,2,20130809,2038, 24.2680, 152.0453, 5424,    251.3,  16.2629,  16.2605,  34.6470,2,  34.6461,2,    206.2,2,     5.89,2,     6.18,2,     0.00,2,     0.42,2, -999.000,9, -999.000,9,   2046.2,2,   2270.3,2,   7.9389,2,    25.00,  -999.00,9,  -999.00,9,  16.2605,     2248
  49UP20130619,  P03W,    73,  1,     30,     97,2,20130809,2038, 24.2680, 152.0453, 5424,    285.4,  15.5320,  15.5311,  34.5863,2,  34.5929,2,    199.1,2,     7.55,2,     7.75,2,     0.00,2,     0.53,2, -999.000,9, -999.000,9,   2059.2,2,   2276.2,2,   7.9052,2,    25.00,  -999.00,9,  -999.00,9,  15.5311,     2246
  49UP20130619,  P03W,    73,  1,     29,    102,2,20130809,2038, 24.2680, 152.0453, 5424,    372.1,  13.4224,  13.4227,  34.4346,2,  34.4337,2,    192.4,2,    13.29,2,    11.77,2,     0.00,2,     0.83,2, -999.000,9, -999.000,9,   2087.5,6,   2268.6,6,   7.8427,2,    25.00,  -999.00,9,  -999.00,9,  13.4227,     2244
  49UP20130619,  P03W,    73,  1,     28,     91,3,20130809,2038, 24.2680, 152.0453, 5424,    473.2,  10.0174,  10.0135,  34.2056,2,  34.2071,2,    174.1,2,    26.63,2,    19.21,2,     0.00,2,     1.38,2, -999.000,9, -999.000,9,   2139.5,2,   2265.5,2,   7.7182,6,    25.00,  -999.00,9,  -999.00,9,  10.0135,     2241
  49UP20130619,  P03W,    73,  1,     27,    998,2,20130809,2038, 24.2680, 152.0453, 5424,    575.2,   7.5065,   7.5096,  34.0993,2,  34.1000,6,    131.6,6,    47.29,6,    27.70,6,     0.00,6,     2.02,6, -999.000,9, -999.000,9,   2205.0,2,   2285.4,2,   7.5812,2,    25.00,  -999.00,9,  -999.00,9,   7.5096,     2238
  49UP20130619,  P03W,    73,  1,     26,     84,2,20130809,2038, 24.2680, 152.0453, 5424,    675.1,   6.1810,   6.1806,  34.1160,2,  34.1157,2,     91.8,2,    65.67,2,    33.74,2,     0.00,2,     2.46,2, -999.000,9, -999.000,9,   2255.6,2,   2294.3,2,   7.4797,2,    25.00,  -999.00,9,  -999.00,9,   6.1806,     2235
  49UP20130619,  P03W,    73,  1,     25,     98,2,20130809,2038, 24.2680, 152.0453, 5424,    675.1,   6.1810,   6.1806,  34.1160,2,  34.1157,2,     92.2,2,    65.62,2,    33.75,2,     0.00,2,     2.45,2, -999.000,9, -999.000,9,   2252.6,2,   2294.2,2,   7.4803,2,    25.00,  -999.00,9,  -999.00,9,   6.1806,     2235
  49UP20130619,  P03W,    73,  1,     24,    110,3,20130809,2038, 24.2680, 152.0453, 5424,    777.4,   4.9651,   4.9649,  34.1809,2,  34.1794,2,     64.2,2,    88.23,2,    38.23,2,     0.00,2,     2.78,2, -999.000,9, -999.000,9,   2299.9,2,   2318.0,2,   7.4118,2,    25.00,  -999.00,9,  -999.00,9,   4.9649,     2232
  49UP20130619,  P03W,    73,  1,     23,     96,2,20130809,2038, 24.2680, 152.0453, 5424,    878.4,   4.2583,   4.2578,  34.2696,2,  34.2697,2,     47.6,2,   105.26,2,    40.67,2,     0.00,2,     2.94,2, -999.000,9, -999.000,9,   2328.8,2,   2337.8,2,   7.3845,2,    25.00,  -999.00,9,  -999.00,9,   4.2578,     2228
  49UP20130619,  P03W,    73,  1,     22,    111,2,20130809,2038, 24.2680, 152.0453, 5424,    978.6,   3.8457,   3.8424,  34.3803,2,  34.3782,2,     47.5,2,   115.43,2,    41.32,2,     0.00,2,     2.98,2, -999.000,9, -999.000,9,   2340.4,2,   2356.3,2,   7.3922,2,    25.00,  -999.00,9,  -999.00,9,   3.8424,     2225
  49UP20130619,  P03W,    73,  1,     21,     78,2,20130809,2038, 24.2680, 152.0453, 5424,   1140.6,   3.3472,   3.3473,  34.4523,2,  34.4482,4,     54.2,2,   127.04,2,    41.44,2,     0.00,2,     2.97,2, -999.000,9, -999.000,9,   2354.4,2,   2370.8,2,   7.4075,2,    25.00,  -999.00,9,  -999.00,9,   3.3473,     2221
  49UP20130619,  P03W,    73,  1,     20,     93,2,20130809,2038, 24.2680, 152.0453, 5424,   1343.1,   2.7748,   2.7754,  34.5122,2,  34.5112,2,     65.0,6,   139.00,6,    41.02,6,     0.00,6,     2.94,6, -999.000,9, -999.000,9,   2358.8,2,   2386.5,2,   7.4297,2,    25.00,  -999.00,9,  -999.00,9,   2.7754,     2215
  49UP20130619,  P03W,    73,  1,     19,     92,2,20130809,2038, 24.2680, 152.0453, 5424,   1546.1,   2.4128,   2.4136,  34.5516,2,  34.5514,2,     76.0,2,   145.61,2,    40.56,2,     0.00,2,     2.89,2, -999.000,9, -999.000,9,   2361.3,6,   2401.7,2,   7.4502,2,    25.00,  -999.00,9,  -999.00,9,   2.4136,     2210
  49UP20130619,  P03W,    73,  1,     18,    101,2,20130809,2038, 24.2680, 152.0453, 5424,   1748.7,   2.1802,   2.1807,  34.5834,2,  34.5829,6,     88.4,2,   148.35,2,    39.88,2,     0.00,2,     2.84,2, -999.000,9, -999.000,9,   2361.0,2,   2409.5,2,   7.4736,6,    25.00,  -999.00,9,  -999.00,9,   2.1807,     2205
  49UP20130619,  P03W,    73,  1,     17,     90,2,20130809,2038, 24.2680, 152.0453, 5424,   1952.3,   1.9846,   1.9853,  34.6064,2,  34.6057,2,     97.2,2,   151.09,2,    39.40,2,     0.00,2,     2.80,2, -999.000,9, -999.000,9,   2354.6,2,   2411.6,2,   7.4875,2,    25.00,  -999.00,9,  -999.00,9,   1.9853,     2159
  49UP20130619,  P03W,    73,  1,     16,     89,2,20130809,2038, 24.2680, 152.0453, 5424,   2156.0,   1.8600,   1.8603,  34.6244,2,  34.6239,2,    107.5,2,   151.01,2,    38.81,2,     0.00,2,     2.75,2, -999.000,9, -999.000,9,   2364.6,3,   2412.2,2,   7.5029,2,    25.00,  -999.00,9,  -999.00,9,   1.8603,     2153
  49UP20130619,  P03W,    73,  1,     15,     88,2,20130809,2038, 24.2680, 152.0453, 5424,   2357.9,   1.7628,   1.7627,  34.6370,2,  34.6375,2,    114.4,2,   151.65,2,    38.37,2,     0.00,2,     2.71,2, -999.000,9, -999.000,9,   2348.8,2,   2409.8,3,   7.5203,2,    25.00,  -999.00,9,  -999.00,9,   1.7627,     2148
  49UP20130619,  P03W,    73,  1,     14,    999,2,20130809,2038, 24.2680, 152.0453, 5424,   2561.7,   1.6709,   1.6709,  34.6488,2,  34.6486,2,    122.2,6,   151.57,6,    37.91,6,     0.00,6,     2.68,6, -999.000,9, -999.000,9,   2344.5,2,   2417.9,2,   7.5326,2,    25.00,  -999.00,9,  -999.00,9,   1.6709,     2143
  49UP20130619,  P03W,    73,  1,     13,    667,3,20130809,2038, 24.2680, 152.0453, 5424,   2765.0,   1.5979,   1.5979,  34.6586,2,  34.6582,2,    129.3,2,   150.88,2,    37.45,2,     0.00,2,     2.64,2, -999.000,9, -999.000,9,   2343.5,2,   2416.9,2,   7.5438,2,    25.00,  -999.00,9,  -999.00,9,   1.5979,     2138
  49UP20130619,  P03W,    73,  1,     12,     74,2,20130809,2038, 24.2680, 152.0453, 5424,   2969.7,   1.5589,   1.5590,  34.6645,2,  34.6646,6,    134.4,2,   151.02,2,    37.21,2,     0.00,2,     2.62,2, -999.000,9, -999.000,9,   2341.3,2,   2417.9,2,   7.5545,2,    25.00,  -999.00,9,  -999.00,9,   1.5590,     2133
  49UP20130619,  P03W,    73,  1,     11,    996,2,20130809,2038, 24.2680, 152.0453, 5424,   3215.8,   1.5198,   1.5198,  34.6705,2,  34.6690,2,    139.0,2,   150.00,2,    36.85,2,     0.00,2,     2.59,2, -999.000,9, -999.000,9,   -999.0,9,   -999.0,9,-999.0000,9,  -999.00,  -999.00,9,  -999.00,9,   1.5198,     2127
  49UP20130619,  P03W,    73,  1,     10,    107,2,20130809,2038, 24.2680, 152.0453, 5424,   3469.6,   1.4901,   1.4901,  34.6757,2,  34.6740,2,    144.3,2,   148.52,2,    36.52,2,     0.00,2,     2.56,2, -999.000,9, -999.000,9,   2332.1,2,   2410.5,3,   7.5716,2,    25.00,  -999.00,9,  -999.00,9,   1.4901,     2122
  49UP20130619,  P03W,    73,  1,      9,    108,2,20130809,2038, 24.2680, 152.0453, 5424,   3726.2,   1.4684,   1.4686,  34.6801,2,  34.6804,2,    150.0,2,   147.25,2,    36.12,2,     0.00,2,     2.54,2, -999.000,9, -999.000,9,   -999.0,9,   -999.0,9,-999.0000,9,  -999.00,  -999.00,9,  -999.00,9,   1.4686,     2116
  49UP20130619,  P03W,    73,  1,      8,     81,2,20130809,2038, 24.2680, 152.0453, 5424,   3981.9,   1.4553,   1.4553,  34.6837,2,  34.6836,2,    154.6,2,   145.56,2,    35.78,2,     0.00,2,     2.51,2, -999.000,9, -999.000,9,   2322.4,6,   2414.0,6,   7.5847,2,    25.00,  -999.00,9,  -999.00,9,   1.4553,     2111
  49UP20130619,  P03W,    73,  1,      7,    106,2,20130809,2038, 24.2680, 152.0453, 5424,   4237.9,   1.4534,   1.4534,  34.6865,2,  34.6863,2,    158.2,2,   144.11,2,    35.57,2,     0.00,2,     2.49,2, -999.000,9, -999.000,9,   -999.0,9,   -999.0,9,-999.0000,9,  -999.00,  -999.00,9,  -999.00,9,   1.4534,     2105
  49UP20130619,  P03W,    73,  1,      6,    113,2,20130809,2038, 24.2680, 152.0453, 5424,   4494.4,   1.4644,   1.4642,  34.6881,2,  34.6881,2,    160.9,2,   142.85,2,    35.39,2,     0.00,2,     2.48,2, -999.000,9, -999.000,9,   2316.7,2,   2418.5,3,   7.5937,6,    25.00,  -999.00,9,  -999.00,9,   1.4642,     2100
  49UP20130619,  P03W,    73,  1,      5,     94,2,20130809,2038, 24.2680, 152.0453, 5424,   4752.2,   1.4754,   1.4754,  34.6900,2,  34.6901,6,    164.5,2,   141.10,2,    35.15,2,     0.00,2,     2.46,2, -999.000,9, -999.000,9,   -999.0,9,   -999.0,9,-999.0000,9,  -999.00,  -999.00,9,  -999.00,9,   1.4754,     2055
  49UP20130619,  P03W,    73,  1,      4,     77,2,20130809,2038, 24.2680, 152.0453, 5424,   5009.9,   1.4888,   1.4887,  34.6916,2,  34.6917,2,    167.2,2,   138.98,2,    34.94,2,     0.00,2,     2.44,2, -999.000,9, -999.000,9,   2311.7,2,   2401.8,2,   7.5999,2,    25.00,  -999.00,9,  -999.00,9,   1.4887,     2050
  49UP20130619,  P03W,    73,  1,      3,    104,2,20130809,2038, 24.2680, 152.0453, 5424,   5266.5,   1.5045,   1.5045,  34.6932,2,  34.6923,2,    169.6,2,   137.36,2,    34.69,2,     0.00,2,     2.43,2, -999.000,9, -999.000,9,   -999.0,9,   -999.0,9,-999.0000,9,  -999.00,  -999.00,9,  -999.00,9,   1.5045,     2044
  49UP20130619,  P03W,    73,  1,      2,     75,2,20130809,2038, 24.2680, 152.0453, 5424,   5523.9,   1.5152,   1.5151,  34.6950,2,  34.6959,2,    173.9,6,   134.38,6,    34.44,6,     0.00,6,     2.41,6, -999.000,9, -999.000,9,   2302.7,2,   2402.6,2,   7.6056,2,    25.00,  -999.00,9,  -999.00,9,   1.5151,     2039
  49UP20130619,  P03W,    73,  1,      1,    997,2,20130809,2038, 24.2680, 152.0453, 5424,   5545.2,   1.5170,   1.5168,  34.6953,2,  34.6949,2,    173.7,2,   134.63,2,    34.53,2,     0.00,2,     2.41,2, -999.000,9, -999.000,9,   2305.6,2,   2398.3,2,   7.6055,2,    25.00,  -999.00,9,  -999.00,9,   1.5168,     2038