BOTTLE,20180830PRINUNIVRMK
EXPOCODE,SECT_ID,STNNBR,CASTNO,SAMPNO,BTLNBR,BTLNBR_FLAG_W,DATE,TIME,LATITUDE,LONGITUDE,DEPTH,CTDPRS,CTDTMP,SBE35,CTDSAL,CTDSAL_FLAG_W,SALNTY,SALNTY_FLAG_W,OXYGEN,OXYGEN_FLAG_W,SILCAT,SILCAT_FLAG_W,NITRAT,NITRAT_FLAG_W,NITRIT,NITRIT_FLAG_W,PHSPHT,PHSPHT_FLAG_W,CFC-11,CFC-11_FLAG_W,CFC-12,CFC-12_FLAG_W,TCARBN,TCARBN_FLAG_W,ALKALI,ALKALI_FLAG_W,PH_TOT,PH_TOT_FLAG_W,PH_TMP,CHLORA,CHLORA_FLAG_W,PPHYTN,PPHYTN_FLAG_W,SBE35,BTL_TIME
,,,,,,,,,,,METERS,DBAR,ITS-90,,PSS-78,,PSS-78,,UMOL/KG,,UMOL/KG,,UMOL/KG,,UMOL/KG,,UMOL/KG,,PMOL/KG,,PMOL/KG,,UMOL/KG,,UMOL/KG,,,,DEG C,UG/KG,,UG/KG,,,
  49UP20130619,  P03W,    71,  1,      0,   -999,0,20130809,0514, 24.2932, 150.5090, 5185,      0.0,  29.1204,-999.0000,  34.8822,2,  34.8879,2,    197.2,2,     1.22,2,     0.00,2,     0.00,2,     0.04,2, -999.000,9, -999.000,9,   1963.6,2,   2290.7,2,   8.1035,2,    25.00,     0.04,2,     0.01,2,-999.0000,      702
  49UP20130619,  P03W,    71,  1,     36,    109,2,20130809,0514, 24.2932, 150.5090, 5185,     10.2,  29.0326,  29.0335,  34.8754,2,  34.8763,2,    197.5,2,     1.19,2,     0.00,2,     0.00,2,     0.03,2, -999.000,9, -999.000,9,   1966.0,2,   2286.2,2,   8.1010,2,    25.00,     0.03,2,     0.01,2,  29.0335,      723
  49UP20130619,  P03W,    71,  1,     35,    112,2,20130809,0514, 24.2932, 150.5090, 5185,     53.0,  23.1231,  23.1444,  35.0395,2,  35.0509,4,    224.9,2,     1.31,2,     0.00,2,     0.00,2,     0.03,2, -999.000,9, -999.000,9,   1985.1,2,   2302.4,2,   8.0769,2,    25.00,  -999.00,9,  -999.00,9,  23.1444,      718
  49UP20130619,  P03W,    71,  1,     34,     83,2,20130809,0514, 24.2932, 150.5090, 5185,     53.0,  23.1231,  23.1444,  35.0395,2,  35.0531,4,    224.7,2,     1.31,2,     0.00,2,     0.00,2,     0.03,2, -999.000,9, -999.000,9,   1987.4,2,   2303.0,2,   8.0792,2,    25.00,     0.09,2,     0.03,2,  23.1444,      718
  49UP20130619,  P03W,    71,  1,     33,     86,2,20130809,0514, 24.2932, 150.5090, 5185,    102.4,  19.4533,  19.4727,  34.8729,2,  34.8773,6,    215.6,2,     2.06,2,     0.23,2,     0.01,2,     0.07,2, -999.000,9, -999.000,9,   2019.0,2,   2289.2,2,   8.0150,2,    25.00,     0.22,2,     0.52,2,  19.4727,      716
  49UP20130619,  P03W,    71,  1,     32,    105,2,20130809,0514, 24.2932, 150.5090, 5185,    150.0,  18.2958,  18.2896,  34.7686,2,  34.7649,2,    217.5,2,     2.37,2,     1.53,2,     0.06,2,     0.14,2, -999.000,9, -999.000,9,   2019.6,2,   2282.7,2,   7.9686,2,    25.00,     0.06,2,     0.20,2,  18.2896,      714
  49UP20130619,  P03W,    71,  1,     31,     76,2,20130809,0514, 24.2932, 150.5090, 5185,    198.6,  17.4042,  17.4041,  34.7217,2,  34.7217,2,    213.9,2,     3.40,2,     3.71,2,     0.01,2,     0.26,2, -999.000,9, -999.000,9,   2028.7,2,   2279.2,2,   7.9760,2,    25.00,     0.02,2,     0.03,2,  17.4041,      713
  49UP20130619,  P03W,    71,  1,     30,     97,2,20130809,0514, 24.2932, 150.5090, 5185,    250.9,  17.0079,  17.0068,  34.7047,2,  34.7021,2,    212.8,2,     4.22,2,     4.54,2,     0.00,2,     0.33,2, -999.000,9, -999.000,9,   2031.0,2,   2279.0,2,   7.9648,2,    25.00,  -999.00,9,  -999.00,9,  17.0068,      711
  49UP20130619,  P03W,    71,  1,     29,    102,2,20130809,0514, 24.2932, 150.5090, 5185,    305.2,  16.2387,  16.2379,  34.6431,2,  34.6431,2,    200.8,2,     6.30,2,     6.70,2,     0.00,2,     0.49,2, -999.000,9, -999.000,9,   2051.6,2,   2277.8,2,   7.9272,2,    25.00,  -999.00,9,  -999.00,9,  16.2379,      709
  49UP20130619,  P03W,    71,  1,     28,     91,2,20130809,0514, 24.2932, 150.5090, 5185,    404.3,  13.6525,  13.6425,  34.4565,2,  34.4541,2,    189.7,2,    13.49,2,    11.82,2,     0.00,2,     0.86,2, -999.000,9, -999.000,9,   2086.1,2,   2272.2,2,   7.8421,2,    25.00,  -999.00,9,  -999.00,9,  13.6425,      707
  49UP20130619,  P03W,    71,  1,     27,    998,2,20130809,0514, 24.2932, 150.5090, 5185,    503.9,  10.6147,  10.6468,  34.2465,2,  34.2448,2,    181.4,6,    24.54,6,    17.68,6,     0.00,6,     1.31,6, -999.000,9, -999.000,9,   2129.8,2,   2274.5,2,   7.7502,2,    25.00,  -999.00,9,  -999.00,9,  10.6468,      704
  49UP20130619,  P03W,    71,  1,     26,     84,2,20130809,0514, 24.2932, 150.5090, 5185,    604.8,   7.4513,   7.4415,  34.0786,2,  34.0798,2,    144.2,2,    46.38,2,    26.59,2,     0.00,2,     1.97,2, -999.000,9, -999.000,9,   2196.0,6,   2282.5,6,   7.6004,2,    25.00,  -999.00,9,  -999.00,9,   7.4415,      701
  49UP20130619,  P03W,    71,  1,     25,     98,2,20130809,0514, 24.2932, 150.5090, 5185,    705.9,   5.8050,   5.8047,  34.0820,2,  34.0823,2,     99.2,2,    69.58,2,    33.65,2,     0.00,2,     2.49,2, -999.000,9, -999.000,9,   2250.2,2,   2301.7,2,   7.4809,6,    25.00,  -999.00,9,  -999.00,9,   5.8047,      659
  49UP20130619,  P03W,    71,  1,     24,    110,2,20130809,0514, 24.2932, 150.5090, 5185,    806.2,   4.9219,   4.9220,  34.1729,2,  34.1728,2,     63.7,2,    88.58,2,    38.24,2,     0.00,2,     2.81,2, -999.000,9, -999.000,9,   2299.5,2,   2320.2,2,   7.4112,2,    25.00,  -999.00,9,  -999.00,9,   4.9220,      656
  49UP20130619,  P03W,    71,  1,     23,     96,2,20130809,0514, 24.2932, 150.5090, 5185,    908.0,   4.3335,   4.3337,  34.2619,2,  34.2619,2,     49.1,2,   103.00,2,    40.32,2,     0.00,2,     2.95,2, -999.000,9, -999.000,9,   2326.8,2,   2339.8,2,   7.3851,2,    25.00,  -999.00,9,  -999.00,9,   4.3337,      653
  49UP20130619,  P03W,    71,  1,     22,    111,3,20130809,0514, 24.2932, 150.5090, 5185,   1009.8,   3.6830,   3.6824,  34.3387,2,  34.3391,2,     40.1,2,   120.19,2,    41.78,2,     0.00,2,     3.05,2, -999.000,9, -999.000,9,   2347.4,2,   2359.6,2,   7.3681,2,    25.00,  -999.00,9,  -999.00,9,   3.6824,      651
  49UP20130619,  P03W,    71,  1,     21,     78,2,20130809,0514, 24.2932, 150.5090, 5185,   1211.7,   3.1010,   3.1008,  34.4537,2,  34.4524,6,     48.0,6,   134.27,6,    41.91,6,     0.00,6,     3.04,6, -999.000,9, -999.000,9,   2368.0,3,   2393.0,3,   7.3922,2,    25.00,  -999.00,9,  -999.00,9,   3.1008,      646
  49UP20130619,  P03W,    71,  1,     20,     93,2,20130809,0514, 24.2932, 150.5090, 5185,   1413.8,   2.6471,   2.6472,  34.5110,2,  34.5107,2,     56.7,2,   144.83,2,    41.61,2,     0.00,2,     3.00,2, -999.000,9, -999.000,9,   2362.9,3,   2381.4,4,   7.4096,2,    25.00,  -999.00,9,  -999.00,9,   2.6472,      641
  49UP20130619,  P03W,    71,  1,     19,     92,2,20130809,0514, 24.2932, 150.5090, 5185,   1413.8,   2.6471,   2.6472,  34.5110,2,  34.5101,2,     57.0,2,   144.67,2,    41.61,2,     0.00,2,     3.00,2, -999.000,9, -999.000,9,   2369.6,2,   2393.4,2,   7.4105,2,    25.00,  -999.00,9,  -999.00,9,   2.6472,      641
  49UP20130619,  P03W,    71,  1,     18,    101,2,20130809,0514, 24.2932, 150.5090, 5185,   1616.8,   2.2893,   2.2896,  34.5557,2,  34.5553,2,     67.8,2,   152.21,2,    41.16,2,     0.00,2,     2.96,2, -999.000,9, -999.000,9,   2370.3,2,   2403.9,2,   7.4329,2,    25.00,  -999.00,9,  -999.00,9,   2.2896,      637
  49UP20130619,  P03W,    71,  1,     17,     90,2,20130809,0514, 24.2932, 150.5090, 5185,   1820.4,   2.0232,   2.0242,  34.5946,2,  34.5932,2,     87.8,2,   153.11,2,    39.95,2,     0.00,2,     2.87,2, -999.000,9, -999.000,9,   2361.6,6,   2408.9,6,   7.4671,2,    25.00,  -999.00,9,  -999.00,9,   2.0242,      632
  49UP20130619,  P03W,    71,  1,     16,     89,2,20130809,0514, 24.2932, 150.5090, 5185,   2023.5,   1.8697,   1.8696,  34.6169,2,  34.6171,2,    100.5,2,   153.23,2,    39.17,2,     0.00,2,     2.81,2, -999.000,9, -999.000,9,   2356.4,2,   2413.4,2,   7.4915,6,    25.00,  -999.00,9,  -999.00,9,   1.8696,      628
  49UP20130619,  P03W,    71,  1,     15,     88,2,20130809,0514, 24.2932, 150.5090, 5185,   2225.8,   1.7504,   1.7504,  34.6344,2,  34.6308,4,    109.1,4,   152.86,2,    38.65,2,     0.00,2,     2.76,2, -999.000,9, -999.000,9,   2351.9,2,   2413.7,2,   7.5164,2,    25.00,  -999.00,9,  -999.00,9,   1.7504,      623
  49UP20130619,  P03W,    71,  1,     14,    999,2,20130809,0514, 24.2932, 150.5090, 5185,   2429.8,   1.6736,   1.6736,  34.6479,2,  34.6477,2,    122.2,2,   150.99,2,    37.79,2,     0.00,2,     2.70,2, -999.000,9, -999.000,9,   2346.8,2,   2415.4,2,   7.5312,2,    25.00,  -999.00,9,  -999.00,9,   1.6736,      618
  49UP20130619,  P03W,    71,  1,     13,    667,2,20130809,0514, 24.2932, 150.5090, 5185,   2633.6,   1.6129,   1.6130,  34.6554,2,  34.6547,2,    126.7,2,   150.98,2,    37.55,2,     0.00,2,     2.70,2, -999.000,9, -999.000,9,   2341.1,2,   2417.4,2,   7.5434,2,    25.00,  -999.00,9,  -999.00,9,   1.6130,      614
  49UP20130619,  P03W,    71,  1,     12,     74,2,20130809,0514, 24.2932, 150.5090, 5185,   2837.8,   1.5752,   1.5753,  34.6617,2,  34.6616,2,    131.9,2,   150.80,2,    37.25,2,     0.00,2,     2.66,2, -999.000,9, -999.000,9,   2337.8,2,   2413.5,2,   7.5478,2,    25.00,  -999.00,9,  -999.00,9,   1.5753,      609
  49UP20130619,  P03W,    71,  1,     11,    996,4,20130809,0514, 24.2932, 150.5090, 5185,   3042.0,   1.5434,   1.5435,  34.6679,2,  34.6612,4,    131.8,4,   150.48,4,    37.30,4,     0.00,4,     2.66,4, -999.000,9, -999.000,9,   2340.6,4,   2413.8,4,   7.5497,4,    25.00,  -999.00,9,  -999.00,9,   1.5435,      605
  49UP20130619,  P03W,    71,  1,     10,    107,2,20130809,0514, 24.2932, 150.5090, 5185,   3296.6,   1.5062,   1.5062,  34.6731,2,  34.6719,2,    142.2,2,   148.95,2,    36.62,2,     0.00,2,     2.61,2, -999.000,9, -999.000,9,   -999.0,9,   -999.0,9,-999.0000,9,  -999.00,  -999.00,9,  -999.00,9,   1.5062,      559
  49UP20130619,  P03W,    71,  1,      9,    108,2,20130809,0514, 24.2932, 150.5090, 5185,   3552.5,   1.4728,   1.4728,  34.6784,2,  34.6780,2,    148.2,2,   147.41,2,    36.21,2,     0.00,2,     2.58,2, -999.000,9, -999.000,9,   2328.5,6,   2415.7,6,   7.5733,2,    25.00,  -999.00,9,  -999.00,9,   1.4728,      554
  49UP20130619,  P03W,    71,  1,      8,     81,2,20130809,0514, 24.2932, 150.5090, 5185,   3809.2,   1.4573,   1.4573,  34.6821,2,  34.6823,2,    152.5,2,   145.90,2,    35.86,2,     0.00,2,     2.55,2, -999.000,9, -999.000,9,   -999.0,9,   -999.0,9,-999.0000,9,  -999.00,  -999.00,9,  -999.00,9,   1.4573,      548
  49UP20130619,  P03W,    71,  1,      7,    106,2,20130809,0514, 24.2932, 150.5090, 5185,   4065.3,   1.4575,   1.4576,  34.6847,2,  34.6838,2,    156.1,2,   144.52,2,    35.64,2,     0.00,2,     2.54,2, -999.000,9, -999.000,9,   2320.0,2,   2411.7,2,   7.5854,6,    25.00,  -999.00,9,  -999.00,9,   1.4576,      542
  49UP20130619,  P03W,    71,  1,      6,    113,2,20130809,0514, 24.2932, 150.5090, 5185,   4321.4,   1.4652,   1.4652,  34.6865,2,  34.6858,2,    158.6,2,   143.05,2,    35.46,2,     0.00,2,     2.52,2, -999.000,9, -999.000,9,   -999.0,9,   -999.0,9,-999.0000,9,  -999.00,  -999.00,9,  -999.00,9,   1.4652,      537
  49UP20130619,  P03W,    71,  1,      5,     94,2,20130809,0514, 24.2932, 150.5090, 5185,   4321.4,   1.4652,   1.4652,  34.6865,2,  34.6867,2,    159.1,2,   142.99,2,    35.45,2,     0.00,2,     2.52,2, -999.000,9, -999.000,9,   2317.5,2,   2412.1,2,   7.5915,2,    25.00,  -999.00,9,  -999.00,9,   1.4652,      537
  49UP20130619,  P03W,    71,  1,      4,     77,2,20130809,0514, 24.2932, 150.5090, 5185,   4578.7,   1.4696,   1.4695,  34.6887,2,  34.6891,6,    162.3,2,   141.27,2,    35.21,2,     0.00,2,     2.50,2, -999.000,9, -999.000,9,   -999.0,9,   -999.0,9,-999.0000,9,  -999.00,  -999.00,9,  -999.00,9,   1.4695,      531
  49UP20130619,  P03W,    71,  1,      3,    104,2,20130809,0514, 24.2932, 150.5090, 5185,   4835.0,   1.4747,   1.4746,  34.6911,2,  34.6911,2,    166.2,2,   139.30,2,    34.94,2,     0.00,2,     2.48,2, -999.000,9, -999.000,9,   2311.8,2,   2408.3,2,   7.6007,2,    25.00,  -999.00,9,  -999.00,9,   1.4746,      525
  49UP20130619,  P03W,    71,  1,      2,     75,2,20130809,0514, 24.2932, 150.5090, 5185,   5092.7,   1.4916,   1.4916,  34.6925,2,  34.6917,2,    168.5,2,   137.40,2,    34.74,2,     0.00,2,     2.46,2, -999.000,9, -999.000,9,   -999.0,9,   -999.0,9,-999.0000,9,  -999.00,  -999.00,9,  -999.00,9,   1.4916,      520
  49UP20130619,  P03W,    71,  1,      1,    997,4,20130809,0514, 24.2932, 150.5090, 5185,   5313.0,   1.5026,   1.5027,  34.6939,2,  34.7327,4,    213.7,4,     4.02,4,     3.44,4,     0.01,4,     0.26,4, -999.000,9, -999.000,9,   2026.0,4,   2277.6,4,   7.9743,4,    25.00,  -999.00,9,  -999.00,9,   1.5027,      514