BOTTLE,20180830PRINUNIVRMK
EXPOCODE,SECT_ID,STNNBR,CASTNO,SAMPNO,BTLNBR,BTLNBR_FLAG_W,DATE,TIME,LATITUDE,LONGITUDE,DEPTH,CTDPRS,CTDTMP,SBE35,CTDSAL,CTDSAL_FLAG_W,SALNTY,SALNTY_FLAG_W,OXYGEN,OXYGEN_FLAG_W,SILCAT,SILCAT_FLAG_W,NITRAT,NITRAT_FLAG_W,NITRIT,NITRIT_FLAG_W,PHSPHT,PHSPHT_FLAG_W,CFC-11,CFC-11_FLAG_W,CFC-12,CFC-12_FLAG_W,TCARBN,TCARBN_FLAG_W,ALKALI,ALKALI_FLAG_W,PH_TOT,PH_TOT_FLAG_W,PH_TMP,CHLORA,CHLORA_FLAG_W,PPHYTN,PPHYTN_FLAG_W,SBE35,BTL_TIME
,,,,,,,,,,,METERS,DBAR,ITS-90,,PSS-78,,PSS-78,,UMOL/KG,,UMOL/KG,,UMOL/KG,,UMOL/KG,,UMOL/KG,,PMOL/KG,,PMOL/KG,,UMOL/KG,,UMOL/KG,,,,DEG C,UG/KG,,UG/KG,,,
  49UP20130619,  P03W,    67,  1,      0,   -999,0,20130807,2053, 24.2630, 147.2558, 5817,      0.0,  29.1685,-999.0000,  34.9030,2,  34.9032,2,    196.4,2,     1.23,2,     0.00,2,     0.00,2,     0.02,2, -999.000,9, -999.000,9,   1969.7,2,   2287.9,2,   8.0960,2,    25.00,     0.05,2,     0.02,2,-999.0000,     2255
  49UP20130619,  P03W,    67,  1,     36,    109,2,20130807,2053, 24.2630, 147.2558, 5817,      9.6,  29.1511,  29.1547,  34.9031,2,  34.9026,2,    197.3,2,     1.23,2,     0.00,2,     0.00,2,     0.02,2, -999.000,9, -999.000,9,   1969.9,2,   2292.5,2,   8.0947,2,    25.00,     0.05,2,     0.01,2,  29.1547,     2314
  49UP20130619,  P03W,    67,  1,     35,    112,2,20130807,2053, 24.2630, 147.2558, 5817,     49.9,  25.7823,  25.7952,  34.8974,2,  34.8995,2,    219.6,2,     1.36,2,     0.00,2,     0.00,2,     0.02,2, -999.000,9, -999.000,9,   1974.4,2,   2290.2,2,   8.0845,2,    25.00,     0.08,2,     0.03,2,  25.7952,     2311
  49UP20130619,  P03W,    67,  1,     34,     83,2,20130807,2053, 24.2630, 147.2558, 5817,    100.2,  20.4103,  20.4116,  34.8109,2,  34.8111,2,    234.8,2,     1.92,2,     0.00,2,     0.00,2,     0.02,2, -999.000,9, -999.000,9,   1995.2,2,   2286.6,2,   8.0461,2,    25.00,     0.23,2,     0.14,2,  20.4116,     2309
  49UP20130619,  P03W,    67,  1,     33,     86,2,20130807,2053, 24.2630, 147.2558, 5817,    150.3,  18.2852,  18.2860,  34.7792,2,  34.7783,2,    206.6,2,     2.91,2,     2.77,2,     0.04,2,     0.20,2, -999.000,9, -999.000,9,   2029.9,2,   2282.9,2,   7.9821,2,    25.00,     0.09,2,     0.24,2,  18.2860,     2307
  49UP20130619,  P03W,    67,  1,     32,    105,2,20130807,2053, 24.2630, 147.2558, 5817,    199.9,  17.3753,  17.3750,  34.7256,2,  34.7255,6,    213.2,2,     3.56,2,     3.82,2,     0.01,2,     0.26,2, -999.000,9, -999.000,9,   2029.3,2,   2281.1,2,   7.9752,2,    25.00,     0.01,2,     0.02,2,  17.3750,     2305
  49UP20130619,  P03W,    67,  1,     31,     76,2,20130807,2053, 24.2630, 147.2558, 5817,    253.4,  16.6781,  16.6792,  34.6804,2,  34.6830,2,    208.3,2,     5.02,2,     5.32,2,     0.01,2,     0.36,2, -999.000,9, -999.000,9,   2038.8,2,   2278.1,2,   7.9528,2,    25.00,  -999.00,9,  -999.00,9,  16.6792,     2304
  49UP20130619,  P03W,    67,  1,     30,     97,2,20130807,2053, 24.2630, 147.2558, 5817,    280.5,  16.2471,  16.2468,  34.6433,2,  34.6438,2,    200.0,2,     6.18,2,     6.70,2,     0.01,2,     0.46,2, -999.000,9, -999.000,9,   2052.5,2,   2277.3,2,   7.9262,2,    25.00,  -999.00,9,  -999.00,9,  16.2468,     2302
  49UP20130619,  P03W,    67,  1,     29,    102,2,20130807,2053, 24.2630, 147.2558, 5817,    371.8,  14.2594,  14.2656,  34.5056,2,  34.5144,4,    187.0,2,    12.27,2,    10.93,2,     0.00,2,     0.77,2, -999.000,9, -999.000,9,   2081.8,2,   2271.7,2,   7.8601,2,    25.00,  -999.00,9,  -999.00,9,  14.2656,     2300
  49UP20130619,  P03W,    67,  1,     28,     91,3,20130807,2053, 24.2630, 147.2558, 5817,    473.8,  10.9285,  10.9399,  34.2771,2,  34.2817,2,    181.2,2,    24.10,2,    16.97,2,     0.00,2,     1.23,2, -999.000,9, -999.000,9,   2128.5,2,   2273.8,2,   7.7548,2,    25.00,  -999.00,9,  -999.00,9,  10.9399,     2257
  49UP20130619,  P03W,    67,  1,     27,    998,3,20130807,2053, 24.2630, 147.2558, 5817,    576.3,   8.0954,   8.0882,  34.1155,2,  34.1168,2,    151.8,6,    42.64,6,    24.76,6,     0.00,6,     1.81,6, -999.000,9, -999.000,9,   2182.8,2,   2282.8,2,   7.6303,2,    25.00,  -999.00,9,  -999.00,9,   8.0882,     2254
  49UP20130619,  P03W,    67,  1,     26,     84,2,20130807,2053, 24.2630, 147.2558, 5817,    674.8,   6.0858,   6.0896,  34.0801,2,  34.0800,2,    112.2,2,    65.61,2,    31.91,2,     0.00,2,     2.34,2, -999.000,9, -999.000,9,   2242.0,6,   2299.4,6,   7.5123,2,    25.00,  -999.00,9,  -999.00,9,   6.0896,     2251
  49UP20130619,  P03W,    67,  1,     25,     98,2,20130807,2053, 24.2630, 147.2558, 5817,    776.0,   4.8145,   4.8142,  34.1582,2,  34.1585,2,     70.9,2,    90.36,2,    37.68,2,     0.00,2,     2.75,2, -999.000,9, -999.000,9,   2297.1,2,   2330.7,2,   7.4187,6,    25.00,  -999.00,9,  -999.00,9,   4.8142,     2248
  49UP20130619,  P03W,    67,  1,     24,    110,2,20130807,2053, 24.2630, 147.2558, 5817,    878.0,   4.0626,   4.0627,  34.2722,2,  34.2720,2,     48.8,2,   109.85,2,    40.64,2,     0.00,2,     2.95,2, -999.000,9, -999.000,9,   2334.8,2,   2347.9,2,   7.3853,2,    25.00,  -999.00,9,  -999.00,9,   4.0627,     2245
  49UP20130619,  P03W,    67,  1,     23,     96,2,20130807,2053, 24.2630, 147.2558, 5817,    978.8,   3.6595,   3.6578,  34.3540,2,  34.3543,2,     44.6,2,   120.55,2,    41.45,2,     0.00,2,     3.00,2, -999.000,9, -999.000,9,   2346.3,2,   2363.6,2,   7.3798,2,    25.00,  -999.00,9,  -999.00,9,   3.6578,     2242
  49UP20130619,  P03W,    67,  1,     22,    111,2,20130807,2053, 24.2630, 147.2558, 5817,   1140.6,   3.1828,   3.1824,  34.4345,2,  34.4339,2,     48.6,6,   132.12,6,    41.68,6,     0.00,6,     3.01,6, -999.000,9, -999.000,9,   2354.5,2,   2376.3,2,   7.3896,2,    25.00,  -999.00,9,  -999.00,9,   3.1824,     2238
  49UP20130619,  P03W,    67,  1,     21,     78,2,20130807,2053, 24.2630, 147.2558, 5817,   1344.1,   2.6886,   2.6893,  34.5020,2,  34.5011,2,     58.0,2,   143.19,2,    41.53,2,     0.00,2,     2.98,2, -999.000,9, -999.000,9,   2365.8,2,   2393.4,2,   7.4080,2,    25.00,  -999.00,9,  -999.00,9,   2.6893,     2233
  49UP20130619,  P03W,    67,  1,     20,     93,2,20130807,2053, 24.2630, 147.2558, 5817,   1547.0,   2.4203,   2.4215,  34.5473,2,  34.5447,4,     76.0,2,   144.92,2,    40.41,2,     0.00,2,     2.89,2, -999.000,9, -999.000,9,   2359.4,2,   2397.2,2,   7.4469,2,    25.00,  -999.00,9,  -999.00,9,   2.4215,     2228
  49UP20130619,  P03W,    67,  1,     19,     92,2,20130807,2053, 24.2630, 147.2558, 5817,   1749.1,   2.1450,   2.1453,  34.5859,2,  34.5863,2,     92.2,2,   147.29,2,    39.44,2,     0.00,2,     2.82,2, -999.000,9, -999.000,9,   2354.3,2,   2406.6,2,   7.4814,2,    25.00,  -999.00,9,  -999.00,9,   2.1453,     2223
  49UP20130619,  P03W,    67,  1,     18,    101,2,20130807,2053, 24.2630, 147.2558, 5817,   1952.5,   1.9931,   1.9928,  34.6064,2,  34.6065,6,    101.5,2,   148.67,2,    38.96,2,     0.00,2,     2.78,2, -999.000,9, -999.000,9,   2350.9,2,   2407.4,2,   7.4952,2,    25.00,  -999.00,9,  -999.00,9,   1.9928,     2219
  49UP20130619,  P03W,    67,  1,     17,     90,2,20130807,2053, 24.2630, 147.2558, 5817,   2155.1,   1.8531,   1.8529,  34.6249,2,  34.6299,4,    109.8,2,   149.76,2,    38.51,2,     0.00,2,     2.74,2, -999.000,9, -999.000,9,   2350.8,6,   2411.2,6,   7.5102,2,    25.00,  -999.00,9,  -999.00,9,   1.8529,     2214
  49UP20130619,  P03W,    67,  1,     16,     89,2,20130807,2053, 24.2630, 147.2558, 5817,   2358.5,   1.7608,   1.7610,  34.6383,2,  34.6394,2,    117.1,2,   150.06,2,    38.07,2,     0.00,2,     2.71,2, -999.000,9, -999.000,9,   2342.3,3,   2414.7,2,   7.5260,6,    25.00,  -999.00,9,  -999.00,9,   1.7610,     2210
  49UP20130619,  P03W,    67,  1,     15,     88,2,20130807,2053, 24.2630, 147.2558, 5817,   2562.8,   1.6924,   1.6924,  34.6492,2,  34.6502,2,    123.6,2,   149.98,2,    37.69,2,     0.00,2,     2.68,2, -999.000,9, -999.000,9,   2344.7,2,   2415.4,2,   7.5329,2,    25.00,  -999.00,9,  -999.00,9,   1.6924,     2205
  49UP20130619,  P03W,    67,  1,     14,    999,2,20130807,2053, 24.2630, 147.2558, 5817,   2765.4,   1.6452,   1.6449,  34.6555,2,  34.6576,4,    128.3,2,   149.84,2,    37.41,2,     0.00,2,     2.66,2, -999.000,9, -999.000,9,   2340.6,2,   2417.6,2,   7.5462,3,    25.00,  -999.00,9,  -999.00,9,   1.6449,     2201
  49UP20130619,  P03W,    67,  1,     13,    667,2,20130807,2053, 24.2630, 147.2558, 5817,   2968.8,   1.5959,   1.5960,  34.6619,2,  34.6627,2,    132.5,2,   149.54,2,    37.09,2,     0.00,2,     2.63,2, -999.000,9, -999.000,9,   2337.6,2,   2417.8,2,   7.5467,2,    25.00,  -999.00,9,  -999.00,9,   1.5960,     2156
  49UP20130619,  P03W,    67,  1,     12,     74,2,20130807,2053, 24.2630, 147.2558, 5817,   3214.5,   1.5539,   1.5540,  34.6677,2,  34.6704,4,    137.8,2,   149.40,2,    36.85,2,     0.00,2,     2.61,2, -999.000,9, -999.000,9,   2333.7,2,   2416.8,2,   7.5572,2,    25.00,  -999.00,9,  -999.00,9,   1.5540,     2151
  49UP20130619,  P03W,    67,  1,     11,    996,2,20130807,2053, 24.2630, 147.2558, 5817,   3469.1,   1.5215,   1.5215,  34.6737,2,  34.6703,4,    141.3,4,   147.98,2,    36.57,2,     0.00,2,     2.59,2, -999.000,9, -999.000,9,   -999.0,9,   -999.0,9,-999.0000,9,  -999.00,  -999.00,9,  -999.00,9,   1.5215,     2146
  49UP20130619,  P03W,    67,  1,     10,    107,2,20130807,2053, 24.2630, 147.2558, 5817,   3724.9,   1.5022,   1.5024,  34.6776,2,  34.6771,2,    147.1,6,   146.84,6,    36.14,6,     0.00,6,     2.56,6, -999.000,9, -999.000,9,   2330.9,2,   2416.1,2,   7.5718,2,    25.00,  -999.00,9,  -999.00,9,   1.5024,     2141
  49UP20130619,  P03W,    67,  1,      9,    108,2,20130807,2053, 24.2630, 147.2558, 5817,   3981.3,   1.4911,   1.4910,  34.6811,2,  34.6817,2,    151.6,2,   145.74,2,    35.92,2,     0.00,2,     2.54,2, -999.000,9, -999.000,9,   -999.0,9,   -999.0,9,-999.0000,9,  -999.00,  -999.00,9,  -999.00,9,   1.4910,     2135
  49UP20130619,  P03W,    67,  1,      8,     81,2,20130807,2053, 24.2630, 147.2558, 5817,   4238.2,   1.4840,   1.4840,  34.6842,2,  34.6850,2,    156.0,2,   144.39,2,    35.59,2,     0.00,2,     2.52,2, -999.000,9, -999.000,9,   2321.5,6,   2414.2,6,   7.5761,3,    25.00,  -999.00,9,  -999.00,9,   1.4840,     2130
  49UP20130619,  P03W,    67,  1,      7,    106,2,20130807,2053, 24.2630, 147.2558, 5817,   4494.4,   1.4849,   1.4850,  34.6869,2,  34.6864,6,    158.4,3,   142.95,2,    35.42,2,     0.00,2,     2.50,2, -999.000,9, -999.000,9,   -999.0,9,   -999.0,9,-999.0000,9,  -999.00,  -999.00,9,  -999.00,9,   1.4850,     2125
  49UP20130619,  P03W,    67,  1,      6,    113,2,20130807,2053, 24.2630, 147.2558, 5817,   4752.3,   1.4835,   1.4836,  34.6895,2,  34.6903,2,    163.7,2,   140.32,2,    35.11,2,     0.00,2,     2.47,2, -999.000,9, -999.000,9,   2326.5,3,   2411.7,2,   7.5955,2,    25.00,  -999.00,9,  -999.00,9,   1.4836,     2119
  49UP20130619,  P03W,    67,  1,      5,     94,2,20130807,2053, 24.2630, 147.2558, 5817,   5009.0,   1.5000,   1.4999,  34.6909,2,  34.6912,2,    166.2,2,   138.94,2,    34.92,2,     0.00,2,     2.46,2, -999.000,9, -999.000,9,   -999.0,9,   -999.0,9,-999.0000,9,  -999.00,  -999.00,9,  -999.00,9,   1.4999,     2114
  49UP20130619,  P03W,    67,  1,      4,     77,2,20130807,2053, 24.2630, 147.2558, 5817,   5266.3,   1.5058,   1.5056,  34.6932,2,  34.6953,4,    170.6,6,   136.26,6,    34.56,6,     0.00,6,     2.44,6, -999.000,9, -999.000,9,   2307.0,2,   2405.8,2,   7.6071,2,    25.00,  -999.00,9,  -999.00,9,   1.5056,     2109
  49UP20130619,  P03W,    67,  1,      3,    104,3,20130807,2053, 24.2630, 147.2558, 5817,   5523.6,   1.5276,   1.5277,  34.6943,2,  34.6949,6,    171.2,2,   135.48,2,    34.49,2,     0.00,2,     2.43,2, -999.000,9, -999.000,9,   -999.0,9,   -999.0,9,-999.0000,9,  -999.00,  -999.00,9,  -999.00,9,   1.5277,     2103
  49UP20130619,  P03W,    67,  1,      2,     75,2,20130807,2053, 24.2630, 147.2558, 5817,   5783.7,   1.5475,   1.5475,  34.6954,2,  34.6964,2,    174.3,2,   133.86,2,    34.25,2,     0.00,2,     2.41,2, -999.000,9, -999.000,9,   2305.7,2,   2402.6,2,   7.6080,2,    25.00,  -999.00,9,  -999.00,9,   1.5475,     2058
  49UP20130619,  P03W,    67,  1,      1,    997,2,20130807,2053, 24.2630, 147.2558, 5817,   5960.3,   1.5702,   1.5703,  34.6956,2,  34.6957,2,    174.1,2,   133.87,2,    34.32,2,     0.00,2,     2.42,2, -999.000,9, -999.000,9,   2305.5,2,   2403.2,2,   7.6056,2,    25.00,  -999.00,9,  -999.00,9,   1.5703,     2054