BOTTLE,20180830PRINUNIVRMK
EXPOCODE,SECT_ID,STNNBR,CASTNO,SAMPNO,BTLNBR,BTLNBR_FLAG_W,DATE,TIME,LATITUDE,LONGITUDE,DEPTH,CTDPRS,CTDTMP,SBE35,CTDSAL,CTDSAL_FLAG_W,SALNTY,SALNTY_FLAG_W,OXYGEN,OXYGEN_FLAG_W,SILCAT,SILCAT_FLAG_W,NITRAT,NITRAT_FLAG_W,NITRIT,NITRIT_FLAG_W,PHSPHT,PHSPHT_FLAG_W,CFC-11,CFC-11_FLAG_W,CFC-12,CFC-12_FLAG_W,TCARBN,TCARBN_FLAG_W,ALKALI,ALKALI_FLAG_W,PH_TOT,PH_TOT_FLAG_W,PH_TMP,CHLORA,CHLORA_FLAG_W,PPHYTN,PPHYTN_FLAG_W,SBE35,BTL_TIME
,,,,,,,,,,,METERS,DBAR,ITS-90,,PSS-78,,PSS-78,,UMOL/KG,,UMOL/KG,,UMOL/KG,,UMOL/KG,,UMOL/KG,,PMOL/KG,,PMOL/KG,,UMOL/KG,,UMOL/KG,,,,DEG C,UG/KG,,UG/KG,,,
  49UP20130619,  P03W,    53,  1,      0,   -999,0,20130714,0124, 24.2520, 138.5665, 5005,      0.0,  29.0082,-999.0000,  34.7626,2,  34.7634,2,    197.0,2,     1.08,2,     0.00,2,     0.00,2,     0.04,2, -999.000,9, -999.000,9,   1957.3,2,   2283.6,2,   8.1046,2,    25.00,     0.04,2,     0.01,2,-999.0000,      305
  49UP20130619,  P03W,    53,  1,     36,    109,2,20130714,0124, 24.2520, 138.5665, 5005,     10.1,  28.9569,  28.9528,  34.7628,2,  34.7640,2,    197.4,2,     1.04,2,     0.01,2,     0.00,2,     0.02,2, -999.000,9, -999.000,9,   1955.2,2,   2289.1,2,   8.1032,2,    25.00,     0.04,2,     0.01,2,  28.9528,      329
  49UP20130619,  P03W,    53,  1,     35,    112,3,20130714,0124, 24.2520, 138.5665, 5005,     50.4,  26.2519,  26.2261,  34.8343,2,  34.8459,4,    215.2,6,     1.10,6,     0.01,6,     0.00,6,     0.03,6, -999.000,9, -999.000,9,   1968.1,2,   2295.0,2,   8.0888,2,    25.00,     0.06,2,     0.02,2,  26.2261,      328
  49UP20130619,  P03W,    53,  1,     34,     83,2,20130714,0124, 24.2520, 138.5665, 5005,     99.7,  23.4198,  23.4180,  34.9376,2,  34.9414,2,    221.4,2,     1.29,2,     0.00,2,     0.00,2,     0.03,2, -999.000,9, -999.000,9,   1983.1,2,   2303.3,2,   8.0765,2,    25.00,     0.13,2,     0.05,2,  23.4180,      324
  49UP20130619,  P03W,    53,  1,     33,     86,2,20130714,0124, 24.2520, 138.5665, 5005,    151.1,  20.4429,  20.4413,  34.8977,2,  34.8967,2,    215.6,2,     1.86,2,     0.00,2,     0.03,2,     0.05,2, -999.000,9, -999.000,9,   2012.3,2,   2296.8,2,   8.0281,2,    25.00,     0.17,2,     0.28,2,  20.4413,      322
  49UP20130619,  P03W,    53,  1,     32,    105,2,20130714,0124, 24.2520, 138.5665, 5005,    200.9,  18.7929,  18.7919,  34.7987,2,  34.7983,2,    209.8,2,     2.57,2,     2.15,2,     0.02,2,     0.17,2, -999.000,9, -999.000,9,   2024.7,2,   2291.3,2,   7.9954,2,    25.00,     0.03,2,     0.06,2,  18.7919,      320
  49UP20130619,  P03W,    53,  1,     31,     76,2,20130714,0124, 24.2520, 138.5665, 5005,    253.3,  17.9624,  17.9638,  34.7551,2,  34.7573,2,    207.6,2,     3.22,2,     3.44,2,     0.01,2,     0.25,2, -999.000,9, -999.000,9,   2028.3,2,   2290.9,2,   7.9753,2,    25.00,  -999.00,9,  -999.00,9,  17.9638,      318
  49UP20130619,  P03W,    53,  1,     28,     91,2,20130714,0124, 24.2520, 138.5665, 5005,    332.9,  16.8074,  16.8064,  34.6818,2,  34.6805,2,    203.7,2,     5.11,2,     5.71,2,     0.00,2,     0.41,2, -999.000,9, -999.000,9,   2046.9,2,   2287.3,2,   7.9400,2,    25.00,  -999.00,9,  -999.00,9,  16.8064,      314
  49UP20130619,  P03W,    53,  1,     27,    998,2,20130714,0124, 24.2520, 138.5665, 5005,    332.9,  16.8074,  16.8064,  34.6818,2,  34.6799,6,    202.6,2,     5.17,2,     5.74,2,     0.00,2,     0.41,2, -999.000,9, -999.000,9,   2043.2,2,   2286.1,2,   7.9387,2,    25.00,  -999.00,9,  -999.00,9,  16.8064,      314
  49UP20130619,  P03W,    53,  1,     30,     97,2,20130714,0124, 24.2520, 138.5665, 5005,    434.4,  14.3153,  14.3182,  34.5018,2,  34.5041,2,    188.8,2,    11.67,2,    10.75,2,     0.00,2,     0.77,2, -999.000,9, -999.000,9,   2085.9,6,   2282.9,6,   7.8594,2,    25.00,  -999.00,9,  -999.00,9,  14.3182,      311
  49UP20130619,  P03W,    53,  1,     29,    102,2,20130714,0124, 24.2520, 138.5665, 5005,    534.6,  11.5367,  11.5364,  34.3124,2,  34.3153,2,    182.6,2,    21.02,2,    15.95,2,     0.00,2,     1.15,2, -999.000,9, -999.000,9,   2124.5,2,   2280.7,2,   7.7732,6,    25.00,  -999.00,9,  -999.00,9,  11.5364,      308
  49UP20130619,  P03W,    53,  1,     26,     84,2,20130714,0124, 24.2520, 138.5665, 5005,    635.2,   8.6545,   8.6537,  34.1539,2,  34.1535,2,    154.3,2,    39.47,2,    23.60,2,     0.00,2,     1.73,2, -999.000,9, -999.000,9,   2179.0,2,   2288.4,2,   7.6518,2,    25.00,  -999.00,9,  -999.00,9,   8.6537,      305
  49UP20130619,  P03W,    53,  1,     25,     98,2,20130714,0124, 24.2520, 138.5665, 5005,    736.5,   6.4122,   6.4118,  34.1154,2,  34.1164,2,    112.9,6,    64.93,6,    31.35,6,     0.00,6,     2.30,6, -999.000,9, -999.000,9,   2241.8,2,   2307.6,2,   7.5255,2,    25.00,  -999.00,9,  -999.00,9,   6.4118,      302
  49UP20130619,  P03W,    53,  1,     24,    110,2,20130714,0124, 24.2520, 138.5665, 5005,    838.3,   5.2566,   5.2559,  34.1716,2,  34.1727,2,     80.3,2,    84.62,2,    36.13,2,     0.00,2,     2.64,2, -999.000,9, -999.000,9,   2286.6,2,   2329.9,2,   7.4498,2,    25.00,  -999.00,9,  -999.00,9,   5.2559,      259
  49UP20130619,  P03W,    53,  1,     23,     96,2,20130714,0124, 24.2520, 138.5665, 5005,    939.7,   4.5223,   4.5222,  34.2579,2,  34.2605,2,     62.2,2,   100.07,2,    38.91,2,     0.00,2,     2.83,2, -999.000,9, -999.000,9,   2312.9,2,   2342.5,2,   7.4148,2,    25.00,  -999.00,9,  -999.00,9,   4.5222,      256
  49UP20130619,  P03W,    53,  1,     22,    111,2,20130714,0124, 24.2520, 138.5665, 5005,   1080.3,   3.8110,   3.8105,  34.3605,2,  34.3610,2,     53.4,2,   116.60,2,    40.65,2,     0.00,2,     2.94,2, -999.000,9, -999.000,9,   2337.6,2,   2370.1,2,   7.4030,2,    25.00,  -999.00,9,  -999.00,9,   3.8105,      253
  49UP20130619,  P03W,    53,  1,     21,     78,2,20130714,0124, 24.2520, 138.5665, 5005,   1282.3,   3.1538,   3.1536,  34.4435,2,  34.4439,2,     58.5,2,   131.65,2,    41.02,2,     0.00,2,     2.95,2, -999.000,9, -999.000,9,   2349.9,2,   2388.1,2,   7.4143,2,    25.00,  -999.00,9,  -999.00,9,   3.1536,      248
  49UP20130619,  P03W,    53,  1,     20,     93,2,20130714,0124, 24.2520, 138.5665, 5005,   1485.5,   2.5566,   2.5571,  34.5210,2,  34.5201,2,     73.7,2,   142.13,2,    40.45,2,     0.00,2,     2.89,2, -999.000,9, -999.000,9,   2356.8,6,   2402.5,6,   7.4451,2,    25.00,  -999.00,9,  -999.00,9,   2.5571,      239
  49UP20130619,  P03W,    53,  1,     19,     92,2,20130714,0124, 24.2520, 138.5665, 5005,   1689.3,   2.2574,   2.2573,  34.5718,2,  34.5726,2,     94.2,2,   143.21,2,    39.41,2,     0.00,2,     2.81,2, -999.000,9, -999.000,9,   2349.7,2,   2409.2,2,   7.4840,6,    25.00,  -999.00,9,  -999.00,9,   2.2573,      235
  49UP20130619,  P03W,    53,  1,     18,    101,2,20130714,0124, 24.2520, 138.5665, 5005,   1891.9,   2.0951,   2.0952,  34.6018,2,  34.6047,4,    108.2,2,   142.65,3,    38.53,2,     0.00,2,     2.74,2, -999.000,9, -999.000,9,   2344.0,2,   2413.0,2,   7.5115,2,    25.00,  -999.00,9,  -999.00,9,   2.0952,      230
  49UP20130619,  P03W,    53,  1,     17,     90,2,20130714,0124, 24.2520, 138.5665, 5005,   1891.9,   2.0951,   2.0952,  34.6018,2,  34.6030,6,    108.1,2,   142.48,3,    38.50,2,     0.00,2,     2.75,2, -999.000,9, -999.000,9,   2343.9,2,   2414.5,2,   7.5117,2,    25.00,  -999.00,9,  -999.00,9,   2.0952,      230
  49UP20130619,  P03W,    53,  1,     16,     89,2,20130714,0124, 24.2520, 138.5665, 5005,   2095.2,   1.9388,   1.9386,  34.6231,2,  34.6239,2,    117.9,2,   143.03,3,    37.94,2,     0.00,2,     2.70,2, -999.000,9, -999.000,9,   2341.2,2,   2410.3,2,   7.5298,2,    25.00,  -999.00,9,  -999.00,9,   1.9386,      225
  49UP20130619,  P03W,    53,  1,     15,     88,2,20130714,0124, 24.2520, 138.5665, 5005,   2297.0,   1.8268,   1.8263,  34.6369,2,  34.6373,2,    124.9,2,   143.44,2,    37.61,2,     0.00,2,     2.67,2, -999.000,9, -999.000,9,   2340.0,2,   2417.9,2,   7.5398,2,    25.00,  -999.00,9,  -999.00,9,   1.8263,      221
  49UP20130619,  P03W,    53,  1,     14,    999,2,20130714,0124, 24.2520, 138.5665, 5005,   2499.2,   1.7602,   1.7602,  34.6460,2,  34.6477,2,    130.7,3,   143.20,2,    37.28,2,     0.00,2,     2.65,2, -999.000,9, -999.000,9,   2334.7,2,   2418.9,2,   7.5478,2,    25.00,  -999.00,9,  -999.00,9,   1.7602,      216
  49UP20130619,  P03W,    53,  1,     13,    667,2,20130714,0124, 24.2520, 138.5665, 5005,   2704.4,   1.7030,   1.7031,  34.6529,2,  34.6539,2,    133.7,2,   143.20,2,    37.02,2,     0.00,2,     2.62,2, -999.000,9, -999.000,9,   2331.9,2,   2420.3,2,   7.5559,2,    25.00,  -999.00,9,  -999.00,9,   1.7031,      212
  49UP20130619,  P03W,    53,  1,     12,     74,2,20130714,0124, 24.2520, 138.5665, 5005,   2907.6,   1.6619,   1.6620,  34.6590,2,  34.6593,2,    138.0,2,   143.10,2,    36.75,2,     0.00,2,     2.61,2, -999.000,9, -999.000,9,   2339.1,2,   2420.3,2,   7.5630,2,    25.00,  -999.00,9,  -999.00,9,   1.6620,      208
  49UP20130619,  P03W,    53,  1,     11,    996,2,20130714,0124, 24.2520, 138.5665, 5005,   3122.5,   1.6335,   1.6336,  34.6637,2,  34.6607,4,    140.1,6,   143.04,6,    36.73,6,     0.00,6,     2.60,6, -999.000,9, -999.000,9,   2332.9,2,   2422.5,2,   7.5637,2,    25.00,  -999.00,9,  -999.00,9,   1.6336,      204
  49UP20130619,  P03W,    53,  1,     10,    107,2,20130714,0124, 24.2520, 138.5665, 5005,   3377.2,   1.5791,   1.5790,  34.6711,2,  34.6700,2,    147.2,3,   142.75,2,    36.33,2,     0.00,2,     2.56,2, -999.000,9, -999.000,9,   2327.6,6,   2421.4,6,   7.5718,2,    25.00,  -999.00,9,  -999.00,9,   1.5790,      159
  49UP20130619,  P03W,    53,  1,      9,    108,2,20130714,0124, 24.2520, 138.5665, 5005,   3634.3,   1.5377,   1.5378,  34.6771,2,  34.6772,2,    152.5,3,   141.54,2,    35.96,2,     0.00,2,     2.54,2, -999.000,9, -999.000,9,   2320.6,2,   2421.7,2,   7.5836,6,    25.00,  -999.00,9,  -999.00,9,   1.5378,      154
  49UP20130619,  P03W,    53,  1,      8,     81,2,20130714,0124, 24.2520, 138.5665, 5005,   3890.5,   1.5253,   1.5254,  34.6805,2,  34.6803,2,    155.8,3,   141.10,2,    35.82,2,     0.00,2,     2.53,2, -999.000,9, -999.000,9,   2328.1,2,   2418.9,2,   7.5897,2,    25.00,  -999.00,9,  -999.00,9,   1.5254,      148
  49UP20130619,  P03W,    53,  1,      7,    106,2,20130714,0124, 24.2520, 138.5665, 5005,   4145.7,   1.5353,   1.5353,  34.6821,2,  34.6817,6,    155.8,2,   140.93,2,    35.67,2,     0.00,2,     2.52,2, -999.000,9, -999.000,9,   2326.4,2,   2419.7,2,   7.5899,2,    25.00,  -999.00,9,  -999.00,9,   1.5353,      143
  49UP20130619,  P03W,    53,  1,      6,    113,2,20130714,0124, 24.2520, 138.5665, 5005,   4402.8,   1.5468,   1.5467,  34.6835,2,  34.6835,2,    157.7,2,   140.77,2,    35.65,2,     0.00,2,     2.51,2, -999.000,9, -999.000,9,   2325.2,2,   2414.4,2,   7.5906,2,    25.00,  -999.00,9,  -999.00,9,   1.5467,      138
  49UP20130619,  P03W,    53,  1,      5,     94,2,20130714,0124, 24.2520, 138.5665, 5005,   4659.0,   1.5714,   1.5714,  34.6841,2,  34.6835,2,    157.8,2,   140.32,2,    35.54,2,     0.00,2,     2.50,2, -999.000,9, -999.000,9,   2319.6,2,   2414.1,2,   7.5910,2,    25.00,  -999.00,9,  -999.00,9,   1.5714,      133
  49UP20130619,  P03W,    53,  1,      4,     77,2,20130714,0124, 24.2520, 138.5665, 5005,   4659.0,   1.5714,   1.5714,  34.6841,2,  34.6848,6,    158.0,2,   140.62,2,    35.53,2,     0.00,2,     2.50,2, -999.000,9, -999.000,9,   2321.5,2,   2419.3,2,   7.5927,2,    25.00,  -999.00,9,  -999.00,9,   1.5714,      133
  49UP20130619,  P03W,    53,  1,      3,    104,2,20130714,0124, 24.2520, 138.5665, 5005,   4917.0,   1.6006,   1.6005,  34.6842,2,  34.6848,2,    158.2,6,   140.27,6,    35.57,6,     0.00,6,     2.50,6, -999.000,9, -999.000,9,   2324.7,2,   2420.6,2,   7.5926,2,    25.00,  -999.00,9,  -999.00,9,   1.6005,      128
  49UP20130619,  P03W,    53,  1,      2,     75,2,20130714,0124, 24.2520, 138.5665, 5005,   5088.8,   1.6222,   1.6221,  34.6842,2,  34.6847,2,    158.1,2,   140.08,2,    35.54,2,     0.00,2,     2.50,2, -999.000,9, -999.000,9,   2321.8,2,   2419.0,2,   7.5906,2,    25.00,  -999.00,9,  -999.00,9,   1.6221,      125
  49UP20130619,  P03W,    53,  1,      1,    997,2,20130714,0124, 24.2520, 138.5665, 5005,   5089.4,   1.6223,   1.6222,  34.6842,2,  34.6856,2,    158.3,2,   140.56,4,    35.58,2,     0.00,2,     2.50,2, -999.000,9, -999.000,9,   2321.0,2,   2418.6,2,   7.5914,2,    25.00,  -999.00,9,  -999.00,9,   1.6222,      124