BOTTLE,20180830PRINUNIVRMK
EXPOCODE,SECT_ID,STNNBR,CASTNO,SAMPNO,BTLNBR,BTLNBR_FLAG_W,DATE,TIME,LATITUDE,LONGITUDE,DEPTH,CTDPRS,CTDTMP,SBE35,CTDSAL,CTDSAL_FLAG_W,SALNTY,SALNTY_FLAG_W,OXYGEN,OXYGEN_FLAG_W,SILCAT,SILCAT_FLAG_W,NITRAT,NITRAT_FLAG_W,NITRIT,NITRIT_FLAG_W,PHSPHT,PHSPHT_FLAG_W,CFC-11,CFC-11_FLAG_W,CFC-12,CFC-12_FLAG_W,TCARBN,TCARBN_FLAG_W,ALKALI,ALKALI_FLAG_W,PH_TOT,PH_TOT_FLAG_W,PH_TMP,CHLORA,CHLORA_FLAG_W,PPHYTN,PPHYTN_FLAG_W,SBE35,BTL_TIME
,,,,,,,,,,,METERS,DBAR,ITS-90,,PSS-78,,PSS-78,,UMOL/KG,,UMOL/KG,,UMOL/KG,,UMOL/KG,,UMOL/KG,,PMOL/KG,,PMOL/KG,,UMOL/KG,,UMOL/KG,,,,DEG C,UG/KG,,UG/KG,,,
  49UP20130619,  P03W,    60,  1,      0,   -999,0,20130805,2214, 24.2567, 141.7652, 2432,      0.0,  30.1546,-999.0000,  34.8817,2,  34.8526,2,    192.7,2,     1.12,2,     0.00,2,     0.00,2,     0.05,2, -999.000,9, -999.000,9,   1952.8,2,   2290.3,2,   8.1137,2,    25.00,     0.06,2,     0.01,2,-999.0000,     2300
  49UP20130619,  P03W,    60,  1,     36,    109,2,20130805,2214, 24.2567, 141.7652, 2432,     10.2,  30.1628,  30.1647,  34.8845,2,  34.8889,2,    193.6,2,     1.04,2,     0.00,2,     0.00,2,     0.02,2, -999.000,9, -999.000,9,   -999.0,9,   -999.0,9,-999.0000,9,  -999.00,  -999.00,9,  -999.00,9,  30.1647,     2319
  49UP20130619,  P03W,    60,  1,     35,    112,2,20130805,2214, 24.2567, 141.7652, 2432,     10.2,  30.1628,  30.1647,  34.8845,2,  34.8884,2,    193.6,2,     1.07,2,     0.00,2,     0.00,2,     0.01,2, -999.000,9, -999.000,9,   1954.8,2,   2294.4,2,   8.1155,2,    25.00,     0.05,2,     0.01,2,  30.1647,     2319
  49UP20130619,  P03W,    60,  1,     34,     83,2,20130805,2214, 24.2567, 141.7652, 2432,     50.1,  27.0321,  26.9891,  35.0311,2,  35.0365,2,    215.0,2,     1.05,2,     0.00,2,     0.00,2,     0.02,2, -999.000,9, -999.000,9,   1966.1,2,   2306.7,2,   8.1091,2,    25.00,     0.06,2,     0.02,2,  26.9891,     2315
  49UP20130619,  P03W,    60,  1,     33,     86,2,20130805,2214, 24.2567, 141.7652, 2432,    100.5,  20.9605,  20.9564,  34.8340,2,  34.8324,2,    222.9,6,     1.68,6,    -0.01,6,     0.01,6,     0.03,6, -999.000,9, -999.000,9,   1992.2,2,   2291.1,2,   8.0485,2,    25.00,     0.26,2,     0.26,2,  20.9564,     2313
  49UP20130619,  P03W,    60,  1,     32,    105,2,20130805,2214, 24.2567, 141.7652, 2432,    150.6,  19.1281,  19.1194,  34.8060,2,  34.8069,2,    210.5,2,     2.21,2,     1.53,2,     0.05,2,     0.12,2, -999.000,9, -999.000,9,   2016.0,6,   2290.1,6,   8.0068,2,    25.00,     0.09,2,     0.24,2,  19.1194,     2312
  49UP20130619,  P03W,    60,  1,     31,     76,2,20130805,2214, 24.2567, 141.7652, 2432,    203.4,  18.0502,  18.0492,  34.7640,2,  34.7638,2,    210.3,2,     3.07,2,     2.99,2,     0.01,2,     0.20,2, -999.000,9, -999.000,9,   2025.5,2,   2284.7,2,   7.9808,6,    25.00,     0.01,2,     0.03,2,  18.0492,     2310
  49UP20130619,  P03W,    60,  1,     29,    102,2,20130805,2214, 24.2567, 141.7652, 2432,    251.9,  17.4621,  17.4622,  34.7281,2,  34.7280,2,    205.2,2,     3.85,2,     4.31,2,     0.00,2,     0.30,2, -999.000,9, -999.000,9,   -999.0,9,   -999.0,9,-999.0000,9,  -999.00,  -999.00,9,  -999.00,9,  17.4622,     2309
  49UP20130619,  P03W,    60,  1,     28,     91,3,20130805,2214, 24.2567, 141.7652, 2432,    251.9,  17.4621,  17.4622,  34.7281,2,  34.7283,2,    205.4,2,     3.88,2,     4.32,2,     0.00,2,     0.30,2, -999.000,9, -999.000,9,   2035.5,2,   2286.6,2,   7.9625,2,    25.00,  -999.00,9,  -999.00,9,  17.4622,     2309
  49UP20130619,  P03W,    60,  1,     27,    998,2,20130805,2214, 24.2567, 141.7652, 2432,    302.2,  17.0865,  17.0869,  34.7040,2,  34.7027,2,    205.9,2,     4.52,2,     4.96,2,     0.00,2,     0.35,2, -999.000,9, -999.000,9,   2037.5,2,   2284.3,2,   7.9560,2,    25.00,  -999.00,9,  -999.00,9,  17.0869,     2307
  49UP20130619,  P03W,    60,  1,     26,     84,2,20130805,2214, 24.2567, 141.7652, 2432,    402.9,  14.4186,  14.4189,  34.5102,2,  34.5091,2,    189.8,2,    11.58,2,    10.56,2,     0.00,2,     0.74,2, -999.000,9, -999.000,9,   2081.6,2,   2278.5,2,   7.8646,2,    25.00,  -999.00,9,  -999.00,9,  14.4189,     2304
  49UP20130619,  P03W,    60,  1,     25,     98,2,20130805,2214, 24.2567, 141.7652, 2432,    503.4,  11.1164,  11.1127,  34.2860,2,  34.2866,2,    179.7,2,    23.14,2,    16.86,2,     0.00,2,     1.21,2, -999.000,9, -999.000,9,   2124.7,2,   2277.8,2,   7.7611,2,    25.00,  -999.00,9,  -999.00,9,  11.1127,     2302
  49UP20130619,  P03W,    60,  1,     24,    110,2,20130805,2214, 24.2567, 141.7652, 2432,    604.6,   8.0219,   8.0210,  34.1105,2,  34.1101,2,    154.9,2,    44.39,2,    24.63,2,     0.00,2,     1.80,2, -999.000,9, -999.000,9,   2185.9,2,   2288.4,2,   7.6323,2,    25.00,  -999.00,9,  -999.00,9,   8.0210,     2259
  49UP20130619,  P03W,    60,  1,     23,     96,2,20130805,2214, 24.2567, 141.7652, 2432,    604.6,   8.0219,   8.0210,  34.1105,2,  34.1102,2,    155.0,2,    44.49,2,    24.59,2,     0.00,2,     1.81,2, -999.000,9, -999.000,9,   2187.2,2,   2288.8,2,   7.6314,2,    25.00,  -999.00,9,  -999.00,9,   8.0210,     2259
  49UP20130619,  P03W,    60,  1,     18,    101,2,20130805,2214, 24.2567, 141.7652, 2432,    705.7,   6.2659,   6.2712,  34.1022,2,  34.0970,4,    116.3,6,    66.74,6,    31.28,6,     0.00,6,     2.30,6, -999.000,9, -999.000,9,   2240.4,2,   2305.4,2,   7.5235,2,    25.00,  -999.00,9,  -999.00,9,   6.2712,     2256
  49UP20130619,  P03W,    60,  1,     17,     90,2,20130805,2214, 24.2567, 141.7652, 2432,    806.8,   4.8852,   4.8839,  34.1441,2,  34.1454,2,     76.7,2,    89.12,2,    37.02,2,     0.00,2,     2.70,2, -999.000,9, -999.000,9,   2291.5,6,   2325.9,6,   7.4276,2,    25.00,  -999.00,9,  -999.00,9,   4.8839,     2254
  49UP20130619,  P03W,    60,  1,     16,     89,2,20130805,2214, 24.2567, 141.7652, 2432,    908.3,   4.1781,   4.1777,  34.2399,2,  34.2399,6,     54.1,2,   106.99,2,    39.93,2,     0.00,2,     2.90,2, -999.000,9, -999.000,9,   2326.3,2,   2346.9,2,   7.3865,6,    25.00,  -999.00,9,  -999.00,9,   4.1777,     2251
  49UP20130619,  P03W,    60,  1,     15,     88,2,20130805,2214, 24.2567, 141.7652, 2432,   1010.6,   3.7438,   3.7439,  34.3128,2,  34.3118,2,     44.1,2,   118.71,2,    41.30,2,     0.00,2,     2.99,2, -999.000,9, -999.000,9,   2344.7,2,   2361.4,2,   7.3724,2,    25.00,  -999.00,9,  -999.00,9,   3.7439,     2248
  49UP20130619,  P03W,    60,  1,     14,    999,2,20130805,2214, 24.2567, 141.7652, 2432,   1010.6,   3.7438,   3.7439,  34.3128,2,  34.3126,2,     44.5,2,   118.80,2,    41.28,2,     0.00,2,     2.99,2, -999.000,9, -999.000,9,   2343.6,2,   2361.9,2,   7.3709,2,    25.00,  -999.00,9,  -999.00,9,   3.7439,     2248
  49UP20130619,  P03W,    60,  1,      9,    108,2,20130805,2214, 24.2567, 141.7652, 2432,   1212.8,   3.1823,   3.1823,  34.4508,2,  34.4504,2,     57.2,2,   130.92,2,    41.02,2,     0.00,2,     2.96,2, -999.000,9, -999.000,9,   2354.8,2,   2383.2,2,   7.4095,2,    25.00,  -999.00,9,  -999.00,9,   3.1823,     2243
  49UP20130619,  P03W,    60,  1,      8,     81,2,20130805,2214, 24.2567, 141.7652, 2432,   1415.9,   2.6532,   2.6538,  34.5079,2,  34.5074,2,     65.8,2,   142.24,2,    40.92,2,     0.00,2,     2.93,2, -999.000,9, -999.000,9,   2361.8,2,   2397.3,2,   7.4260,2,    25.00,  -999.00,9,  -999.00,9,   2.6538,     2239
  49UP20130619,  P03W,    60,  1,      7,    106,2,20130805,2214, 24.2567, 141.7652, 2432,   1617.5,   2.3441,   2.3443,  34.5462,2,  34.5463,6,     76.7,2,   147.28,2,    40.44,2,     0.00,2,     2.89,2, -999.000,9, -999.000,9,   2361.8,2,   2404.7,2,   7.4512,2,    25.00,  -999.00,9,  -999.00,9,   2.3443,     2234
  49UP20130619,  P03W,    60,  1,      6,    113,2,20130805,2214, 24.2567, 141.7652, 2432,   1819.6,   2.0868,   2.0862,  34.5817,2,  34.5816,2,     88.5,6,   150.65,6,    39.80,6,     0.00,6,     2.85,6, -999.000,9, -999.000,9,   2359.1,2,   2412.1,2,   7.4684,2,    25.00,  -999.00,9,  -999.00,9,   2.0862,     2230
  49UP20130619,  P03W,    60,  1,      5,     94,2,20130805,2214, 24.2567, 141.7652, 2432,   2021.9,   1.8660,   1.8657,  34.6144,2,  34.6146,2,    114.6,4,   151.40,2,    38.89,2,     0.00,2,     2.78,2, -999.000,9, -999.000,9,   2355.0,2,   2414.5,2,   7.4984,2,    25.00,  -999.00,9,  -999.00,9,   1.8657,     2225
  49UP20130619,  P03W,    60,  1,      4,     77,2,20130805,2214, 24.2567, 141.7652, 2432,   2021.9,   1.8660,   1.8657,  34.6144,2,  34.6146,2,    104.7,2,   151.39,2,    38.89,2,     0.00,2,     2.77,2, -999.000,9, -999.000,9,   2350.2,3,   2410.0,3,   7.5003,2,    25.00,  -999.00,9,  -999.00,9,   1.8657,     2225
  49UP20130619,  P03W,    60,  1,      3,    104,2,20130805,2214, 24.2567, 141.7652, 2432,   2226.2,   1.7923,   1.7923,  34.6267,2,  34.6268,6,    112.3,2,   150.44,2,    38.36,2,     0.00,2,     2.73,2, -999.000,9, -999.000,9,   2349.6,6,   2417.4,6,   7.5095,2,    25.00,  -999.00,9,  -999.00,9,   1.7923,     2221
  49UP20130619,  P03W,    60,  1,      2,     75,2,20130805,2214, 24.2567, 141.7652, 2432,   2428.4,   1.7409,   1.7407,  34.6353,2,  34.6359,2,    117.6,2,   150.35,2,    38.09,2,     0.00,2,     2.71,2, -999.000,9, -999.000,9,   2346.9,2,   2420.2,2,   7.5243,6,    25.00,  -999.00,9,  -999.00,9,   1.7407,     2216
  49UP20130619,  P03W,    60,  1,      1,    997,2,20130805,2214, 24.2567, 141.7652, 2432,   2464.3,   1.7326,   1.7321,  34.6367,2,  34.6367,2,    117.8,2,   150.42,2,    38.10,2,     0.00,2,     2.70,2, -999.000,9, -999.000,9,   2345.8,2,   2418.5,2,   7.5235,2,    25.00,  -999.00,9,  -999.00,9,   1.7321,     2214
  49UP20130619,  P03W,    61,  1,      0,   -999,0,20130806,0420, 24.2640, 142.4497, 2933,      0.0,  30.6431,-999.0000,  35.0733,2,  35.0723,2,    192.6,2,     1.06,3,     0.03,2,     0.00,2,     0.03,2, -999.000,9, -999.000,9,   1960.3,2,   2301.7,2,   8.1219,2,    25.00,     0.04,2,     0.01,2,-999.0000,      518
  49UP20130619,  P03W,    61,  1,     36,    109,2,20130806,0420, 24.2640, 142.4497, 2933,     10.5,  30.2919,  30.2932,  35.0641,2,  35.0656,2,    193.3,2,     0.89,2,     0.02,2,     0.00,2,     0.01,2, -999.000,9, -999.000,9,   1958.4,2,   2301.6,2,   8.1195,2,    25.00,     0.04,2,     0.01,2,  30.2932,      541
  49UP20130619,  P03W,    61,  1,     35,    112,2,20130806,0420, 24.2640, 142.4497, 2933,     50.6,  27.4290,  27.3513,  35.0013,2,  35.0036,2,    211.3,2,     1.04,2,     0.00,2,     0.00,2,     0.01,2, -999.000,9, -999.000,9,   1965.2,2,   2298.0,2,   8.1082,2,    25.00,     0.05,2,     0.01,2,  27.3513,      537
  49UP20130619,  P03W,    61,  1,     34,     83,2,20130806,0420, 24.2640, 142.4497, 2933,    102.2,  23.4828,  23.4696,  35.0799,2,  35.0826,2,    218.5,2,     1.30,2,     0.00,2,     0.00,2,     0.01,2, -999.000,9, -999.000,9,   1985.7,2,   2302.1,2,   8.0858,2,    25.00,     0.13,2,     0.06,2,  23.4696,      536
  49UP20130619,  P03W,    61,  1,     33,     86,2,20130806,0420, 24.2640, 142.4497, 2933,    151.5,  20.1061,  20.1022,  34.9203,2,  34.9162,2,    210.6,2,     1.88,2,     0.47,2,     0.06,2,     0.06,2, -999.000,9, -999.000,9,   2018.5,2,   2294.3,2,   8.0168,2,    25.00,     0.13,2,     0.31,2,  20.1022,      534
  49UP20130619,  P03W,    61,  1,     32,    105,2,20130806,0420, 24.2640, 142.4497, 2933,    201.2,  18.8383,  18.8359,  34.8212,2,  34.8198,2,    207.8,2,     2.51,2,     2.05,2,     0.01,2,     0.15,2, -999.000,9, -999.000,9,   2029.7,6,   2285.5,6,   7.9930,2,    25.00,     0.03,2,     0.11,2,  18.8359,      532
  49UP20130619,  P03W,    61,  1,     31,     76,2,20130806,0420, 24.2640, 142.4497, 2933,    252.1,  17.6858,  17.6830,  34.7377,2,  34.7373,2,    209.4,2,     3.41,2,     3.65,2,     0.01,2,     0.25,2, -999.000,9, -999.000,9,   2033.3,2,   2279.2,2,   7.9727,6,    25.00,  -999.00,9,  -999.00,9,  17.6830,      530
  49UP20130619,  P03W,    61,  1,     29,    102,2,20130806,0420, 24.2640, 142.4497, 2933,    283.2,  17.4271,  17.4261,  34.7241,2,  34.7237,2,    209.3,2,     3.67,2,     4.07,2,     0.01,2,     0.28,2, -999.000,9, -999.000,9,   2034.7,2,   2280.8,2,   7.9708,2,    25.00,  -999.00,9,  -999.00,9,  17.4261,      529
  49UP20130619,  P03W,    61,  1,     28,     91,2,20130806,0420, 24.2640, 142.4497, 2933,    283.2,  17.4271,  17.4261,  34.7241,2,  34.7239,2,    209.3,2,     3.69,2,     4.08,2,     0.01,2,     0.29,2, -999.000,9, -999.000,9,   2037.7,2,   2280.9,2,   7.9702,2,    25.00,  -999.00,9,  -999.00,9,  17.4261,      529
  49UP20130619,  P03W,    61,  1,     27,    998,2,20130806,0420, 24.2640, 142.4497, 2933,    373.7,  15.6357,  15.6354,  34.5897,2,  34.5892,2,    195.4,6,     7.35,6,     7.94,6,     0.00,6,     0.56,6, -999.000,9, -999.000,9,   2066.9,2,   2273.5,2,   7.8983,2,    25.00,  -999.00,9,  -999.00,9,  15.6354,      526
  49UP20130619,  P03W,    61,  1,     26,     84,2,20130806,0420, 24.2640, 142.4497, 2933,    474.3,  12.8010,  12.8071,  34.3921,2,  34.3919,2,    188.3,2,    15.22,2,    13.25,2,     0.00,2,     0.94,2, -999.000,9, -999.000,9,   2099.1,2,   2273.3,2,   7.8158,2,    25.00,  -999.00,9,  -999.00,9,  12.8071,      523
  49UP20130619,  P03W,    61,  1,     25,     98,2,20130806,0420, 24.2640, 142.4497, 2933,    474.3,  12.8010,  12.8071,  34.3921,2,  34.3901,2,    188.1,2,    15.28,2,    13.24,2,     0.00,2,     0.95,2, -999.000,9, -999.000,9,   2102.4,2,   2271.7,2,   7.8170,2,    25.00,  -999.00,9,  -999.00,9,  12.8071,      523
  49UP20130619,  P03W,    61,  1,     22,    111,2,20130806,0420, 24.2640, 142.4497, 2933,    574.9,   9.7378,   9.7366,  34.1968,2,  34.1963,2,    169.9,2,    29.82,2,    20.29,2,     0.00,2,     1.47,2, -999.000,9, -999.000,9,   2152.1,2,   2274.5,2,   7.7052,2,    25.00,  -999.00,9,  -999.00,9,   9.7366,      520
  49UP20130619,  P03W,    61,  1,     21,     78,2,20130806,0420, 24.2640, 142.4497, 2933,    574.9,   9.7378,   9.7366,  34.1968,2,  34.1968,2,    169.6,2,    29.80,2,    20.30,2,     0.00,2,     1.47,2, -999.000,9, -999.000,9,   2150.1,2,   2274.1,2,   7.7006,2,    25.00,  -999.00,9,  -999.00,9,   9.7366,      520
  49UP20130619,  P03W,    61,  1,     20,     93,2,20130806,0420, 24.2640, 142.4497, 2933,    675.3,   7.0117,   7.0158,  34.0937,2,  34.0939,6,    126.2,2,    54.03,2,    29.13,2,     0.00,2,     2.12,2, -999.000,9, -999.000,9,   2218.5,2,   2290.9,2,   7.5592,2,    25.00,  -999.00,9,  -999.00,9,   7.0158,      517
  49UP20130619,  P03W,    61,  1,     19,     92,2,20130806,0420, 24.2640, 142.4497, 2933,    776.3,   5.4553,   5.4550,  34.1483,2,  34.1492,2,     85.4,2,    79.37,2,    35.41,2,     0.00,2,     2.58,2, -999.000,9, -999.000,9,   2272.4,2,   2314.5,2,   7.4629,2,    25.00,  -999.00,9,  -999.00,9,   5.4550,      514
  49UP20130619,  P03W,    61,  1,     14,    999,2,20130806,0420, 24.2640, 142.4497, 2933,    877.4,   4.7902,   4.7877,  34.2101,2,  34.2101,2,     73.2,2,    94.74,2,    37.47,2,     0.00,2,     2.72,2, -999.000,9, -999.000,9,   2301.6,2,   2332.0,2,   7.4300,2,    25.00,  -999.00,9,  -999.00,9,   4.7877,      511
  49UP20130619,  P03W,    61,  1,     13,    667,2,20130806,0420, 24.2640, 142.4497, 2933,    877.4,   4.7902,   4.7877,  34.2101,2,  34.2107,2,     73.1,2,    94.56,2,    37.43,2,     0.00,2,     2.72,2, -999.000,9, -999.000,9,   2299.3,2,   2330.2,2,   7.4289,2,    25.00,  -999.00,9,  -999.00,9,   4.7877,      511
  49UP20130619,  P03W,    61,  1,     12,     74,2,20130806,0420, 24.2640, 142.4497, 2933,    978.2,   4.0085,   4.0082,  34.3123,2,  34.3130,6,     54.5,6,   112.31,6,    40.25,6,     0.00,6,     2.91,6, -999.000,9, -999.000,9,   2332.2,2,   2350.6,2,   7.3951,2,    25.00,  -999.00,9,  -999.00,9,   4.0082,      508
  49UP20130619,  P03W,    61,  1,     11,    996,2,20130806,0420, 24.2640, 142.4497, 2933,   1141.6,   3.5895,   3.5895,  34.4046,2,  34.4045,2,     53.1,2,   121.55,2,    41.00,2,     0.00,2,     2.96,2, -999.000,9, -999.000,9,   2347.7,6,   2367.0,2,   7.4023,2,    25.00,  -999.00,9,  -999.00,9,   3.5895,      504
  49UP20130619,  P03W,    61,  1,     10,    107,2,20130806,0420, 24.2640, 142.4497, 2933,   1342.8,   2.8647,   2.8647,  34.4700,2,  34.4697,2,     55.0,2,   139.52,2,    41.63,2,     0.00,2,     2.98,2, -999.000,9, -999.000,9,   2364.2,2,   2386.7,2,   7.4039,6,    25.00,  -999.00,9,  -999.00,9,   2.8647,      500
  49UP20130619,  P03W,    61,  1,      9,    108,2,20130806,0420, 24.2640, 142.4497, 2933,   1545.7,   2.4958,   2.4959,  34.5209,2,  34.5217,6,     63.5,2,   147.45,2,    41.36,2,     0.00,2,     2.97,2, -999.000,9, -999.000,9,   2366.6,2,   2396.1,2,   7.4195,2,    25.00,  -999.00,9,  -999.00,9,   2.4959,      455
  49UP20130619,  P03W,    61,  1,      8,     81,2,20130806,0420, 24.2640, 142.4497, 2933,   1748.8,   2.1761,   2.1761,  34.5693,2,  34.5694,2,     80.4,2,   150.95,2,    40.45,2,     0.00,2,     2.88,2, -999.000,9, -999.000,9,   2362.2,6,   2404.0,6,   7.4509,2,    25.00,  -999.00,9,  -999.00,9,   2.1761,      450
  49UP20130619,  P03W,    61,  1,      7,    106,2,20130806,0420, 24.2640, 142.4497, 2933,   1951.1,   1.9589,   1.9588,  34.6010,2,  34.6012,2,     95.3,2,   152.18,2,    39.61,2,     0.00,2,     2.81,2, -999.000,9, -999.000,9,   2360.7,2,   2406.3,2,   7.4792,6,    25.00,  -999.00,9,  -999.00,9,   1.9588,      445
  49UP20130619,  P03W,    61,  1,      6,    113,2,20130806,0420, 24.2640, 142.4497, 2933,   2155.9,   1.8350,   1.8350,  34.6196,2,  34.6199,6,    109.3,4,   152.47,2,    38.97,2,     0.00,2,     2.77,3, -999.000,9, -999.000,9,   2355.4,2,   2413.5,2,   7.4983,2,    25.00,  -999.00,9,  -999.00,9,   1.8350,      441
  49UP20130619,  P03W,    61,  1,      5,     94,2,20130806,0420, 24.2640, 142.4497, 2933,   2360.8,   1.7325,   1.7325,  34.6345,2,  34.6349,2,    113.5,2,   152.51,2,    38.44,2,     0.00,2,     2.73,2, -999.000,9, -999.000,9,   2350.4,2,   2412.0,2,   7.5032,4,    25.00,  -999.00,9,  -999.00,9,   1.7325,      436
  49UP20130619,  P03W,    61,  1,      4,     77,2,20130806,0420, 24.2640, 142.4497, 2933,   2360.8,   1.7325,   1.7325,  34.6345,2,  34.6348,2,    114.0,2,   152.45,2,    38.45,2,     0.00,2,     2.72,2, -999.000,9, -999.000,9,   2349.9,2,   2415.4,2,   7.5173,2,    25.00,  -999.00,9,  -999.00,9,   1.7325,      436
  49UP20130619,  P03W,    61,  1,      3,    104,2,20130806,0420, 24.2640, 142.4497, 2933,   2562.0,   1.6414,   1.6416,  34.6483,2,  34.6486,2,    122.7,6,   152.10,6,    37.91,6,     0.00,6,     2.68,6, -999.000,9, -999.000,9,   2348.6,2,   2414.1,2,   7.5318,2,    25.00,  -999.00,9,  -999.00,9,   1.6416,      431
  49UP20130619,  P03W,    61,  1,      2,     75,2,20130806,0420, 24.2640, 142.4497, 2933,   2765.4,   1.5909,   1.5911,  34.6573,2,  34.6576,2,    129.8,2,   150.59,2,    37.45,2,     0.00,2,     2.64,2, -999.000,9, -999.000,9,   2342.5,2,   2417.5,2,   7.5470,2,    25.00,  -999.00,9,  -999.00,9,   1.5911,      426
  49UP20130619,  P03W,    61,  1,      1,    997,2,20130806,0420, 24.2640, 142.4497, 2933,   2942.9,   1.5708,   1.5709,  34.6609,2,  34.6603,2,    132.6,2,   150.77,2,    37.24,2,     0.00,2,     2.64,2, -999.000,9, -999.000,9,   2342.3,2,   2416.8,2,   7.5513,2,    25.00,  -999.00,9,  -999.00,9,   1.5709,      422