BOTTLE,20180830PRINUNIVRMK
EXPOCODE,SECT_ID,STNNBR,CASTNO,SAMPNO,BTLNBR,BTLNBR_FLAG_W,DATE,TIME,LATITUDE,LONGITUDE,DEPTH,CTDPRS,CTDTMP,SBE35,CTDSAL,CTDSAL_FLAG_W,SALNTY,SALNTY_FLAG_W,OXYGEN,OXYGEN_FLAG_W,SILCAT,SILCAT_FLAG_W,NITRAT,NITRAT_FLAG_W,NITRIT,NITRIT_FLAG_W,PHSPHT,PHSPHT_FLAG_W,CFC-11,CFC-11_FLAG_W,CFC-12,CFC-12_FLAG_W,TCARBN,TCARBN_FLAG_W,ALKALI,ALKALI_FLAG_W,PH_TOT,PH_TOT_FLAG_W,PH_TMP,CHLORA,CHLORA_FLAG_W,PPHYTN,PPHYTN_FLAG_W,SBE35,BTL_TIME
,,,,,,,,,,,METERS,DBAR,ITS-90,,PSS-78,,PSS-78,,UMOL/KG,,UMOL/KG,,UMOL/KG,,UMOL/KG,,UMOL/KG,,PMOL/KG,,PMOL/KG,,UMOL/KG,,UMOL/KG,,,,DEG C,UG/KG,,UG/KG,,,
  49UP20130619,  P03W,   102,  1,      0,   -999,0,20130901,0950, 24.2710, 174.4312, 5694,      0.0,  27.8810,-999.0000,  35.3218,2,  35.3257,2,    199.0,2,     1.09,2,     0.00,2,     0.00,2,     0.02,2, -999.000,9, -999.000,9,   1984.9,2,   2321.0,2,   8.1020,2,    25.00,     0.05,2,     0.02,2,-999.0000,     1149
  49UP20130619,  P03W,   102,  1,     36,    109,2,20130901,0950, 24.2710, 174.4312, 5694,     10.4,  27.8941,  27.8918,  35.3219,2,  35.3226,2,    199.2,2,     0.99,2,     0.00,2,     0.00,2,     0.01,2,    1.840,3,    0.947,3,   1983.1,2,   2321.7,2,   8.1034,2,    25.00,     0.05,2,     0.01,2,  27.8918,     1212
  49UP20130619,  P03W,   102,  1,     35,    112,2,20130901,0950, 24.2710, 174.4312, 5694,     50.8,  23.9906,  23.9928,  35.2414,2,  35.2209,4,    230.9,2,     1.44,2,     0.01,2,     0.00,2,     0.01,2,    2.758,3,    1.146,3,   1994.9,2,   2314.0,2,   8.0794,2,    25.00,     0.11,2,     0.05,2,  23.9928,     1209
  49UP20130619,  P03W,   102,  1,     34,     83,2,20130901,0950, 24.2710, 174.4312, 5694,    100.1,  21.3567,  21.3564,  35.1565,2,  35.1543,2,    221.0,2,     1.66,2,     0.00,2,     0.00,2,     0.02,2,    2.415,3,    1.216,3,   2014.7,2,   2310.9,2,   8.0419,2,    25.00,     0.21,2,     0.19,2,  21.3564,     1207
  49UP20130619,  P03W,   102,  1,     33,    517,2,20130901,0950, 24.2710, 174.4312, 5694,    150.5,  17.9321,  17.9354,  34.7535,2,  34.7562,2,    210.4,2,     2.86,2,     2.18,2,     0.03,2,     0.18,2,    2.361,2,    1.329,2,   2035.5,2,   2284.1,2,   7.9633,2,    25.00,     0.06,2,     0.20,2,  17.9354,     1205
  49UP20130619,  P03W,   102,  1,     32,    105,2,20130901,0950, 24.2710, 174.4312, 5694,    201.1,  16.7514,  16.7488,  34.6724,2,  34.6715,2,    203.5,2,     4.66,2,     5.33,2,     0.01,2,     0.37,2,    2.480,2,    1.420,2,   2049.6,2,   2280.1,2,   7.9342,2,    25.00,     0.00,2,     0.01,2,  16.7488,     1204
  49UP20130619,  P03W,   102,  1,     31,     76,2,20130901,0950, 24.2710, 174.4312, 5694,    251.5,  15.5359,  15.5372,  34.5724,2,  34.5696,2,    199.6,6,     6.69,6,     7.32,6,     0.00,6,     0.52,6,    2.601,6,    1.501,6,   2056.9,2,   2274.4,2,   7.8967,2,    25.00,  -999.00,9,  -999.00,9,  15.5372,     1201
  49UP20130619,  P03W,   102,  1,     30,     97,2,20130901,0950, 24.2710, 174.4312, 5694,    302.6,  14.0013,  13.9899,  34.4447,2,  34.4473,2,    199.2,2,     9.47,2,     9.62,2,     0.00,2,     0.68,2,    2.809,2,    1.596,2,   2077.6,6,   2270.3,6,   7.8501,2,    25.00,  -999.00,9,  -999.00,9,  13.9899,     1156
  49UP20130619,  P03W,   102,  1,     29,    102,2,20130901,0950, 24.2710, 174.4312, 5694,    403.3,  11.4312,  11.4404,  34.2753,2,  34.2788,2,    196.5,2,    17.56,2,    14.61,2,     0.00,2,     1.03,2,    2.955,2,    1.627,2,   2107.6,2,   2270.0,2,   7.7839,6,    25.00,  -999.00,9,  -999.00,9,  11.4404,     1153
  49UP20130619,  P03W,   102,  1,     28,     91,2,20130901,0950, 24.2710, 174.4312, 5694,    504.1,   8.6318,   8.6315,  34.1124,2,  34.1116,2,    157.3,2,    34.74,2,    23.38,2,     0.00,2,     1.67,2,    2.717,6,    1.381,6,   2162.9,2,   2275.4,2,   7.6415,2,    25.00,  -999.00,9,  -999.00,9,   8.6315,     1151
  49UP20130619,  P03W,   102,  1,     27,    998,2,20130901,0950, 24.2710, 174.4312, 5694,    605.7,   6.7568,   6.7603,  34.0650,2,  34.0660,2,    119.1,2,    54.88,2,    30.22,2,     0.00,2,     2.18,2,    2.034,2,    0.994,2,   2224.2,2,   2289.3,2,   7.5337,2,    25.00,  -999.00,9,  -999.00,9,   6.7603,     1147
  49UP20130619,  P03W,   102,  1,     26,     84,2,20130901,0950, 24.2710, 174.4312, 5694,    706.4,   5.4796,   5.4784,  34.1069,2,  34.1055,2,     77.6,2,    76.37,2,    36.20,2,     0.00,2,     2.62,2,    1.149,2,    0.547,2,   2274.5,2,   2309.9,2,   7.4349,2,    25.00,  -999.00,9,  -999.00,9,   5.4784,     1144
  49UP20130619,  P03W,   102,  1,     25,     98,2,20130901,0950, 24.2710, 174.4312, 5694,    807.4,   4.6114,   4.6123,  34.1965,2,  34.1957,6,     48.1,2,    95.84,2,    40.05,2,     0.00,2,     2.90,2,    0.503,2,    0.239,2,   2314.9,2,   2330.9,2,   7.3770,2,    25.00,  -999.00,9,  -999.00,9,   4.6123,     1141
  49UP20130619,  P03W,   102,  1,     24,    110,2,20130901,0950, 24.2710, 174.4312, 5694,    908.0,   3.9829,   3.9827,  34.2978,2,  34.2973,2,     35.4,2,   112.48,2,    41.95,2,     0.00,2,     3.03,2,    0.189,6,    0.085,6,   2345.3,2,   2352.8,2,   7.3560,2,    25.00,  -999.00,9,  -999.00,9,   3.9827,     1139
  49UP20130619,  P03W,   102,  1,     23,     96,2,20130901,0950, 24.2710, 174.4312, 5694,   1008.6,   3.6318,   3.6314,  34.3735,2,  34.3737,2,     35.4,2,   121.55,2,    42.37,2,     0.00,2,     3.06,2,    0.092,2,    0.059,2,   2354.6,2,   2364.1,2,   7.3625,2,    25.00,  -999.00,9,  -999.00,9,   3.6314,     1136
  49UP20130619,  P03W,   102,  1,     22,    111,2,20130901,0950, 24.2710, 174.4312, 5694,   1211.5,   3.1442,   3.1439,  34.4818,2,  34.4816,2,     49.9,6,   132.25,6,    41.90,6,     0.00,6,     3.01,6,    0.004,2,    0.000,2,   2362.2,2,   2385.2,2,   7.3988,2,    25.00,  -999.00,9,  -999.00,9,   3.1439,     1132
  49UP20130619,  P03W,   102,  1,     21,     78,2,20130901,0950, 24.2710, 174.4312, 5694,   1413.5,   2.7351,   2.7347,  34.5373,2,  34.5370,2,     64.9,2,   139.67,2,    41.19,2,     0.00,2,     2.94,2,    0.000,2,    0.000,2,   2358.4,2,   2396.6,2,   7.4272,2,    25.00,  -999.00,9,  -999.00,9,   2.7347,     1127
  49UP20130619,  P03W,   102,  1,     20,     93,2,20130901,0950, 24.2710, 174.4312, 5694,   1619.1,   2.4558,   2.4560,  34.5689,2,  34.5686,2,     75.5,2,   144.80,2,    40.61,2,     0.00,2,     2.90,2,    0.000,2,    0.000,2,   2362.4,6,   2403.5,6,   7.4483,2,    25.00,  -999.00,9,  -999.00,9,   2.4560,     1122
  49UP20130619,  P03W,   102,  1,     19,     92,2,20130901,0950, 24.2710, 174.4312, 5694,   1820.7,   2.2052,   2.2050,  34.5987,2,  34.5994,2,     88.6,2,   148.02,2,    39.89,2,     0.00,2,     2.83,2,    0.003,2,    0.000,2,   2361.0,2,   2410.2,2,   7.4746,6,    25.00,  -999.00,9,  -999.00,9,   2.2050,     1118
  49UP20130619,  P03W,   102,  1,     18,    101,2,20130901,0950, 24.2710, 174.4312, 5694,   2023.7,   2.0016,   2.0015,  34.6176,2,  34.6180,2,     97.1,2,   151.94,2,    39.53,2,     0.00,2,     2.79,2,    0.000,2,    0.000,2,   2356.5,2,   2415.1,2,   7.4883,2,    25.00,  -999.00,9,  -999.00,9,   2.0015,     1113
  49UP20130619,  P03W,   102,  1,     17,     90,2,20130901,0950, 24.2710, 174.4312, 5694,   2227.1,   1.8262,   1.8261,  34.6336,2,  34.6335,2,    105.8,2,   154.41,2,    38.99,2,     0.00,2,     2.75,2, -999.000,9, -999.000,9,   2351.4,2,   2418.0,2,   7.5034,2,    25.00,  -999.00,9,  -999.00,9,   1.8261,     1108
  49UP20130619,  P03W,   102,  1,     16,     89,2,20130901,0950, 24.2710, 174.4312, 5694,   2431.9,   1.7304,   1.7299,  34.6439,2,  34.6433,2,    113.1,2,   155.05,2,    38.52,2,     0.00,2,     2.72,2,    0.000,2,    0.000,2,   2352.5,2,   2419.6,2,   7.5175,2,    25.00,  -999.00,9,  -999.00,9,   1.7299,     1104
  49UP20130619,  P03W,   102,  1,     15,     88,2,20130901,0950, 24.2710, 174.4312, 5694,   2633.6,   1.6542,   1.6540,  34.6527,2,  34.6533,2,    120.0,2,   155.00,2,    38.06,2,     0.00,2,     2.68,2, -999.000,9, -999.000,9,   2349.6,2,   2421.5,2,   7.5396,3,    25.00,  -999.00,9,  -999.00,9,   1.6540,     1059
  49UP20130619,  P03W,   102,  1,     14,    999,2,20130901,0950, 24.2710, 174.4312, 5694,   2786.4,   1.6223,   1.6222,  34.6569,2,  34.6569,2,    124.1,2,   154.59,2,    37.88,2,     0.00,2,     2.66,2, -999.000,9, -999.000,9,   2344.2,2,   2422.8,2,   7.5378,2,    25.00,  -999.00,9,  -999.00,9,   1.6222,     1055
  49UP20130619,  P03W,   102,  1,     13,    667,2,20130901,0950, 24.2710, 174.4312, 5694,   3042.0,   1.5510,   1.5510,  34.6654,2,  34.6662,2,    132.6,6,   153.64,6,    37.35,6,     0.00,6,     2.62,6, -999.000,9, -999.000,9,   2339.7,2,   2419.8,2,   7.5494,2,    25.00,  -999.00,9,  -999.00,9,   1.5510,     1049
  49UP20130619,  P03W,   102,  1,     12,     74,2,20130901,0950, 24.2710, 174.4312, 5694,   3296.5,   1.5128,   1.5127,  34.6713,2,  34.6710,2,    138.8,2,   152.41,2,    36.94,2,     0.00,2,     2.58,2, -999.000,9, -999.000,9,   2338.6,2,   2421.2,2,   7.5602,2,    25.00,  -999.00,9,  -999.00,9,   1.5127,     1044
  49UP20130619,  P03W,   102,  1,     11,    996,2,20130901,0950, 24.2710, 174.4312, 5694,   3551.5,   1.4810,   1.4809,  34.6767,2,  34.6756,2,    144.3,2,   150.19,2,    36.56,2,     0.00,2,     2.55,2, -999.000,9, -999.000,9,   2334.6,2,   2418.5,2,   7.5667,2,    25.00,  -999.00,9,  -999.00,9,   1.4809,     1039
  49UP20130619,  P03W,   102,  1,     10,    107,3,20130901,0950, 24.2710, 174.4312, 5694,   3808.0,   1.4649,   1.4649,  34.6809,2,  34.6794,2,    150.5,2,   147.16,2,    36.15,2,     0.00,2,     2.52,2,    0.017,2,    0.015,2,   2328.1,2,   2416.6,2,   7.5770,2,    25.00,  -999.00,9,  -999.00,9,   1.4649,     1033
  49UP20130619,  P03W,   102,  1,      9,    108,2,20130901,0950, 24.2710, 174.4312, 5694,   4065.1,   1.4505,   1.4505,  34.6841,2,  34.6847,2,    155.3,2,   145.63,2,    35.78,2,     0.00,2,     2.50,2, -999.000,9, -999.000,9,   2325.3,2,   2414.5,2,   7.5827,2,    25.00,  -999.00,9,  -999.00,9,   1.4505,     1028
  49UP20130619,  P03W,   102,  1,      8,     81,2,20130901,0950, 24.2710, 174.4312, 5694,   4320.8,   1.4369,   1.4369,  34.6880,2,  34.6882,2,    162.0,2,   141.55,2,    35.35,2,     0.00,2,     2.46,2, -999.000,9, -999.000,9,   2314.6,2,   2411.4,2,   7.5923,2,    25.00,  -999.00,9,  -999.00,9,   1.4369,     1023
  49UP20130619,  P03W,   102,  1,      7,    106,2,20130901,0950, 24.2710, 174.4312, 5694,   4579.0,   1.4219,   1.4218,  34.6915,2,  34.6913,6,    168.0,2,   138.20,2,    34.90,2,     0.00,2,     2.42,2, -999.000,9, -999.000,9,   2311.0,2,   2406.9,2,   7.5977,2,    25.00,  -999.00,9,  -999.00,9,   1.4218,     1017
  49UP20130619,  P03W,   102,  1,      6,    113,2,20130901,0950, 24.2710, 174.4312, 5694,   4834.7,   1.4240,   1.4240,  34.6939,2,  34.6931,2,    172.1,2,   135.90,2,    34.63,2,     0.00,2,     2.40,2, -999.000,9, -999.000,9,   2307.4,2,   2404.8,2,   7.6005,2,    25.00,  -999.00,9,  -999.00,9,   1.4240,     1011
  49UP20130619,  P03W,   102,  1,      5,     94,2,20130901,0950, 24.2710, 174.4312, 5694,   4834.7,   1.4240,   1.4240,  34.6939,2,  34.6940,2,    172.0,2,   135.85,2,    34.59,2,     0.00,2,     2.40,2,    0.038,3,    0.017,2,   2306.1,2,   2404.8,2,   7.6004,2,    25.00,  -999.00,9,  -999.00,9,   1.4240,     1011
  49UP20130619,  P03W,   102,  1,      4,     77,2,20130901,0950, 24.2710, 174.4312, 5694,   5092.2,   1.4307,   1.4305,  34.6956,2,  34.6958,2,    175.5,6,   133.61,6,    34.34,6,     0.00,6,     2.38,6, -999.000,9, -999.000,9,   2299.4,2,   2402.7,2,   7.6048,2,    25.00,  -999.00,9,  -999.00,9,   1.4305,     1006
  49UP20130619,  P03W,   102,  1,      3,    104,2,20130901,0950, 24.2710, 174.4312, 5694,   5350.3,   1.4448,   1.4449,  34.6971,2,  34.6972,2,    177.7,2,   132.35,2,    34.21,2,     0.00,2,     2.37,2, -999.000,9, -999.000,9,   2300.9,2,   2400.1,2,   7.6054,2,    25.00,  -999.00,9,  -999.00,9,   1.4449,     1001
  49UP20130619,  P03W,   102,  1,      2,     75,2,20130901,0950, 24.2710, 174.4312, 5694,   5607.8,   1.4638,   1.4637,  34.6981,2,  34.6983,6,    179.6,2,   131.40,2,    34.07,2,     0.00,2,     2.35,2, -999.000,9, -999.000,9,   2299.1,6,   2399.1,6,   7.6073,2,    25.00,  -999.00,9,  -999.00,9,   1.4637,      955
  49UP20130619,  P03W,   102,  1,      1,    997,2,20130901,0950, 24.2710, 174.4312, 5694,   5831.2,   1.4899,   1.4899,  34.6984,2,  34.6985,2,    180.6,2,   131.12,2,    34.04,2,     0.00,2,     2.35,2,    0.044,3,    0.025,2,   2297.5,2,   2396.0,2,   7.6088,6,    25.00,  -999.00,9,  -999.00,9,   1.4899,      950