BOTTLE,20180830PRINUNIVRMK
EXPOCODE,SECT_ID,STNNBR,CASTNO,SAMPNO,BTLNBR,BTLNBR_FLAG_W,DATE,TIME,LATITUDE,LONGITUDE,DEPTH,CTDPRS,CTDTMP,SBE35,CTDSAL,CTDSAL_FLAG_W,SALNTY,SALNTY_FLAG_W,OXYGEN,OXYGEN_FLAG_W,SILCAT,SILCAT_FLAG_W,NITRAT,NITRAT_FLAG_W,NITRIT,NITRIT_FLAG_W,PHSPHT,PHSPHT_FLAG_W,CFC-11,CFC-11_FLAG_W,CFC-12,CFC-12_FLAG_W,TCARBN,TCARBN_FLAG_W,ALKALI,ALKALI_FLAG_W,PH_TOT,PH_TOT_FLAG_W,PH_TMP,CHLORA,CHLORA_FLAG_W,PPHYTN,PPHYTN_FLAG_W,SBE35,BTL_TIME
,,,,,,,,,,,METERS,DBAR,ITS-90,,PSS-78,,PSS-78,,UMOL/KG,,UMOL/KG,,UMOL/KG,,UMOL/KG,,UMOL/KG,,PMOL/KG,,PMOL/KG,,UMOL/KG,,UMOL/KG,,,,DEG C,UG/KG,,UG/KG,,,
  49UP20130619,  P03W,   113,  1,      0,   -999,0,20130904,2239, 26.5152, 178.9813, 5526,      0.0,  27.8277,-999.0000,  35.6707,2,-999.0000,9,    201.0,2,     0.87,2,     0.00,2,     0.00,2,     0.03,2, -999.000,9, -999.000,9,   -999.0,9,   -999.0,9,-999.0000,9,  -999.00,  -999.00,9,  -999.00,9,-999.0000,       35
  49UP20130619,  P03W,   113,  1,     36,    109,2,20130904,2239, 26.5152, 178.9813, 5526,      9.6,  27.6709,  27.6392,  35.6675,2,-999.0000,9,    201.2,2,     0.79,2,     0.00,2,     0.00,2,     0.02,2, -999.000,9, -999.000,9,   -999.0,9,   -999.0,9,-999.0000,9,  -999.00,  -999.00,9,  -999.00,9,  27.6392,       56
  49UP20130619,  P03W,   113,  1,     35,    112,2,20130904,2239, 26.5152, 178.9813, 5526,     50.0,  26.0207,  26.0550,  35.5061,2,-999.0000,9,    226.5,2,     0.97,2,     0.00,2,     0.00,2,     0.02,2, -999.000,9, -999.000,9,   -999.0,9,   -999.0,9,-999.0000,9,  -999.00,  -999.00,9,  -999.00,9,  26.0550,       53
  49UP20130619,  P03W,   113,  1,     34,     83,2,20130904,2239, 26.5152, 178.9813, 5526,    101.6,  22.0457,  22.0344,  35.2619,2,-999.0000,9,    223.8,2,     1.31,2,     0.00,2,     0.00,2,     0.02,2, -999.000,9, -999.000,9,   -999.0,9,   -999.0,9,-999.0000,9,  -999.00,  -999.00,9,  -999.00,9,  22.0344,       51
  49UP20130619,  P03W,   113,  1,     33,    517,2,20130904,2239, 26.5152, 178.9813, 5526,    150.8,  20.1978,  20.1957,  35.0555,2,-999.0000,9,    214.2,6,     1.76,6,     0.13,6,     0.16,6,     0.06,6, -999.000,9, -999.000,9,   -999.0,9,   -999.0,9,-999.0000,9,  -999.00,  -999.00,9,  -999.00,9,  20.1957,       49
  49UP20130619,  P03W,   113,  1,     32,    105,2,20130904,2239, 26.5152, 178.9813, 5526,    200.8,  17.6925,  17.6927,  34.7344,2,-999.0000,9,    216.1,2,     2.89,2,     2.24,2,     0.01,2,     0.19,2, -999.000,9, -999.000,9,   -999.0,9,   -999.0,9,-999.0000,9,  -999.00,  -999.00,9,  -999.00,9,  17.6927,       47
  49UP20130619,  P03W,   113,  1,     31,     76,2,20130904,2239, 26.5152, 178.9813, 5526,    252.1,  16.2570,  16.2559,  34.6174,2,-999.0000,9,    211.1,2,     4.80,2,     5.17,2,     0.01,2,     0.37,2, -999.000,9, -999.000,9,   -999.0,9,   -999.0,9,-999.0000,9,  -999.00,  -999.00,9,  -999.00,9,  16.2559,       45
  49UP20130619,  P03W,   113,  1,     30,     97,2,20130904,2239, 26.5152, 178.9813, 5526,    283.2,  15.4700,  15.4690,  34.5495,2,-999.0000,9,    207.3,2,     6.22,2,     6.66,2,     0.00,2,     0.48,2, -999.000,9, -999.000,9,   -999.0,9,   -999.0,9,-999.0000,9,  -999.00,  -999.00,9,  -999.00,9,  15.4690,       43
  49UP20130619,  P03W,   113,  1,     29,    102,2,20130904,2239, 26.5152, 178.9813, 5526,    374.2,  13.0713,  13.0756,  34.3722,2,-999.0000,9,    205.0,2,    11.13,2,    10.71,2,     0.00,2,     0.76,2, -999.000,9, -999.000,9,   -999.0,9,   -999.0,9,-999.0000,9,  -999.00,  -999.00,9,  -999.00,9,  13.0756,       40
  49UP20130619,  P03W,   113,  1,     28,     91,2,20130904,2239, 26.5152, 178.9813, 5526,    474.4,  10.5156,  10.5167,  34.2058,2,-999.0000,9,    193.9,2,    20.98,2,    16.56,2,     0.00,2,     1.19,2, -999.000,9, -999.000,9,   -999.0,9,   -999.0,9,-999.0000,9,  -999.00,  -999.00,9,  -999.00,9,  10.5167,       37
  49UP20130619,  P03W,   113,  1,     27,    998,2,20130904,2239, 26.5152, 178.9813, 5526,    575.4,   8.4513,   8.4494,  34.1017,2,-999.0000,9,    152.1,2,    36.27,2,    24.17,2,     0.00,2,     1.75,2, -999.000,9, -999.000,9,   -999.0,9,   -999.0,9,-999.0000,9,  -999.00,  -999.00,9,  -999.00,9,   8.4494,       34
  49UP20130619,  P03W,   113,  1,     26,     84,2,20130904,2239, 26.5152, 178.9813, 5526,    676.1,   6.7068,   6.7054,  34.0821,2,-999.0000,9,    106.7,2,    56.74,2,    31.45,2,     0.00,2,     2.29,2, -999.000,9, -999.000,9,   -999.0,9,   -999.0,9,-999.0000,9,  -999.00,  -999.00,9,  -999.00,9,   6.7054,       31
  49UP20130619,  P03W,   113,  1,     25,     98,2,20130904,2239, 26.5152, 178.9813, 5526,    778.4,   5.2548,   5.2535,  34.1176,2,-999.0000,9,     70.0,2,    81.00,2,    37.27,2,     0.00,2,     2.70,2, -999.000,9, -999.000,9,   -999.0,9,   -999.0,9,-999.0000,9,  -999.00,  -999.00,9,  -999.00,9,   5.2535,       28
  49UP20130619,  P03W,   113,  1,     24,    110,2,20130904,2239, 26.5152, 178.9813, 5526,    879.1,   4.6082,   4.6152,  34.2180,2,-999.0000,9,     44.2,6,    96.48,6,    40.41,6,     0.00,6,     2.94,6, -999.000,9, -999.000,9,   -999.0,9,   -999.0,9,-999.0000,9,  -999.00,  -999.00,9,  -999.00,9,   4.6152,       26
  49UP20130619,  P03W,   113,  1,     23,     96,2,20130904,2239, 26.5152, 178.9813, 5526,    980.3,   3.9854,   3.9880,  34.3143,2,-999.0000,9,     34.2,2,   112.28,2,    42.14,2,     0.00,2,     3.05,2, -999.000,9, -999.000,9,   -999.0,9,   -999.0,9,-999.0000,9,  -999.00,  -999.00,9,  -999.00,9,   3.9880,       23
  49UP20130619,  P03W,   113,  1,     22,    111,2,20130904,2239, 26.5152, 178.9813, 5526,   1142.2,   3.4313,   3.4320,  34.4032,2,-999.0000,9,     33.5,2,   127.34,2,    42.72,2,     0.00,2,     3.08,2, -999.000,9, -999.000,9,   -999.0,9,   -999.0,9,-999.0000,9,  -999.00,  -999.00,9,  -999.00,9,   3.4320,       19
  49UP20130619,  P03W,   113,  1,     21,     78,2,20130904,2239, 26.5152, 178.9813, 5526,   1344.2,   2.9857,   2.9859,  34.4941,2,  34.4937,6,     49.1,2,   137.01,2,    42.08,2,     0.00,2,     3.03,2, -999.000,9, -999.000,9,   -999.0,9,   -999.0,9,-999.0000,9,  -999.00,  -999.00,9,  -999.00,9,   2.9859,       14
  49UP20130619,  P03W,   113,  1,     20,     93,2,20130904,2239, 26.5152, 178.9813, 5526,   1546.8,   2.5643,   2.5642,  34.5470,2,-999.0000,9,     63.3,2,   145.24,2,    41.44,2,     0.00,2,     2.96,2, -999.000,9, -999.000,9,   -999.0,9,   -999.0,9,-999.0000,9,  -999.00,  -999.00,9,  -999.00,9,   2.5642,        9
  49UP20130619,  P03W,   113,  1,     19,     92,2,20130904,2239, 26.5152, 178.9813, 5526,   1748.9,   2.2712,   2.2712,  34.5777,2,-999.0000,9,     73.7,2,   151.42,2,    40.97,2,     0.00,2,     2.91,2, -999.000,9, -999.000,9,   -999.0,9,   -999.0,9,-999.0000,9,  -999.00,  -999.00,9,  -999.00,9,   2.2712,        4
  49UP20130619,  P03W,   113,  1,     18,    101,2,20130904,2239, 26.5152, 178.9813, 5526,   1951.8,   2.0354,   2.0351,  34.6021,2,-999.0000,9,     84.6,2,   155.65,2,    40.30,2,     0.00,2,     2.86,2, -999.000,9, -999.000,9,   -999.0,9,   -999.0,9,-999.0000,9,  -999.00,  -999.00,9,  -999.00,9,   2.0351,        0
  49UP20130619,  P03W,   113,  1,     17,     90,2,20130904,2239, 26.5152, 178.9813, 5526,   2155.2,   1.8704,   1.8707,  34.6210,2,  34.6210,2,     95.5,2,   157.46,2,    39.74,2,     0.00,2,     2.81,2, -999.000,9, -999.000,9,   -999.0,9,   -999.0,9,-999.0000,9,  -999.00,  -999.00,9,  -999.00,9,   1.8707,     2355
  49UP20130619,  P03W,   113,  1,     16,     89,2,20130904,2239, 26.5152, 178.9813, 5526,   2358.1,   1.7624,   1.7624,  34.6346,2,  34.6339,2,    104.6,2,   157.85,2,    39.11,2,     0.00,2,     2.76,2, -999.000,9, -999.000,9,   -999.0,9,   -999.0,9,-999.0000,9,  -999.00,  -999.00,9,  -999.00,9,   1.7624,     2351
  49UP20130619,  P03W,   113,  1,     15,     88,2,20130904,2239, 26.5152, 178.9813, 5526,   2562.0,   1.6659,   1.6660,  34.6468,2,  34.6466,2,    114.3,6,   157.31,6,    38.54,6,     0.00,6,     2.72,6, -999.000,9, -999.000,9,   -999.0,9,   -999.0,9,-999.0000,9,  -999.00,  -999.00,9,  -999.00,9,   1.6660,     2346
  49UP20130619,  P03W,   113,  1,     14,    999,2,20130904,2239, 26.5152, 178.9813, 5526,   2766.1,   1.6088,   1.6091,  34.6551,2,  34.6555,2,    121.2,2,   156.75,2,    38.08,2,     0.00,2,     2.68,2, -999.000,9, -999.000,9,   -999.0,9,   -999.0,9,-999.0000,9,  -999.00,  -999.00,9,  -999.00,9,   1.6091,     2341
  49UP20130619,  P03W,   113,  1,     13,    667,2,20130904,2239, 26.5152, 178.9813, 5526,   2970.0,   1.5550,   1.5551,  34.6623,2,  34.6624,2,    127.9,2,   155.87,2,    37.65,2,     0.00,2,     2.65,2, -999.000,9, -999.000,9,   -999.0,9,   -999.0,9,-999.0000,9,  -999.00,  -999.00,9,  -999.00,9,   1.5551,     2337
  49UP20130619,  P03W,   113,  1,     12,     74,2,20130904,2239, 26.5152, 178.9813, 5526,   3215.0,   1.5132,   1.5133,  34.6689,2,  34.6692,2,    134.7,2,   154.88,2,    37.23,2,     0.00,2,     2.61,2, -999.000,9, -999.000,9,   -999.0,9,   -999.0,9,-999.0000,9,  -999.00,  -999.00,9,  -999.00,9,   1.5133,     2332
  49UP20130619,  P03W,   113,  1,     11,    996,2,20130904,2239, 26.5152, 178.9813, 5526,   3471.2,   1.4878,   1.4880,  34.6738,2,  34.6712,4,    138.3,3,   153.72,2,    36.91,2,     0.00,2,     2.59,2, -999.000,9, -999.000,9,   -999.0,9,   -999.0,9,-999.0000,9,  -999.00,  -999.00,9,  -999.00,9,   1.4880,     2326
  49UP20130619,  P03W,   113,  1,     10,    107,2,20130904,2239, 26.5152, 178.9813, 5526,   3726.8,   1.4652,   1.4652,  34.6785,2,  34.6780,2,    145.4,2,   152.37,2,    36.48,2,     0.00,2,     2.55,2, -999.000,9, -999.000,9,   -999.0,9,   -999.0,9,-999.0000,9,  -999.00,  -999.00,9,  -999.00,9,   1.4652,     2321
  49UP20130619,  P03W,   113,  1,      9,    108,2,20130904,2239, 26.5152, 178.9813, 5526,   3983.4,   1.4581,   1.4581,  34.6820,2,  34.6804,6,    148.7,3,   150.93,2,    36.33,3,     0.00,2,     2.54,2, -999.000,9, -999.000,9,   -999.0,9,   -999.0,9,-999.0000,9,  -999.00,  -999.00,9,  -999.00,9,   1.4581,     2315
  49UP20130619,  P03W,   113,  1,      8,     81,2,20130904,2239, 26.5152, 178.9813, 5526,   4239.8,   1.4550,   1.4550,  34.6849,2,  34.6824,4,    154.2,2,   149.23,2,    35.85,2,     0.00,2,     2.50,2, -999.000,9, -999.000,9,   -999.0,9,   -999.0,9,-999.0000,9,  -999.00,  -999.00,9,  -999.00,9,   1.4550,     2310
  49UP20130619,  P03W,   113,  1,      7,    106,2,20130904,2239, 26.5152, 178.9813, 5526,   4495.8,   1.4564,   1.4565,  34.6874,2,  34.6866,2,    158.8,2,   145.90,2,    35.65,2,     0.00,2,     2.48,2, -999.000,9, -999.000,9,   -999.0,9,   -999.0,9,-999.0000,9,  -999.00,  -999.00,9,  -999.00,9,   1.4565,     2304
  49UP20130619,  P03W,   113,  1,      6,    113,2,20130904,2239, 26.5152, 178.9813, 5526,   4754.4,   1.4614,   1.4614,  34.6898,2,  34.6898,2,    163.3,6,   143.03,6,    35.28,6,     0.00,6,     2.46,6, -999.000,9, -999.000,9,   -999.0,9,   -999.0,9,-999.0000,9,  -999.00,  -999.00,9,  -999.00,9,   1.4614,     2258
  49UP20130619,  P03W,   113,  1,      5,     94,2,20130904,2239, 26.5152, 178.9813, 5526,   5010.9,   1.4614,   1.4614,  34.6925,2,  34.6923,2,    168.3,2,   139.02,2,    34.80,2,     0.00,2,     2.43,2, -999.000,9, -999.000,9,   -999.0,9,   -999.0,9,-999.0000,9,  -999.00,  -999.00,9,  -999.00,9,   1.4614,     2253
  49UP20130619,  P03W,   113,  1,      4,     77,2,20130904,2239, 26.5152, 178.9813, 5526,   5010.9,   1.4614,   1.4614,  34.6925,2,  34.6922,2,    168.6,2,   138.93,2,    34.83,2,     0.00,2,     2.43,2, -999.000,9, -999.000,9,   -999.0,9,   -999.0,9,-999.0000,9,  -999.00,  -999.00,9,  -999.00,9,   1.4614,     2253
  49UP20130619,  P03W,   113,  1,      3,    104,2,20130904,2239, 26.5152, 178.9813, 5526,   5267.5,   1.4723,   1.4723,  34.6944,2,  34.6927,4,    171.0,3,   136.83,2,    34.57,2,     0.00,2,     2.42,2, -999.000,9, -999.000,9,   -999.0,9,   -999.0,9,-999.0000,9,  -999.00,  -999.00,9,  -999.00,9,   1.4723,     2247
  49UP20130619,  P03W,   113,  1,      2,     75,2,20130904,2239, 26.5152, 178.9813, 5526,   5526.1,   1.4879,   1.4878,  34.6958,2,  34.6960,2,    175.0,2,   134.27,2,    34.42,2,     0.00,2,     2.39,2, -999.000,9, -999.000,9,   -999.0,9,   -999.0,9,-999.0000,9,  -999.00,  -999.00,9,  -999.00,9,   1.4878,     2242
  49UP20130619,  P03W,   113,  1,      1,    997,2,20130904,2239, 26.5152, 178.9813, 5526,   5647.4,   1.4932,   1.4930,  34.6963,2,  34.6957,2,    176.0,2,   133.60,2,    34.29,2,     0.00,2,     2.39,2, -999.000,9, -999.000,9,   -999.0,9,   -999.0,9,-999.0000,9,  -999.00,  -999.00,9,  -999.00,9,   1.4930,     2239