BOTTLE,20180830PRINUNIVRMK
EXPOCODE,SECT_ID,STNNBR,CASTNO,SAMPNO,BTLNBR,BTLNBR_FLAG_W,DATE,TIME,LATITUDE,LONGITUDE,DEPTH,CTDPRS,CTDTMP,SBE35,CTDSAL,CTDSAL_FLAG_W,SALNTY,SALNTY_FLAG_W,OXYGEN,OXYGEN_FLAG_W,SILCAT,SILCAT_FLAG_W,NITRAT,NITRAT_FLAG_W,NITRIT,NITRIT_FLAG_W,PHSPHT,PHSPHT_FLAG_W,CFC-11,CFC-11_FLAG_W,CFC-12,CFC-12_FLAG_W,TCARBN,TCARBN_FLAG_W,ALKALI,ALKALI_FLAG_W,PH_TOT,PH_TOT_FLAG_W,PH_TMP,CHLORA,CHLORA_FLAG_W,PPHYTN,PPHYTN_FLAG_W,SBE35,BTL_TIME
,,,,,,,,,,,METERS,DBAR,ITS-90,,PSS-78,,PSS-78,,UMOL/KG,,UMOL/KG,,UMOL/KG,,UMOL/KG,,UMOL/KG,,PMOL/KG,,PMOL/KG,,UMOL/KG,,UMOL/KG,,,,DEG C,UG/KG,,UG/KG,,,
  49UP20130619,  P03W,    85,  1,      0,   -999,0,20130813,1453, 24.2637, 161.5882, 2924,      0.0,  29.4654,-999.0000,  35.3138,2,  35.3144,2,    195.5,2,     0.84,2,     0.04,2,     0.00,2,     0.03,2, -999.000,9, -999.000,9,   1973.6,2,   2322.2,2,   8.1254,2,    25.00,     0.04,2,     0.01,2,-999.0000,     1550
  49UP20130619,  P03W,    85,  1,     36,    109,2,20130813,1453, 24.2637, 161.5882, 2924,      9.8,  29.4723,  29.4694,  35.3127,2,  35.3118,2,    195.3,2,     0.76,2,     0.02,2,     0.00,2,     0.03,2, -999.000,9, -999.000,9,   1971.9,2,   2324.1,2,   8.1256,2,    25.00,     0.04,2,     0.01,2,  29.4694,     1621
  49UP20130619,  P03W,    85,  1,     35,    112,2,20130813,1453, 24.2637, 161.5882, 2924,     50.6,  26.9884,  27.0007,  35.2370,2,  35.2454,4,    216.6,2,     0.93,2,     0.02,2,     0.00,2,     0.02,2, -999.000,9, -999.000,9,   1974.8,2,   2320.1,2,   8.1165,2,    25.00,     0.07,2,     0.02,2,  27.0007,     1618
  49UP20130619,  P03W,    85,  1,     34,     83,2,20130813,1453, 24.2637, 161.5882, 2924,    101.5,  23.8748,  23.8784,  35.2741,2,  35.2780,2,    211.0,2,     1.05,2,     0.02,2,     0.00,2,     0.03,2, -999.000,9, -999.000,9,   1997.1,2,   2323.7,2,   8.0850,2,    25.00,     0.16,2,     0.09,2,  23.8784,     1616
  49UP20130619,  P03W,    85,  1,     33,     86,2,20130813,1453, 24.2637, 161.5882, 2924,    151.2,  20.7729,  20.7736,  35.0230,2,  35.0236,6,    194.7,2,     2.04,2,     0.65,2,     0.11,2,     0.11,2, -999.000,9, -999.000,9,   2032.7,2,   2307.5,2,   7.9998,2,    25.00,     0.10,2,     0.28,2,  20.7736,     1615
  49UP20130619,  P03W,    85,  1,     32,    105,2,20130813,1453, 24.2637, 161.5882, 2924,    200.9,  18.9836,  18.9834,  34.8745,2,  34.8749,2,    191.5,2,     2.89,2,     3.07,2,     0.01,2,     0.25,2, -999.000,9, -999.000,9,   2044.0,2,   2298.0,2,   7.9617,2,    25.00,  -999.00,9,  -999.00,9,  18.9834,     1613
  49UP20130619,  P03W,    85,  1,     31,     76,2,20130813,1453, 24.2637, 161.5882, 2924,    200.9,  18.9836,  18.9834,  34.8745,2,  34.8742,2,    191.4,2,     2.87,2,     3.07,2,     0.01,2,     0.25,2, -999.000,9, -999.000,9,   2043.2,2,   2295.0,2,   7.9609,2,    25.00,     0.03,2,     0.11,2,  18.9834,     1613
  49UP20130619,  P03W,    85,  1,     28,     91,2,20130813,1453, 24.2637, 161.5882, 2924,    251.3,  16.8857,  16.8830,  34.6943,2,  34.6930,2,    200.3,2,     4.59,2,     5.53,2,     0.01,2,     0.40,2, -999.000,9, -999.000,9,   2048.6,2,   2285.1,2,   7.9366,2,    25.00,  -999.00,9,  -999.00,9,  16.8830,     1610
  49UP20130619,  P03W,    85,  1,     27,    998,2,20130813,1453, 24.2637, 161.5882, 2924,    284.1,  16.3183,  16.3199,  34.6459,2,  34.6492,2,    199.9,6,     5.45,6,     6.30,6,     0.01,6,     0.45,6, -999.000,9, -999.000,9,   2053.3,2,   2281.7,2,   7.9202,2,    25.00,  -999.00,9,  -999.00,9,  16.3199,     1602
  49UP20130619,  P03W,    85,  1,     26,     84,2,20130813,1453, 24.2637, 161.5882, 2924,    373.8,  13.9121,  13.9146,  34.4467,2,  34.4565,4,    193.4,2,    10.38,2,    10.40,2,     0.00,2,     0.76,2, -999.000,9, -999.000,9,   2080.6,6,   2277.4,6,   7.8365,2,    25.00,  -999.00,9,  -999.00,9,  13.9146,     1559
  49UP20130619,  P03W,    85,  1,     25,     98,2,20130813,1453, 24.2637, 161.5882, 2924,    474.0,  11.0146,  11.0141,  34.2600,2,  34.2594,2,    186.9,2,    20.70,2,    16.32,2,     0.00,2,     1.18,2, -999.000,9, -999.000,9,   2118.1,2,   2270.2,2,   7.7616,6,    25.00,  -999.00,9,  -999.00,9,  11.0141,     1557
  49UP20130619,  P03W,    85,  1,     24,    110,2,20130813,1453, 24.2637, 161.5882, 2924,    575.1,   8.3631,   8.3686,  34.1065,2,  34.1076,2,    160.4,2,    37.39,2,    23.50,2,     0.00,2,     1.71,2, -999.000,9, -999.000,9,   2170.4,2,   2284.5,2,   7.6483,2,    25.00,  -999.00,9,  -999.00,9,   8.3686,     1554
  49UP20130619,  P03W,    85,  1,     23,     96,2,20130813,1453, 24.2637, 161.5882, 2924,    675.3,   6.3429,   6.3444,  34.0573,2,  34.0595,2,    118.0,2,    59.89,2,    31.01,2,     0.00,2,     2.27,2, -999.000,9, -999.000,9,   2233.1,2,   2300.1,2,   7.5240,2,    25.00,  -999.00,9,  -999.00,9,   6.3444,     1551
  49UP20130619,  P03W,    85,  1,     22,    111,2,20130813,1453, 24.2637, 161.5882, 2924,    777.4,   4.8969,   4.8973,  34.1264,2,  34.1251,2,     72.6,2,    86.73,2,    37.47,2,     0.00,2,     2.73,2, -999.000,9, -999.000,9,   2291.1,2,   2324.3,2,   7.4195,2,    25.00,  -999.00,9,  -999.00,9,   4.8973,     1548
  49UP20130619,  P03W,    85,  1,     21,     78,2,20130813,1453, 24.2637, 161.5882, 2924,    877.0,   4.2014,   4.2029,  34.2426,2,  34.2425,2,     47.2,2,   105.79,2,    40.64,2,     0.00,2,     2.95,2, -999.000,9, -999.000,9,   2324.7,2,   2341.9,2,   7.3766,2,    25.00,  -999.00,9,  -999.00,9,   4.2029,     1545
  49UP20130619,  P03W,    85,  1,     20,     93,2,20130813,1453, 24.2637, 161.5882, 2924,    979.9,   3.7164,   3.7172,  34.3313,2,  34.3297,2,     38.7,2,   119.19,2,    41.83,2,     0.00,2,     3.02,2, -999.000,9, -999.000,9,   2347.3,2,   2363.6,2,   7.3687,2,    25.00,  -999.00,9,  -999.00,9,   3.7172,     1542
  49UP20130619,  P03W,    85,  1,     19,     92,2,20130813,1453, 24.2637, 161.5882, 2924,   1141.1,   3.2854,   3.2858,  34.4281,2,  34.4279,2,     43.6,6,   129.83,6,    42.00,6,     0.00,6,     3.03,6, -999.000,9, -999.000,9,   2357.7,6,   2381.7,6,   7.3833,2,    25.00,  -999.00,9,  -999.00,9,   3.2858,     1538
  49UP20130619,  P03W,    85,  1,     18,    101,2,20130813,1453, 24.2637, 161.5882, 2924,   1345.4,   2.7923,   2.7928,  34.4996,2,  34.4987,2,     52.8,2,   141.35,2,    41.87,2,     0.00,2,     3.00,2, -999.000,9, -999.000,9,   2366.9,2,   2396.8,2,   7.4057,6,    25.00,  -999.00,9,  -999.00,9,   2.7928,     1533
  49UP20130619,  P03W,    85,  1,     17,     90,2,20130813,1453, 24.2637, 161.5882, 2924,   1547.0,   2.3811,   2.3814,  34.5522,2,  34.5515,2,     68.8,2,   148.54,2,    41.00,2,     0.00,2,     2.93,2, -999.000,9, -999.000,9,   2371.1,2,   2407.3,2,   7.4309,2,    25.00,  -999.00,9,  -999.00,9,   2.3814,     1528
  49UP20130619,  P03W,    85,  1,     16,     89,2,20130813,1453, 24.2637, 161.5882, 2924,   1749.1,   2.1511,   2.1514,  34.5833,2,  34.5834,6,     81.7,2,   151.09,2,    40.28,2,     0.00,2,     2.87,2, -999.000,9, -999.000,9,   2361.8,2,   2416.3,2,   7.4602,2,    25.00,  -999.00,9,  -999.00,9,   2.1514,     1523
  49UP20130619,  P03W,    85,  1,     15,     88,2,20130813,1453, 24.2637, 161.5882, 2924,   1952.5,   1.9451,   1.9455,  34.6129,2,  34.6132,2,     99.1,2,   151.23,2,    39.25,2,     0.00,2,     2.80,2, -999.000,9, -999.000,9,   2353.7,2,   2418.7,2,   7.4909,2,    25.00,  -999.00,9,  -999.00,9,   1.9455,     1518
  49UP20130619,  P03W,    85,  1,     14,    999,3,20130813,1453, 24.2637, 161.5882, 2924,   1952.5,   1.9451,   1.9455,  34.6129,2,  34.6129,2,    100.1,4,   151.11,2,    39.24,2,     0.00,2,     2.79,2, -999.000,9, -999.000,9,   2355.5,2,   2418.2,2,   7.4944,2,    25.00,  -999.00,9,  -999.00,9,   1.9455,     1518
  49UP20130619,  P03W,    85,  1,     13,    667,2,20130813,1453, 24.2637, 161.5882, 2924,   2155.8,   1.8195,   1.8199,  34.6304,2,  34.6305,2,    110.0,2,   150.91,2,    38.63,2,     0.00,2,     2.74,2, -999.000,9, -999.000,9,   2355.4,6,   2420.6,6,   7.5123,2,    25.00,  -999.00,9,  -999.00,9,   1.8199,     1514
  49UP20130619,  P03W,    85,  1,     12,     74,2,20130813,1453, 24.2637, 161.5882, 2924,   2357.9,   1.7056,   1.7048,  34.6445,2,  34.6453,2,    119.1,2,   151.17,6,    38.05,6,     0.00,6,     2.70,6, -999.000,9, -999.000,9,   2345.5,2,   2421.0,2,   7.5276,2,    25.00,  -999.00,9,  -999.00,9,   1.7048,     1509
  49UP20130619,  P03W,    85,  1,     11,    996,2,20130813,1453, 24.2637, 161.5882, 2924,   2562.3,   1.6245,   1.6245,  34.6545,2,  34.6551,6,    126.1,2,   150.94,2,    37.66,2,     0.00,2,     2.66,2, -999.000,9, -999.000,9,   2341.0,2,   2423.0,2,   7.5370,6,    25.00,  -999.00,9,  -999.00,9,   1.6245,     1504
  49UP20130619,  P03W,    85,  1,     10,    107,2,20130813,1453, 24.2637, 161.5882, 2924,   2765.8,   1.5644,   1.5643,  34.6619,2,  34.6621,2,    132.2,2,   150.22,2,    37.24,2,     0.00,2,     2.63,2, -999.000,9, -999.000,9,   2343.1,2,   2421.2,2,   7.5505,2,    25.00,  -999.00,9,  -999.00,9,   1.5643,     1459
  49UP20130619,  P03W,    85,  1,      9,    108,2,20130813,1453, 24.2637, 161.5882, 2924,   2765.8,   1.5644,   1.5643,  34.6619,2,  34.6627,2,    132.1,2,   150.55,2,    37.33,2,     0.00,2,     2.63,2, -999.000,9, -999.000,9,   2339.2,2,   2420.9,2,   7.5485,2,    25.00,  -999.00,9,  -999.00,9,   1.5643,     1459
  49UP20130619,  P03W,    85,  1,      1,    997,2,20130813,1453, 24.2637, 161.5882, 2924,   2962.3,   1.5757,   1.5755,  34.6625,2,  34.6644,4,    132.8,2,   150.59,2,    37.23,2,     0.00,2,     2.63,2, -999.000,9, -999.000,9,   2336.2,2,   2423.1,2,   7.5527,2,    25.00,  -999.00,9,  -999.00,9,   1.5755,     1454