BOTTLE,20180830PRINUNIVRMK
EXPOCODE,SECT_ID,STNNBR,CASTNO,SAMPNO,BTLNBR,BTLNBR_FLAG_W,DATE,TIME,LATITUDE,LONGITUDE,DEPTH,CTDPRS,CTDTMP,SBE35,CTDSAL,CTDSAL_FLAG_W,SALNTY,SALNTY_FLAG_W,OXYGEN,OXYGEN_FLAG_W,SILCAT,SILCAT_FLAG_W,NITRAT,NITRAT_FLAG_W,NITRIT,NITRIT_FLAG_W,PHSPHT,PHSPHT_FLAG_W,CFC-11,CFC-11_FLAG_W,CFC-12,CFC-12_FLAG_W,TCARBN,TCARBN_FLAG_W,ALKALI,ALKALI_FLAG_W,PH_TOT,PH_TOT_FLAG_W,PH_TMP,CHLORA,CHLORA_FLAG_W,PPHYTN,PPHYTN_FLAG_W,SBE35,BTL_TIME
,,,,,,,,,,,METERS,DBAR,ITS-90,,PSS-78,,PSS-78,,UMOL/KG,,UMOL/KG,,UMOL/KG,,UMOL/KG,,UMOL/KG,,PMOL/KG,,PMOL/KG,,UMOL/KG,,UMOL/KG,,,,DEG C,UG/KG,,UG/KG,,,
  49UP20130619,  P03W,   103,  1,      0,   -999,0,20130901,1726, 24.2705, 175.1775, 5573,      0.0,  28.1419,-999.0000,  35.3441,2,-999.0000,9,    197.6,2,     0.96,2,     0.02,2,     0.00,2,     0.03,2, -999.000,9, -999.000,9,   -999.0,9,   -999.0,9,-999.0000,9,  -999.00,  -999.00,9,  -999.00,9,-999.0000,     1920
  49UP20130619,  P03W,   103,  1,     36,    109,2,20130901,1726, 24.2705, 175.1775, 5573,     10.1,  28.1461,  28.1458,  35.3436,2,-999.0000,9,    197.6,2,     0.94,2,     0.00,2,     0.00,2,     0.02,2, -999.000,9, -999.000,9,   -999.0,9,   -999.0,9,-999.0000,9,  -999.00,  -999.00,9,  -999.00,9,  28.1458,     1940
  49UP20130619,  P03W,   103,  1,     35,    112,2,20130901,1726, 24.2705, 175.1775, 5573,     50.0,  26.3600,  26.3195,  35.3997,2,-999.0000,9,    220.8,2,     1.17,2,     0.00,2,     0.00,2,     0.02,2, -999.000,9, -999.000,9,   -999.0,9,   -999.0,9,-999.0000,9,  -999.00,  -999.00,9,  -999.00,9,  26.3195,     1936
  49UP20130619,  P03W,   103,  1,     34,     83,2,20130901,1726, 24.2705, 175.1775, 5573,    100.6,  21.2028,  21.2034,  35.0842,2,-999.0000,9,    221.3,2,     1.73,2,     0.00,2,     0.00,2,     0.03,2, -999.000,9, -999.000,9,   -999.0,9,   -999.0,9,-999.0000,9,  -999.00,  -999.00,9,  -999.00,9,  21.2034,     1934
  49UP20130619,  P03W,   103,  1,     33,    517,2,20130901,1726, 24.2705, 175.1775, 5573,    153.1,  18.3899,  18.3841,  34.8014,2,-999.0000,9,    206.2,2,     2.82,2,     2.16,2,     0.02,2,     0.19,2, -999.000,9, -999.000,9,   -999.0,9,   -999.0,9,-999.0000,9,  -999.00,  -999.00,9,  -999.00,9,  18.3841,     1933
  49UP20130619,  P03W,   103,  1,     32,    105,2,20130901,1726, 24.2705, 175.1775, 5573,    201.4,  16.9641,  16.9597,  34.6795,2,-999.0000,9,    212.1,6,     3.89,6,     4.22,6,     0.01,6,     0.30,6, -999.000,9, -999.000,9,   -999.0,9,   -999.0,9,-999.0000,9,  -999.00,  -999.00,9,  -999.00,9,  16.9597,     1931
  49UP20130619,  P03W,   103,  1,     31,     76,2,20130901,1726, 24.2705, 175.1775, 5573,    251.8,  15.6518,  15.6528,  34.5821,2,-999.0000,9,    198.9,2,     6.53,2,     7.15,2,     0.01,2,     0.52,2, -999.000,9, -999.000,9,   -999.0,9,   -999.0,9,-999.0000,9,  -999.00,  -999.00,9,  -999.00,9,  15.6528,     1929
  49UP20130619,  P03W,   103,  1,     30,     97,2,20130901,1726, 24.2705, 175.1775, 5573,    332.4,  13.2499,  13.2516,  34.3876,2,-999.0000,9,    200.9,2,    11.02,2,    10.76,2,     0.00,2,     0.77,2, -999.000,9, -999.000,9,   -999.0,9,   -999.0,9,-999.0000,9,  -999.00,  -999.00,9,  -999.00,9,  13.2516,     1927
  49UP20130619,  P03W,   103,  1,     29,    102,2,20130901,1726, 24.2705, 175.1775, 5573,    433.7,  10.4677,  10.4712,  34.2054,2,-999.0000,9,    185.8,2,    21.67,2,    17.29,2,     0.00,2,     1.24,2, -999.000,9, -999.000,9,   -999.0,9,   -999.0,9,-999.0000,9,  -999.00,  -999.00,9,  -999.00,9,  10.4712,     1924
  49UP20130619,  P03W,   103,  1,     28,     91,2,20130901,1726, 24.2705, 175.1775, 5573,    533.9,   8.2653,   8.2654,  34.0952,2,  34.0950,2,    158.1,2,    37.60,2,    24.08,2,     0.00,2,     1.73,2, -999.000,9, -999.000,9,   -999.0,9,   -999.0,9,-999.0000,9,  -999.00,  -999.00,9,  -999.00,9,   8.2654,     1922
  49UP20130619,  P03W,   103,  1,     27,    998,2,20130901,1726, 24.2705, 175.1775, 5573,    533.9,   8.2653,   8.2654,  34.0952,2,  34.0947,2,    158.0,2,    37.75,2,    24.11,2,     0.00,2,     1.73,2, -999.000,9, -999.000,9,   -999.0,9,   -999.0,9,-999.0000,9,  -999.00,  -999.00,9,  -999.00,9,   8.2654,     1922
  49UP20130619,  P03W,   103,  1,     26,     84,2,20130901,1726, 24.2705, 175.1775, 5573,    635.3,   6.2417,   6.2442,  34.0983,2,-999.0000,9,     90.2,2,    64.28,2,    33.84,2,     0.00,2,     2.45,2, -999.000,9, -999.000,9,   -999.0,9,   -999.0,9,-999.0000,9,  -999.00,  -999.00,9,  -999.00,9,   6.2442,     1918
  49UP20130619,  P03W,   103,  1,     25,     98,2,20130901,1726, 24.2705, 175.1775, 5573,    734.4,   5.0918,   5.0911,  34.1590,2,-999.0000,9,     57.6,2,    85.48,2,    38.60,2,     0.00,2,     2.81,2, -999.000,9, -999.000,9,   -999.0,9,   -999.0,9,-999.0000,9,  -999.00,  -999.00,9,  -999.00,9,   5.0911,     1915
  49UP20130619,  P03W,   103,  1,     24,    110,2,20130901,1726, 24.2705, 175.1775, 5573,    836.6,   4.5372,   4.5375,  34.2783,2,-999.0000,9,     41.8,2,    99.15,2,    40.82,2,     0.00,2,     2.98,2, -999.000,9, -999.000,9,   -999.0,9,   -999.0,9,-999.0000,9,  -999.00,  -999.00,9,  -999.00,9,   4.5375,     1913
  49UP20130619,  P03W,   103,  1,     23,     96,2,20130901,1726, 24.2705, 175.1775, 5573,    936.7,   3.9898,   3.9890,  34.3545,2,-999.0000,9,     38.2,6,   112.49,6,    41.95,6,     0.00,6,     3.04,6, -999.000,9, -999.000,9,   -999.0,9,   -999.0,9,-999.0000,9,  -999.00,  -999.00,9,  -999.00,9,   3.9890,     1910
  49UP20130619,  P03W,   103,  1,     22,    111,2,20130901,1726, 24.2705, 175.1775, 5573,   1082.8,   3.5690,   3.5700,  34.4467,2,-999.0000,9,     46.8,2,   121.64,2,    41.76,2,     0.00,2,     3.02,2, -999.000,9, -999.000,9,   -999.0,9,   -999.0,9,-999.0000,9,  -999.00,  -999.00,9,  -999.00,9,   3.5700,     1907
  49UP20130619,  P03W,   103,  1,     21,     78,2,20130901,1726, 24.2705, 175.1775, 5573,   1282.9,   3.1330,   3.1329,  34.5194,2,-999.0000,9,     65.4,2,   129.22,2,    40.88,2,     0.00,2,     2.94,2, -999.000,9, -999.000,9,   -999.0,9,   -999.0,9,-999.0000,9,  -999.00,  -999.00,9,  -999.00,9,   3.1329,     1902
  49UP20130619,  P03W,   103,  1,     20,     93,2,20130901,1726, 24.2705, 175.1775, 5573,   1485.9,   2.7084,   2.7081,  34.5606,2,  34.5603,6,     76.2,2,   137.40,2,    40.42,2,     0.00,2,     2.90,2, -999.000,9, -999.000,9,   -999.0,9,   -999.0,9,-999.0000,9,  -999.00,  -999.00,9,  -999.00,9,   2.7081,     1858
  49UP20130619,  P03W,   103,  1,     19,     92,2,20130901,1726, 24.2705, 175.1775, 5573,   1688.4,   2.3890,   2.3889,  34.5855,2,  34.5850,2,     83.8,2,   144.10,2,    40.16,2,     0.00,2,     2.87,2, -999.000,9, -999.000,9,   -999.0,9,   -999.0,9,-999.0000,9,  -999.00,  -999.00,9,  -999.00,9,   2.3889,     1853
  49UP20130619,  P03W,   103,  1,     18,    101,2,20130901,1726, 24.2705, 175.1775, 5573,   1688.4,   2.3890,   2.3889,  34.5855,2,  34.5851,2,     83.4,2,   144.22,2,    40.22,2,     0.00,2,     2.87,2, -999.000,9, -999.000,9,   -999.0,9,   -999.0,9,-999.0000,9,  -999.00,  -999.00,9,  -999.00,9,   2.3889,     1853
  49UP20130619,  P03W,   103,  1,     17,     90,2,20130901,1726, 24.2705, 175.1775, 5573,   1890.8,   2.1105,   2.1103,  34.6064,2,-999.0000,9,     92.6,2,   149.72,2,    39.73,2,     0.00,2,     2.83,2, -999.000,9, -999.000,9,   -999.0,9,   -999.0,9,-999.0000,9,  -999.00,  -999.00,9,  -999.00,9,   2.1103,     1849
  49UP20130619,  P03W,   103,  1,     16,     89,2,20130901,1726, 24.2705, 175.1775, 5573,   2095.0,   1.8990,   1.8993,  34.6267,2,-999.0000,9,    102.5,2,   152.96,2,    39.20,2,     0.00,2,     2.78,2, -999.000,9, -999.000,9,   -999.0,9,   -999.0,9,-999.0000,9,  -999.00,  -999.00,9,  -999.00,9,   1.8993,     1844
  49UP20130619,  P03W,   103,  1,     15,     88,2,20130901,1726, 24.2705, 175.1775, 5573,   2297.5,   1.7904,   1.7903,  34.6377,2,-999.0000,9,    109.4,2,   154.22,2,    38.81,2,     0.00,2,     2.74,2, -999.000,9, -999.000,9,   -999.0,9,   -999.0,9,-999.0000,9,  -999.00,  -999.00,9,  -999.00,9,   1.7903,     1840
  49UP20130619,  P03W,   103,  1,     14,    999,2,20130901,1726, 24.2705, 175.1775, 5573,   2502.3,   1.7212,   1.7211,  34.6454,2,-999.0000,9,    114.6,6,   154.93,6,    38.47,6,     0.00,6,     2.72,6, -999.000,9, -999.000,9,   -999.0,9,   -999.0,9,-999.0000,9,  -999.00,  -999.00,9,  -999.00,9,   1.7211,     1835
  49UP20130619,  P03W,   103,  1,     13,    667,2,20130901,1726, 24.2705, 175.1775, 5573,   2705.2,   1.6534,   1.6534,  34.6537,2,  34.6542,2,    121.1,2,   155.01,2,    38.06,2,     0.00,2,     2.68,2, -999.000,9, -999.000,9,   -999.0,9,   -999.0,9,-999.0000,9,  -999.00,  -999.00,9,  -999.00,9,   1.6534,     1831
  49UP20130619,  P03W,   103,  1,     12,     74,2,20130901,1726, 24.2705, 175.1775, 5573,   2909.2,   1.5907,   1.5908,  34.6610,2,  34.6611,2,    127.6,2,   154.31,2,    37.63,2,     0.00,2,     2.65,2, -999.000,9, -999.000,9,   -999.0,9,   -999.0,9,-999.0000,9,  -999.00,  -999.00,9,  -999.00,9,   1.5908,     1826
  49UP20130619,  P03W,   103,  1,     11,    996,2,20130901,1726, 24.2705, 175.1775, 5573,   3122.3,   1.5413,   1.5412,  34.6679,2,  34.6681,2,    134.6,2,   152.04,2,    37.16,2,     0.00,2,     2.61,2, -999.000,9, -999.000,9,   -999.0,9,   -999.0,9,-999.0000,9,  -999.00,  -999.00,9,  -999.00,9,   1.5412,     1821
  49UP20130619,  P03W,   103,  1,     10,    107,2,20130901,1726, 24.2705, 175.1775, 5573,   3379.1,   1.5058,   1.5057,  34.6731,2,  34.6736,2,    140.7,2,   150.98,2,    36.76,2,     0.00,2,     2.59,4, -999.000,9, -999.000,9,   -999.0,9,   -999.0,9,-999.0000,9,  -999.00,  -999.00,9,  -999.00,9,   1.5057,     1816
  49UP20130619,  P03W,   103,  1,      9,    108,2,20130901,1726, 24.2705, 175.1775, 5573,   3634.2,   1.4799,   1.4798,  34.6775,2,  34.6782,2,    146.0,2,   149.33,2,    36.39,2,     0.00,2,     2.55,2, -999.000,9, -999.000,9,   -999.0,9,   -999.0,9,-999.0000,9,  -999.00,  -999.00,9,  -999.00,9,   1.4798,     1811
  49UP20130619,  P03W,   103,  1,      8,     81,2,20130901,1726, 24.2705, 175.1775, 5573,   3890.6,   1.4597,   1.4597,  34.6816,2,  34.6822,2,    151.6,2,   147.23,2,    36.00,2,     0.00,2,     2.52,2, -999.000,9, -999.000,9,   -999.0,9,   -999.0,9,-999.0000,9,  -999.00,  -999.00,9,  -999.00,9,   1.4597,     1805
  49UP20130619,  P03W,   103,  1,      7,    106,2,20130901,1726, 24.2705, 175.1775, 5573,   4146.2,   1.4405,   1.4404,  34.6854,2,  34.6858,2,    157.5,2,   144.83,2,    35.66,2,     0.00,2,     2.49,2, -999.000,9, -999.000,9,   -999.0,9,   -999.0,9,-999.0000,9,  -999.00,  -999.00,9,  -999.00,9,   1.4404,     1800
  49UP20130619,  P03W,   103,  1,      6,    113,2,20130901,1726, 24.2705, 175.1775, 5573,   4402.5,   1.4275,   1.4274,  34.6891,2,  34.6893,2,    163.4,2,   141.38,2,    35.22,2,     0.00,2,     2.46,2, -999.000,9, -999.000,9,   -999.0,9,   -999.0,9,-999.0000,9,  -999.00,  -999.00,9,  -999.00,9,   1.4274,     1754
  49UP20130619,  P03W,   103,  1,      5,     94,2,20130901,1726, 24.2705, 175.1775, 5573,   4660.3,   1.4198,   1.4198,  34.6923,2,  34.6925,2,    169.2,6,   137.67,6,    34.79,6,     0.00,6,     2.43,6, -999.000,9, -999.000,9,   -999.0,9,   -999.0,9,-999.0000,9,  -999.00,  -999.00,9,  -999.00,9,   1.4198,     1748
  49UP20130619,  P03W,   103,  1,      4,     77,2,20130901,1726, 24.2705, 175.1775, 5573,   4916.6,   1.4232,   1.4232,  34.6946,2,  34.6942,2,    173.2,2,   135.05,2,    34.51,2,     0.00,2,     2.41,2, -999.000,9, -999.000,9,   -999.0,9,   -999.0,9,-999.0000,9,  -999.00,  -999.00,9,  -999.00,9,   1.4232,     1743
  49UP20130619,  P03W,   103,  1,      3,    104,2,20130901,1726, 24.2705, 175.1775, 5573,   5175.3,   1.4336,   1.4336,  34.6963,2,  34.6955,2,    175.6,2,   133.62,2,    34.32,2,     0.00,2,     2.40,2, -999.000,9, -999.000,9,   -999.0,9,   -999.0,9,-999.0000,9,  -999.00,  -999.00,9,  -999.00,9,   1.4336,     1737
  49UP20130619,  P03W,   103,  1,      2,     75,2,20130901,1726, 24.2705, 175.1775, 5573,   5433.2,   1.4540,   1.4540,  34.6972,2,  34.6976,6,    178.0,2,   132.16,2,    34.15,2,     0.00,2,     2.38,2, -999.000,9, -999.000,9,   -999.0,9,   -999.0,9,-999.0000,9,  -999.00,  -999.00,9,  -999.00,9,   1.4540,     1732
  49UP20130619,  P03W,   103,  1,      1,    997,2,20130901,1726, 24.2705, 175.1775, 5573,   5699.0,   1.4805,   1.4803,  34.6978,2,  34.6975,2,    179.3,2,   131.74,2,    34.15,2,     0.00,2,     2.38,2, -999.000,9, -999.000,9,   -999.0,9,   -999.0,9,-999.0000,9,  -999.00,  -999.00,9,  -999.00,9,   1.4803,     1726