BOTTLE,20180830PRINUNIVRMK
EXPOCODE,SECT_ID,STNNBR,CASTNO,SAMPNO,BTLNBR,BTLNBR_FLAG_W,DATE,TIME,LATITUDE,LONGITUDE,DEPTH,CTDPRS,CTDTMP,SBE35,CTDSAL,CTDSAL_FLAG_W,SALNTY,SALNTY_FLAG_W,OXYGEN,OXYGEN_FLAG_W,SILCAT,SILCAT_FLAG_W,NITRAT,NITRAT_FLAG_W,NITRIT,NITRIT_FLAG_W,PHSPHT,PHSPHT_FLAG_W,CFC-11,CFC-11_FLAG_W,CFC-12,CFC-12_FLAG_W,TCARBN,TCARBN_FLAG_W,ALKALI,ALKALI_FLAG_W,PH_TOT,PH_TOT_FLAG_W,PH_TMP,CHLORA,CHLORA_FLAG_W,PPHYTN,PPHYTN_FLAG_W,SBE35,BTL_TIME
,,,,,,,,,,,METERS,DBAR,ITS-90,,PSS-78,,PSS-78,,UMOL/KG,,UMOL/KG,,UMOL/KG,,UMOL/KG,,UMOL/KG,,PMOL/KG,,PMOL/KG,,UMOL/KG,,UMOL/KG,,,,DEG C,UG/KG,,UG/KG,,,
  49UP20130619,  P03W,    87,  1,      0,   -999,0,20130814,0630, 24.2592, 163.2693, 5631,      0.0,  29.4856,-999.0000,  35.2047,2,  35.2059,2,    195.7,2,     1.00,2,     0.02,2,     0.00,2,     0.04,2, -999.000,9, -999.000,9,   1968.2,2,   2311.4,2,   8.1156,2,    25.00,     0.04,2,     0.01,2,-999.0000,      830
  49UP20130619,  P03W,    87,  1,     36,    109,2,20130814,0630, 24.2592, 163.2693, 5631,     10.3,  29.4544,  29.4569,  35.2205,2,  35.2299,4,    196.0,6,     1.02,6,     0.00,6,     0.00,6,     0.03,6, -999.000,9, -999.000,9,   1972.6,2,   2312.1,2,   8.1131,2,    25.00,     0.03,2,     0.01,2,  29.4569,      849
  49UP20130619,  P03W,    87,  1,     35,    112,2,20130814,0630, 24.2592, 163.2693, 5631,     52.2,  25.0874,  25.0843,  35.2446,2,  35.2402,2,    224.4,2,     1.19,2,     0.00,2,     0.00,2,     0.02,2, -999.000,9, -999.000,9,   1982.8,2,   2315.6,2,   8.1003,2,    25.00,     0.07,2,     0.02,2,  25.0843,      843
  49UP20130619,  P03W,    87,  1,     34,     83,2,20130814,0630, 24.2592, 163.2693, 5631,     99.9,  22.1441,  22.1452,  35.1167,2,  35.1173,2,    217.1,2,     1.59,2,     0.00,2,     0.00,2,     0.03,2, -999.000,9, -999.000,9,   2002.0,2,   2304.1,2,   8.0546,2,    25.00,     0.15,2,     0.08,2,  22.1452,      842
  49UP20130619,  P03W,    87,  1,     33,    517,2,20130814,0630, 24.2592, 163.2693, 5631,    151.8,  19.3615,  19.3424,  34.8698,2,  34.8823,4,    211.5,2,     2.23,2,     0.35,2,     0.09,2,     0.08,2, -999.000,9, -999.000,9,   2022.8,2,   2295.6,2,   8.0056,2,    25.00,     0.14,2,     0.31,2,  19.3424,      840
  49UP20130619,  P03W,    87,  1,     32,    105,2,20130814,0630, 24.2592, 163.2693, 5631,    201.0,  17.2614,  17.2603,  34.7004,2,  34.6995,2,    213.2,2,     3.59,2,     3.70,2,     0.01,2,     0.26,2, -999.000,9, -999.000,9,   2032.2,2,   2279.3,2,   7.9611,2,    25.00,     0.03,2,     0.09,2,  17.2603,      838
  49UP20130619,  P03W,    87,  1,     31,     76,2,20130814,0630, 24.2592, 163.2693, 5631,    253.2,  16.7108,  16.7060,  34.6754,2,  34.6755,2,    212.9,2,     4.46,2,     4.83,2,     0.00,2,     0.33,2, -999.000,9, -999.000,9,   2036.7,2,   2279.1,2,   7.9566,2,    25.00,  -999.00,9,  -999.00,9,  16.7060,      837
  49UP20130619,  P03W,    87,  1,     30,     97,2,20130814,0630, 24.2592, 163.2693, 5631,    332.2,  15.1610,  15.1572,  34.5495,2,  34.5442,2,    199.8,2,     8.18,2,     8.32,2,     0.00,2,     0.59,2, -999.000,9, -999.000,9,   2063.5,2,   2273.7,2,   7.8940,2,    25.00,  -999.00,9,  -999.00,9,  15.1572,      834
  49UP20130619,  P03W,    87,  1,     29,    102,2,20130814,0630, 24.2592, 163.2693, 5631,    432.1,  12.3774,  12.3776,  34.3484,2,  34.3480,2,    194.2,6,    15.56,6,    13.28,6,     0.00,6,     0.97,6, -999.000,9, -999.000,9,   2098.6,2,   2271.1,2,   7.8098,2,    25.00,  -999.00,9,  -999.00,9,  12.3776,      832
  49UP20130619,  P03W,    87,  1,     28,     91,2,20130814,0630, 24.2592, 163.2693, 5631,    534.3,   9.3646,   9.3184,  34.1511,2,  34.1519,2,    173.2,2,    30.54,2,    20.71,2,     0.00,2,     1.52,2, -999.000,9, -999.000,9,   2152.6,2,   2277.7,2,   7.6954,2,    25.00,  -999.00,9,  -999.00,9,   9.3184,      829
  49UP20130619,  P03W,    87,  1,     27,    998,2,20130814,0630, 24.2592, 163.2693, 5631,    634.5,   6.4393,   6.4375,  34.0469,2,  34.0458,2,    128.4,2,    57.26,2,    29.87,2,     0.00,2,     2.20,2, -999.000,9, -999.000,9,   2222.1,2,   2291.2,2,   7.5436,2,    25.00,  -999.00,9,  -999.00,9,   6.4375,      827
  49UP20130619,  P03W,    87,  1,     26,     84,2,20130814,0630, 24.2592, 163.2693, 5631,    736.0,   5.3962,   5.3964,  34.1407,2,  34.1546,4,     69.1,2,    79.43,2,    37.06,2,     0.00,2,     2.71,2, -999.000,9, -999.000,9,   2284.1,2,   2314.9,2,   7.4260,2,    25.00,  -999.00,9,  -999.00,9,   5.3964,      824
  49UP20130619,  P03W,    87,  1,     25,     98,2,20130814,0630, 24.2592, 163.2693, 5631,    837.3,   4.9042,   4.9039,  34.2711,2,  34.2760,4,     49.3,2,    92.42,2,    39.81,2,     0.00,2,     2.91,2, -999.000,9, -999.000,9,   2314.8,2,   2334.0,2,   7.4009,2,    25.00,  -999.00,9,  -999.00,9,   4.9039,      821
  49UP20130619,  P03W,    87,  1,     24,    110,2,20130814,0630, 24.2592, 163.2693, 5631,    837.3,   4.9042,   4.9039,  34.2711,2,  34.2750,4,     49.3,2,    92.36,2,    39.79,2,     0.00,2,     2.91,2, -999.000,9, -999.000,9,   2312.4,2,   2334.6,2,   7.3965,2,    25.00,  -999.00,9,  -999.00,9,   4.9039,      821
  49UP20130619,  P03W,    87,  1,     23,     96,2,20130814,0630, 24.2592, 163.2693, 5631,    938.6,   4.3955,   4.3953,  34.3440,2,  34.3463,2,     46.6,2,   102.90,2,    40.73,2,     0.00,2,     2.97,2, -999.000,9, -999.000,9,   2322.1,2,   2350.2,2,   7.3973,2,    25.00,  -999.00,9,  -999.00,9,   4.3953,      819
  49UP20130619,  P03W,    87,  1,     22,    111,3,20130814,0630, 24.2592, 163.2693, 5631,   1081.0,   3.7443,   3.7443,  34.4273,2,  34.4273,2,     50.5,2,   117.48,2,    41.21,2,     0.00,2,     2.98,2, -999.000,9, -999.000,9,   2342.9,6,   2368.8,6,   7.4070,2,    25.00,  -999.00,9,  -999.00,9,   3.7443,      815
  49UP20130619,  P03W,    87,  1,     21,     78,2,20130814,0630, 24.2592, 163.2693, 5631,   1283.0,   3.0948,   3.0948,  34.5012,2,  34.5016,2,     62.4,2,   131.48,2,    40.97,2,     0.00,2,     2.95,2, -999.000,9, -999.000,9,   2353.5,2,   2387.8,2,   7.4274,6,    25.00,  -999.00,9,  -999.00,9,   3.0948,      811
  49UP20130619,  P03W,    87,  1,     20,     93,2,20130814,0630, 24.2592, 163.2693, 5631,   1484.5,   2.6449,   2.6453,  34.5475,2,  34.5481,6,     75.5,2,   139.81,2,    40.46,2,     0.00,2,     2.91,2, -999.000,9, -999.000,9,   2360.0,2,   2398.2,2,   7.4517,2,    25.00,  -999.00,9,  -999.00,9,   2.6453,      806
  49UP20130619,  P03W,    87,  1,     19,     92,2,20130814,0630, 24.2592, 163.2693, 5631,   1687.7,   2.3050,   2.3051,  34.5823,2,  34.5823,2,     87.8,2,   145.00,2,    39.82,2,     0.00,2,     2.85,2, -999.000,9, -999.000,9,   2353.3,2,   2406.1,2,   7.4728,2,    25.00,  -999.00,9,  -999.00,9,   2.3051,      802
  49UP20130619,  P03W,    87,  1,     18,    101,2,20130814,0630, 24.2592, 163.2693, 5631,   1889.5,   2.1161,   2.1161,  34.6017,2,  34.6016,2,     95.6,2,   148.12,2,    39.48,2,     0.00,2,     2.82,2, -999.000,9, -999.000,9,   2353.6,2,   2410.1,2,   7.4834,2,    25.00,  -999.00,9,  -999.00,9,   2.1161,      757
  49UP20130619,  P03W,    87,  1,     17,     90,2,20130814,0630, 24.2592, 163.2693, 5631,   2093.4,   1.9478,   1.9474,  34.6203,2,  34.6201,2,    103.9,2,   150.29,2,    39.07,2,     0.00,2,     2.78,2, -999.000,9, -999.000,9,   2350.3,2,   2415.1,2,   7.5031,2,    25.00,  -999.00,9,  -999.00,9,   1.9474,      753
  49UP20130619,  P03W,    87,  1,     16,     89,2,20130814,0630, 24.2592, 163.2693, 5631,   2297.5,   1.8278,   1.8279,  34.6335,2,  34.6338,2,    110.6,2,   151.82,2,    38.61,2,     0.00,2,     2.76,2, -999.000,9, -999.000,9,   2351.2,2,   2419.0,2,   7.5166,2,    25.00,  -999.00,9,  -999.00,9,   1.8279,      748
  49UP20130619,  P03W,    87,  1,     15,     88,2,20130814,0630, 24.2592, 163.2693, 5631,   2501.0,   1.7368,   1.7362,  34.6443,2,  34.6425,2,    116.6,2,   152.11,2,    38.24,2,     0.00,2,     2.72,2, -999.000,9, -999.000,9,   2346.9,2,   2418.8,2,   7.5266,2,    25.00,  -999.00,9,  -999.00,9,   1.7362,      743
  49UP20130619,  P03W,    87,  1,     14,    999,2,20130814,0630, 24.2592, 163.2693, 5631,   2704.5,   1.6684,   1.6681,  34.6527,2,  34.6520,2,    122.5,2,   152.67,2,    37.89,2,     0.00,2,     2.69,2, -999.000,9, -999.000,9,   2341.1,6,   2418.8,6,   7.5323,2,    25.00,  -999.00,9,  -999.00,9,   1.6681,      739
  49UP20130619,  P03W,    87,  1,     13,    667,2,20130814,0630, 24.2592, 163.2693, 5631,   2908.7,   1.6114,   1.6112,  34.6594,2,  34.6592,2,    127.4,2,   153.06,2,    37.59,2,     0.00,2,     2.67,2, -999.000,9, -999.000,9,   2343.8,2,   2420.2,2,   7.5483,6,    25.00,  -999.00,9,  -999.00,9,   1.6112,      734
  49UP20130619,  P03W,    87,  1,     12,     74,2,20130814,0630, 24.2592, 163.2693, 5631,   3122.7,   1.5586,   1.5585,  34.6666,2,  34.6656,6,    134.5,2,   152.15,2,    37.21,2,     0.00,2,     2.64,2, -999.000,9, -999.000,9,   2336.5,2,   2419.2,2,   7.5537,2,    25.00,  -999.00,9,  -999.00,9,   1.5585,      729
  49UP20130619,  P03W,    87,  1,     11,    996,2,20130814,0630, 24.2592, 163.2693, 5631,   3377.8,   1.5211,   1.5212,  34.6723,2,  34.6698,4,    138.2,4,   151.20,2,    36.90,2,     0.00,2,     2.61,2, -999.000,9, -999.000,9,   2335.7,2,   2420.9,2,   7.5595,2,    25.00,  -999.00,9,  -999.00,9,   1.5212,      723
  49UP20130619,  P03W,    87,  1,     10,    107,2,20130814,0630, 24.2592, 163.2693, 5631,   3377.8,   1.5211,   1.5212,  34.6723,2,  34.6708,2,    139.1,2,   151.17,2,    36.79,2,     0.00,2,     2.60,2, -999.000,9, -999.000,9,   2335.4,2,   2421.0,2,   7.5648,2,    25.00,  -999.00,9,  -999.00,9,   1.5212,      723
  49UP20130619,  P03W,    87,  1,      9,    108,2,20130814,0630, 24.2592, 163.2693, 5631,   3634.6,   1.5006,   1.5007,  34.6765,2,  34.6761,2,    144.5,6,   149.96,6,    36.46,6,     0.00,6,     2.58,6, -999.000,9, -999.000,9,   2331.4,2,   2419.1,2,   7.5688,2,    25.00,  -999.00,9,  -999.00,9,   1.5007,      717
  49UP20130619,  P03W,    87,  1,      8,     81,2,20130814,0630, 24.2592, 163.2693, 5631,   3890.4,   1.4839,   1.4839,  34.6804,2,  34.6790,2,    149.3,2,   148.10,2,    36.06,2,     0.00,2,     2.55,2, -999.000,9, -999.000,9,   -999.0,9,   -999.0,9,-999.0000,9,  -999.00,  -999.00,9,  -999.00,9,   1.4839,      712
  49UP20130619,  P03W,    87,  1,      7,    106,2,20130814,0630, 24.2592, 163.2693, 5631,   4145.7,   1.4652,   1.4654,  34.6845,2,  34.6838,2,    155.2,2,   145.41,2,    35.72,2,     0.00,2,     2.52,2, -999.000,9, -999.000,9,   2318.3,3,   2417.1,2,   7.5862,2,    25.00,  -999.00,9,  -999.00,9,   1.4654,      706
  49UP20130619,  P03W,    87,  1,      6,    113,2,20130814,0630, 24.2592, 163.2693, 5631,   4402.9,   1.4566,   1.4568,  34.6876,2,  34.6864,2,    160.1,2,   142.81,2,    35.39,2,     0.00,2,     2.50,2, -999.000,9, -999.000,9,   -999.0,9,   -999.0,9,-999.0000,9,  -999.00,  -999.00,9,  -999.00,9,   1.4568,      700
  49UP20130619,  P03W,    87,  1,      5,     94,2,20130814,0630, 24.2592, 163.2693, 5631,   4659.4,   1.4520,   1.4520,  34.6904,2,  34.6901,6,    164.9,2,   140.35,2,    35.03,2,     0.00,2,     2.47,2, -999.000,9, -999.000,9,   2312.9,2,   2411.6,2,   7.5972,2,    25.00,  -999.00,9,  -999.00,9,   1.4520,      655
  49UP20130619,  P03W,    87,  1,      4,     77,2,20130814,0630, 24.2592, 163.2693, 5631,   4917.0,   1.4526,   1.4527,  34.6930,2,  34.6924,2,    169.3,3,   137.63,2,    34.72,2,     0.00,2,     2.45,2, -999.000,9, -999.000,9,   -999.0,9,   -999.0,9,-999.0000,9,  -999.00,  -999.00,9,  -999.00,9,   1.4527,      649
  49UP20130619,  P03W,    87,  1,      3,    104,2,20130814,0630, 24.2592, 163.2693, 5631,   5174.4,   1.4559,   1.4561,  34.6951,2,  34.6947,2,    173.4,2,   135.26,2,    34.41,2,     0.00,2,     2.43,2, -999.000,9, -999.000,9,   2303.9,2,   2403.0,2,   7.6076,2,    25.00,  -999.00,9,  -999.00,9,   1.4561,      644
  49UP20130619,  P03W,    87,  1,      2,     75,2,20130814,0630, 24.2592, 163.2693, 5631,   5432.7,   1.4734,   1.4734,  34.6962,2,  34.6960,2,    175.6,6,   133.83,6,    34.26,6,     0.00,6,     2.41,6, -999.000,9, -999.000,9,   -999.0,9,   -999.0,9,-999.0000,9,  -999.00,  -999.00,9,  -999.00,9,   1.4734,      637
  49UP20130619,  P03W,    87,  1,      1,    997,2,20130814,0630, 24.2592, 163.2693, 5631,   5764.8,   1.5026,   1.5027,  34.6972,2,  34.6972,2,    177.3,2,   132.63,2,    34.12,2,     0.00,2,     2.40,2, -999.000,9, -999.000,9,   2300.9,2,   2400.7,2,   7.6076,2,    25.00,  -999.00,9,  -999.00,9,   1.5027,      630