BOTTLE,20180830PRINUNIVRMK
EXPOCODE,SECT_ID,STNNBR,CASTNO,SAMPNO,BTLNBR,BTLNBR_FLAG_W,DATE,TIME,LATITUDE,LONGITUDE,DEPTH,CTDPRS,CTDTMP,SBE35,CTDSAL,CTDSAL_FLAG_W,SALNTY,SALNTY_FLAG_W,OXYGEN,OXYGEN_FLAG_W,SILCAT,SILCAT_FLAG_W,NITRAT,NITRAT_FLAG_W,NITRIT,NITRIT_FLAG_W,PHSPHT,PHSPHT_FLAG_W,CFC-11,CFC-11_FLAG_W,CFC-12,CFC-12_FLAG_W,TCARBN,TCARBN_FLAG_W,ALKALI,ALKALI_FLAG_W,PH_TOT,PH_TOT_FLAG_W,PH_TMP,CHLORA,CHLORA_FLAG_W,PPHYTN,PPHYTN_FLAG_W,SBE35,BTL_TIME
,,,,,,,,,,,METERS,DBAR,ITS-90,,PSS-78,,PSS-78,,UMOL/KG,,UMOL/KG,,UMOL/KG,,UMOL/KG,,UMOL/KG,,PMOL/KG,,PMOL/KG,,UMOL/KG,,UMOL/KG,,,,DEG C,UG/KG,,UG/KG,,,
  49UP20130619,  P03W,   110,  1,      0,   -999,0,20130904,0227, 25.0213, 178.9782, 5537,      0.0,  28.4407,-999.0000,  35.5103,2,  35.5120,2,    198.0,2,     0.93,2,     0.01,2,     0.00,2,     0.03,2, -999.000,9, -999.000,9,   1983.5,2,   2331.9,2,   8.0979,2,    25.00,     0.07,2,     0.02,2,-999.0000,      425
  49UP20130619,  P03W,   110,  1,     36,    109,2,20130904,0227, 25.0213, 178.9782, 5537,     10.8,  28.4343,  28.4289,  35.5115,2,  35.5129,2,    198.4,2,     0.84,2,     0.03,2,     0.00,2,     0.03,2, -999.000,9, -999.000,9,   1985.1,2,   2333.0,2,   8.1156,2,    25.00,     0.07,2,     0.02,2,  28.4289,      440
  49UP20130619,  P03W,   110,  1,     35,    112,2,20130904,0227, 25.0213, 178.9782, 5537,     50.4,  25.6270,  25.6205,  35.3525,2,  35.3535,2,    226.4,2,     1.17,2,     0.00,2,     0.00,2,     0.02,2, -999.000,9, -999.000,9,   1992.2,2,   2320.7,2,   8.0924,2,    25.00,     0.13,2,     0.05,2,  25.6205,      437
  49UP20130619,  P03W,   110,  1,     34,     83,2,20130904,0227, 25.0213, 178.9782, 5537,     99.7,  22.7890,  22.7881,  35.3281,2,  35.3282,2,    207.2,2,     1.20,2,     0.00,2,     0.00,2,     0.07,2, -999.000,9, -999.000,9,   2022.0,2,   2323.2,2,   8.0456,2,    25.00,     0.19,2,     0.30,2,  22.7881,      435
  49UP20130619,  P03W,   110,  1,     33,    517,2,20130904,0227, 25.0213, 178.9782, 5537,    151.1,  20.0517,  20.0437,  35.0566,2,  35.0581,2,    189.7,2,     2.45,2,     2.65,2,     0.02,2,     0.25,2, -999.000,9, -999.000,9,   2057.9,2,   2306.1,2,   7.9631,2,    25.00,     0.05,2,     0.08,2,  20.0437,      434
  49UP20130619,  P03W,   110,  1,     32,    105,2,20130904,0227, 25.0213, 178.9782, 5537,    200.7,  17.3710,  17.3669,  34.7419,2,  34.7363,2,    190.3,2,     4.48,2,     5.25,2,     0.01,2,     0.42,2, -999.000,9, -999.000,9,   2066.1,6,   2284.9,6,   7.9079,2,    25.00,     0.00,2,     0.01,2,  17.3669,      432
  49UP20130619,  P03W,   110,  1,     31,     76,2,20130904,0227, 25.0213, 178.9782, 5537,    251.3,  15.4889,  15.4837,  34.5577,2,  34.5576,2,    201.9,2,     6.45,2,     7.02,2,     0.00,2,     0.51,2, -999.000,9, -999.000,9,   2058.9,2,   2273.7,2,   7.8965,6,    25.00,  -999.00,9,  -999.00,9,  15.4837,      431
  49UP20130619,  P03W,   110,  1,     30,     97,2,20130904,0227, 25.0213, 178.9782, 5537,    281.4,  14.5707,  14.5730,  34.4821,2,  34.4838,6,    202.1,6,     7.98,6,     8.39,6,     0.00,6,     0.60,6, -999.000,9, -999.000,9,   2070.1,2,   2270.9,2,   7.8769,2,    25.00,  -999.00,9,  -999.00,9,  14.5730,      429
  49UP20130619,  P03W,   110,  1,     29,    102,2,20130904,0227, 25.0213, 178.9782, 5537,    372.2,  12.0804,  12.0807,  34.2986,2,  34.2999,2,    199.2,2,    14.12,2,    12.92,2,     0.00,2,     0.93,2, -999.000,9, -999.000,9,   2099.8,2,   2264.1,2,   7.8059,2,    25.00,  -999.00,9,  -999.00,9,  12.0807,      427
  49UP20130619,  P03W,   110,  1,     28,     91,2,20130904,0227, 25.0213, 178.9782, 5537,    476.1,   9.5402,   9.5762,  34.1501,2,  34.1584,4,    183.2,2,    25.61,2,    19.01,2,     0.00,2,     1.36,2, -999.000,9, -999.000,9,   2139.6,2,   2270.0,2,   7.7148,2,    25.00,  -999.00,9,  -999.00,9,   9.5762,      424
  49UP20130619,  P03W,   110,  1,     27,    998,2,20130904,0227, 25.0213, 178.9782, 5537,    574.2,   7.3974,   7.4010,  34.0657,2,  34.0666,2,    139.6,2,    46.89,2,    27.37,2,     0.00,2,     1.97,2, -999.000,9, -999.000,9,   2201.7,2,   2283.8,2,   7.5833,2,    25.00,  -999.00,9,  -999.00,9,   7.4010,      421
  49UP20130619,  P03W,   110,  1,     26,     84,2,20130904,0227, 25.0213, 178.9782, 5537,    675.1,   5.8446,   5.8430,  34.0951,2,  34.0964,2,     84.0,2,    70.53,2,    35.11,2,     0.00,2,     2.54,2, -999.000,9, -999.000,9,   2263.8,2,   2303.5,2,   7.4528,2,    25.00,  -999.00,9,  -999.00,9,   5.8430,      419
  49UP20130619,  P03W,   110,  1,     25,     98,2,20130904,0227, 25.0213, 178.9782, 5537,    777.3,   4.8832,   4.8829,  34.1757,2,  34.1760,2,     52.8,2,    89.88,2,    39.32,2,     0.00,2,     2.85,2, -999.000,9, -999.000,9,   2309.5,2,   2330.9,2,   7.3851,2,    25.00,  -999.00,9,  -999.00,9,   4.8829,      416
  49UP20130619,  P03W,   110,  1,     24,    110,2,20130904,0227, 25.0213, 178.9782, 5537,    877.8,   4.2960,   4.2982,  34.2686,2,  34.2685,2,     36.5,2,   104.73,2,    41.57,2,     0.00,2,     3.01,2, -999.000,9, -999.000,9,   2334.3,6,   2343.4,6,   7.3611,2,    25.00,  -999.00,9,  -999.00,9,   4.2982,      414
  49UP20130619,  P03W,   110,  1,     23,     96,2,20130904,0227, 25.0213, 178.9782, 5537,    978.9,   3.9118,   3.9118,  34.3375,2,  34.3381,2,     35.1,2,   114.15,2,    42.11,2,     0.00,2,     3.05,2, -999.000,9, -999.000,9,   2346.9,2,   2355.8,2,   7.3626,6,    25.00,  -999.00,9,  -999.00,9,   3.9118,      411
  49UP20130619,  P03W,   110,  1,     22,    111,2,20130904,0227, 25.0213, 178.9782, 5537,   1140.4,   3.3511,   3.3509,  34.4438,2,  34.4443,2,     41.8,2,   128.34,2,    42.40,2,     0.00,2,     3.05,2, -999.000,9, -999.000,9,   2359.2,2,   2377.1,2,   7.3817,2,    25.00,  -999.00,9,  -999.00,9,   3.3509,      407
  49UP20130619,  P03W,   110,  1,     21,     78,2,20130904,0227, 25.0213, 178.9782, 5537,   1343.6,   2.8905,   2.8900,  34.5266,2,  34.5243,6,     62.1,6,   135.96,6,    41.27,6,     0.00,6,     2.96,6, -999.000,9, -999.000,9,   2356.5,2,   2390.7,2,   7.4264,2,    25.00,  -999.00,9,  -999.00,9,   2.8900,      403
  49UP20130619,  P03W,   110,  1,     20,     93,2,20130904,0227, 25.0213, 178.9782, 5537,   1545.4,   2.5442,   2.5441,  34.5696,2,  34.5697,2,     76.8,2,   141.72,2,    40.52,2,     0.00,2,     2.89,2, -999.000,9, -999.000,9,   2356.1,2,   2399.4,2,   7.4537,2,    25.00,  -999.00,9,  -999.00,9,   2.5441,      358
  49UP20130619,  P03W,   110,  1,     19,     92,3,20130904,0227, 25.0213, 178.9782, 5537,   1749.2,   2.2567,   2.2569,  34.5977,2,  34.5983,2,     87.7,2,   146.88,2,    40.00,2,     0.00,2,     2.84,2, -999.000,9, -999.000,9,   2356.8,2,   2407.2,2,   7.4734,2,    25.00,  -999.00,9,  -999.00,9,   2.2569,      354
  49UP20130619,  P03W,   110,  1,     18,    101,2,20130904,0227, 25.0213, 178.9782, 5537,   1951.1,   2.0256,   2.0256,  34.6162,2,  34.6172,2,     95.8,2,   151.94,2,    39.57,2,     0.00,2,     2.80,2, -999.000,9, -999.000,9,   2357.6,2,   2413.2,2,   7.4879,2,    25.00,  -999.00,9,  -999.00,9,   2.0256,      349
  49UP20130619,  P03W,   110,  1,     17,     90,2,20130904,0227, 25.0213, 178.9782, 5537,   2154.0,   1.8769,   1.8766,  34.6283,2,  34.6287,2,    102.3,2,   154.77,2,    39.21,2,     0.00,2,     2.77,2, -999.000,9, -999.000,9,   2361.4,3,   2416.8,2,   7.4993,2,    25.00,  -999.00,9,  -999.00,9,   1.8766,      345
  49UP20130619,  P03W,   110,  1,     16,     89,2,20130904,0227, 25.0213, 178.9782, 5537,   2359.1,   1.7814,   1.7815,  34.6382,2,  34.6391,2,    108.9,2,   155.71,2,    38.84,2,     0.00,2,     2.74,2, -999.000,9, -999.000,9,   2353.1,2,   2417.5,2,   7.5091,2,    25.00,  -999.00,9,  -999.00,9,   1.7815,      340
  49UP20130619,  P03W,   110,  1,     15,     88,2,20130904,0227, 25.0213, 178.9782, 5537,   2562.8,   1.6892,   1.6899,  34.6480,2,  34.6476,2,    116.1,2,   156.14,2,    38.35,2,     0.00,2,     2.70,2, -999.000,9, -999.000,9,   2352.4,6,   2419.2,6,   7.5241,2,    25.00,  -999.00,9,  -999.00,9,   1.6899,      336
  49UP20130619,  P03W,   110,  1,     14,    999,2,20130904,0227, 25.0213, 178.9782, 5537,   2766.8,   1.6242,   1.6246,  34.6559,2,  34.6556,2,    122.0,2,   155.70,2,    37.94,2,     0.00,2,     2.67,2, -999.000,9, -999.000,9,   2348.9,2,   2419.9,2,   7.5339,6,    25.00,  -999.00,9,  -999.00,9,   1.6246,      331
  49UP20130619,  P03W,   110,  1,     13,    667,2,20130904,0227, 25.0213, 178.9782, 5537,   2971.7,   1.5744,   1.5747,  34.6622,2,  34.6622,2,    127.9,2,   154.93,2,    37.50,2,     0.00,2,     2.63,2, -999.000,9, -999.000,9,   2342.2,2,   2420.6,2,   7.5450,2,    25.00,  -999.00,9,  -999.00,9,   1.5747,      325
  49UP20130619,  P03W,   110,  1,     12,     74,2,20130904,0227, 25.0213, 178.9782, 5537,   3216.1,   1.5312,   1.5313,  34.6687,2,  34.6686,2,    134.6,6,   153.82,6,    37.15,6,     0.00,6,     2.60,6, -999.000,9, -999.000,9,   2341.0,2,   2419.6,2,   7.5540,2,    25.00,  -999.00,9,  -999.00,9,   1.5313,      320
  49UP20130619,  P03W,   110,  1,     11,    996,2,20130904,0227, 25.0213, 178.9782, 5537,   3470.3,   1.4999,   1.4998,  34.6737,2,  34.6729,2,    139.4,3,   152.55,2,    36.79,2,     0.00,2,     2.57,2, -999.000,9, -999.000,9,   2336.8,2,   2419.3,2,   7.5648,2,    25.00,  -999.00,9,  -999.00,9,   1.4998,      314
  49UP20130619,  P03W,   110,  1,     10,    107,2,20130904,0227, 25.0213, 178.9782, 5537,   3726.5,   1.4771,   1.4771,  34.6783,2,  34.6783,2,    145.6,2,   150.76,2,    36.44,2,     0.00,2,     2.54,2, -999.000,9, -999.000,9,   2330.0,2,   2418.7,2,   7.5748,2,    25.00,  -999.00,9,  -999.00,9,   1.4771,      308
  49UP20130619,  P03W,   110,  1,      9,    108,2,20130904,0227, 25.0213, 178.9782, 5537,   3982.7,   1.4621,   1.4620,  34.6820,2,  34.6833,2,    150.8,2,   149.20,2,    36.06,2,     0.00,2,     2.51,2, -999.000,9, -999.000,9,   2329.2,2,   2417.7,2,   7.5793,2,    25.00,  -999.00,9,  -999.00,9,   1.4620,      303
  49UP20130619,  P03W,   110,  1,      8,     81,2,20130904,0227, 25.0213, 178.9782, 5537,   4239.3,   1.4556,   1.4555,  34.6851,2,  34.6854,2,    155.8,2,   146.56,2,    35.80,2,     0.00,2,     2.49,2, -999.000,9, -999.000,9,   2321.3,2,   2416.7,2,   7.5871,2,    25.00,  -999.00,9,  -999.00,9,   1.4555,      257
  49UP20130619,  P03W,   110,  1,      7,    106,2,20130904,0227, 25.0213, 178.9782, 5537,   4496.1,   1.4514,   1.4513,  34.6879,2,  34.6878,2,    160.5,2,   143.76,2,    35.40,2,     0.00,2,     2.47,2, -999.000,9, -999.000,9,   2315.6,2,   2412.4,2,   7.5935,2,    25.00,  -999.00,9,  -999.00,9,   1.4513,      252
  49UP20130619,  P03W,   110,  1,      6,    113,3,20130904,0227, 25.0213, 178.9782, 5537,   4753.2,   1.4476,   1.4474,  34.6909,2,  34.6908,2,    166.0,2,   140.14,2,    35.03,2,     0.00,2,     2.43,2, -999.000,9, -999.000,9,   2314.5,2,   2408.0,2,   7.5990,2,    25.00,  -999.00,9,  -999.00,9,   1.4474,      246
  49UP20130619,  P03W,   110,  1,      5,     94,2,20130904,0227, 25.0213, 178.9782, 5537,   5009.9,   1.4481,   1.4481,  34.6936,2,  34.6941,6,    170.6,2,   136.91,2,    34.71,2,     0.00,2,     2.41,2, -999.000,9, -999.000,9,   2309.9,2,   2406.0,2,   7.6031,2,    25.00,  -999.00,9,  -999.00,9,   1.4481,      241
  49UP20130619,  P03W,   110,  1,      4,     77,2,20130904,0227, 25.0213, 178.9782, 5537,   5268.0,   1.4628,   1.4627,  34.6953,2,  34.6970,4,    173.6,2,   134.81,2,    34.44,2,     0.00,2,     2.39,2, -999.000,9, -999.000,9,   2305.2,2,   2402.6,2,   7.6076,2,    25.00,  -999.00,9,  -999.00,9,   1.4627,      235
  49UP20130619,  P03W,   110,  1,      3,    104,2,20130904,0227, 25.0213, 178.9782, 5537,   5525.2,   1.4844,   1.4842,  34.6959,2,  34.6968,2,    175.6,6,   133.75,6,    34.39,6,     0.00,6,     2.38,6, -999.000,9, -999.000,9,   2301.8,2,   2400.6,2,   7.6066,2,    25.00,  -999.00,9,  -999.00,9,   1.4842,      230
  49UP20130619,  P03W,   110,  1,      2,     75,2,20130904,0227, 25.0213, 178.9782, 5537,   5567.5,   1.4877,   1.4875,  34.6962,2,  34.6978,4,    175.9,2,   133.46,2,    34.34,2,     0.00,2,     2.38,2, -999.000,9, -999.000,9,   2301.7,2,   2399.2,2,   7.6084,2,    25.00,  -999.00,9,  -999.00,9,   1.4875,      228
  49UP20130619,  P03W,   110,  1,      1,    997,2,20130904,0227, 25.0213, 178.9782, 5537,   5567.6,   1.4873,   1.4872,  34.6963,2,  34.6967,2,    175.4,2,   133.67,2,    34.39,2,     0.00,2,     2.39,2, -999.000,9, -999.000,9,   2300.6,2,   2399.9,2,   7.6079,2,    25.00,  -999.00,9,  -999.00,9,   1.4872,      228