BOTTLE,20180830PRINUNIVRMK
EXPOCODE,SECT_ID,STNNBR,CASTNO,SAMPNO,BTLNBR,BTLNBR_FLAG_W,DATE,TIME,LATITUDE,LONGITUDE,DEPTH,CTDPRS,CTDTMP,SBE35,CTDSAL,CTDSAL_FLAG_W,SALNTY,SALNTY_FLAG_W,OXYGEN,OXYGEN_FLAG_W,SILCAT,SILCAT_FLAG_W,NITRAT,NITRAT_FLAG_W,NITRIT,NITRIT_FLAG_W,PHSPHT,PHSPHT_FLAG_W,CFC-11,CFC-11_FLAG_W,CFC-12,CFC-12_FLAG_W,TCARBN,TCARBN_FLAG_W,ALKALI,ALKALI_FLAG_W,PH_TOT,PH_TOT_FLAG_W,PH_TMP,CHLORA,CHLORA_FLAG_W,PPHYTN,PPHYTN_FLAG_W,SBE35,BTL_TIME
,,,,,,,,,,,METERS,DBAR,ITS-90,,PSS-78,,PSS-78,,UMOL/KG,,UMOL/KG,,UMOL/KG,,UMOL/KG,,UMOL/KG,,PMOL/KG,,PMOL/KG,,UMOL/KG,,UMOL/KG,,,,DEG C,UG/KG,,UG/KG,,,
  49UP20130619,  P03W,    66,  1,      0,   -999,0,20130807,1140, 24.2442, 146.0613, 5706,      0.0,  29.4218,-999.0000,  34.8561,2,  34.8426,2,    195.9,2,     1.19,2,     0.00,2,     0.00,2,     0.04,2, -999.000,9, -999.000,9,   1960.2,2,   2290.2,2,   8.0991,2,    25.00,     0.04,2,     0.01,2,-999.0000,     1338
  49UP20130619,  P03W,    66,  1,     36,    109,2,20130807,1140, 24.2442, 146.0613, 5706,     10.4,  29.4340,  29.4331,  34.8554,2,  34.8542,2,    195.9,2,     1.24,2,     0.00,2,     0.00,2,     0.02,2, -999.000,9, -999.000,9,   1964.0,2,   2292.5,2,   8.0970,2,    25.00,     0.04,2,     0.01,2,  29.4331,     1352
  49UP20130619,  P03W,    66,  1,     35,    112,2,20130807,1140, 24.2442, 146.0613, 5706,     52.8,  25.3388,  25.3377,  34.8990,2,  34.9016,2,    224.5,2,     1.39,2,     0.02,2,     0.00,2,     0.02,2, -999.000,9, -999.000,9,   1973.3,2,   2297.7,2,   8.0820,2,    25.00,     0.05,2,     0.01,2,  25.3377,     1348
  49UP20130619,  P03W,    66,  1,     34,     83,2,20130807,1140, 24.2442, 146.0613, 5706,    101.0,  20.4073,  20.4047,  34.8467,2,  34.8512,2,    225.0,2,     1.78,2,     0.01,2,     0.00,2,     0.03,2, -999.000,9, -999.000,9,   2004.8,2,   2295.2,2,   8.0384,2,    25.00,     0.16,2,     0.17,2,  20.4047,     1346
  49UP20130619,  P03W,    66,  1,     33,     86,2,20130807,1140, 24.2442, 146.0613, 5706,    148.7,  18.7134,  18.6964,  34.8271,2,  34.8222,2,    198.2,2,     2.90,2,     3.05,2,     0.01,2,     0.23,2, -999.000,9, -999.000,9,   2033.3,2,   2292.2,2,   7.9731,2,    25.00,     0.04,2,     0.10,2,  18.6964,     1345
  49UP20130619,  P03W,    66,  1,     32,    105,2,20130807,1140, 24.2442, 146.0613, 5706,    204.2,  17.6014,  17.6004,  34.7408,2,  34.7417,2,    201.6,6,     3.71,6,     4.37,6,     0.00,6,     0.31,6, -999.000,9, -999.000,9,   2038.6,2,   2287.4,2,   7.9558,2,    25.00,     0.01,2,     0.02,2,  17.6004,     1343
  49UP20130619,  P03W,    66,  1,     31,     76,2,20130807,1140, 24.2442, 146.0613, 5706,    256.0,  16.8319,  16.8343,  34.6883,2,  34.6929,2,    204.9,2,     4.53,2,     5.28,2,     0.00,2,     0.36,2, -999.000,9, -999.000,9,   2039.8,6,   2281.4,6,   7.9469,2,    25.00,  -999.00,9,  -999.00,9,  16.8343,     1342
  49UP20130619,  P03W,    66,  1,     30,     97,2,20130807,1140, 24.2442, 146.0613, 5706,    333.2,  15.0480,  15.0498,  34.5469,2,  34.5437,2,    192.9,2,     9.06,2,     9.14,2,     0.00,2,     0.65,2, -999.000,9, -999.000,9,   2066.9,2,   2273.1,2,   7.8822,6,    25.00,  -999.00,9,  -999.00,9,  15.0498,     1339
  49UP20130619,  P03W,    66,  1,     29,    102,2,20130807,1140, 24.2442, 146.0613, 5706,    433.3,  12.4300,  12.4250,  34.3766,2,  34.3744,2,    184.0,2,    18.48,2,    14.46,2,     0.00,2,     1.04,2, -999.000,9, -999.000,9,   2103.4,2,   2278.3,2,   7.8000,2,    25.00,  -999.00,9,  -999.00,9,  12.4250,     1337
  49UP20130619,  P03W,    66,  1,     28,     91,2,20130807,1140, 24.2442, 146.0613, 5706,    534.4,   8.7208,   8.7159,  34.1428,2,  34.1427,2,    159.4,2,    37.59,2,    23.08,2,     0.00,2,     1.69,2, -999.000,9, -999.000,9,   2165.5,2,   2284.1,2,   7.6597,2,    25.00,  -999.00,9,  -999.00,9,   8.7159,     1334
  49UP20130619,  P03W,    66,  1,     27,    998,2,20130807,1140, 24.2442, 146.0613, 5706,    635.2,   6.3410,   6.3462,  34.0817,2,  34.0826,2,    117.1,2,    62.50,2,    31.07,2,     0.00,2,     2.28,2, -999.000,9, -999.000,9,   2230.5,2,   2301.6,2,   7.5300,2,    25.00,  -999.00,9,  -999.00,9,   6.3462,     1332
  49UP20130619,  P03W,    66,  1,     26,     84,2,20130807,1140, 24.2442, 146.0613, 5706,    736.5,   5.2502,   5.2503,  34.1262,2,  34.1283,2,     82.4,2,    82.06,2,    36.11,2,     0.00,2,     2.64,2, -999.000,9, -999.000,9,   2276.8,2,   2318.3,2,   7.4456,2,    25.00,  -999.00,9,  -999.00,9,   5.2503,     1330
  49UP20130619,  P03W,    66,  1,     25,     98,2,20130807,1140, 24.2442, 146.0613, 5706,    837.3,   4.4525,   4.4545,  34.2215,2,  34.2229,2,     58.0,2,   100.25,2,    39.33,2,     0.00,2,     2.86,2, -999.000,9, -999.000,9,   2310.3,2,   2342.0,2,   7.3966,2,    25.00,  -999.00,9,  -999.00,9,   4.4545,     1327
  49UP20130619,  P03W,    66,  1,     24,    110,3,20130807,1140, 24.2442, 146.0613, 5706,    938.6,   3.8092,   3.7991,  34.3281,2,  34.3285,2,     47.0,2,   116.95,2,    41.08,2,     0.00,2,     2.98,2, -999.000,9, -999.000,9,   2338.0,2,   2361.4,2,   7.3831,2,    25.00,  -999.00,9,  -999.00,9,   3.7991,     1325
  49UP20130619,  P03W,    66,  1,     23,     96,2,20130807,1140, 24.2442, 146.0613, 5706,   1079.7,   3.4116,   3.4075,  34.3946,2,  34.3957,2,     47.3,2,   127.03,2,    41.57,2,     0.00,2,     3.00,2, -999.000,9, -999.000,9,   2355.2,2,   2373.7,2,   7.3852,2,    25.00,  -999.00,9,  -999.00,9,   3.4075,     1321
  49UP20130619,  P03W,    66,  1,     22,    111,3,20130807,1140, 24.2442, 146.0613, 5706,   1282.2,   2.9290,   2.9291,  34.4835,2,  34.4838,6,     59.9,2,   136.48,2,    41.15,2,     0.00,2,     2.97,2, -999.000,9, -999.000,9,   2352.9,3,   2393.7,2,   7.4150,2,    25.00,  -999.00,9,  -999.00,9,   2.9291,     1317
  49UP20130619,  P03W,    66,  1,     21,     78,2,20130807,1140, 24.2442, 146.0613, 5706,   1485.4,   2.5220,   2.5215,  34.5285,2,  34.5286,2,     69.6,2,   144.76,2,    40.84,2,     0.00,2,     2.93,2, -999.000,9, -999.000,9,   2360.5,2,   2401.8,2,   7.4352,2,    25.00,  -999.00,9,  -999.00,9,   2.5215,     1313
  49UP20130619,  P03W,    66,  1,     20,     93,2,20130807,1140, 24.2442, 146.0613, 5706,   1687.6,   2.2609,   2.2603,  34.5661,2,  34.5664,2,     83.9,2,   147.66,2,    40.11,2,     0.00,2,     2.87,2, -999.000,9, -999.000,9,   2357.1,2,   2405.0,2,   7.4611,2,    25.00,  -999.00,9,  -999.00,9,   2.2603,     1308
  49UP20130619,  P03W,    66,  1,     19,     92,2,20130807,1140, 24.2442, 146.0613, 5706,   1891.2,   2.0120,   2.0121,  34.5970,2,  34.5969,2,     95.7,6,   150.41,6,    39.46,6,     0.00,6,     2.82,6, -999.000,9, -999.000,9,   2353.1,2,   2412.9,2,   7.4815,2,    25.00,  -999.00,9,  -999.00,9,   2.0121,     1304
  49UP20130619,  P03W,    66,  1,     18,    101,2,20130807,1140, 24.2442, 146.0613, 5706,   2094.8,   1.8901,   1.8903,  34.6192,2,  34.6197,2,    107.7,2,   149.49,2,    38.66,2,     0.00,2,     2.75,2, -999.000,9, -999.000,9,   2348.0,2,   2415.1,2,   7.5093,2,    25.00,  -999.00,9,  -999.00,9,   1.8903,     1300
  49UP20130619,  P03W,    66,  1,     17,     90,2,20130807,1140, 24.2442, 146.0613, 5706,   2094.8,   1.8901,   1.8903,  34.6192,2,  34.6198,2,    108.4,2,   149.25,2,    38.63,2,     0.00,2,     2.75,2, -999.000,9, -999.000,9,   2352.6,2,   2416.6,2,   7.5073,2,    25.00,  -999.00,9,  -999.00,9,   1.8903,     1300
  49UP20130619,  P03W,    66,  1,     16,     89,2,20130807,1140, 24.2442, 146.0613, 5706,   2297.4,   1.7997,   1.7997,  34.6354,2,  34.6359,6,    115.3,2,   149.37,2,    38.22,2,     0.00,2,     2.72,2, -999.000,9, -999.000,9,   2344.9,6,   2416.8,6,   7.5233,2,    25.00,  -999.00,9,  -999.00,9,   1.7997,     1255
  49UP20130619,  P03W,    66,  1,     15,     88,2,20130807,1140, 24.2442, 146.0613, 5706,   2501.3,   1.7199,   1.7199,  34.6455,2,  34.6465,2,    120.8,2,   150.59,2,    37.94,2,     0.00,2,     2.70,2, -999.000,9, -999.000,9,   2343.4,2,   2417.6,2,   7.5311,6,    25.00,  -999.00,9,  -999.00,9,   1.7199,     1251
  49UP20130619,  P03W,    66,  1,     14,    999,2,20130807,1140, 24.2442, 146.0613, 5706,   2705.3,   1.6557,   1.6557,  34.6546,2,  34.6553,2,    127.2,6,   149.96,6,    37.50,6,     0.00,6,     2.67,6, -999.000,9, -999.000,9,   2338.8,2,   2420.8,2,   7.5415,2,    25.00,  -999.00,9,  -999.00,9,   1.6557,     1247
  49UP20130619,  P03W,    66,  1,     13,    667,2,20130807,1140, 24.2442, 146.0613, 5706,   2909.5,   1.6079,   1.6080,  34.6612,2,  34.6612,2,    131.8,2,   149.73,2,    37.22,2,     0.00,2,     2.64,2, -999.000,9, -999.000,9,   2333.8,3,   2421.3,2,   7.5481,2,    25.00,  -999.00,9,  -999.00,9,   1.6080,     1242
  49UP20130619,  P03W,    66,  1,     12,     74,2,20130807,1140, 24.2442, 146.0613, 5706,   3122.4,   1.5714,   1.5715,  34.6667,2,  34.6676,6,    136.8,2,   149.39,2,    37.01,2,     0.00,2,     2.62,2, -999.000,9, -999.000,9,   2334.6,2,   2422.8,2,   7.5551,2,    25.00,  -999.00,9,  -999.00,9,   1.5715,     1238
  49UP20130619,  P03W,    66,  1,     11,    996,2,20130807,1140, 24.2442, 146.0613, 5706,   3379.0,   1.5382,   1.5382,  34.6717,2,  34.6718,2,    140.8,2,   148.88,2,    36.73,2,     0.00,2,     2.59,2, -999.000,9, -999.000,9,   2333.5,2,   2422.2,2,   7.5627,2,    25.00,  -999.00,9,  -999.00,9,   1.5382,     1232
  49UP20130619,  P03W,    66,  1,     10,    107,2,20130807,1140, 24.2442, 146.0613, 5706,   3634.0,   1.5155,   1.5156,  34.6765,2,  34.6765,2,    145.7,2,   147.80,2,    36.44,2,     0.00,2,     2.57,2, -999.000,9, -999.000,9,   -999.0,9,   -999.0,9,-999.0000,9,  -999.00,  -999.00,9,  -999.00,9,   1.5156,     1227
  49UP20130619,  P03W,    66,  1,      9,    108,2,20130807,1140, 24.2442, 146.0613, 5706,   3890.2,   1.4950,   1.4950,  34.6801,2,  34.6807,2,    150.1,2,   146.42,2,    36.08,2,     0.00,2,     2.54,2, -999.000,9, -999.000,9,   2322.6,2,   2418.7,2,   7.5793,2,    25.00,  -999.00,9,  -999.00,9,   1.4950,     1222
  49UP20130619,  P03W,    66,  1,      8,     81,2,20130807,1140, 24.2442, 146.0613, 5706,   4146.8,   1.4831,   1.4830,  34.6833,2,  34.6833,2,    154.8,2,   144.77,2,    35.77,2,     0.00,2,     2.53,2, -999.000,9, -999.000,9,   -999.0,9,   -999.0,9,-999.0000,9,  -999.00,  -999.00,9,  -999.00,9,   1.4830,     1216
  49UP20130619,  P03W,    66,  1,      7,    106,2,20130807,1140, 24.2442, 146.0613, 5706,   4403.0,   1.4822,   1.4822,  34.6860,2,  34.6866,2,    158.2,2,   143.34,2,    35.55,2,     0.00,2,     2.50,2, -999.000,9, -999.000,9,   2316.5,6,   2416.3,6,   7.5889,2,    25.00,  -999.00,9,  -999.00,9,   1.4822,     1211
  49UP20130619,  P03W,    66,  1,      6,    113,2,20130807,1140, 24.2442, 146.0613, 5706,   4659.3,   1.4864,   1.4865,  34.6882,2,  34.6889,2,    161.9,2,   141.63,2,    35.27,2,     0.00,2,     2.49,2, -999.000,9, -999.000,9,   -999.0,9,   -999.0,9,-999.0000,9,  -999.00,  -999.00,9,  -999.00,9,   1.4865,     1206
  49UP20130619,  P03W,    66,  1,      5,     94,2,20130807,1140, 24.2442, 146.0613, 5706,   4916.9,   1.4964,   1.4965,  34.6903,2,  34.6911,2,    164.7,2,   139.86,2,    35.09,2,     0.00,2,     2.47,2, -999.000,9, -999.000,9,   2309.4,2,   2414.7,2,   7.5973,2,    25.00,  -999.00,9,  -999.00,9,   1.4965,     1200
  49UP20130619,  P03W,    66,  1,      4,     77,2,20130807,1140, 24.2442, 146.0613, 5706,   5175.0,   1.5125,   1.5125,  34.6917,2,  34.6915,2,    167.4,2,   138.15,2,    34.85,2,     0.00,2,     2.45,2, -999.000,9, -999.000,9,   -999.0,9,   -999.0,9,-999.0000,9,  -999.00,  -999.00,9,  -999.00,9,   1.5125,     1155
  49UP20130619,  P03W,    66,  1,      3,    104,2,20130807,1140, 24.2442, 146.0613, 5706,   5432.1,   1.5324,   1.5325,  34.6930,2,  34.6939,2,    169.6,2,   137.05,2,    34.76,2,     0.00,2,     2.44,2, -999.000,9, -999.000,9,   2303.9,2,   2411.4,2,   7.5986,2,    25.00,  -999.00,9,  -999.00,9,   1.5325,     1150
  49UP20130619,  P03W,    66,  1,      2,     75,2,20130807,1140, 24.2442, 146.0613, 5706,   5690.4,   1.5517,   1.5517,  34.6941,2,  34.6949,2,    171.9,6,   135.40,6,    34.54,6,     0.00,6,     2.43,6, -999.000,9, -999.000,9,   -999.0,9,   -999.0,9,-999.0000,9,  -999.00,  -999.00,9,  -999.00,9,   1.5517,     1144
  49UP20130619,  P03W,    66,  1,      1,    997,2,20130807,1140, 24.2442, 146.0613, 5706,   5845.2,   1.5597,   1.5597,  34.6952,2,  34.6959,2,    173.7,2,   134.44,2,    34.47,2,     0.00,2,     2.42,2, -999.000,9, -999.000,9,   2301.7,2,   2406.7,2,   7.6052,2,    25.00,  -999.00,9,  -999.00,9,   1.5597,     1140