BOTTLE,20180830PRINUNIVRMK
EXPOCODE,SECT_ID,STNNBR,CASTNO,SAMPNO,BTLNBR,BTLNBR_FLAG_W,DATE,TIME,LATITUDE,LONGITUDE,DEPTH,CTDPRS,CTDTMP,SBE35,CTDSAL,CTDSAL_FLAG_W,SALNTY,SALNTY_FLAG_W,OXYGEN,OXYGEN_FLAG_W,SILCAT,SILCAT_FLAG_W,NITRAT,NITRAT_FLAG_W,NITRIT,NITRIT_FLAG_W,PHSPHT,PHSPHT_FLAG_W,CFC-11,CFC-11_FLAG_W,CFC-12,CFC-12_FLAG_W,TCARBN,TCARBN_FLAG_W,ALKALI,ALKALI_FLAG_W,PH_TOT,PH_TOT_FLAG_W,PH_TMP,CHLORA,CHLORA_FLAG_W,PPHYTN,PPHYTN_FLAG_W,SBE35,BTL_TIME
,,,,,,,,,,,METERS,DBAR,ITS-90,,PSS-78,,PSS-78,,UMOL/KG,,UMOL/KG,,UMOL/KG,,UMOL/KG,,UMOL/KG,,PMOL/KG,,PMOL/KG,,UMOL/KG,,UMOL/KG,,,,DEG C,UG/KG,,UG/KG,,,
  49UP20130619,  P03W,    47,  1,      0,   -999,0,20130803,1900, 24.2343, 133.9958, 4917,      0.0,  30.4745,-999.0000,  34.8670,2,  34.8715,2,    193.0,2,     1.14,4,     0.00,4,     0.00,2,     0.04,4, -999.000,9, -999.000,9,   1962.1,2,   2287.3,2,   8.0933,2,    25.00,     0.04,2,     0.01,2,-999.0000,     2047
  49UP20130619,  P03W,    47,  1,     36,    109,2,20130803,1900, 24.2343, 133.9958, 4917,     10.5,  30.0359,  30.2084,  34.8191,2,  34.8177,2,    195.2,2,     1.14,4,     0.00,4,     0.00,2,     0.02,4,    1.809,3,    0.881,3,   1958.1,2,   2282.8,2,   8.1157,2,    25.00,     0.04,2,     0.01,2,  30.2084,     2104
  49UP20130619,  P03W,    47,  1,     35,    112,2,20130803,1900, 24.2343, 133.9958, 4917,     49.9,  27.9893,  27.9842,  34.7829,2,  34.7824,2,    204.9,2,     1.19,4,     0.00,4,     0.00,2,     0.02,4,    1.988,3,    0.950,3,   1954.2,2,   2282.9,2,   8.1014,2,    25.00,     0.05,2,     0.01,2,  27.9842,     2059
  49UP20130619,  P03W,    47,  1,     34,     83,2,20130803,1900, 24.2343, 133.9958, 4917,    100.5,  22.6936,  22.6935,  34.9173,2,  34.9165,2,    222.5,2,     1.52,4,     0.00,4,     0.00,2,     0.02,4,    2.397,3,    1.174,3,   1988.2,2,   2291.0,2,   8.0698,2,    25.00,     0.15,2,     0.06,2,  22.6935,     2058
  49UP20130619,  P03W,    47,  1,     33,     86,2,20130803,1900, 24.2343, 133.9958, 4917,    150.3,  20.4464,  20.4445,  34.8703,2,  34.8687,2,    211.9,6,     1.90,4,     0.13,4,     0.06,6,     0.04,4,    2.218,2,    1.226,2,   2009.0,2,   2288.3,2,   8.0298,2,    25.00,     0.19,2,     0.32,2,  20.4445,     2056
  49UP20130619,  P03W,    47,  1,     32,    105,2,20130803,1900, 24.2343, 133.9958, 4917,    201.7,  19.0866,  19.0879,  34.8186,2,  34.8150,2,    207.9,2,     2.32,4,     1.84,4,     0.02,2,     0.14,4,    2.245,2,    1.283,2,   2022.3,6,   2285.1,6,   7.9996,2,    25.00,     0.04,2,     0.11,2,  19.0879,     2054
  49UP20130619,  P03W,    47,  1,     31,     76,2,20130803,1900, 24.2343, 133.9958, 4917,    251.2,  18.0181,  18.0176,  34.7595,2,  34.7579,6,    207.8,2,     3.09,4,     3.37,4,     0.01,2,     0.23,4,    2.328,2,    1.364,2,   2030.9,2,   2281.4,2,   7.9804,6,    25.00,  -999.00,9,  -999.00,9,  18.0176,     2052
  49UP20130619,  P03W,    47,  1,     30,     97,2,20130803,1900, 24.2343, 133.9958, 4917,    302.3,  17.1970,  17.1968,  34.7086,2,  34.7061,2,    203.7,2,     4.50,4,     5.14,4,     0.00,2,     0.35,4,    2.364,2,    1.389,2,   2037.8,2,   2278.1,2,   7.9565,2,    25.00,  -999.00,9,  -999.00,9,  17.1968,     2050
  49UP20130619,  P03W,    47,  1,     29,    102,2,20130803,1900, 24.2343, 133.9958, 4917,    302.3,  17.1970,  17.1968,  34.7086,2,  34.7071,2,    203.4,2,     4.46,4,     5.16,4,     0.00,2,     0.36,4,    2.365,6,    1.360,6,   2035.7,2,   2279.7,2,   7.9572,2,    25.00,  -999.00,9,  -999.00,9,  17.1968,     2050
  49UP20130619,  P03W,    47,  1,     28,     91,2,20130803,1900, 24.2343, 133.9958, 4917,    402.7,  15.1618,  15.1622,  34.5610,2,  34.5557,2,    191.2,2,     9.47,4,     9.42,4,     0.00,2,     0.67,4,    2.603,2,    1.462,2,   2070.9,2,   2274.9,2,   7.8840,2,    25.00,  -999.00,9,  -999.00,9,  15.1622,     2047
  49UP20130619,  P03W,    47,  1,     27,    998,2,20130803,1900, 24.2343, 133.9958, 4917,    402.7,  15.1618,  15.1622,  34.5610,2,  34.5563,2,    191.2,2,     9.38,4,     9.39,4,     0.00,2,     0.66,4,    2.593,2,    1.458,2,   2072.6,2,   2274.4,2,   7.8835,2,    25.00,  -999.00,9,  -999.00,9,  15.1622,     2047
  49UP20130619,  P03W,    47,  1,     26,     84,2,20130803,1900, 24.2343, 133.9958, 4917,    502.8,  12.3434,  12.3463,  34.3734,2,  34.3714,2,    179.2,2,    18.74,4,    15.07,4,     0.00,2,     1.08,4,    2.709,2,    1.466,2,   2112.6,2,   2272.6,2,   7.7938,2,    25.00,  -999.00,9,  -999.00,9,  12.3463,     2045
  49UP20130619,  P03W,    47,  1,     25,     98,2,20130803,1900, 24.2343, 133.9958, 4917,    605.3,   8.8885,   8.8891,  34.1757,2,  34.1754,2,    150.6,2,    38.74,4,    23.77,4,     0.00,2,     1.73,4,    2.429,2,    1.243,2,   2172.5,2,   2283.6,2,   7.6543,2,    25.00,  -999.00,9,  -999.00,9,   8.8891,     2042
  49UP20130619,  P03W,    47,  1,     24,    110,2,20130803,1900, 24.2343, 133.9958, 4917,    706.6,   6.8026,   6.8026,  34.1292,2,  34.1299,2,    114.1,2,    60.61,4,    30.83,4,     0.00,2,     2.26,4,    1.780,2,    0.880,2,   2233.2,2,   2296.9,2,   7.5384,2,    25.00,  -999.00,9,  -999.00,9,   6.8026,     2039
  49UP20130619,  P03W,    47,  1,     23,     96,2,20130803,1900, 24.2343, 133.9958, 4917,    806.3,   5.4642,   5.4647,  34.1643,2,  34.1665,2,     85.5,2,    81.67,4,    35.64,4,     0.00,2,     2.60,4,    1.179,2,    0.573,2,   2277.4,2,   2314.9,2,   7.4626,2,    25.00,  -999.00,9,  -999.00,9,   5.4647,     2037
  49UP20130619,  P03W,    47,  1,     22,    111,2,20130803,1900, 24.2343, 133.9958, 4917,    907.7,   4.5212,   4.5203,  34.2501,2,  34.2515,2,     65.0,2,   101.98,4,    39.00,4,     0.00,2,     2.84,4,    0.663,2,    0.327,2,   2317.1,2,   2338.6,2,   7.4161,2,    25.00,  -999.00,9,  -999.00,9,   4.5203,     2034
  49UP20130619,  P03W,    47,  1,     21,     78,2,20130803,1900, 24.2343, 133.9958, 4917,   1008.4,   3.9559,   3.9560,  34.3236,2,  34.3237,2,     55.6,2,   114.96,4,    40.54,4,     0.00,2,     2.94,4,    0.368,2,    0.180,2,   2332.0,2,   2354.5,2,   7.4035,2,    25.00,  -999.00,9,  -999.00,9,   3.9560,     2032
  49UP20130619,  P03W,    47,  1,     20,     93,2,20130803,1900, 24.2343, 133.9958, 4917,   1211.5,   3.2501,   3.2499,  34.4347,2,  34.4352,2,     58.9,2,   130.38,4,    41.22,4,     0.00,2,     2.97,4,    0.116,6,    0.054,6,   2352.1,2,   2376.7,2,   7.4141,2,    25.00,  -999.00,9,  -999.00,9,   3.2499,     2027
  49UP20130619,  P03W,    47,  1,     19,     92,2,20130803,1900, 24.2343, 133.9958, 4917,   1413.5,   2.7749,   2.7747,  34.5026,2,  34.5030,2,     72.2,2,   138.96,4,    40.78,4,     0.00,2,     2.93,4,    0.044,2,    0.013,2,   2356.5,2,   2390.3,2,   7.4429,2,    25.00,  -999.00,9,  -999.00,9,   2.7747,     2022
  49UP20130619,  P03W,    47,  1,     18,    101,2,20130803,1900, 24.2343, 133.9958, 4917,   1616.4,   2.4970,   2.4970,  34.5500,2,  34.5510,2,     88.1,2,   141.13,4,    39.86,4,     0.00,2,     2.86,4,    0.011,2,    0.005,2,   2352.2,2,   2394.9,2,   7.4727,2,    25.00,  -999.00,9,  -999.00,9,   2.4970,     2018
  49UP20130619,  P03W,    47,  1,     17,     90,2,20130803,1900, 24.2343, 133.9958, 4917,   1819.5,   2.2193,   2.2195,  34.5841,2,  34.5848,2,    101.1,2,   143.33,4,    39.19,4,     0.00,2,     2.81,4,    0.000,2,    0.000,2,   2346.3,2,   2400.7,2,   7.4951,2,    25.00,  -999.00,9,  -999.00,9,   2.2195,     2013
  49UP20130619,  P03W,    47,  1,     16,     89,2,20130803,1900, 24.2343, 133.9958, 4917,   2022.1,   2.0257,   2.0258,  34.6091,2,  34.6097,2,    112.3,2,   144.21,4,    38.60,4,     0.00,2,     2.75,4,    0.000,2,    0.000,2,   2342.6,2,   2405.7,2,   7.5135,2,    25.00,  -999.00,9,  -999.00,9,   2.0258,     2008
  49UP20130619,  P03W,    47,  1,     15,     88,2,20130803,1900, 24.2343, 133.9958, 4917,   2225.9,   1.8884,   1.8884,  34.6242,2,  34.6240,2,    119.4,6,   145.05,4,    38.20,4,     0.00,6,     2.72,4, -999.000,9, -999.000,9,   2339.7,2,   2408.0,2,   7.5279,2,    25.00,  -999.00,9,  -999.00,9,   1.8884,     2004
  49UP20130619,  P03W,    47,  1,     14,    999,2,20130803,1900, 24.2343, 133.9958, 4917,   2430.1,   1.7880,   1.7881,  34.6382,2,  34.6381,2,    126.9,2,   144.66,4,    37.75,4,     0.00,2,     2.68,4, -999.000,9, -999.000,9,   2338.9,2,   2410.2,2,   7.5409,2,    25.00,  -999.00,9,  -999.00,9,   1.7881,     1959
  49UP20130619,  P03W,    47,  1,     13,    667,2,20130803,1900, 24.2343, 133.9958, 4917,   2633.8,   1.7038,   1.7039,  34.6498,2,  34.6504,6,    133.5,2,   144.63,4,    37.39,4,     0.00,2,     2.65,4,    0.000,2,    0.000,2,   2336.9,2,   2412.8,2,   7.5525,6,    25.00,  -999.00,9,  -999.00,9,   1.7039,     1954
  49UP20130619,  P03W,    47,  1,     12,     74,2,20130803,1900, 24.2343, 133.9958, 4917,   2836.6,   1.6609,   1.6611,  34.6563,2,  34.6562,2,    136.9,2,   144.52,4,    37.14,4,     0.00,2,     2.64,4, -999.000,9, -999.000,9,   2340.4,3,   2413.0,2,   7.5578,2,    25.00,  -999.00,9,  -999.00,9,   1.6611,     1949
  49UP20130619,  P03W,    47,  1,     11,    996,2,20130803,1900, 24.2343, 133.9958, 4917,   2836.6,   1.6609,   1.6611,  34.6563,2,  34.6551,2,    136.6,2,   144.40,4,    37.18,4,     0.00,2,     2.64,4, -999.000,9, -999.000,9,   2335.5,2,   2414.7,2,   7.5594,2,    25.00,  -999.00,9,  -999.00,9,   1.6611,     1949
  49UP20130619,  P03W,    47,  1,     10,    107,2,20130803,1900, 24.2343, 133.9958, 4917,   3041.5,   1.6155,   1.6155,  34.6628,2,  34.6630,2,    141.6,2,   144.04,4,    36.85,4,     0.00,2,     2.61,4,    0.046,3,    0.019,2,   2332.2,2,   2411.7,2,   7.5655,2,    25.00,  -999.00,9,  -999.00,9,   1.6155,     1944
  49UP20130619,  P03W,    47,  1,      9,    108,2,20130803,1900, 24.2343, 133.9958, 4917,   3296.6,   1.5774,   1.5775,  34.6695,2,  34.6685,2,    145.3,6,   143.91,4,    36.66,4,     0.00,6,     2.60,4, -999.000,9, -999.000,9,   -999.0,9,   -999.0,9,-999.0000,9,  -999.00,  -999.00,9,  -999.00,9,   1.5775,     1938
  49UP20130619,  P03W,    47,  1,      8,     81,2,20130803,1900, 24.2343, 133.9958, 4917,   3552.2,   1.5511,   1.5512,  34.6747,2,  34.6743,2,    149.0,2,   143.42,4,    36.42,4,     0.00,2,     2.58,4, -999.000,9, -999.000,9,   2328.1,2,   2414.6,2,   7.5805,2,    25.00,  -999.00,9,  -999.00,9,   1.5512,     1932
  49UP20130619,  P03W,    47,  1,      7,    106,2,20130803,1900, 24.2343, 133.9958, 4917,   3807.5,   1.5457,   1.5458,  34.6780,2,  34.6778,6,    151.6,2,   142.92,4,    36.21,4,     0.00,2,     2.56,4, -999.000,9, -999.000,9,   -999.0,9,   -999.0,9,-999.0000,9,  -999.00,  -999.00,9,  -999.00,9,   1.5458,     1927
  49UP20130619,  P03W,    47,  1,      6,    113,2,20130803,1900, 24.2343, 133.9958, 4917,   4064.5,   1.5573,   1.5577,  34.6797,2,  34.6794,2,    153.0,2,   142.65,4,    36.15,4,     0.00,2,     2.55,4,    0.036,3,    0.022,2,   2322.7,3,   2413.8,2,   7.5869,2,    25.00,  -999.00,9,  -999.00,9,   1.5577,     1921
  49UP20130619,  P03W,    47,  1,      5,     94,2,20130803,1900, 24.2343, 133.9958, 4917,   4064.5,   1.5573,   1.5577,  34.6797,2,  34.6791,2,    152.9,2,   142.90,4,    36.18,4,     0.00,2,     2.56,4, -999.000,9, -999.000,9,   -999.0,9,   -999.0,9,-999.0000,9,  -999.00,  -999.00,9,  -999.00,9,   1.5577,     1921
  49UP20130619,  P03W,    47,  1,      4,     77,2,20130803,1900, 24.2343, 133.9958, 4917,   4320.6,   1.5737,   1.5738,  34.6808,2,  34.6810,2,    154.4,6,   142.45,4,    36.06,4,     0.00,6,     2.55,4, -999.000,9, -999.000,9,   -999.0,9,   -999.0,9,-999.0000,9,  -999.00,  -999.00,9,  -999.00,9,   1.5738,     1916
  49UP20130619,  P03W,    47,  1,      3,    104,2,20130803,1900, 24.2343, 133.9958, 4917,   4576.8,   1.5964,   1.5964,  34.6816,2,  34.6815,6,    154.5,2,   142.43,4,    36.08,4,     0.00,2,     2.55,4, -999.000,9, -999.000,9,   2325.0,6,   2413.4,2,   7.5869,2,    25.00,  -999.00,9,  -999.00,9,   1.5964,     1910
  49UP20130619,  P03W,    47,  1,      2,     75,2,20130803,1900, 24.2343, 133.9958, 4917,   4833.6,   1.6228,   1.6228,  34.6821,2,  34.6852,4,    155.6,2,   142.40,4,    36.02,4,     0.00,2,     2.54,4, -999.000,9, -999.000,9,   -999.0,9,   -999.0,9,-999.0000,9,  -999.00,  -999.00,9,  -999.00,9,   1.6228,     1905
  49UP20130619,  P03W,    47,  1,      1,    997,2,20130803,1900, 24.2343, 133.9958, 4917,   5004.9,   1.6437,   1.6438,  34.6822,2,  34.6820,2,    155.2,2,   142.20,4,    36.04,4,     0.00,2,     2.55,4,    0.000,2,    0.000,2,   2320.3,2,   2411.4,2,   7.5879,6,    25.00,  -999.00,9,  -999.00,9,   1.6438,     1901