BOTTLE,20180830PRINUNIVRMK
EXPOCODE,SECT_ID,STNNBR,CASTNO,SAMPNO,BTLNBR,BTLNBR_FLAG_W,DATE,TIME,LATITUDE,LONGITUDE,DEPTH,CTDPRS,CTDTMP,SBE35,CTDSAL,CTDSAL_FLAG_W,SALNTY,SALNTY_FLAG_W,OXYGEN,OXYGEN_FLAG_W,SILCAT,SILCAT_FLAG_W,NITRAT,NITRAT_FLAG_W,NITRIT,NITRIT_FLAG_W,PHSPHT,PHSPHT_FLAG_W,CFC-11,CFC-11_FLAG_W,CFC-12,CFC-12_FLAG_W,TCARBN,TCARBN_FLAG_W,ALKALI,ALKALI_FLAG_W,PH_TOT,PH_TOT_FLAG_W,PH_TMP,CHLORA,CHLORA_FLAG_W,PPHYTN,PPHYTN_FLAG_W,SBE35,BTL_TIME
,,,,,,,,,,,METERS,DBAR,ITS-90,,PSS-78,,PSS-78,,UMOL/KG,,UMOL/KG,,UMOL/KG,,UMOL/KG,,UMOL/KG,,PMOL/KG,,PMOL/KG,,UMOL/KG,,UMOL/KG,,,,DEG C,UG/KG,,UG/KG,,,
  49UP20130619,  P03W,    93,  1,      0,   -999,0,20130829,1131, 24.2595, 167.2598, 5730,      0.0,  28.5920,-999.0000,  35.2965,2,-999.0000,9,    196.0,2,     0.83,2,     0.00,2,     0.00,2,     0.04,2, -999.000,9, -999.000,9,   -999.0,9,   -999.0,9,-999.0000,9,  -999.00,  -999.00,9,  -999.00,9,-999.0000,     1340
  49UP20130619,  P03W,    93,  1,     36,    109,2,20130829,1131, 24.2595, 167.2598, 5730,     10.2,  28.5947,  28.5937,  35.2939,2,-999.0000,9,    196.1,2,     0.81,2,     0.00,2,     0.00,2,     0.02,2, -999.000,9, -999.000,9,   -999.0,9,   -999.0,9,-999.0000,9,  -999.00,  -999.00,9,  -999.00,9,  28.5937,     1354
  49UP20130619,  P03W,    93,  1,     35,    112,2,20130829,1131, 24.2595, 167.2598, 5730,     50.6,  27.0714,  27.0718,  35.4396,2,-999.0000,9,    217.4,2,     1.02,2,     0.00,2,     0.00,2,     0.02,2, -999.000,9, -999.000,9,   -999.0,9,   -999.0,9,-999.0000,9,  -999.00,  -999.00,9,  -999.00,9,  27.0718,     1351
  49UP20130619,  P03W,    93,  1,     34,     83,2,20130829,1131, 24.2595, 167.2598, 5730,    101.1,  24.0582,  24.0642,  35.4088,2,  35.4134,2,    211.4,2,     1.03,2,     0.00,2,     0.00,2,     0.02,2, -999.000,9, -999.000,9,   -999.0,9,   -999.0,9,-999.0000,9,  -999.00,  -999.00,9,  -999.00,9,  24.0642,     1349
  49UP20130619,  P03W,    93,  1,     33,    517,2,20130829,1131, 24.2595, 167.2598, 5730,    101.1,  24.0582,  24.0642,  35.4088,2,  35.4126,2,    211.2,2,     1.16,2,     0.02,2,     0.00,2,     0.02,2, -999.000,9, -999.000,9,   -999.0,9,   -999.0,9,-999.0000,9,  -999.00,  -999.00,9,  -999.00,9,  24.0642,     1349
  49UP20130619,  P03W,    93,  1,     32,    105,2,20130829,1131, 24.2595, 167.2598, 5730,    150.4,  22.1383,  22.1290,  35.2147,2,-999.0000,9,    198.9,6,     1.60,6,     0.21,6,     0.18,6,     0.07,6, -999.000,9, -999.000,9,   -999.0,9,   -999.0,9,-999.0000,9,  -999.00,  -999.00,9,  -999.00,9,  22.1290,     1346
  49UP20130619,  P03W,    93,  1,     31,     76,2,20130829,1131, 24.2595, 167.2598, 5730,    201.5,  19.1604,  19.1598,  34.9298,2,-999.0000,9,    185.2,2,     3.27,2,     3.73,2,     0.01,2,     0.31,2, -999.000,9, -999.000,9,   -999.0,9,   -999.0,9,-999.0000,9,  -999.00,  -999.00,9,  -999.00,9,  19.1598,     1345
  49UP20130619,  P03W,    93,  1,     30,     97,2,20130829,1131, 24.2595, 167.2598, 5730,    252.2,  16.9303,  16.9332,  34.7002,2,-999.0000,9,    195.9,2,     4.76,2,     5.47,2,     0.01,2,     0.40,2, -999.000,9, -999.000,9,   -999.0,9,   -999.0,9,-999.0000,9,  -999.00,  -999.00,9,  -999.00,9,  16.9332,     1342
  49UP20130619,  P03W,    93,  1,     29,    102,2,20130829,1131, 24.2595, 167.2598, 5730,    302.7,  15.2276,  15.2328,  34.5440,2,-999.0000,9,    200.6,2,     7.21,2,     7.70,2,     0.00,2,     0.55,2, -999.000,9, -999.000,9,   -999.0,9,   -999.0,9,-999.0000,9,  -999.00,  -999.00,9,  -999.00,9,  15.2328,     1340
  49UP20130619,  P03W,    93,  1,     28,     91,2,20130829,1131, 24.2595, 167.2598, 5730,    402.6,  12.4665,  12.4714,  34.3366,2,-999.0000,9,    198.2,2,    13.57,2,    12.45,2,     0.00,2,     0.88,2, -999.000,9, -999.000,9,   -999.0,9,   -999.0,9,-999.0000,9,  -999.00,  -999.00,9,  -999.00,9,  12.4714,     1337
  49UP20130619,  P03W,    93,  1,     27,    998,2,20130829,1131, 24.2595, 167.2598, 5730,    504.5,   9.7653,   9.7745,  34.1658,2,-999.0000,9,    171.1,2,    26.44,2,    19.92,2,     0.00,2,     1.43,2, -999.000,9, -999.000,9,   -999.0,9,   -999.0,9,-999.0000,9,  -999.00,  -999.00,9,  -999.00,9,   9.7745,     1334
  49UP20130619,  P03W,    93,  1,     26,     84,2,20130829,1131, 24.2595, 167.2598, 5730,    604.6,   7.4079,   7.4008,  34.0656,2,-999.0000,9,    141.3,2,    46.68,2,    27.21,2,     0.00,2,     1.95,2, -999.000,9, -999.000,9,   -999.0,9,   -999.0,9,-999.0000,9,  -999.00,  -999.00,9,  -999.00,9,   7.4008,     1330
  49UP20130619,  P03W,    93,  1,     25,     98,2,20130829,1131, 24.2595, 167.2598, 5730,    705.7,   5.6008,   5.6014,  34.1086,2,-999.0000,9,     79.7,2,    74.49,2,    35.95,2,     0.00,2,     2.59,2, -999.000,9, -999.000,9,   -999.0,9,   -999.0,9,-999.0000,9,  -999.00,  -999.00,9,  -999.00,9,   5.6014,     1327
  49UP20130619,  P03W,    93,  1,     24,    110,2,20130829,1131, 24.2595, 167.2598, 5730,    806.3,   4.6792,   4.6775,  34.1974,2,-999.0000,9,     50.0,6,    94.99,6,    40.00,6,     0.00,6,     2.89,6, -999.000,9, -999.000,9,   -999.0,9,   -999.0,9,-999.0000,9,  -999.00,  -999.00,9,  -999.00,9,   4.6775,     1324
  49UP20130619,  P03W,    93,  1,     23,     96,3,20130829,1131, 24.2595, 167.2598, 5730,    907.2,   4.1263,   4.1249,  34.2948,2,-999.0000,9,     38.6,2,   109.00,2,    41.75,2,     0.00,2,     3.01,2, -999.000,9, -999.000,9,   -999.0,9,   -999.0,9,-999.0000,9,  -999.00,  -999.00,9,  -999.00,9,   4.1249,     1322
  49UP20130619,  P03W,    93,  1,     22,    111,2,20130829,1131, 24.2595, 167.2598, 5730,   1009.8,   3.8082,   3.8093,  34.4022,2,-999.0000,9,     45.2,2,   116.39,2,    41.79,2,     0.00,2,     3.00,2, -999.000,9, -999.000,9,   -999.0,9,   -999.0,9,-999.0000,9,  -999.00,  -999.00,9,  -999.00,9,   3.8093,     1319
  49UP20130619,  P03W,    93,  1,     21,     78,2,20130829,1131, 24.2595, 167.2598, 5730,   1211.7,   3.2676,   3.2684,  34.4847,2,  34.4847,2,     58.0,2,   127.88,2,    41.38,2,     0.00,2,     2.95,2, -999.000,9, -999.000,9,   -999.0,9,   -999.0,9,-999.0000,9,  -999.00,  -999.00,9,  -999.00,9,   3.2684,     1314
  49UP20130619,  P03W,    93,  1,     20,     93,2,20130829,1131, 24.2595, 167.2598, 5730,   1211.7,   3.2676,   3.2684,  34.4847,2,  34.4847,2,     58.2,2,   127.78,2,    41.33,2,     0.00,2,     2.96,3, -999.000,9, -999.000,9,   -999.0,9,   -999.0,9,-999.0000,9,  -999.00,  -999.00,9,  -999.00,9,   3.2684,     1314
  49UP20130619,  P03W,    93,  1,     19,     92,2,20130829,1131, 24.2595, 167.2598, 5730,   1415.3,   2.7902,   2.7904,  34.5367,2,-999.0000,9,     70.6,2,   136.93,2,    40.87,2,     0.00,2,     2.91,2, -999.000,9, -999.000,9,   -999.0,9,   -999.0,9,-999.0000,9,  -999.00,  -999.00,9,  -999.00,9,   2.7904,     1309
  49UP20130619,  P03W,    93,  1,     18,    101,2,20130829,1131, 24.2595, 167.2598, 5730,   1618.0,   2.4148,   2.4138,  34.5693,2,-999.0000,9,     79.0,2,   144.93,2,    40.61,2,     0.00,2,     2.87,2, -999.000,9, -999.000,9,   -999.0,9,   -999.0,9,-999.0000,9,  -999.00,  -999.00,9,  -999.00,9,   2.4138,     1305
  49UP20130619,  P03W,    93,  1,     17,     90,2,20130829,1131, 24.2595, 167.2598, 5730,   1819.7,   2.1624,   2.1625,  34.5975,2,-999.0000,9,     91.5,2,   148.17,2,    39.88,2,     0.00,2,     2.82,2, -999.000,9, -999.000,9,   -999.0,9,   -999.0,9,-999.0000,9,  -999.00,  -999.00,9,  -999.00,9,   2.1625,     1300
  49UP20130619,  P03W,    93,  1,     16,     89,2,20130829,1131, 24.2595, 167.2598, 5730,   2023.2,   1.9610,   1.9611,  34.6200,2,  34.6205,2,    101.6,2,   150.46,2,    39.26,2,     0.00,2,     2.77,2, -999.000,9, -999.000,9,   -999.0,9,   -999.0,9,-999.0000,9,  -999.00,  -999.00,9,  -999.00,9,   1.9611,     1256
  49UP20130619,  P03W,    93,  1,     15,     88,2,20130829,1131, 24.2595, 167.2598, 5730,   2226.6,   1.8441,   1.8445,  34.6344,2,  34.6346,6,    109.6,6,   151.69,6,    38.87,6,     0.00,6,     2.73,6, -999.000,9, -999.000,9,   -999.0,9,   -999.0,9,-999.0000,9,  -999.00,  -999.00,9,  -999.00,9,   1.8445,     1251
  49UP20130619,  P03W,    93,  1,     14,    999,2,20130829,1131, 24.2595, 167.2598, 5730,   2429.6,   1.7411,   1.7413,  34.6464,2,-999.0000,9,    117.3,2,   152.22,2,    38.39,2,     0.00,2,     2.69,2, -999.000,9, -999.000,9,   -999.0,9,   -999.0,9,-999.0000,9,  -999.00,  -999.00,9,  -999.00,9,   1.7413,     1246
  49UP20130619,  P03W,    93,  1,     13,    667,2,20130829,1131, 24.2595, 167.2598, 5730,   2633.9,   1.6740,   1.6741,  34.6546,2,  34.6537,2,    123.2,2,   151.79,2,    37.97,2,     0.00,2,     2.66,2, -999.000,9, -999.000,9,   -999.0,9,   -999.0,9,-999.0000,9,  -999.00,  -999.00,9,  -999.00,9,   1.6741,     1242
  49UP20130619,  P03W,    93,  1,     12,     74,2,20130829,1131, 24.2595, 167.2598, 5730,   2838.3,   1.6317,   1.6317,  34.6595,2,-999.0000,9,    127.5,2,   152.14,2,    37.73,2,     0.00,2,     2.64,2, -999.000,9, -999.000,9,   -999.0,9,   -999.0,9,-999.0000,9,  -999.00,  -999.00,9,  -999.00,9,   1.6317,     1237
  49UP20130619,  P03W,    93,  1,     11,    996,2,20130829,1131, 24.2595, 167.2598, 5730,   3041.8,   1.5942,   1.5942,  34.6644,2,  34.6642,2,    131.6,2,   151.69,2,    37.45,2,     0.00,2,     2.62,2, -999.000,9, -999.000,9,   -999.0,9,   -999.0,9,-999.0000,9,  -999.00,  -999.00,9,  -999.00,9,   1.5942,     1232
  49UP20130619,  P03W,    93,  1,     10,    107,2,20130829,1131, 24.2595, 167.2598, 5730,   3297.2,   1.5593,   1.5593,  34.6699,2,  34.6696,2,    137.1,2,   150.67,2,    37.05,2,     0.00,2,     2.59,2, -999.000,9, -999.000,9,   -999.0,9,   -999.0,9,-999.0000,9,  -999.00,  -999.00,9,  -999.00,9,   1.5593,     1226
  49UP20130619,  P03W,    93,  1,      9,    108,2,20130829,1131, 24.2595, 167.2598, 5730,   3551.8,   1.5244,   1.5245,  34.6747,2,  34.6749,2,    142.5,2,   149.43,2,    36.68,2,     0.00,2,     2.56,2, -999.000,9, -999.000,9,   -999.0,9,   -999.0,9,-999.0000,9,  -999.00,  -999.00,9,  -999.00,9,   1.5245,     1221
  49UP20130619,  P03W,    93,  1,      8,     81,2,20130829,1131, 24.2595, 167.2598, 5730,   3807.8,   1.5043,   1.5043,  34.6783,2,  34.6785,2,    147.0,2,   148.04,2,    36.36,2,     0.00,2,     2.53,2, -999.000,9, -999.000,9,   -999.0,9,   -999.0,9,-999.0000,9,  -999.00,  -999.00,9,  -999.00,9,   1.5043,     1215
  49UP20130619,  P03W,    93,  1,      7,    106,2,20130829,1131, 24.2595, 167.2598, 5730,   4065.0,   1.4818,   1.4821,  34.6821,2,  34.6815,2,    151.7,2,   146.65,2,    36.06,2,     0.00,2,     2.51,2, -999.000,9, -999.000,9,   -999.0,9,   -999.0,9,-999.0000,9,  -999.00,  -999.00,9,  -999.00,9,   1.4821,     1210
  49UP20130619,  P03W,    93,  1,      6,    113,2,20130829,1131, 24.2595, 167.2598, 5730,   4320.8,   1.4753,   1.4754,  34.6852,2,  34.6855,6,    156.5,6,   144.33,6,    35.70,6,     0.00,6,     2.48,6, -999.000,9, -999.000,9,   -999.0,9,   -999.0,9,-999.0000,9,  -999.00,  -999.00,9,  -999.00,9,   1.4754,     1204
  49UP20130619,  P03W,    93,  1,      5,     94,2,20130829,1131, 24.2595, 167.2598, 5730,   4577.4,   1.4604,   1.4604,  34.6888,2,  34.6892,2,    162.9,2,   141.00,2,    35.30,2,     0.00,2,     2.45,2, -999.000,9, -999.000,9,   -999.0,9,   -999.0,9,-999.0000,9,  -999.00,  -999.00,9,  -999.00,9,   1.4604,     1159
  49UP20130619,  P03W,    93,  1,      4,     77,2,20130829,1131, 24.2595, 167.2598, 5730,   4834.6,   1.4579,   1.4580,  34.6916,2,  34.6918,2,    167.5,2,   138.35,2,    34.93,2,     0.00,2,     2.42,2, -999.000,9, -999.000,9,   -999.0,9,   -999.0,9,-999.0000,9,  -999.00,  -999.00,9,  -999.00,9,   1.4580,     1153
  49UP20130619,  P03W,    93,  1,      3,    104,2,20130829,1131, 24.2595, 167.2598, 5730,   5091.9,   1.4549,   1.4550,  34.6941,2,  34.6941,2,    171.9,2,   135.67,2,    34.61,2,     0.00,2,     2.40,2, -999.000,9, -999.000,9,   -999.0,9,   -999.0,9,-999.0000,9,  -999.00,  -999.00,9,  -999.00,9,   1.4550,     1147
  49UP20130619,  P03W,    93,  1,      2,     75,2,20130829,1131, 24.2595, 167.2598, 5730,   5349.8,   1.4649,   1.4649,  34.6959,2,  34.6959,2,    175.4,2,   133.70,2,    34.39,2,     0.00,2,     2.38,2, -999.000,9, -999.000,9,   -999.0,9,   -999.0,9,-999.0000,9,  -999.00,  -999.00,9,  -999.00,9,   1.4649,     1142
  49UP20130619,  P03W,    93,  1,      1,    997,2,20130829,1131, 24.2595, 167.2598, 5730,   5832.1,   1.5063,   1.5064,  34.6976,2,  34.6964,2,    177.4,2,   132.25,2,    34.22,2,     0.00,2,     2.37,2, -999.000,9, -999.000,9,   -999.0,9,   -999.0,9,-999.0000,9,  -999.00,  -999.00,9,  -999.00,9,   1.5064,     1131